{"text_format":"1","workbook":"xlsx","n_sheets":13,"sheets":["lista1","lista2","lista3","lista4","lista5","Cómp.(obra2)","Cómp. (obra1)","Costos grales.","Incidencia GG","Diagrama de GANTT","Flujo de caja","Impuestos y presupuesto","Certficado"],"not_rendered":{"charts":2,"images":16,"macros":1,"external_links":1,"defined_names":24,"comments":1,"pivot_tables":0},"unopened":[],"bounds":{"document_bytes":16777216,"sheet_cells":100000,"rows_first":2000,"rows_last":500,"rows_between":2000,"halvings":0,"cell_chars":16384,"cell_head_chars":4096},"cells_cut":0,"cells_raw":0,"read":"whole","date_system":"1900"}

{"sheet":"lista1","index":0,"n_rows":361,"n_cols":32,"rows_kept":361,"cut":false,"hidden":false,"merged":[[58,10,58,11],[28,17,28,18],[0,25,1,27],[0,29,1,31],[2,25,2,26],[2,29,2,30],[27,17,27,18],[33,2,34,2],[33,6,34,6],[33,7,34,7],[59,2,60,2],[59,4,60,4],[59,6,60,6],[59,7,60,7],[101,2,102,2],[101,4,102,4],[101,6,102,6],[101,7,102,7],[167,2,168,2],[167,4,168,4],[167,6,168,6],[167,7,168,7],[331,2,332,2],[331,4,332,4],[331,6,332,6],[331,7,332,7],[200,2,201,2],[200,4,201,4],[200,6,201,6],[200,7,201,7],[307,2,308,2],[307,4,308,4],[307,6,308,6],[307,7,308,7]]}
["nro","rubros o items","Unid.",null,"$vjo","$nvo","Cantid.","Parc.",null,"Muro",null,null,null,null,null,null,null,null,null,null,"Cielorrasos [m2]",null,null,"Pisos [m2]",null,"¿Qué % de beneficios desea? Incidirá sobre mater. y mano de obra",null,null,null,"¿Quiere PRECIOS con o sin IVA?"]
[]
[1,"Trabajos preliminares",null,null,null,null,null,null,null,null,null,null,"esp.","caras","Alto","Largo","AreaMur","AreaPer","per",null,"sup. Cubierta total",null,104.05,{"$f":"W3","v":104.05},null,null,null,{"$f":"MAX((Z4:Z12=Z3)*(AA4:AA12))","v":1},null,"sin IVA",null,{"$f":"MAX((AD4:AD6=AD3)*(AE4:AE6))","v":1}]
[null,"Limpieza y nivelación del terreno","m2",{"$f":"$N$27","v":1},{"$f":"IF((lista2!F4+lista3!F4+lista4!F4+lista5!F4)=0,0,(lista2!F4+lista3!F4+lista4!F4+lista5!F4)/((lista2!F4<>0)+(lista3!F4<>0)+(lista4!F4<>0)+(lista5!F4<>0)))","v":58.615898791122341},{"$f":"D4*E4","v":58.615898791122341},{"$f":"W11","v":162.5},{"$f":"+F4*G4","v":9525.0835535573806},null,"m","x",1,0.15,2,2.99,1.24,{"$f":"P4*O4","v":3.7076000000000002},{"$f":"Q4*N4","v":7.4152000000000005},{"$f":"N4*P4","v":2.48},null,"patio 1",null,null,21.28,null,0,1,null,null,"sin IVA",1]
[null,"Obrador, depósito y sanitarios","m2",{"$f":"$N$27","v":1},{"$f":"IF((lista2!F5+lista3!F5+lista4!F5+lista5!F5)=0,0,(lista2!F5+lista3!F5+lista4!F5+lista5!F5)/((lista2!F5<>0)+(lista3!F5<>0)+(lista4!F5<>0)+(lista5!F5<>0)))","v":1326.4142538975502},{"$f":"D5*E5","v":1326.4142538975502},13,{"$f":"+F5*G5","v":17243.385300668153},null,"m","x",2,0.15,1,3.3,5.32,17.556000000000001,17.556000000000001,5.32,null,"patio 2",null,null,14.7,null,0.05,1.05,null,null,"medio IVA",1.105]
[null,"desmonte en terreno comun (si en terr. C. roca disgregable con barreta se debera mult. Prec. X 2,3)","m3",{"$f":"$N$27","v":1},{"$f":"IF((lista2!F6+lista3!F6+lista4!F6+lista5!F6)=0,0,(lista2!F6+lista3!F6+lista4!F6+lista5!F6)/((lista2!F6<>0)+(lista3!F6<>0)+(lista4!F6<>0)+(lista5!F6<>0)))","v":222.53226340111914},{"$f":"D6*E6","v":222.53226340111914},0,{"$f":"+F6*G6","v":0},null,"m","x",2,0.15,2,2.7,6.3,17.010000000000002,34.020000000000003,12.6,null,"pasillo",null,null,18.63,null,0.1,1.1000000000000001,null,null,"con IVA",1.21]
[2,"Procedimientos y cumplimientos",null,null,null,null,null,null,null,"m","x",3,0.15,2,2.7,3.9,10.530000000000001,21.060000000000002,7.8,null,null,null,null,null,null,0.15,1.1499999999999999]
[null,"Replanteo","m2",{"$f":"$N$27","v":1},{"$f":"IF((lista2!F8+lista3!F8+lista4!F8+lista5!F8)=0,0,(lista2!F8+lista3!F8+lista4!F8+lista5!F8)/((lista2!F8<>0)+(lista3!F8<>0)+(lista4!F8<>0)+(lista5!F8<>0)))","v":28.452328142140082},{"$f":"D8*E8","v":28.452328142140082},{"$f":"W3","v":104.05},{"$f":"+F8*G8","v":2960.4647431896756},null,"m","x",4,0.15,2,2.7,3.2,8.64,17.28,6.4,null,null,null,null,null,null,0.2,1.2]
[null,"Cartel de obra","m2",{"$f":"$N$27","v":1},{"$f":"IF((lista2!F9+lista3!F9+lista4!F9+lista5!F9)=0,0,(lista2!F9+lista3!F9+lista4!F9+lista5!F9)/((lista2!F9<>0)+(lista3!F9<>0)+(lista4!F9<>0)+(lista5!F9<>0)))","v":773.74164810690434},{"$f":"D9*E9","v":773.74164810690434},0,{"$f":"+F9*G9","v":0},null,"m","x",5,0.15,2,2.7,3.1,8.370000000000001,16.740000000000002,6.2,null,"total",null,{"$f":"W3","v":104.05},{"$f":"SUM(X3:X8)","v":158.66},null,0.25,1.25]
[null,"Cerco de obra","ml",{"$f":"$N$27","v":1},{"$f":"IF((lista2!F10+lista3!F10+lista4!F10+lista5!F10)=0,0,(lista2!F10+lista3!F10+lista4!F10+lista5!F10)/((lista2!F10<>0)+(lista3!F10<>0)+(lista4!F10<>0)+(lista5!F10<>0)))","v":403.4510022271715},{"$f":"D10*E10","v":403.4510022271715},0,{"$f":"+F10*G10","v":0},null,"m","x",6,0.15,2,2.7,3.3,8.91,17.82,6.6,null,null,null,null,null,null,0.3,1.3]
[null,"Defensa de protección para trabajo en obra","ml",{"$f":"$N$27","v":1},{"$f":"IF((lista2!F11+lista3!F11+lista4!F11+lista5!F11)=0,0,(lista2!F11+lista3!F11+lista4!F11+lista5!F11)/((lista2!F11<>0)+(lista3!F11<>0)+(lista4!F11<>0)+(lista5!F11<>0)))","v":829.00890868596889},{"$f":"D11*E11","v":829.00890868596889},0,{"$f":"+F11*G11","v":0},null,"m","x",7,0.15,1,2.7,6.72,18.144000000000002,18.144000000000002,6.72,null,"sup. Del terreno",null,162.5,"m2",null,0.35,1.35]
[null,null,null,null,{"$f":"IF((lista2!F12+lista3!F12+lista4!F12+lista5!F12)=0,0,(lista2!F12+lista3!F12+lista4!F12+lista5!F12)/((lista2!F12<>0)+(lista3!F12<>0)+(lista4!F12<>0)+(lista5!F12<>0)))","v":0},null,null,null,null,"m","Y","1a",0.15,1,2.7,{"$f":"34.55-P13","v":19.549999999999997},52.784999999999997,52.784999999999997,19.549999999999997,"*",null,null,null,null,null,0.4,1.4]
[3,"Demoliciones",null,null,null,null,null,null,null,"m","Y","1b",0.15,1,3.3,15,49.5,49.5,15,null,"bases de recalce de muros medianeros",null,null,{"$f":"(P12+P20)/X14","v":10.002544529262087},"ud"]
[null,"En los siguientes items, se incluye el retiro de los escombros de la obra hasta coloc.dentro del contenedor ",null,null,null,null,null,null,null,"m","Y","2a",0.15,1,2.7,15.15,40.905000000000001,40.905000000000001,15.15,null,"(ver * en planilla muro). La dist. Separ.",null,null,3.93,"m"]
[null,"De estructura de hormigón, losas de HºAº, dados, camaras de HºAº (incluye cargarlo)","m3",{"$f":"$N$27","v":1},{"$f":"IF((lista2!F15+lista3!F15+lista4!F15+lista5!F15)=0,0,(lista2!F15+lista3!F15+lista4!F15+lista5!F15)/((lista2!F15<>0)+(lista3!F15<>0)+(lista4!F15<>0)+(lista5!F15<>0)))","v":1281.8427383571232},{"$f":"D15*E15","v":1281.8427383571232},0,{"$f":"+F15*G15","v":0},null,"m","Y","2b",0.15,2,1,4,4,8,8,null,"vol. Bases recalc. Median",null,{"$f":"1*0.5","v":0.5},1.2,{"$f":"W15*X15*X13","v":6.001526717557252}]
[null,"De mamposteria (todos los items incluyen cargar escombros a un contenedor cercano, refiere a planta baja)","m3",1,{"$f":"IF((lista2!F16+lista3!F16+lista4!F16+lista5!F16)=0,0,(lista2!F16+lista3!F16+lista4!F16+lista5!F16)/((lista2!F16<>0)+(lista3!F16<>0)+(lista4!F16<>0)+(lista5!F16<>0)))","v":415.97275538678633},415.97275538678633,0,0,null,"m","Y",3,0.3,2,2.7,4,10.8,21.6,8,null,"bases de colum. de muros nuevos",null,null,{"$f":"ROUNDUP((P25-P12-P20)/X17, 0)","v":24},"ud"]
[null,"De pisos","m2",1,{"$f":"IF((lista2!F17+lista3!F17+lista4!F17+lista5!F17)=0,0,(lista2!F17+lista3!F17+lista4!F17+lista5!F17)/((lista2!F17<>0)+(lista3!F17<>0)+(lista4!F17<>0)+(lista5!F17<>0)))","v":123.85341512482766},123.85341512482766,0,0,null,"m","Y",4,0.15,2,2.7,11.45,30.914999999999999,61.83,22.9,null,"(ver en planilla muro). La dist. Separ.",null,null,4,"m"]
[null,"De contrapisos","m2",1,{"$f":"IF((lista2!F18+lista3!F18+lista4!F18+lista5!F18)=0,0,(lista2!F18+lista3!F18+lista4!F18+lista5!F18)/((lista2!F18<>0)+(lista3!F18<>0)+(lista4!F18<>0)+(lista5!F18<>0)))","v":65.318039321169294},65.318039321169294,0,0,null,"m","Y",5,0.15,2,2.7,0.6,1.62,3.24,1.2,null,"profund. Pilot",1.6,"vol de excav. a retirar",null,{"$f":"3.14*0.23^2/4*V18*X16","v":1.5946175999999999}]
[null,"Picado de revoques, cielorrasos suspendidos ó demolcic. de cubiert d tejas coloniales (sin recuper. de tejas)","m2",1,{"$f":"IF((lista2!F19+lista3!F19+lista4!F19+lista5!F19)=0,0,(lista2!F19+lista3!F19+lista4!F19+lista5!F19)/((lista2!F19<>0)+(lista3!F19<>0)+(lista4!F19<>0)+(lista5!F19<>0)))","v":62.792165846327769},62.792165846327769,0,0,null,"m","Y",6,0.15,2,2.7,4.9400000000000004,13.338000000000003,26.676000000000005,9.8800000000000008,null,"Coef. Esponj.",1.35,"ancho","alto","vol. Tot. m3"]
[null,"Picado de revestimientos","m2",1,{"$f":"IF((lista2!F20+lista3!F20+lista4!F20+lista5!F20)=0,0,(lista2!F20+lista3!F20+lista4!F20+lista5!F20)/((lista2!F20<>0)+(lista3!F20<>0)+(lista4!F20<>0)+(lista5!F20<>0)))","v":73.960431397554018},73.960431397554018,0,0,null,"m","Y",7,0.15,1,2.7,19.760000000000002,53.352000000000011,53.352000000000011,19.760000000000002,"*","vol. Vigas fundacion[m3]",null,0.25,0.3,{"$f":"W20*X20*P25","v":9.9022500000000004}]
[null,"De estructura de madera con tejas francesa (o colonial)","m2",1,{"$f":"IF((lista2!F21+lista3!F21+lista4!F21+lista5!F21)=0,0,(lista2!F21+lista3!F21+lista4!F21+lista5!F21)/((lista2!F21<>0)+(lista3!F21<>0)+(lista4!F21<>0)+(lista5!F21<>0)))","v":205.39559059553875},205.39559059553875,0,0,null,"tanque res",null,null,0.15,2,2.2999999999999998,{"$f":"2.3+1.1*2","v":4.5},10.35,20.7,0,null,null,null,"cam. Sep.m3",{"$f":"2*2.3*2.5","v":11.5},"cam. Insp,m3",{"$f":"0.6*0.6*1.6","v":0.57599999999999996},"cisterna ",0,"m3"]
[null,"Demolición de obra completa","m2",1,{"$f":"IF((lista2!F22+lista3!F22+lista4!F22+lista5!F22)=0,0,(lista2!F22+lista3!F22+lista4!F22+lista5!F22)/((lista2!F22<>0)+(lista3!F22<>0)+(lista4!F22<>0)+(lista5!F22<>0)))","v":871.43040394577633},871.43040394577633,28,24400.051310481736,null,null,null,null,null,null,null,null,null,null,null,null,"demoliciones",{"$f":"7*2+4*2","v":22},0.3,3,{"$f":"V22*W22*X22","v":19.799999999999997},null,"sotano",0,"m3"]
[null,"Contenedor/Volquete, alquiler","u",1,{"$f":"IF((lista2!F23+lista3!F23+lista4!F23+lista5!F23)=0,0,(lista2!F23+lista3!F23+lista4!F23+lista5!F23)/((lista2!F23<>0)+(lista3!F23<>0)+(lista4!F23<>0)+(lista5!F23<>0)))","v":607.93986636971056},607.93986636971056,{"$f":"Y25","v":16},9727.0378619153689,null,null,null,null,null,null,null,null,null,null,null,null,"desperdicios 20cm/m2",null,{"$f":"W3","v":104.05},0.2,{"$f":"W23*X23","v":20.810000000000002},null,"pozo Romano",{"$f":"IF((3.14*AD25^2/4)<1,AD24*AD23,(3.14*AD25^2/4)*AD24*AD23)","v":0},"cantidad",0]
[null,"Cargar Contenedor/Volquete","u",1,{"$f":"IF((lista2!F24+lista3!F24+lista4!F24+lista5!F24)=0,0,(lista2!F24+lista3!F24+lista4!F24+lista5!F24)/((lista2!F24<>0)+(lista3!F24<>0)+(lista4!F24<>0)+(lista5!F24<>0)))","v":605.17650334075734},605.17650334075734,{"$f":"Y25","v":16},9682.8240534521174,null,null,null,null,null,null,null,null,null,null,null,null,"capac volquetes ",5,null,"S =",{"$f":"(Y18+Y15+SUM(Y20:Y23))*V19","v":78.446332328702297},null,null,null,"profundid",0]
[4,"Movimientos de tierra",null,null,null,null,null,null,null,"sumatorias S =",null,null,null,null,null,{"$f":"SUM(P4:P24)","v":132.03},{"$f":"SUM(Q4:Q24)","v":360.43260000000009},{"$f":"SUM(R4:R24)","v":488.6232},{"$f":"SUM(S4:S24)","v":173.55999999999997},null,"cantidad de volquetes o contenedores:",null,null,null,{"$f":"ROUND(Y24/V24,0)","v":16},null,null,null,"diametro"]
[null,"Excavación manual p cimientos y bases column terreno común (si tosca mult.al prec.x 1,214 y x1,714 si es roca digregable)","m3",{"$f":"$N$27","v":1},{"$f":"IF((lista2!F26+lista3!F26+lista4!F26+lista5!F26)=0,0,(lista2!F26+lista3!F26+lista4!F26+lista5!F26)/((lista2!F26<>0)+(lista3!F26<>0)+(lista4!F26<>0)+(lista5!F26<>0)))","v":323.23838021599795},{"$f":"D26*E26","v":323.23838021599795},{"$f":"Y15","v":6.001526717557252},{"$f":"+F26*G26","v":1939.9237750062412},null,null,null,null,null,null,null,null,null,null,null,null,"vol.  Colum (encad.) ",null,0.13,0.2,{"$f":"W26*X26*AVERAGE(O4:O20)*(X16+X13)","v":2.3760578087112716},null,"pozo negr.m3",{"$f":"IF((3.14*AD28^2/4)<1,AD27*AD26,(3.14*AD28^2/4)*AD27*AD26)","v":6},"cantidad",1]
[null,"Excavación manual de vigas de fundación hasta 1,20 m de prof.","m3",1,{"$f":"IF((lista2!F27+lista3!F27+lista4!F27+lista5!F27)=0,0,(lista2!F27+lista3!F27+lista4!F27+lista5!F27)/((lista2!F27<>0)+(lista3!F27<>0)+(lista4!F27<>0)+(lista5!F27<>0)))","v":244.66220669111758},244.66220669111758,{"$f":"Y20","v":9.9022500000000004},2422.706336207119,null,null,null,"mult",null,{"$f":"AB3*AF3","v":1},null,null,null,null,null,"US$prom","vol.  Colum (estruct.) ",null,0.2,0.3,null,null,null,null,"profundid",6]
[null,"Excavación de pozos para pilotín (diám. 23 cm - prof. 1,6 m)","u",1,{"$f":"IF((lista2!F28+lista3!F28+lista4!F28+lista5!F28)=0,0,(lista2!F28+lista3!F28+lista4!F28+lista5!F28)/((lista2!F28<>0)+(lista3!F28<>0)+(lista4!F28<>0)+(lista5!F28<>0)))","v":154.74832962138086},154.74832962138086,{"$f":"X16","v":24},3713.9599109131404,null,"#1precio dólar oficial vta",null,null,null,null,null,9.3350000000000009,"$AR",{"$f":"TODAY()","v":"2015-11-12"},null,{"$f":"AVERAGE(P28:P29)","v":12.407500000000001},"cant. Col estr.",2,"Alt.col. Estr",2.7,{"$f":"W27*X27*X28*V28","v":0.32400000000000001},null,null,null,"diametro"]
[null,"Excavación p/ cisternas, cámaras sépt.,de inspec., sótanos a mano terr. Comun hast4m (tosca x1,351 y si fuese roc disgr x 1,89)","m3",1,{"$f":"IF((lista2!F29+lista3!F29+lista4!F29+lista5!F29)=0,0,(lista2!F29+lista3!F29+lista4!F29+lista5!F29)/((lista2!F29<>0)+(lista3!F29<>0)+(lista4!F29<>0)+(lista5!F29<>0)))","v":335.4208873675795},335.4208873675795,{"$f":"$X$21+$Z$21+$AB$21+$AB$22","v":12.076000000000001},4050.5426358508903,null,"#2precio dólar blue vta",null,null,null,null,null,15.48,"$AR",{"$f":"TODAY()","v":"2015-11-12"},null,null,"vol total de col",null,null,null,{"$f":"Y26+Y28","v":2.7000578087112714}]
[null,"Excavación p/ pozo absorbt o Romano, a mano terr. Comun hast10mprof.(tosca x1,364 y si fuese roc disgr x 1,909)","m3",1,{"$f":"IF((lista2!F30+lista3!F30+lista4!F30+lista5!F30)=0,0,(lista2!F30+lista3!F30+lista4!F30+lista5!F30)/((lista2!F30<>0)+(lista3!F30<>0)+(lista4!F30<>0)+(lista5!F30<>0)))","v":509.95473270480278},{"$f":"D30*E30","v":509.95473270480278},{"$f":"$AB$26","v":6},3059.7283962288166]
[null,"Destape del terreno hasta 20/30 cm de profundidad con pala frontal o  Excavación de sótanos a maquina","m3",1,{"$f":"IF((lista2!F31+lista3!F31+lista4!F31+lista5!F31)=0,0,(lista2!F31+lista3!F31+lista4!F31+lista5!F31)/((lista2!F31<>0)+(lista3!F31<>0)+(lista4!F31<>0)+(lista5!F31<>0)))","v":143.87861070482776},{"$f":"D31*E31","v":143.87861070482776},0,0,null,"#1rev. Rubro dólar oficial vta",null,null,null,null,null,4.4000000000000004,"$AR","2012-04-01",null,{"$f":"AVERAGE(P31:P32)","v":4.6550000000000002},"vol.  Vig encad. Sup.",null,0.13,0.17,{"$f":"W31*X31*P25","v":2.9178630000000001}]
[null,"Carga y retiro de tierra con camión","m3",1,{"$f":"IF((lista2!F32+lista3!F32+lista4!F32+lista5!F32)=0,0,(lista2!F32+lista3!F32+lista4!F32+lista5!F32)/((lista2!F32<>0)+(lista3!F32<>0)+(lista4!F32<>0)+(lista5!F32<>0)))","v":198.96213808463253},198.96213808463253,0,0,null,"#2Rev.Rubro dólar blu vta",null,null,null,null,null,4.91,"$AR","2012-04-01","multip",{"$f":"T28/T31","v":2.6654135338345863},"vol.  Vig estruct.",null,0.2,0.3]
[null,"terraplenamiento","m3",1,{"$f":"IF((lista2!F33+lista3!F33+lista4!F33+lista5!F33)=0,0,(lista2!F33+lista3!F33+lista4!F33+lista5!F33)/((lista2!F33<>0)+(lista3!F33<>0)+(lista4!F33<>0)+(lista5!F33<>0)))","v":185.43152276272303},{"$f":"D33*E33","v":185.43152276272303},0,{"$f":"+F33*G33","v":0},null,"http://www.ambito.com/economia/mercados/monedas/dolar/",null,null,null,null,null,null,null,null,null,null,"cantidad \"",1,"largo [m]",4,{"$f":"W32*X32*V33*X33","v":0.24}]
[5,"Estructuras de hormigón armado","Unid.",null,"Prec.","Prec.","Cant.","Parcial",null,"http://www.ambito.com/economia/mercados/monedas/dolar/info/?ric=ARSB=&desde=15/12/2014&hasta=15/01/2015"]
[null,"Incluye el material, mano de obra, armado y desarme de encofrados de madera tradicionales y equipos",null,null,"vjo","nvo"]
[null,"hormigon sin armar para relleno de cimientos","m3",{"$f":"$N$27","v":1},{"$f":"IF((lista2!F36+lista3!F36+lista4!F36+lista5!F36)=0,0,(lista2!F36+lista3!F36+lista4!F36+lista5!F36)/((lista2!F36<>0)+(lista3!F36<>0)+(lista4!F36<>0)+(lista5!F36<>0)))","v":1010.5260096061201},{"$f":"D36*E36","v":1010.5260096061201},{"$f":"G25","v":0},{"$f":"+F36*G36","v":0}]
[null,"Bases céntricas cuantía 60 kg, HºAº p/ cabezal de pozos romanos (p/fuste pz rom dividir precio en 1,124)","m3",1,{"$f":"IF((lista2!F37+lista3!F37+lista4!F37+lista5!F37)=0,0,(lista2!F37+lista3!F37+lista4!F37+lista5!F37)/((lista2!F37<>0)+(lista3!F37<>0)+(lista4!F37<>0)+(lista5!F37<>0)))","v":2691.0161237342345},{"$f":"D37*E37","v":2691.0161237342345},{"$f":"G26","v":6.001526717557252},{"$f":"+F37*G37","v":16150.20516396836},null,"lista de precios tareas "]
[null,"Vigas de fundación 60 kg/m3, arriostramiento y de equilibrio","m3",1,{"$f":"IF((lista2!F38+lista3!F38+lista4!F38+lista5!F38)=0,0,(lista2!F38+lista3!F38+lista4!F38+lista5!F38)/((lista2!F38<>0)+(lista3!F38<>0)+(lista4!F38<>0)+(lista5!F38<>0)))","v":3985.0372228872125},3985.0372228872125,{"$f":"G27","v":9.9022500000000004},39460.834840334901,null,"http://www.construircordoba.com/precios-de-tareas/movimiento-de-tierras/"]
[null,"Pilotín diametro 23 cm / profundidad 1,6 m","ml",1,{"$f":"IF((lista2!F39+lista3!F39+lista4!F39+lista5!F39)=0,0,(lista2!F39+lista3!F39+lista4!F39+lista5!F39)/((lista2!F39<>0)+(lista3!F39<>0)+(lista4!F39<>0)+(lista5!F39<>0)))","v":244.17075723830737},244.17075723830737,{"$f":"G28*V18","v":38.400000000000006},9376.1570779510039,null,"lista de precios tareas "]
[null,"Platea de fundación 35 kg/m3 de hierro o quiza con un poco mas de kg de cuantía, (bases de cañerías div./1,345).","m3",1,{"$f":"IF((lista2!F40+lista3!F40+lista4!F40+lista5!F40)=0,0,(lista2!F40+lista3!F40+lista4!F40+lista5!F40)/((lista2!F40<>0)+(lista3!F40<>0)+(lista4!F40<>0)+(lista5!F40<>0)))","v":2416.8146327705094},2416.8146327705094,0,0,null,"http://www.colegioarquitectos.org.ar/imgarchivos/61499_2522015_m2_Enero.pdf"]
[null,"Zapatas para tabique de hormigón para submuración 80 kg hierro, bases de columna y zapatas de columna","m3",1,{"$f":"IF((lista2!F41+lista3!F41+lista4!F41+lista5!F41)=0,0,(lista2!F41+lista3!F41+lista4!F41+lista5!F41)/((lista2!F41<>0)+(lista3!F41<>0)+(lista4!F41<>0)+(lista5!F41<>0)))","v":2554.2669991352814},2554.2669991352814,0,0]
[null,"Zapatas para muro de Mamposteria 30 cm de ladrillo común cuantía 35kg de hierro/m3","m3",1,{"$f":"IF((lista2!F42+lista3!F42+lista4!F42+lista5!F42)=0,0,(lista2!F42+lista3!F42+lista4!F42+lista5!F42)/((lista2!F42<>0)+(lista3!F42<>0)+(lista4!F42<>0)+(lista5!F42<>0)))","v":2759.4974319865987},2759.4974319865987,0,0]
[null,"Tabiques de sótanos una cara vista 80 kg de hierro/m3","m3",1,{"$f":"IF((lista2!F43+lista3!F43+lista4!F43+lista5!F43)=0,0,(lista2!F43+lista3!F43+lista4!F43+lista5!F43)/((lista2!F43<>0)+(lista3!F43<>0)+(lista4!F43<>0)+(lista5!F43<>0)))","v":5147.2610467706018},5147.2610467706018,0,0,null,"Referencias: Cada dato que modifique o agregue, ACTUALICE EL COLOR de celda en ese istante."]
[null,"Losas espesor 10 cm","m3",1,{"$f":"IF((lista2!F44+lista3!F44+lista4!F44+lista5!F44)=0,0,(lista2!F44+lista3!F44+lista4!F44+lista5!F44)/((lista2!F44<>0)+(lista3!F44<>0)+(lista4!F44<>0)+(lista5!F44<>0)))","v":4506.4932919527246},4506.4932919527246,0,0]
[null,"Losas de hormigón a la vista con encofrado fenólico","m3",1,{"$f":"IF((lista2!F45+lista3!F45+lista4!F45+lista5!F45)=0,0,(lista2!F45+lista3!F45+lista4!F45+lista5!F45)/((lista2!F45<>0)+(lista3!F45<>0)+(lista4!F45<>0)+(lista5!F45<>0)))","v":11791.712182628064},11791.712182628064,0,0,null,null,"ingrese datos nuevos referidos a su obra"]
[null,"Losas casetonada 70 kg/m3 de hierro (es precio mínimo.. p/ prec max mult. X 1,216)","m3",1,{"$f":"IF((lista2!F46+lista3!F46+lista4!F46+lista5!F46)=0,0,(lista2!F46+lista3!F46+lista4!F46+lista5!F46)/((lista2!F46<>0)+(lista3!F46<>0)+(lista4!F46<>0)+(lista5!F46<>0)))","v":8317.2805790645889},8317.2805790645889,0,0]
[null,"Losa nervurada Aº en un sentid. bloqH 14*19*39 (o x 1,162 sii es Aºda en 2 sentid c bloq poliest exp. De 40*40*25)","m2",1,{"$f":"IF((lista2!F47+lista3!F47+lista4!F47+lista5!F47)=0,0,(lista2!F47+lista3!F47+lista4!F47+lista5!F47)/((lista2!F47<>0)+(lista3!F47<>0)+(lista4!F47<>0)+(lista5!F47<>0)))","v":958.40271712849017},958.40271712849017,0,0,null,null,"celda con Fórmula (no modificarla)"]
[null,"Losa hueca pretensada 12 cm de espesor con tomado de juntas","m2",1,{"$f":"IF((lista2!F48+lista3!F48+lista4!F48+lista5!F48)=0,0,(lista2!F48+lista3!F48+lista4!F48+lista5!F48)/((lista2!F48<>0)+(lista3!F48<>0)+(lista4!F48<>0)+(lista5!F48<>0)))","v":699.46244988864146},699.46244988864146,0,0]
[null,"Losa viguetas pretensadas de hormigón y ladrillos cerámicos espesor 17cm con capa de compresión.","m2",1,{"$f":"IF((lista2!F49+lista3!F49+lista4!F49+lista5!F49)=0,0,(lista2!F49+lista3!F49+lista4!F49+lista5!F49)/((lista2!F49<>0)+(lista3!F49<>0)+(lista4!F49<>0)+(lista5!F49<>0)))","v":590.63713577496844},590.63713577496844,{"$f":"W3","v":104.05},61455.793977385467,null,null,"Datos vinculados, vienen de otra celda (no mofificarla)"]
[null,"columnas estructurales de aprox. 30x30 (Si son a la vista al precio mult. X 1,08)","m3",1,{"$f":"IF((lista2!F50+lista3!F50+lista4!F50+lista5!F50)=0,0,(lista2!F50+lista3!F50+lista4!F50+lista5!F50)/((lista2!F50<>0)+(lista3!F50<>0)+(lista4!F50<>0)+(lista5!F50<>0)))","v":6496.0633630541161},6496.0633630541161,{"$f":"Y28","v":0.32400000000000001},2104.7245296295337]
[null,"Encadenado verticales, horizontales, dinteles, dadosdapoyo, llaves,banquinas 7cm esp. de HºAº ","m3",1,{"$f":"IF((lista2!F51+lista3!F51+lista4!F51+lista5!F51)=0,0,(lista2!F51+lista3!F51+lista4!F51+lista5!F51)/((lista2!F51<>0)+(lista3!F51<>0)+(lista4!F51<>0)+(lista5!F51<>0)))","v":5231.4802924849691},5231.4802924849691,{"$f":"Y26+Y31","v":5.2939208087112721},27695.04238074911,null,null," prohibido modificar"]
[null,"Vigas cuantía 180 kg/m3, vigas aprox. De 20x40 (Si son a la vista al precio mult. X 1,08)","m3",1,{"$f":"IF((lista2!F52+lista3!F52+lista4!F52+lista5!F52)=0,0,(lista2!F52+lista3!F52+lista4!F52+lista5!F52)/((lista2!F52<>0)+(lista3!F52<>0)+(lista4!F52<>0)+(lista5!F52<>0)))","v":8566.3831907289987},8566.3831907289987,{"$f":"Y33","v":0.24},2055.9319657749597]
[null,"Tabiques vistos cuantía 80 kg","m3",1,{"$f":"IF((lista2!F53+lista3!F53+lista4!F53+lista5!F53)=0,0,(lista2!F53+lista3!F53+lista4!F53+lista5!F53)/((lista2!F53<>0)+(lista3!F53<>0)+(lista4!F53<>0)+(lista5!F53<>0)))","v":11203.889599109132},11203.889599109132,0,0]
[null,"Tabiques cuantía 80 kg/m3","m3",1,{"$f":"IF((lista2!F54+lista3!F54+lista4!F54+lista5!F54)=0,0,(lista2!F54+lista3!F54+lista4!F54+lista5!F54)/((lista2!F54<>0)+(lista3!F54<>0)+(lista4!F54<>0)+(lista5!F54<>0)))","v":7718.9177018724149},7718.9177018724149,0,0]
[null,"Escaleras cuantía 75 kg/m3 (sii es HºAº p/LOSAS macizas de escaleras a este prec. Dividir por 1,887) ","m3",1,{"$f":"IF((lista2!F55+lista3!F55+lista4!F55+lista5!F55)=0,0,(lista2!F55+lista3!F55+lista4!F55+lista5!F55)/((lista2!F55<>0)+(lista3!F55<>0)+(lista4!F55<>0)+(lista5!F55<>0)))","v":11959.614120267261},11959.614120267261,0,0]
[null,"Tanque de bombeo cuantía 105 kg/m3","m3",1,{"$f":"IF((lista2!F56+lista3!F56+lista4!F56+lista5!F56)=0,0,(lista2!F56+lista3!F56+lista4!F56+lista5!F56)/((lista2!F56<>0)+(lista3!F56<>0)+(lista4!F56<>0)+(lista5!F56<>0)))","v":8036.7439643652569},8036.7439643652569,0,0]
[null,"Tanque de reserva cuantía 105 kg/m3 y cisternas de HAº","m3",1,{"$f":"IF((lista2!F57+lista3!F57+lista4!F57+lista5!F57)=0,0,(lista2!F57+lista3!F57+lista4!F57+lista5!F57)/((lista2!F57<>0)+(lista3!F57<>0)+(lista4!F57<>0)+(lista5!F57<>0)))","v":8870.6033249533048},8870.6033249533048,{"$f":"2.3*1.3*0.1","v":0.29899999999999999},2652.3103941610379]
[null,"Junta de PVC para hormigón","ml",1,{"$f":"IF((lista2!F58+lista3!F58+lista4!F58+lista5!F58)=0,0,(lista2!F58+lista3!F58+lista4!F58+lista5!F58)/((lista2!F58<>0)+(lista3!F58<>0)+(lista4!F58<>0)+(lista5!F58<>0)))","v":229.66559562986845},229.66559562986845,0,0]
[null,"Barrera de vapor (dos manos de pintura asfáltica + 10% nafta)","m2",1,{"$f":"IF((lista2!F59+lista3!F59+lista4!F59+lista5!F59)=0,0,(lista2!F59+lista3!F59+lista4!F59+lista5!F59)/((lista2!F59<>0)+(lista3!F59<>0)+(lista4!F59<>0)+(lista5!F59<>0)))","v":42.006849660384049},42.006849660384049,{"$f":"W3","v":104.05},4370.8127071629606,{"$f":"SUM(H57,H49)","v":64108.104371546506},null,{"$f":"I59/I60","v":0.38777765132029635}]
[6,"Estructuras metálicas",null,null,null,null,null,null,{"$f":"SUM(H36:H59)","v":165321.81303711733}]
[null,"En el caso de cubiertas no se consideran los cerramientos laterales ni superiores. Para los entrepisos no se incluye el solado. En ambos, tampoco la pintura. El armado es en taller. Incluye el montaje en obra y no se considera el flete"]
[null,"Estructuras metálicas de perfiles normales","kg",{"$f":"$N$27","v":1},{"$f":"IF((lista2!F62+lista3!F62+lista4!F62+lista5!F62)=0,0,(lista2!F62+lista3!F62+lista4!F62+lista5!F62)/((lista2!F62<>0)+(lista3!F62<>0)+(lista4!F62<>0)+(lista5!F62<>0)))","v":42.666325167037868},{"$f":"D62*E62","v":42.666325167037868},0,{"$f":"+F62*G62","v":0}]
[null,"Estructuras metálicas de perfiles ángulos","kg",{"$f":"$N$27","v":1},{"$f":"IF((lista2!F63+lista3!F63+lista4!F63+lista5!F63)=0,0,(lista2!F63+lista3!F63+lista4!F63+lista5!F63)/((lista2!F63<>0)+(lista3!F63<>0)+(lista4!F63<>0)+(lista5!F63<>0)))","v":86.106391982182643},{"$f":"D63*E63","v":86.106391982182643},0,{"$f":"+F63*G63","v":0}]
[null,"Estructuras metálicas de hierro redondo","kg",{"$f":"$N$27","v":1},{"$f":"IF((lista2!F64+lista3!F64+lista4!F64+lista5!F64)=0,0,(lista2!F64+lista3!F64+lista4!F64+lista5!F64)/((lista2!F64<>0)+(lista3!F64<>0)+(lista4!F64<>0)+(lista5!F64<>0)))","v":42.776859688195998},{"$f":"D64*E64","v":42.776859688195998},0,{"$f":"+F64*G64","v":0}]
[null,null,null,null,{"$f":"IF((lista2!F65+lista3!F65+lista4!F65+lista5!F65)=0,0,(lista2!F65+lista3!F65+lista4!F65+lista5!F65)/((lista2!F65<>0)+(lista3!F65<>0)+(lista4!F65<>0)+(lista5!F65<>0)))","v":0},null,null,{"$f":"+F65*G65","v":0}]
[null,null,null,null,{"$f":"IF((lista2!F66+lista3!F66+lista4!F66+lista5!F66)=0,0,(lista2!F66+lista3!F66+lista4!F66+lista5!F66)/((lista2!F66<>0)+(lista3!F66<>0)+(lista4!F66<>0)+(lista5!F66<>0)))","v":0},null,null,{"$f":"+F66*G66","v":0}]
[null,null,null,null,{"$f":"IF((lista2!F67+lista3!F67+lista4!F67+lista5!F67)=0,0,(lista2!F67+lista3!F67+lista4!F67+lista5!F67)/((lista2!F67<>0)+(lista3!F67<>0)+(lista4!F67<>0)+(lista5!F67<>0)))","v":0}]
[7,"Mampostería","Unid.",null,"Precio",null,"Cantid.","Parcial"]
[null,"Bloques de hormigón estandar 19 x 19 x 39  ; idem cribada = D x 0,9365","m2",{"$f":"$N$27","v":1},{"$f":"IF((lista2!F69+lista3!F69+lista4!F69+lista5!F69)=0,0,(lista2!F69+lista3!F69+lista4!F69+lista5!F69)/((lista2!F69<>0)+(lista3!F69<>0)+(lista4!F69<>0)+(lista5!F69<>0)))","v":339.71362548784089},{"$f":"D69*E69","v":339.71362548784089},0,{"$f":"+F69*G69","v":0}]
[null,"Bloques de hormigón estandar 9,2 x 19 x 39 ;  ladrillos comunes de pandere 30 ud/m2 = corregir D x 0,88","m2",1,{"$f":"IF((lista2!F70+lista3!F70+lista4!F70+lista5!F70)=0,0,(lista2!F70+lista3!F70+lista4!F70+lista5!F70)/((lista2!F70<>0)+(lista3!F70<>0)+(lista4!F70<>0)+(lista5!F70<>0)))","v":246.56152899076693},246.56152899076693,0,0]
[null,"Junta de dilatación bloque \"\"u\"\"de hormigón","ml",1,{"$f":"IF((lista2!F71+lista3!F71+lista4!F71+lista5!F71)=0,0,(lista2!F71+lista3!F71+lista4!F71+lista5!F71)/((lista2!F71<>0)+(lista3!F71<>0)+(lista4!F71<>0)+(lista5!F71<>0)))","v":63.004677060133638},63.004677060133638,0,0]
[null,"Encadenado pared bloques de hormigón","ml",1,{"$f":"IF((lista2!F72+lista3!F72+lista4!F72+lista5!F72)=0,0,(lista2!F72+lista3!F72+lista4!F72+lista5!F72)/((lista2!F72<>0)+(lista3!F72<>0)+(lista4!F72<>0)+(lista5!F72<>0)))","v":161.82253897550112},161.82253897550112,0,0]
[null,"Ladrillos comunes elevación espesor 30 cm (si es de cimiento =D/1,03) si es p/ 1er piso =D*1,08","m3",1,{"$f":"IF((lista2!F73+lista3!F73+lista4!F73+lista5!F73)=0,0,(lista2!F73+lista3!F73+lista4!F73+lista5!F73)/((lista2!F73<>0)+(lista3!F73<>0)+(lista4!F73<>0)+(lista5!F73<>0)))","v":2702.0445729271346},2702.0445729271346,0,0]
[null,"Ladrillos de máquina para vista espesor 30 cm sin tomado de juntas (con tomado junt =D x 1,094)","m3",1,{"$f":"IF((lista2!F74+lista3!F74+lista4!F74+lista5!F74)=0,0,(lista2!F74+lista3!F74+lista4!F74+lista5!F74)/((lista2!F74<>0)+(lista3!F74<>0)+(lista4!F74<>0)+(lista5!F74<>0)))","v":4058.5236697287305},4058.5236697287305,0,0]
[null,"Ladrillo común en elevación espesor 15 cm  (si es de cimiento =D/1,03) si es p/ 1er piso =D*1,08 , cribadas","m3",1,{"$f":"IF((lista2!F75+lista3!F75+lista4!F75+lista5!F75)=0,0,(lista2!F75+lista3!F75+lista4!F75+lista5!F75)/((lista2!F75<>0)+(lista3!F75<>0)+(lista4!F75<>0)+(lista5!F75<>0)))","v":2043.8559002409083},2043.8559002409083,0,0]
[null,"Ladrillo de máquina para vista espesor 15 cm con tomado de junta","m3",1,{"$f":"IF((lista2!F76+lista3!F76+lista4!F76+lista5!F76)=0,0,(lista2!F76+lista3!F76+lista4!F76+lista5!F76)/((lista2!F76<>0)+(lista3!F76<>0)+(lista4!F76<>0)+(lista5!F76<>0)))","v":5088.1250779510028},5088.1250779510028,0,0]
[null,"Refuerzos horizontales o encadenado para mampostería (vigas o dintel) en ladrillo común","ml",1,{"$f":"IF((lista2!F77+lista3!F77+lista4!F77+lista5!F77)=0,0,(lista2!F77+lista3!F77+lista4!F77+lista5!F77)/((lista2!F77<>0)+(lista3!F77<>0)+(lista4!F77<>0)+(lista5!F77<>0)))","v":325.52416481069042},325.52416481069042,0,0]
[null,"Ladrillo cerámico hueco de 8 x 18 x 33 pared de 8 cm de espesor","m2",1,{"$f":"IF((lista2!F78+lista3!F78+lista4!F78+lista5!F78)=0,0,(lista2!F78+lista3!F78+lista4!F78+lista5!F78)/((lista2!F78<>0)+(lista3!F78<>0)+(lista4!F78<>0)+(lista5!F78<>0)))","v":205.80022640575297},205.80022640575297,0,0]
[null,"Ladrillo cerámico hueco de 12 x 18 x 33 pared de 12 cm de espesor","m2",1,{"$f":"IF((lista2!F79+lista3!F79+lista4!F79+lista5!F79)=0,0,(lista2!F79+lista3!F79+lista4!F79+lista5!F79)/((lista2!F79<>0)+(lista3!F79<>0)+(lista4!F79<>0)+(lista5!F79<>0)))","v":242.06804508006525},242.06804508006525,0,0]
[null,"Ladrillo cerámico hueco de 18 x 18 x 33 pared de 18 cm de espesor","m2",1,{"$f":"IF((lista2!F80+lista3!F80+lista4!F80+lista5!F80)=0,0,(lista2!F80+lista3!F80+lista4!F80+lista5!F80)/((lista2!F80<>0)+(lista3!F80<>0)+(lista4!F80<>0)+(lista5!F80<>0)))","v":307.60711546442735},307.60711546442735,0,0]
[null,"Ladrillo cerámico portante de 13 x 19 x 33","m2",1,{"$f":"IF((lista2!F81+lista3!F81+lista4!F81+lista5!F81)=0,0,(lista2!F81+lista3!F81+lista4!F81+lista5!F81)/((lista2!F81<>0)+(lista3!F81<>0)+(lista4!F81<>0)+(lista5!F81<>0)))","v":279.64832580458841},279.64832580458841,{"$f":"Q25","v":360.43260000000009},100794.37315539492]
[null,"Ladrillo cerámico portante de 18 x 19 x 33","m2",1,{"$f":"IF((lista2!F82+lista3!F82+lista4!F82+lista5!F82)=0,0,(lista2!F82+lista3!F82+lista4!F82+lista5!F82)/((lista2!F82<>0)+(lista3!F82<>0)+(lista4!F82<>0)+(lista5!F82<>0)))","v":332.71720541637865},332.71720541637865,0,0]
[null,"Viga de encadenado superior con peine cerámico, armadura y hormigonado","ml",1,{"$f":"IF((lista2!F83+lista3!F83+lista4!F83+lista5!F83)=0,0,(lista2!F83+lista3!F83+lista4!F83+lista5!F83)/((lista2!F83<>0)+(lista3!F83<>0)+(lista4!F83<>0)+(lista5!F83<>0)))","v":202.27817371937641},202.27817371937641,0,0]
[null,"Columna con bloque cerámico armadura y hormigón","ml",1,{"$f":"IF((lista2!F84+lista3!F84+lista4!F84+lista5!F84)=0,0,(lista2!F84+lista3!F84+lista4!F84+lista5!F84)/((lista2!F84<>0)+(lista3!F84<>0)+(lista4!F84<>0)+(lista5!F84<>0)))","v":188.35082405345213},188.35082405345213,0,0]
[null,"Muro portante en elevación de HCCA tipo Retak","m3",1,{"$f":"IF((lista2!F85+lista3!F85+lista4!F85+lista5!F85)=0,0,(lista2!F85+lista3!F85+lista4!F85+lista5!F85)/((lista2!F85<>0)+(lista3!F85<>0)+(lista4!F85<>0)+(lista5!F85<>0)))","v":2763.8051670378622},2763.8051670378622,0,0]
[null,"Colocación de carpinterías (incluye amurado, marcos y premarcos)","m2",1,{"$f":"IF((lista2!F86+lista3!F86+lista4!F86+lista5!F86)=0,0,(lista2!F86+lista3!F86+lista4!F86+lista5!F86)/((lista2!F86<>0)+(lista3!F86<>0)+(lista4!F86<>0)+(lista5!F86<>0)))","v":208.79971046770603},208.79971046770603,0,0]
[null,"Colocación de barandas","ml",1,{"$f":"IF((lista2!F87+lista3!F87+lista4!F87+lista5!F87)=0,0,(lista2!F87+lista3!F87+lista4!F87+lista5!F87)/((lista2!F87<>0)+(lista3!F87<>0)+(lista4!F87<>0)+(lista5!F87<>0)))","v":182.6030289532294},182.6030289532294,0,0]
[null,"Muro portante en elevación de HCCA de 15x25x50 tipo Retak","m2",1,{"$f":"IF((lista2!F88+lista3!F88+lista4!F88+lista5!F88)=0,0,(lista2!F88+lista3!F88+lista4!F88+lista5!F88)/((lista2!F88<>0)+(lista3!F88<>0)+(lista4!F88<>0)+(lista5!F88<>0)))","v":439.7063251670379},439.7063251670379,0,0]
[null,"murete de mesada de cocina hasta 95 cm de alto (incl mat y m.o: muro 0,15+ revoq gr y fno ambas caras) sin revestim.","u",1,{"$f":"IF((lista2!F89+lista3!F89+lista4!F89+lista5!F89)=0,0,(lista2!F89+lista3!F89+lista4!F89+lista5!F89)/((lista2!F89<>0)+(lista3!F89<>0)+(lista4!F89<>0)+(lista5!F89<>0)))","v":699.13084632516711},699.13084632516711,0,0]
[null,"murete de mesada de cocina hasta 95 cm de alto (incl mat y m.o: muro 0,15+ revoq gr y revest. ambas caras) sin fino","u",1,{"$f":"IF((lista2!F90+lista3!F90+lista4!F90+lista5!F90)=0,0,(lista2!F90+lista3!F90+lista4!F90+lista5!F90)/((lista2!F90<>0)+(lista3!F90<>0)+(lista4!F90<>0)+(lista5!F90<>0)))","v":1024.0360178173721},1024.0360178173721,0,0]
[null,"Conducto de ventilación","ml",1,{"$f":"IF((lista2!F91+lista3!F91+lista4!F91+lista5!F91)=0,0,(lista2!F91+lista3!F91+lista4!F91+lista5!F91)/((lista2!F91<>0)+(lista3!F91<>0)+(lista4!F91<>0)+(lista5!F91<>0)))","v":385.21280623608021},385.21280623608021,0,0]
[null,"Sombrete conducto ventilación","u",1,{"$f":"IF((lista2!F92+lista3!F92+lista4!F92+lista5!F92)=0,0,(lista2!F92+lista3!F92+lista4!F92+lista5!F92)/((lista2!F92<>0)+(lista3!F92<>0)+(lista4!F92<>0)+(lista5!F92<>0)))","v":362.44269487750557},362.44269487750557,0,0]
[null,"Rejilla para conducto","ml",1,{"$f":"IF((lista2!F93+lista3!F93+lista4!F93+lista5!F93)=0,0,(lista2!F93+lista3!F93+lista4!F93+lista5!F93)/((lista2!F93<>0)+(lista3!F93<>0)+(lista4!F93<>0)+(lista5!F93<>0)))","v":222.17438752783966},222.17438752783966,0,0]
[null,"Conducto de presurización","ml",1,{"$f":"IF((lista2!F94+lista3!F94+lista4!F94+lista5!F94)=0,0,(lista2!F94+lista3!F94+lista4!F94+lista5!F94)/((lista2!F94<>0)+(lista3!F94<>0)+(lista4!F94<>0)+(lista5!F94<>0)))","v":418.59423162583522},418.59423162583522,0,0]
[null,"Sombrete conducto presuriz.","u",1,{"$f":"IF((lista2!F95+lista3!F95+lista4!F95+lista5!F95)=0,0,(lista2!F95+lista3!F95+lista4!F95+lista5!F95)/((lista2!F95<>0)+(lista3!F95<>0)+(lista4!F95<>0)+(lista5!F95<>0)))","v":637.89472160356354},637.89472160356354,0,0]
[null,"Reja conducto ventilación","u",1,{"$f":"IF((lista2!F96+lista3!F96+lista4!F96+lista5!F96)=0,0,(lista2!F96+lista3!F96+lista4!F96+lista5!F96)/((lista2!F96<>0)+(lista3!F96<>0)+(lista4!F96<>0)+(lista5!F96<>0)))","v":264.06697104677062},264.06697104677062,0,0]
[null,"banquinas de mesada (contrapiso + carpeta + revest. Ceramico)","ml",1,{"$f":"IF((lista2!F97+lista3!F97+lista4!F97+lista5!F97)=0,0,(lista2!F97+lista3!F97+lista4!F97+lista5!F97)/((lista2!F97<>0)+(lista3!F97<>0)+(lista4!F97<>0)+(lista5!F97<>0)))","v":578.09554565701558},578.09554565701558,{"$f":"G245","v":6.3},3642.0019376391979]
[null,"tomado de juntas en ladrillos visto rehundidas (al ras es 0,841*D)","m2",1,{"$f":"IF((lista2!F98+lista3!F98+lista4!F98+lista5!F98)=0,0,(lista2!F98+lista3!F98+lista4!F98+lista5!F98)/((lista2!F98<>0)+(lista3!F98<>0)+(lista4!F98<>0)+(lista5!F98<>0)))","v":97.443579497733012},{"$f":"D98*E98","v":97.443579497733012},null,{"$f":"+F98*G98","v":0}]
[null,"Muros de ladrillo de vidrio 20x20x10 cm","m2",1,{"$f":"IF((lista2!F99+lista3!F99+lista4!F99+lista5!F99)=0,0,(lista2!F99+lista3!F99+lista4!F99+lista5!F99)/((lista2!F99<>0)+(lista3!F99<>0)+(lista4!F99<>0)+(lista5!F99<>0)))","v":3036.3238920420463},{"$f":"D99*E99","v":3036.3238920420463},null,{"$f":"+F99*G99","v":0}]
[null,"Tabique de placas de yeso, tipo durlock 12,5 mm esp.","m2",1,{"$f":"IF((lista2!F100+lista3!F100+lista4!F100+lista5!F100)=0,0,(lista2!F100+lista3!F100+lista4!F100+lista5!F100)/((lista2!F100<>0)+(lista3!F100<>0)+(lista4!F100<>0)+(lista5!F100<>0)))","v":477.13970505357548},{"$f":"D100*E100","v":477.13970505357548},null,{"$f":"+F100*G100","v":0}]
[null,null,null,null,{"$f":"IF((lista2!F101+lista3!F101+lista4!F101+lista5!F101)=0,0,(lista2!F101+lista3!F101+lista4!F101+lista5!F101)/((lista2!F101<>0)+(lista3!F101<>0)+(lista4!F101<>0)+(lista5!F101<>0)))","v":0}]
[8,"Construcción con placas de roca de yeso","Unid.",null,"Precio",null,"Cantid.","Parcial"]
[null,"En todos los casos las terminaciones quedan listas para pintar. Junta tomada con cinta tramada y mansilla"]
[null,"Tabique simple espesor 9,5 cm. Estructura de chapa galvanizada con montantes cada 48 cm. Solera inferior y superior de 70mm. Placa normal 15mm","m2",{"$f":"$N$27","v":1},{"$f":"IF((lista2!F104+lista3!F104+lista4!F104+lista5!F104)=0,0,(lista2!F104+lista3!F104+lista4!F104+lista5!F104)/((lista2!F104<>0)+(lista3!F104<>0)+(lista4!F104<>0)+(lista5!F104<>0)))","v":261.3036080178174},{"$f":"D104*E104","v":261.3036080178174},0,{"$f":"+F104*G104","v":0}]
[null,"Idem con aislación de lana de vidrio","m2",1,{"$f":"IF((lista2!F105+lista3!F105+lista4!F105+lista5!F105)=0,0,(lista2!F105+lista3!F105+lista4!F105+lista5!F105)/((lista2!F105<>0)+(lista3!F105<>0)+(lista4!F105<>0)+(lista5!F105<>0)))","v":292.91648106904233},292.91648106904233,0,0]
[null,"Medio tabique espesor total 8,5 cm","m2",1,{"$f":"IF((lista2!F106+lista3!F106+lista4!F106+lista5!F106)=0,0,(lista2!F106+lista3!F106+lista4!F106+lista5!F106)/((lista2!F106<>0)+(lista3!F106<>0)+(lista4!F106<>0)+(lista5!F106<>0)))","v":237.31761692650335},237.31761692650335,0,0]
[null,"Pared divisoria de unidades funcionales espesor total 12 cm. Doble placa de 15mm en ambas caras. Montantes cada 40cm. Solera 70mm interior y super.","m2",1,{"$f":"IF((lista2!F107+lista3!F107+lista4!F107+lista5!F107)=0,0,(lista2!F107+lista3!F107+lista4!F107+lista5!F107)/((lista2!F107<>0)+(lista3!F107<>0)+(lista4!F107<>0)+(lista5!F107<>0)))","v":373.054008908686},373.054008908686,0,0]
[null,"Cielorraso suspendido, junta tomada con placas de 12,5mm, Estructura soleras y montantes de chapa galvanizada","m2",1,{"$f":"IF((lista2!F108+lista3!F108+lista4!F108+lista5!F108)=0,0,(lista2!F108+lista3!F108+lista4!F108+lista5!F108)/((lista2!F108<>0)+(lista3!F108<>0)+(lista4!F108<>0)+(lista5!F108<>0)))","v":186.25066815144768},186.25066815144768,0,0]
[null,"Idem con placa verde.","m2",1,{"$f":"IF((lista2!F109+lista3!F109+lista4!F109+lista5!F109)=0,0,(lista2!F109+lista3!F109+lista4!F109+lista5!F109)/((lista2!F109<>0)+(lista3!F109<>0)+(lista4!F109<>0)+(lista5!F109<>0)))","v":212.44734966592429},212.44734966592429,0,0]
[null,"Cielorraso suspendido desmontable. Estructura con bastidor de aluminio. Placas texturadas 60 x 1,20","m2",1,{"$f":"IF((lista2!F110+lista3!F110+lista4!F110+lista5!F110)=0,0,(lista2!F110+lista3!F110+lista4!F110+lista5!F110)/((lista2!F110<>0)+(lista3!F110<>0)+(lista4!F110<>0)+(lista5!F110<>0)))","v":420.58385300668152},420.58385300668152,0,0]
[null,null,null,null,{"$f":"IF((lista2!F111+lista3!F111+lista4!F111+lista5!F111)=0,0,(lista2!F111+lista3!F111+lista4!F111+lista5!F111)/((lista2!F111<>0)+(lista3!F111<>0)+(lista4!F111<>0)+(lista5!F111<>0)))","v":0}]
[9,"Aislaciones"]
[null,"De sótanos cementicia para cerramientos horizontal y vertical","m2",{"$f":"$N$27","v":1},{"$f":"IF((lista2!F113+lista3!F113+lista4!F113+lista5!F113)=0,0,(lista2!F113+lista3!F113+lista4!F113+lista5!F113)/((lista2!F113<>0)+(lista3!F113<>0)+(lista4!F113<>0)+(lista5!F113<>0)))","v":309.93879732739418},{"$f":"D113*E113","v":309.93879732739418},0,{"$f":"+F113*G113","v":0}]
[null,"Capa aisladora con tabique panderete","m2",1,{"$f":"IF((lista2!F114+lista3!F114+lista4!F114+lista5!F114)=0,0,(lista2!F114+lista3!F114+lista4!F114+lista5!F114)/((lista2!F114<>0)+(lista3!F114<>0)+(lista4!F114<>0)+(lista5!F114<>0)))","v":392.92278953223325},392.92278953223325,0,0]
[null,"Horizontal espesor 2 cm sobre muro","m2",1,{"$f":"IF((lista2!F115+lista3!F115+lista4!F115+lista5!F115)=0,0,(lista2!F115+lista3!F115+lista4!F115+lista5!F115)/((lista2!F115<>0)+(lista3!F115<>0)+(lista4!F115<>0)+(lista5!F115<>0)))","v":181.60664926282951},181.60664926282951,{"$f":"P25*AVERAGE(M4:M20)-G122*0.3","v":14.36947058823529},2609.5914052101907]
[null,"Film de polietileno bajo plateas o contrapisos","m2",1,{"$f":"IF((lista2!F116+lista3!F116+lista4!F116+lista5!F116)=0,0,(lista2!F116+lista3!F116+lista4!F116+lista5!F116)/((lista2!F116<>0)+(lista3!F116<>0)+(lista4!F116<>0)+(lista5!F116<>0)))","v":39.460824053452122},39.460824053452122,0,0]
[null,"Horizontal cementicia en contrapiso sobre terreno natural","m2",1,{"$f":"IF((lista2!F117+lista3!F117+lista4!F117+lista5!F117)=0,0,(lista2!F117+lista3!F117+lista4!F117+lista5!F117)/((lista2!F117<>0)+(lista3!F117<>0)+(lista4!F117<>0)+(lista5!F117<>0)))","v":87.140640676631676},87.140640676631676,0,0]
[null,"Horizontal sobre losa para locales húmedos","m2",1,{"$f":"IF((lista2!F118+lista3!F118+lista4!F118+lista5!F118)=0,0,(lista2!F118+lista3!F118+lista4!F118+lista5!F118)/((lista2!F118<>0)+(lista3!F118<>0)+(lista4!F118<>0)+(lista5!F118<>0)))","v":117.27712694877506},117.27712694877506,0,0]
[null,"Azotado hidrófugo bajo revestimientos ","m2",1,{"$f":"IF((lista2!F119+lista3!F119+lista4!F119+lista5!F119)=0,0,(lista2!F119+lista3!F119+lista4!F119+lista5!F119)/((lista2!F119<>0)+(lista3!F119<>0)+(lista4!F119<>0)+(lista5!F119<>0)))","v":32.276080178173721},32.276080178173721,0,0]
[null,"Vertical de 1,5 de esp. sobre muros","m2",1,{"$f":"IF((lista2!F120+lista3!F120+lista4!F120+lista5!F120)=0,0,(lista2!F120+lista3!F120+lista4!F120+lista5!F120)/((lista2!F120<>0)+(lista3!F120<>0)+(lista4!F120<>0)+(lista5!F120<>0)))","v":90.669096763784182},90.669096763784182,{"$f":"8*2.7","v":21.6},1958.4524900977385]
[null,"Horizontal y vertical cementicia para interior tanques de agua","m2",1,{"$f":"IF((lista2!F121+lista3!F121+lista4!F121+lista5!F121)=0,0,(lista2!F121+lista3!F121+lista4!F121+lista5!F121)/((lista2!F121<>0)+(lista3!F121<>0)+(lista4!F121<>0)+(lista5!F121<>0)))","v":225.60095768374165},225.60095768374165,0,0]
[null,"inyeccion de líquidos químicos SIKA inertol infiltración, c perf c/15 cm a tres bolillos, rev.,rev fino (220MO+300mat)","ml",1,{"$f":"IF((lista2!F122+lista3!F122+lista4!F122+lista5!F122)=0,0,(lista2!F122+lista3!F122+lista4!F122+lista5!F122)/((lista2!F122<>0)+(lista3!F122<>0)+(lista4!F122<>0)+(lista5!F122<>0)))","v":438.32723188380669},438.32723188380669,22,9643.1991014437481]
[10,"Cubiertas "]
[null,"No se incluye la losa de hormigón"]
[null,"Planas"]
[null,"Sobre losa con barrera de vapor, contrapiso con pendiente. Carpeta para recibir, y proteger, aislación térmica e hidráulica con membrana con aluminio","m2",{"$f":"$N$27","v":1},{"$f":"IF((lista2!F126+lista3!F126+lista4!F126+lista5!F126)=0,0,(lista2!F126+lista3!F126+lista4!F126+lista5!F126)/((lista2!F126<>0)+(lista3!F126<>0)+(lista4!F126<>0)+(lista5!F126<>0)))","v":1028.9658574610246},{"$f":"D126*E126","v":1028.9658574610246},{"$f":"W3","v":104.05},{"$f":"+F126*G126","v":107063.8974688196}]
[null,"Idem anterior. Cubierta transitable terminación baldosas 20 x 20 para terraza","m2",{"$f":"$N$27","v":1},{"$f":"IF((lista2!F127+lista3!F127+lista4!F127+lista5!F127)=0,0,(lista2!F127+lista3!F127+lista4!F127+lista5!F127)/((lista2!F127<>0)+(lista3!F127<>0)+(lista4!F127<>0)+(lista5!F127<>0)))","v":1338.6835857461024},{"$f":"D127*E127","v":1338.6835857461024},0,{"$f":"+F127*G127","v":0}]
[null,null,null,null,{"$f":"IF((lista2!F128+lista3!F128+lista4!F128+lista5!F128)=0,0,(lista2!F128+lista3!F128+lista4!F128+lista5!F128)/((lista2!F128<>0)+(lista3!F128<>0)+(lista4!F128<>0)+(lista5!F128<>0)))","v":0}]
[null,"Con pendiente"]
[null,"No incluye la pintura. Para las de madera se consideró la aplicación de preservador. No incluye correas"]
[null,"Tejas francesa estructura de madera vista con aislación térmica  ","m2",{"$f":"$N$27","v":1},{"$f":"(lista2!F131+lista3!F131+lista4!F131+lista5!F131)/((IF(lista2!F131>0,(lista2!F131<>0),1)<>0)+(lista3!F131<>0)+(lista4!F131<>0)+(lista5!F131<>0))","v":454.73902004454345},{"$f":"D131*E131","v":454.73902004454345},0,{"$f":"+F131*G131","v":0}]
[null,"Idem, con madera sin cepillar","m2",1,{"$f":"(lista2!F132+lista3!F132+lista4!F132+lista5!F132)/((IF(lista2!F132>0,(lista2!F132<>0),1)<>0)+(lista3!F132<>0)+(lista4!F132<>0)+(lista5!F132<>0))","v":440.09319599109131},440.09319599109131,0,0]
[null,"Chapa ondulada N24 estructura de madera vista. No se considera con aislación térmica","m2",1,{"$f":"(lista2!F133+lista3!F133+lista4!F133+lista5!F133)/((IF(lista2!F133>0,(lista2!F133<>0),1)<>0)+(lista3!F133<>0)+(lista4!F133<>0)+(lista5!F133<>0))","v":305.07527839643654},305.07527839643654,0,0]
[null,"Idem, chapa prepintada","m2",1,{"$f":"(lista2!F134+lista3!F134+lista4!F134+lista5!F134)/((IF(lista2!F134>0,(lista2!F134<>0),1)<>0)+(lista3!F134<>0)+(lista4!F134<>0)+(lista5!F134<>0))","v":326.07683741648111},326.07683741648111,0,0]
[null,"Chapa ambas caras con aislación térmica","m2",1,{"$f":"(lista2!F135+lista3!F135+lista4!F135+lista5!F135)/((IF(lista2!F135>0,(lista2!F135<>0),1)<>0)+(lista3!F135<>0)+(lista4!F135<>0)+(lista5!F135<>0))","v":347.2441982182628},347.2441982182628,0,0]
[null,"Teja colonial madera vista","m2",1,{"$f":"(lista2!F136+lista3!F136+lista4!F136+lista5!F136)/((IF(lista2!F136>0,(lista2!F136<>0),1)<>0)+(lista3!F136<>0)+(lista4!F136<>0)+(lista5!F136<>0))","v":476.07218262806236},476.07218262806236,0,0]
[null,"Teja colonial madera sin cepillar","m2",1,{"$f":"(lista2!F137+lista3!F137+lista4!F137+lista5!F137)/((IF(lista2!F137>0,(lista2!F137<>0),1)<>0)+(lista3!F137<>0)+(lista4!F137<>0)+(lista5!F137<>0))","v":469.93751670378623},469.93751670378623,0,0]
[null,"Chapa imitación tejas","m2",1,{"$f":"(lista2!F138+lista3!F138+lista4!F138+lista5!F138)/((IF(lista2!F138>0,(lista2!F138<>0),1)<>0)+(lista3!F138<>0)+(lista4!F138<>0)+(lista5!F138<>0))","v":470.10331848552346},470.10331848552346,0,0]
[null,"Junta de dilatación membrana asfáltica","m2",1,{"$f":"(lista2!F139+lista3!F139+lista4!F139+lista5!F139)/((IF(lista2!F139>0,(lista2!F139<>0),1)<>0)+(lista3!F139<>0)+(lista4!F139<>0)+(lista5!F139<>0))","v":109.59497772828509},109.59497772828509,0,0]
[null,"Tinglado chapa galvanizada sobre vigaa spagueti","m2",1,{"$f":"(lista2!F140+lista3!F140+lista4!F140+lista5!F140)/((IF(lista2!F140>0,(lista2!F140<>0),1)<>0)+(lista3!F140<>0)+(lista4!F140<>0)+(lista5!F140<>0))","v":187.9639532293987},187.9639532293987,0,0]
[null,null,null,null,{"$f":"(lista2!F141+lista3!F141+lista4!F141+lista5!F141)/((IF(lista2!F141>0,(lista2!F141<>0),1)<>0)+(lista3!F141<>0)+(lista4!F141<>0)+(lista5!F141<>0))","v":0}]
[11,"Contrapiso"]
[null,"Hormigón de cascotes armado de espesor 15 cm sobre terreno natural","m2",{"$f":"$N$27","v":1},{"$f":"IF((lista2!F143+lista3!F143+lista4!F143+lista5!F143)=0,0,(lista2!F143+lista3!F143+lista4!F143+lista5!F143)/((lista2!F143<>0)+(lista3!F143<>0)+(lista4!F143<>0)+(lista5!F143<>0)))","v":298.55374164810695},{"$f":"D143*E143","v":298.55374164810695},{"$f":"X9","v":158.66},{"$f":"+F143*G143","v":47368.536649888651}]
[null,"Hormigón de cascotes sobre losa espesor 7 cm","m2",{"$f":"$N$27","v":1},{"$f":"IF((lista2!F144+lista3!F144+lista4!F144+lista5!F144)=0,0,(lista2!F144+lista3!F144+lista4!F144+lista5!F144)/((lista2!F144<>0)+(lista3!F144<>0)+(lista4!F144<>0)+(lista5!F144<>0)))","v":126.56202672605792},{"$f":"D144*E144","v":126.56202672605792},0,{"$f":"+F144*G144","v":0}]
[null,"Hormigón de cascotes sobre losa local sanitario espesor 25 cm","m2",{"$f":"$N$27","v":1},{"$f":"IF((lista2!F145+lista3!F145+lista4!F145+lista5!F145)=0,0,(lista2!F145+lista3!F145+lista4!F145+lista5!F145)/((lista2!F145<>0)+(lista3!F145<>0)+(lista4!F145<>0)+(lista5!F145<>0)))","v":438.7115144766147},{"$f":"D145*E145","v":438.7115144766147},0,{"$f":"+F145*G145","v":0}]
[null,"Hormigón de arcilla expandida 10 cm de espesor","m2",{"$f":"$N$27","v":1},{"$f":"IF((lista2!F146+lista3!F146+lista4!F146+lista5!F146)=0,0,(lista2!F146+lista3!F146+lista4!F146+lista5!F146)/((lista2!F146<>0)+(lista3!F146<>0)+(lista4!F146<>0)+(lista5!F146<>0)))","v":280.42608017817372},{"$f":"D146*E146","v":280.42608017817372},0,{"$f":"+F146*G146","v":0}]
[null,"Mortero celular de 7 cm espesor","m2",{"$f":"$N$27","v":1},{"$f":"IF((lista2!F147+lista3!F147+lista4!F147+lista5!F147)=0,0,(lista2!F147+lista3!F147+lista4!F147+lista5!F147)/((lista2!F147<>0)+(lista3!F147<>0)+(lista4!F147<>0)+(lista5!F147<>0)))","v":87.211737193763938},{"$f":"D147*E147","v":87.211737193763938},0,{"$f":"+F147*G147","v":0}]
[null,null,null,null,{"$f":"IF((lista2!F148+lista3!F148+lista4!F148+lista5!F148)=0,0,(lista2!F148+lista3!F148+lista4!F148+lista5!F148)/((lista2!F148<>0)+(lista3!F148<>0)+(lista4!F148<>0)+(lista5!F148<>0)))","v":0}]
[12,"Carpetas"]
[null,"De concreto bajo solado","m2",{"$f":"$N$27","v":1},{"$f":"IF((lista2!F150+lista3!F150+lista4!F150+lista5!F150)=0,0,(lista2!F150+lista3!F150+lista4!F150+lista5!F150)/((lista2!F150<>0)+(lista3!F150<>0)+(lista4!F150<>0)+(lista5!F150<>0)))","v":110.75559020044544},{"$f":"D150*E150","v":110.75559020044544},{"$f":"X9","v":158.66},{"$f":"+F150*G150","v":17572.481941202674}]
[null,"Carpeta de mortero celular 2 cm espesor","m2",{"$f":"$N$27","v":1},{"$f":"IF((lista2!F151+lista3!F151+lista4!F151+lista5!F151)=0,0,(lista2!F151+lista3!F151+lista4!F151+lista5!F151)/((lista2!F151<>0)+(lista3!F151<>0)+(lista4!F151<>0)+(lista5!F151<>0)))","v":97.380913140311804},{"$f":"D151*E151","v":97.380913140311804},0,{"$f":"+F151*G151","v":0}]
[null,"Carpeta clavadora para parquet","m2",{"$f":"$N$27","v":1},{"$f":"IF((lista2!F152+lista3!F152+lista4!F152+lista5!F152)=0,0,(lista2!F152+lista3!F152+lista4!F152+lista5!F152)/((lista2!F152<>0)+(lista3!F152<>0)+(lista4!F152<>0)+(lista5!F152<>0)))","v":137.94708240534521},{"$f":"D152*E152","v":137.94708240534521},0,{"$f":"+F152*G152","v":0}]
[null,null,null,null,{"$f":"IF((lista2!F153+lista3!F153+lista4!F153+lista5!F153)=0,0,(lista2!F153+lista3!F153+lista4!F153+lista5!F153)/((lista2!F153<>0)+(lista3!F153<>0)+(lista4!F153<>0)+(lista5!F153<>0)))","v":0}]
[13,"Revoques"]
[null,"No se considera el trabajo de andamio"]
[null,"Grueso y fino a la cal al fieltro","m2",{"$f":"$N$27","v":1},{"$f":"IF((lista2!F156+lista3!F156+lista4!F156+lista5!F156)=0,0,(lista2!F156+lista3!F156+lista4!F156+lista5!F156)/((lista2!F156<>0)+(lista3!F156<>0)+(lista4!F156<>0)+(lista5!F156<>0)))","v":149.95665812917593},{"$f":"D156*E156","v":149.95665812917593},{"$f":"0.7*(R25)","v":342.03623999999996},{"$f":"+F156*G156","v":51290.611509468763}]
[null,"Grueso a la cal impermeable para exterior completo","m2",1,{"$f":"IF((lista2!F157+lista3!F157+lista4!F157+lista5!F157)=0,0,(lista2!F157+lista3!F157+lista4!F157+lista5!F157)/((lista2!F157<>0)+(lista3!F157<>0)+(lista4!F157<>0)+(lista5!F157<>0)))","v":277.6627171492205},277.6627171492205,{"$f":"0.3*(R25)","v":146.58696},40701.733612244097]
[null,"Grueso bajo revestimientos","m2",1,{"$f":"IF((lista2!F158+lista3!F158+lista4!F158+lista5!F158)=0,0,(lista2!F158+lista3!F158+lista4!F158+lista5!F158)/((lista2!F158<>0)+(lista3!F158<>0)+(lista4!F158<>0)+(lista5!F158<>0)))","v":151.43229398663698},151.43229398663698,0,0]
[null,"Revoque proyectado exterior con hidrófugo","m2",1,{"$f":"IF((lista2!F159+lista3!F159+lista4!F159+lista5!F159)=0,0,(lista2!F159+lista3!F159+lista4!F159+lista5!F159)/((lista2!F159<>0)+(lista3!F159<>0)+(lista4!F159<>0)+(lista5!F159<>0)))","v":79.142717149220488},79.142717149220488,0,0]
[null,"Revoque proyectable grueso a la cal para interior","m2",1,{"$f":"IF((lista2!F160+lista3!F160+lista4!F160+lista5!F160)=0,0,(lista2!F160+lista3!F160+lista4!F160+lista5!F160)/((lista2!F160<>0)+(lista3!F160<>0)+(lista4!F160<>0)+(lista5!F160<>0)))","v":65.768040089086867},65.768040089086867,0,0]
[null,"Revoque proyectable fino a la cal para interior","m2",1,{"$f":"IF((lista2!F161+lista3!F161+lista4!F161+lista5!F161)=0,0,(lista2!F161+lista3!F161+lista4!F161+lista5!F161)/((lista2!F161<>0)+(lista3!F161<>0)+(lista4!F161<>0)+(lista5!F161<>0)))","v":48.856258351893104},48.856258351893104,0,0]
[null,"Revoque proyectable de yeso para interior, con engrosado","m2",1,{"$f":"IF((lista2!F162+lista3!F162+lista4!F162+lista5!F162)=0,0,(lista2!F162+lista3!F162+lista4!F162+lista5!F162)/((lista2!F162<>0)+(lista3!F162<>0)+(lista4!F162<>0)+(lista5!F162<>0)))","v":86.327461024498888},86.327461024498888,0,0]
[null,"Salpicado con molinete","m2",1,{"$f":"IF((lista2!F163+lista3!F163+lista4!F163+lista5!F163)=0,0,(lista2!F163+lista3!F163+lista4!F163+lista5!F163)/((lista2!F163<>0)+(lista3!F163<>0)+(lista4!F163<>0)+(lista5!F163<>0)))","v":75.605612472160374},75.605612472160374,0,0]
[null,"Salpicado con molinete exterior planchado","m2",1,{"$f":"IF((lista2!F164+lista3!F164+lista4!F164+lista5!F164)=0,0,(lista2!F164+lista3!F164+lista4!F164+lista5!F164)/((lista2!F164<>0)+(lista3!F164<>0)+(lista4!F164<>0)+(lista5!F164<>0)))","v":87.653875278396441},87.653875278396441,0,0]
[null,"Revoque especial super Iggam","ml",1,{"$f":"IF((lista2!F165+lista3!F165+lista4!F165+lista5!F165)=0,0,(lista2!F165+lista3!F165+lista4!F165+lista5!F165)/((lista2!F165<>0)+(lista3!F165<>0)+(lista4!F165<>0)+(lista5!F165<>0)))","v":291.36899777282855},291.36899777282855,0,0]
[null,"Buñas super Iggam","ml",1,{"$f":"IF((lista2!F166+lista3!F166+lista4!F166+lista5!F166)=0,0,(lista2!F166+lista3!F166+lista4!F166+lista5!F166)/((lista2!F166<>0)+(lista3!F166<>0)+(lista4!F166<>0)+(lista5!F166<>0)))","v":72.28957683741649},72.28957683741649,0,0]
[null,"http://www.construircordoba.com/precios-de-tareas/revoques/",null,null,{"$f":"IF((lista2!F167+lista3!F167+lista4!F167+lista5!F167)=0,0,(lista2!F167+lista3!F167+lista4!F167+lista5!F167)/((lista2!F167<>0)+(lista3!F167<>0)+(lista4!F167<>0)+(lista5!F167<>0)))","v":0}]
[14,"Revestimientos","Unid.",null,"Precio",null,"Cantid.","Parcial"]
[null,"Incluye la mano de obra completa, adhesivo y tomado de juntas"]
[null,"Cerámico tipo San Lorenzo 20 x 20 ","m2",{"$f":"$N$27","v":1},{"$f":"IF((lista2!F170+lista3!F170+lista4!F170+lista5!F170)=0,0,(lista2!F170+lista3!F170+lista4!F170+lista5!F170)/((lista2!F170<>0)+(lista3!F170<>0)+(lista4!F170<>0)+(lista5!F170<>0)))","v":235.99120267260579},{"$f":"D170*E170","v":235.99120267260579},0,{"$f":"+F170*G170","v":0}]
[null,"De venecita","m2",1,{"$f":"IF((lista2!F171+lista3!F171+lista4!F171+lista5!F171)=0,0,(lista2!F171+lista3!F171+lista4!F171+lista5!F171)/((lista2!F171<>0)+(lista3!F171<>0)+(lista4!F171<>0)+(lista5!F171<>0)))","v":606.06077951002226},{"$f":"D171*E171","v":606.06077951002226},0,{"$f":"+F171*G171","v":0}]
[null,"Cerámico esmaltado 30 x 30 cm","m2",1,{"$f":"IF((lista2!F172+lista3!F172+lista4!F172+lista5!F172)=0,0,(lista2!F172+lista3!F172+lista4!F172+lista5!F172)/((lista2!F172<>0)+(lista3!F172<>0)+(lista4!F172<>0)+(lista5!F172<>0)))","v":340.77792873051231},{"$f":"D172*E172","v":340.77792873051231},{"$f":"(2.3*2+3.45*2)*2.3+(3.2+2.6)*0.6","v":29.93},{"$f":"+F172*G172","v":10199.483406904234}]
[null,"Revestimientos secos",null,1,{"$f":"IF((lista2!F173+lista3!F173+lista4!F173+lista5!F173)=0,0,(lista2!F173+lista3!F173+lista4!F173+lista5!F173)/((lista2!F173<>0)+(lista3!F173<>0)+(lista4!F173<>0)+(lista5!F173<>0)))","v":0}]
[null,"De muros con machiembrado de pino 1/2\". Incluye la estructura sobre muro","m2",1,{"$f":"IF((lista2!F174+lista3!F174+lista4!F174+lista5!F174)=0,0,(lista2!F174+lista3!F174+lista4!F174+lista5!F174)/((lista2!F174<>0)+(lista3!F174<>0)+(lista4!F174<>0)+(lista5!F174<>0)))","v":344.86770601336303},{"$f":"D174*E174","v":344.86770601336303},0,{"$f":"+F174*G174","v":0}]
[null,"Cerámica esmaltada 30x30 con guardas","m2",1,{"$f":"IF((lista2!F175+lista3!F175+lista4!F175+lista5!F175)=0,0,(lista2!F175+lista3!F175+lista4!F175+lista5!F175)/((lista2!F175<>0)+(lista3!F175<>0)+(lista4!F175<>0)+(lista5!F175<>0)))","v":457.61291759465485},{"$f":"D175*E175","v":457.61291759465485},0,{"$f":"+F175*G175","v":0}]
[null,"Porcellanato 30x30 rústico","m2",1,{"$f":"IF((lista2!F176+lista3!F176+lista4!F176+lista5!F176)=0,0,(lista2!F176+lista3!F176+lista4!F176+lista5!F176)/((lista2!F176<>0)+(lista3!F176<>0)+(lista4!F176<>0)+(lista5!F176<>0)))","v":383.77585746102454},{"$f":"D176*E176","v":383.77585746102454},0,{"$f":"+F176*G176","v":0}]
[null,"Tejuelas de ladrillo","m2",1,{"$f":"IF((lista2!F177+lista3!F177+lista4!F177+lista5!F177)=0,0,(lista2!F177+lista3!F177+lista4!F177+lista5!F177)/((lista2!F177<>0)+(lista3!F177<>0)+(lista4!F177<>0)+(lista5!F177<>0)))","v":345.30984409799555},{"$f":"D177*E177","v":345.30984409799555},0,{"$f":"+F177*G177","v":0}]
[null,null,null,null,{"$f":"IF((lista2!F178+lista3!F178+lista4!F178+lista5!F178)=0,0,(lista2!F178+lista3!F178+lista4!F178+lista5!F178)/((lista2!F178<>0)+(lista3!F178<>0)+(lista4!F178<>0)+(lista5!F178<>0)))","v":0}]
[15,"Cielorrasos"]
[null,"Aplicado a la cal fina fratasada","m2",{"$f":"$N$27","v":1},{"$f":"IF((lista2!F180+lista3!F180+lista4!F180+lista5!F180)=0,0,(lista2!F180+lista3!F180+lista4!F180+lista5!F180)/((lista2!F180<>0)+(lista3!F180<>0)+(lista4!F180<>0)+(lista5!F180<>0)))","v":202.27817371937641},{"$f":"D180*E180","v":202.27817371937641},0,{"$f":"+F180*G180","v":0}]
[null,"Aplicado grueso y fino a la cal al fieltro","m2",1,{"$f":"IF((lista2!F181+lista3!F181+lista4!F181+lista5!F181)=0,0,(lista2!F181+lista3!F181+lista4!F181+lista5!F181)/((lista2!F181<>0)+(lista3!F181<>0)+(lista4!F181<>0)+(lista5!F181<>0)))","v":234.33318485523387},234.33318485523387,{"$f":"W9","v":104.05},24382.367884187082]
[null,"Suspendido a la cal armado en madera ","m2",1,{"$f":"IF((lista2!F182+lista3!F182+lista4!F182+lista5!F182)=0,0,(lista2!F182+lista3!F182+lista4!F182+lista5!F182)/((lista2!F182<>0)+(lista3!F182<>0)+(lista4!F182<>0)+(lista5!F182<>0)))","v":592.68610244988872},592.68610244988872,0,0]
[null,"Suspendido a la cal armado en hierro","m2",1,{"$f":"IF((lista2!F183+lista3!F183+lista4!F183+lista5!F183)=0,0,(lista2!F183+lista3!F183+lista4!F183+lista5!F183)/((lista2!F183<>0)+(lista3!F183<>0)+(lista4!F183<>0)+(lista5!F183<>0)))","v":690.5091536748331},690.5091536748331,0,0]
[null,"Taparrollo armado a la cal","ml",1,{"$f":"IF((lista2!F184+lista3!F184+lista4!F184+lista5!F184)=0,0,(lista2!F184+lista3!F184+lista4!F184+lista5!F184)/((lista2!F184<>0)+(lista3!F184<>0)+(lista4!F184<>0)+(lista5!F184<>0)))","v":429.97928730512251},429.97928730512251,0,0]
[null,"Suspendido termoacústico","m2",1,{"$f":"IF((lista2!F185+lista3!F185+lista4!F185+lista5!F185)=0,0,(lista2!F185+lista3!F185+lista4!F185+lista5!F185)/((lista2!F185<>0)+(lista3!F185<>0)+(lista4!F185<>0)+(lista5!F185<>0)))","v":458.93933184855234},458.93933184855234,0,0]
[null,"Suspendido con dorso de aluminio","m2",1,{"$f":"IF((lista2!F186+lista3!F186+lista4!F186+lista5!F186)=0,0,(lista2!F186+lista3!F186+lista4!F186+lista5!F186)/((lista2!F186<>0)+(lista3!F186<>0)+(lista4!F186<>0)+(lista5!F186<>0)))","v":506.57971046770604},506.57971046770604,0,0]
[null,"Paneles de aluminio microperforado","m2",1,{"$f":"IF((lista2!F187+lista3!F187+lista4!F187+lista5!F187)=0,0,(lista2!F187+lista3!F187+lista4!F187+lista5!F187)/((lista2!F187<>0)+(lista3!F187<>0)+(lista4!F187<>0)+(lista5!F187<>0)))","v":410.9673496659243},410.9673496659243,0,0]
[null,null,null,null,{"$f":"IF((lista2!F188+lista3!F188+lista4!F188+lista5!F188)=0,0,(lista2!F188+lista3!F188+lista4!F188+lista5!F188)/((lista2!F188<>0)+(lista3!F188<>0)+(lista4!F188<>0)+(lista5!F188<>0)))","v":0}]
[16,"Yeseria"]
[null,"Enlucido de yeso","m2",{"$f":"$N$27","v":1},{"$f":"IF((lista2!F190+lista3!F190+lista4!F190+lista5!F190)=0,0,(lista2!F190+lista3!F190+lista4!F190+lista5!F190)/((lista2!F190<>0)+(lista3!F190<>0)+(lista4!F190<>0)+(lista5!F190<>0)))","v":161.15933184855237},{"$f":"D190*E190","v":161.15933184855237},0,{"$f":"+F190*G190","v":0}]
[null,"Enlucido de yeso reforzado con cemento","m2",1,{"$f":"IF((lista2!F191+lista3!F191+lista4!F191+lista5!F191)=0,0,(lista2!F191+lista3!F191+lista4!F191+lista5!F191)/((lista2!F191<>0)+(lista3!F191<>0)+(lista4!F191<>0)+(lista5!F191<>0)))","v":173.87080178173721},173.87080178173721,0,0]
[null,"Enlucido de yeso y engrosado con yeso gris","m2",1,{"$f":"IF((lista2!F192+lista3!F192+lista4!F192+lista5!F192)=0,0,(lista2!F192+lista3!F192+lista4!F192+lista5!F192)/((lista2!F192<>0)+(lista3!F192<>0)+(lista4!F192<>0)+(lista5!F192<>0)))","v":227.48004454342987},227.48004454342987,0,0]
[null,"Guardacanto de yesero. Incluye el recubrimiento de yeso","ml",1,{"$f":"IF((lista2!F193+lista3!F193+lista4!F193+lista5!F193)=0,0,(lista2!F193+lista3!F193+lista4!F193+lista5!F193)/((lista2!F193<>0)+(lista3!F193<>0)+(lista4!F193<>0)+(lista5!F193<>0)))","v":116.83498886414255},116.83498886414255,0,0]
[null,"Fajas sobre revestimiento","ml",1,{"$f":"IF((lista2!F194+lista3!F194+lista4!F194+lista5!F194)=0,0,(lista2!F194+lista3!F194+lista4!F194+lista5!F194)/((lista2!F194<>0)+(lista3!F194<>0)+(lista4!F194<>0)+(lista5!F194<>0)))","v":261.63521158129174},261.63521158129174,0,0]
[null,"Agujeros circulares hasta 40 cm de diámetro","u",1,{"$f":"IF((lista2!F195+lista3!F195+lista4!F195+lista5!F195)=0,0,(lista2!F195+lista3!F195+lista4!F195+lista5!F195)/((lista2!F195<>0)+(lista3!F195<>0)+(lista4!F195<>0)+(lista5!F195<>0)))","v":84.558908685968831},84.558908685968831,0,0]
[null,"Cielorraso aplicado al yeso","m2",1,{"$f":"IF((lista2!F196+lista3!F196+lista4!F196+lista5!F196)=0,0,(lista2!F196+lista3!F196+lista4!F196+lista5!F196)/((lista2!F196<>0)+(lista3!F196<>0)+(lista4!F196<>0)+(lista5!F196<>0)))","v":154.41672605790646},154.41672605790646,0,0]
[null,"Cielorraso de yeso armado estructura de madera","m2",1,{"$f":"IF((lista2!F197+lista3!F197+lista4!F197+lista5!F197)=0,0,(lista2!F197+lista3!F197+lista4!F197+lista5!F197)/((lista2!F197<>0)+(lista3!F197<>0)+(lista4!F197<>0)+(lista5!F197<>0)))","v":397.92427616926506},397.92427616926506,0,0]
[null,"Cielorraso de yeso armado estructura de hierro","m2",1,{"$f":"IF((lista2!F198+lista3!F198+lista4!F198+lista5!F198)=0,0,(lista2!F198+lista3!F198+lista4!F198+lista5!F198)/((lista2!F198<>0)+(lista3!F198<>0)+(lista4!F198<>0)+(lista5!F198<>0)))","v":500.16870824053456},500.16870824053456,0,0]
[null,"Taparrollo de yeso armado","ml",1,{"$f":"IF((lista2!F199+lista3!F199+lista4!F199+lista5!F199)=0,0,(lista2!F199+lista3!F199+lista4!F199+lista5!F199)/((lista2!F199<>0)+(lista3!F199<>0)+(lista4!F199<>0)+(lista5!F199<>0)))","v":386.760289532294},386.760289532294,0,0]
[null,null,null,null,{"$f":"IF((lista2!F200+lista3!F200+lista4!F200+lista5!F200)=0,0,(lista2!F200+lista3!F200+lista4!F200+lista5!F200)/((lista2!F200<>0)+(lista3!F200<>0)+(lista4!F200<>0)+(lista5!F200<>0)))","v":0}]
[17,"Solados","Unid.",null,"Precio",null,"Cantid.","Parcial"]
[null,"Incluye la mano de obra completa, adhesivos y/o mezcla de asiento y/o tomado de juntas. No incluye el pulido"]
[null,"Alisado de cemento ferrocemento 6 cm","m2",{"$f":"$N$27","v":1},{"$f":"IF((lista2!F203+lista3!F203+lista4!F203+lista5!F203)=0,0,(lista2!F203+lista3!F203+lista4!F203+lista5!F203)/((lista2!F203<>0)+(lista3!F203<>0)+(lista4!F203<>0)+(lista5!F203<>0)))","v":374.15935412026727},{"$f":"D203*E203","v":374.15935412026727},0,{"$f":"+F203*G203","v":0}]
[null,"Alisado de cemento ferrocemento 25 cm","m2",1,{"$f":"IF((lista2!F204+lista3!F204+lista4!F204+lista5!F204)=0,0,(lista2!F204+lista3!F204+lista4!F204+lista5!F204)/((lista2!F204<>0)+(lista3!F204<>0)+(lista4!F204<>0)+(lista5!F204<>0)))","v":625.07271714922058},625.07271714922058,0,0]
[null,"Cemento alisado rodillado","m2",1,{"$f":"IF((lista2!F205+lista3!F205+lista4!F205+lista5!F205)=0,0,(lista2!F205+lista3!F205+lista4!F205+lista5!F205)/((lista2!F205<>0)+(lista3!F205<>0)+(lista4!F205<>0)+(lista5!F205<>0)))","v":175.7498886414254},175.7498886414254,0,0]
[null,"Porcelanato opaco 30 x 30 cm","m2",1,{"$f":"IF((lista2!F206+lista3!F206+lista4!F206+lista5!F206)=0,0,(lista2!F206+lista3!F206+lista4!F206+lista5!F206)/((lista2!F206<>0)+(lista3!F206<>0)+(lista4!F206<>0)+(lista5!F206<>0)))","v":391.18167037861917},391.18167037861917,0,0]
[null,"Cerámico esmaltado 40 x 40 cm","m2",1,{"$f":"IF((lista2!F207+lista3!F207+lista4!F207+lista5!F207)=0,0,(lista2!F207+lista3!F207+lista4!F207+lista5!F207)/((lista2!F207<>0)+(lista3!F207<>0)+(lista4!F207<>0)+(lista5!F207<>0)))","v":513.67050000000006},513.67050000000006,{"$f":"W9","v":104.05},53447.415525000004]
[null,"Baldosa de azotea 30 x 30 cm junta ancha","m2",1,{"$f":"IF((lista2!F208+lista3!F208+lista4!F208+lista5!F208)=0,0,(lista2!F208+lista3!F208+lista4!F208+lista5!F208)/((lista2!F208<>0)+(lista3!F208<>0)+(lista4!F208<>0)+(lista5!F208<>0)))","v":421.13652561247221},421.13652561247221,0,0]
[null,"Baldosón para vereda 60 x 40 cm","m2",1,{"$f":"IF((lista2!F209+lista3!F209+lista4!F209+lista5!F209)=0,0,(lista2!F209+lista3!F209+lista4!F209+lista5!F209)/((lista2!F209<>0)+(lista3!F209<>0)+(lista4!F209<>0)+(lista5!F209<>0)))","v":232.23302895322942},232.23302895322942,0,0]
[null,"Mosaico granitico 30 x 30 cm colocado a la cal (No incluye pulido)","m2",1,{"$f":"IF((lista2!F210+lista3!F210+lista4!F210+lista5!F210)=0,0,(lista2!F210+lista3!F210+lista4!F210+lista5!F210)/((lista2!F210<>0)+(lista3!F210<>0)+(lista4!F210<>0)+(lista5!F210<>0)))","v":401.57191536748331},401.57191536748331,0,0]
[null,"Pulido de mosaico granito","m2",1,{"$f":"IF((lista2!F211+lista3!F211+lista4!F211+lista5!F211)=0,0,(lista2!F211+lista3!F211+lista4!F211+lista5!F211)/((lista2!F211<>0)+(lista3!F211<>0)+(lista4!F211<>0)+(lista5!F211<>0)))","v":131.64661469933185},131.64661469933185,0,0]
[null,"Porcelanato 30 x 30 rústico","m2",1,{"$f":"IF((lista2!F212+lista3!F212+lista4!F212+lista5!F212)=0,0,(lista2!F212+lista3!F212+lista4!F212+lista5!F212)/((lista2!F212<>0)+(lista3!F212<>0)+(lista4!F212<>0)+(lista5!F212<>0)))","v":334.91959910913141},334.91959910913141,0,0]
[null,"Hormigón estampado","m2",1,{"$f":"IF((lista2!F213+lista3!F213+lista4!F213+lista5!F213)=0,0,(lista2!F213+lista3!F213+lista4!F213+lista5!F213)/((lista2!F213<>0)+(lista3!F213<>0)+(lista4!F213<>0)+(lista5!F213<>0)))","v":251.13443207126949},251.13443207126949,0,0]
[null,"Cerámico azotea 20x20","m2",1,{"$f":"IF((lista2!F214+lista3!F214+lista4!F214+lista5!F214)=0,0,(lista2!F214+lista3!F214+lista4!F214+lista5!F214)/((lista2!F214<>0)+(lista3!F214<>0)+(lista4!F214<>0)+(lista5!F214<>0)))","v":279.65233853006686},279.65233853006686,0,0]
[null,"Baldosón de cemento sobre discos plásticos","m2",1,{"$f":"IF((lista2!F215+lista3!F215+lista4!F215+lista5!F215)=0,0,(lista2!F215+lista3!F215+lista4!F215+lista5!F215)/((lista2!F215<>0)+(lista3!F215<>0)+(lista4!F215<>0)+(lista5!F215<>0)))","v":303.63832962138088},303.63832962138088,0,0]
[null,null,null,null,{"$f":"IF((lista2!F216+lista3!F216+lista4!F216+lista5!F216)=0,0,(lista2!F216+lista3!F216+lista4!F216+lista5!F216)/((lista2!F216<>0)+(lista3!F216<>0)+(lista4!F216<>0)+(lista5!F216<>0)))","v":0}]
[18,"Pisos especiales"]
[null,"Parquet Eucaliptus con cola adhesiva","m2",{"$f":"$N$27","v":1},{"$f":"IF((lista2!F218+lista3!F218+lista4!F218+lista5!F218)=0,0,(lista2!F218+lista3!F218+lista4!F218+lista5!F218)/((lista2!F218<>0)+(lista3!F218<>0)+(lista4!F218<>0)+(lista5!F218<>0)))","v":603.51848552338538},{"$f":"D218*E218","v":603.51848552338538},0,{"$f":"+F218*G218","v":0}]
[null,"Parquet con adhesivo epoxi bi-componentes","m2",1,{"$f":"IF((lista2!F219+lista3!F219+lista4!F219+lista5!F219)=0,0,(lista2!F219+lista3!F219+lista4!F219+lista5!F219)/((lista2!F219<>0)+(lista3!F219<>0)+(lista4!F219<>0)+(lista5!F219<>0)))","v":616.00888641425388},616.00888641425388,0,0]
[null,"Entablonado tarugado Viraró sobre alfajías","m2",1,{"$f":"IF((lista2!F220+lista3!F220+lista4!F220+lista5!F220)=0,0,(lista2!F220+lista3!F220+lista4!F220+lista5!F220)/((lista2!F220<>0)+(lista3!F220<>0)+(lista4!F220<>0)+(lista5!F220<>0)))","v":1014.0436971046771},1014.0436971046771,0,0]
[null,"Pulido y plastificado de pisos de madera","m2",1,{"$f":"IF((lista2!F221+lista3!F221+lista4!F221+lista5!F221)=0,0,(lista2!F221+lista3!F221+lista4!F221+lista5!F221)/((lista2!F221<>0)+(lista3!F221<>0)+(lista4!F221<>0)+(lista5!F221<>0)))","v":120.26155902004454},120.26155902004454,0,0]
[null,"Piso de goma con aplicación de masa niveladora y adhesivo","m2",1,{"$f":"IF((lista2!F222+lista3!F222+lista4!F222+lista5!F222)=0,0,(lista2!F222+lista3!F222+lista4!F222+lista5!F222)/((lista2!F222<>0)+(lista3!F222<>0)+(lista4!F222<>0)+(lista5!F222<>0)))","v":626.17806236080185},626.17806236080185,0,0]
[null,"Alfombra de Nylon pelo cortado aplicada con adhesivo","m2",1,{"$f":"IF((lista2!F223+lista3!F223+lista4!F223+lista5!F223)=0,0,(lista2!F223+lista3!F223+lista4!F223+lista5!F223)/((lista2!F223<>0)+(lista3!F223<>0)+(lista4!F223<>0)+(lista5!F223<>0)))","v":420.47331848552341},420.47331848552341,0,0]
[null,"Adoquines graniticos 9 x 9 x 9 sobre manto de arena","m2",1,{"$f":"IF((lista2!F224+lista3!F224+lista4!F224+lista5!F224)=0,0,(lista2!F224+lista3!F224+lista4!F224+lista5!F224)/((lista2!F224<>0)+(lista3!F224<>0)+(lista4!F224<>0)+(lista5!F224<>0)))","v":549.46710467706021},549.46710467706021,0,0]
[null,"Bloques intertrabados colocado sobre manto de arena","m2",1,{"$f":"IF((lista2!F225+lista3!F225+lista4!F225+lista5!F225)=0,0,(lista2!F225+lista3!F225+lista4!F225+lista5!F225)/((lista2!F225<>0)+(lista3!F225<>0)+(lista4!F225<>0)+(lista5!F225<>0)))","v":319.44476614699335},319.44476614699335,0,0]
[null,"Piso flotante de madera","m2",1,{"$f":"IF((lista2!F226+lista3!F226+lista4!F226+lista5!F226)=0,0,(lista2!F226+lista3!F226+lista4!F226+lista5!F226)/((lista2!F226<>0)+(lista3!F226<>0)+(lista4!F226<>0)+(lista5!F226<>0)))","v":1139.2793095768375},1139.2793095768375,0,0]
[null,"Piso térmico elevado (sin terminación)","m2",1,{"$f":"IF((lista2!F227+lista3!F227+lista4!F227+lista5!F227)=0,0,(lista2!F227+lista3!F227+lista4!F227+lista5!F227)/((lista2!F227<>0)+(lista3!F227<>0)+(lista4!F227<>0)+(lista5!F227<>0)))","v":1026.9762360801783},1026.9762360801783,0,0]
[null,"Alfombra modular para piso técnico","m2",1,{"$f":"IF((lista2!F228+lista3!F228+lista4!F228+lista5!F228)=0,0,(lista2!F228+lista3!F228+lista4!F228+lista5!F228)/((lista2!F228<>0)+(lista3!F228<>0)+(lista4!F228<>0)+(lista5!F228<>0)))","v":235.43853006681516},235.43853006681516,0,0]
[null,null,null,null,{"$f":"IF((lista2!F229+lista3!F229+lista4!F229+lista5!F229)=0,0,(lista2!F229+lista3!F229+lista4!F229+lista5!F229)/((lista2!F229<>0)+(lista3!F229<>0)+(lista4!F229<>0)+(lista5!F229<>0)))","v":0}]
[19,"Escaleras"]
[null,"Carpeta de nivelación","m2",{"$f":"$N$27","v":1},{"$f":"IF((lista2!F231+lista3!F231+lista4!F231+lista5!F231)=0,0,(lista2!F231+lista3!F231+lista4!F231+lista5!F231)/((lista2!F231<>0)+(lista3!F231<>0)+(lista4!F231<>0)+(lista5!F231<>0)))","v":161.93307349665926},{"$f":"D231*E231","v":161.93307349665926},0,{"$f":"+F231*G231","v":0}]
[null,"Alzada y pedada de cemento alisado ","m2",1,{"$f":"IF((lista2!F232+lista3!F232+lista4!F232+lista5!F232)=0,0,(lista2!F232+lista3!F232+lista4!F232+lista5!F232)/((lista2!F232<>0)+(lista3!F232<>0)+(lista4!F232<>0)+(lista5!F232<>0)))","v":227.70111358574613},227.70111358574613,0,0]
[null,"Naríz metálica","ml",1,{"$f":"IF((lista2!F233+lista3!F233+lista4!F233+lista5!F233)=0,0,(lista2!F233+lista3!F233+lista4!F233+lista5!F233)/((lista2!F233<>0)+(lista3!F233<>0)+(lista4!F233<>0)+(lista5!F233<>0)))","v":130.76233853006681},130.76233853006681,0,0]
[null,"Zócalo de cemento alisado rampante","ml",1,{"$f":"IF((lista2!F234+lista3!F234+lista4!F234+lista5!F234)=0,0,(lista2!F234+lista3!F234+lista4!F234+lista5!F234)/((lista2!F234<>0)+(lista3!F234<>0)+(lista4!F234<>0)+(lista5!F234<>0)))","v":82.569287305122501},82.569287305122501,0,0]
[null,"Alzada y pedada de cerámica 20 x 20 ( Incluye cortes ) ","m2",1,{"$f":"IF((lista2!F235+lista3!F235+lista4!F235+lista5!F235)=0,0,(lista2!F235+lista3!F235+lista4!F235+lista5!F235)/((lista2!F235<>0)+(lista3!F235<>0)+(lista4!F235<>0)+(lista5!F235<>0)))","v":535.42922048997775},535.42922048997775,0,0]
[null,"Alzada y pedada granítica reconstituida ","m2",1,{"$f":"IF((lista2!F236+lista3!F236+lista4!F236+lista5!F236)=0,0,(lista2!F236+lista3!F236+lista4!F236+lista5!F236)/((lista2!F236<>0)+(lista3!F236<>0)+(lista4!F236<>0)+(lista5!F236<>0)))","v":2315.3666146993319},2315.3666146993319,0,0]
[null,null,null,null,{"$f":"IF((lista2!F237+lista3!F237+lista4!F237+lista5!F237)=0,0,(lista2!F237+lista3!F237+lista4!F237+lista5!F237)/((lista2!F237<>0)+(lista3!F237<>0)+(lista4!F237<>0)+(lista5!F237<>0)))","v":0}]
[20,"Zócalos","Unid.",null,"Precio",null,"Cantid.","Parcial"]
[null,"Cemento alisado","ml",{"$f":"$N$27","v":1},{"$f":"IF((lista2!F239+lista3!F239+lista4!F239+lista5!F239)=0,0,(lista2!F239+lista3!F239+lista4!F239+lista5!F239)/((lista2!F239<>0)+(lista3!F239<>0)+(lista4!F239<>0)+(lista5!F239<>0)))","v":66.099643652561255},{"$f":"D239*E239","v":66.099643652561255},0,{"$f":"+F239*G239","v":0}]
[null,"Zócalo de madera 1/2\" x 2\" liso","ml",{"$f":"$N$27","v":1},{"$f":"IF((lista2!F240+lista3!F240+lista4!F240+lista5!F240)=0,0,(lista2!F240+lista3!F240+lista4!F240+lista5!F240)/((lista2!F240<>0)+(lista3!F240<>0)+(lista4!F240<>0)+(lista5!F240<>0)))","v":135.18371937639199},{"$f":"D240*E240","v":135.18371937639199},0,{"$f":"+F240*G240","v":0}]
[null,"Zócalo de cerámica","ml",{"$f":"$N$27","v":1},{"$f":"IF((lista2!F241+lista3!F241+lista4!F241+lista5!F241)=0,0,(lista2!F241+lista3!F241+lista4!F241+lista5!F241)/((lista2!F241<>0)+(lista3!F241<>0)+(lista4!F241<>0)+(lista5!F241<>0)))","v":104.67619153674833},{"$f":"D241*E241","v":104.67619153674833},{"$f":"S25","v":173.55999999999997},{"$f":"+F241*G241","v":18167.599803118039}]
[null,"Zócalo granítico","ml",{"$f":"$N$27","v":1},{"$f":"IF((lista2!F242+lista3!F242+lista4!F242+lista5!F242)=0,0,(lista2!F242+lista3!F242+lista4!F242+lista5!F242)/((lista2!F242<>0)+(lista3!F242<>0)+(lista4!F242<>0)+(lista5!F242<>0)))","v":215.32124721603566},{"$f":"D242*E242","v":215.32124721603566},0,{"$f":"+F242*G242","v":0}]
[null,null,null,null,{"$f":"IF((lista2!F243+lista3!F243+lista4!F243+lista5!F243)=0,0,(lista2!F243+lista3!F243+lista4!F243+lista5!F243)/((lista2!F243<>0)+(lista3!F243<>0)+(lista4!F243<>0)+(lista5!F243<>0)))","v":0}]
[21,"Marmoleria"]
[null,"Mesada de granito gris mara ancho 60 cm ( incluye trasforo, pileta y griferías )","ml",{"$f":"$N$27","v":1},{"$f":"IF((lista2!F245+lista3!F245+lista4!F245+lista5!F245)=0,0,(lista2!F245+lista3!F245+lista4!F245+lista5!F245)/((lista2!F245<>0)+(lista3!F245<>0)+(lista4!F245<>0)+(lista5!F245<>0)))","v":1705.6581959910914},{"$f":"D245*E245","v":1705.6581959910914},6.3,{"$f":"+F245*G245","v":10745.646634743875}]
[null,"Frentín de mesada de granito gris 20 cm","ml",{"$f":"$N$27","v":1},{"$f":"IF((lista2!F246+lista3!F246+lista4!F246+lista5!F246)=0,0,(lista2!F246+lista3!F246+lista4!F246+lista5!F246)/((lista2!F246<>0)+(lista3!F246<>0)+(lista4!F246<>0)+(lista5!F246<>0)))","v":518.7385077951003},{"$f":"D246*E246","v":518.7385077951003},0,{"$f":"+F246*G246","v":0}]
[null,"Respaldo de granito gris 60 cm","ml",{"$f":"$N$27","v":1},{"$f":"IF((lista2!F247+lista3!F247+lista4!F247+lista5!F247)=0,0,(lista2!F247+lista3!F247+lista4!F247+lista5!F247)/((lista2!F247<>0)+(lista3!F247<>0)+(lista4!F247<>0)+(lista5!F247<>0)))","v":1442.8071046770601},{"$f":"D247*E247","v":1442.8071046770601},0,{"$f":"+F247*G247","v":0}]
[null,"Piso de marmetas de granito gris mara ","m2",{"$f":"$N$27","v":1},{"$f":"IF((lista2!F248+lista3!F248+lista4!F248+lista5!F248)=0,0,(lista2!F248+lista3!F248+lista4!F248+lista5!F248)/((lista2!F248<>0)+(lista3!F248<>0)+(lista4!F248<>0)+(lista5!F248<>0)))","v":937.88541202672616},{"$f":"D248*E248","v":937.88541202672616},0,{"$f":"+F248*G248","v":0}]
[null,"Revestimiento de marmetas de granito gris","m2",{"$f":"$N$27","v":1},{"$f":"IF((lista2!F249+lista3!F249+lista4!F249+lista5!F249)=0,0,(lista2!F249+lista3!F249+lista4!F249+lista5!F249)/((lista2!F249<>0)+(lista3!F249<>0)+(lista4!F249<>0)+(lista5!F249<>0)))","v":966.62438752783976},{"$f":"D249*E249","v":966.62438752783976},0,{"$f":"+F249*G249","v":0}]
[null,null,null,null,{"$f":"IF((lista2!F250+lista3!F250+lista4!F250+lista5!F250)=0,0,(lista2!F250+lista3!F250+lista4!F250+lista5!F250)/((lista2!F250<>0)+(lista3!F250<>0)+(lista4!F250<>0)+(lista5!F250<>0)))","v":0}]
[null,"Colocaciones ",null,null,{"$f":"IF((lista2!F251+lista3!F251+lista4!F251+lista5!F251)=0,0,(lista2!F251+lista3!F251+lista4!F251+lista5!F251)/((lista2!F251<>0)+(lista3!F251<>0)+(lista4!F251<>0)+(lista5!F251<>0)))","v":0}]
[null,"zocalos de Mesadas (corte transv hasta 10cm/m longitudinal, fijar con claucol o silicona, tomar juntas)","ml",{"$f":"$N$27","v":1},{"$f":"IF((lista2!F252+lista3!F252+lista4!F252+lista5!F252)=0,0,(lista2!F252+lista3!F252+lista4!F252+lista5!F252)/((lista2!F252<>0)+(lista3!F252<>0)+(lista4!F252<>0)+(lista5!F252<>0)))","v":186.02959910913142},{"$f":"D252*E252","v":186.02959910913142},{"$f":"G245","v":6.3},{"$f":"+F252*G252","v":1171.986474387528}]
[null,"Revestimiento de mármol o grantio sobre pared","m2",{"$f":"$N$27","v":1},{"$f":"IF((lista2!F253+lista3!F253+lista4!F253+lista5!F253)=0,0,(lista2!F253+lista3!F253+lista4!F253+lista5!F253)/((lista2!F253<>0)+(lista3!F253<>0)+(lista4!F253<>0)+(lista5!F253<>0)))","v":440.03792873051231},{"$f":"D253*E253","v":440.03792873051231},0,{"$f":"+F253*G253","v":0}]
[null,"Piso de mármol o granito","m2",{"$f":"$N$27","v":1},{"$f":"IF((lista2!F254+lista3!F254+lista4!F254+lista5!F254)=0,0,(lista2!F254+lista3!F254+lista4!F254+lista5!F254)/((lista2!F254<>0)+(lista3!F254<>0)+(lista4!F254<>0)+(lista5!F254<>0)))","v":556.76238307349672},{"$f":"D254*E254","v":556.76238307349672},0,{"$f":"+F254*G254","v":0}]
[null,"Marmetas piso","m2",{"$f":"$N$27","v":1},{"$f":"IF((lista2!F255+lista3!F255+lista4!F255+lista5!F255)=0,0,(lista2!F255+lista3!F255+lista4!F255+lista5!F255)/((lista2!F255<>0)+(lista3!F255<>0)+(lista4!F255<>0)+(lista5!F255<>0)))","v":120.81423162583519},{"$f":"D255*E255","v":120.81423162583519},0,{"$f":"+F255*G255","v":0}]
[null,"Marmetas revestimiento","m2",{"$f":"$N$27","v":1},{"$f":"IF((lista2!F256+lista3!F256+lista4!F256+lista5!F256)=0,0,(lista2!F256+lista3!F256+lista4!F256+lista5!F256)/((lista2!F256<>0)+(lista3!F256<>0)+(lista4!F256<>0)+(lista5!F256<>0)))","v":137.8365478841871},{"$f":"D256*E256","v":137.8365478841871},0,{"$f":"+F256*G256","v":0}]
[null,null,null,null,{"$f":"IF((lista2!F257+lista3!F257+lista4!F257+lista5!F257)=0,0,(lista2!F257+lista3!F257+lista4!F257+lista5!F257)/((lista2!F257<>0)+(lista3!F257<>0)+(lista4!F257<>0)+(lista5!F257<>0)))","v":0}]
[22,"Pinturas"]
[null,"Se consideran en todos los casos el enduído parcial. Aplicación de fijador y 3 manos de pintura"]
[null,"Latex sobre muros interiores","m2",{"$f":"$N$27","v":1},{"$f":"IF((lista2!F260+lista3!F260+lista4!F260+lista5!F260)=0,0,(lista2!F260+lista3!F260+lista4!F260+lista5!F260)/((lista2!F260<>0)+(lista3!F260<>0)+(lista4!F260<>0)+(lista5!F260<>0)))","v":83.785167037861925},{"$f":"D260*E260","v":83.785167037861925},{"$f":"G156","v":342.03623999999996},{"$f":"+F260*G260","v":28657.563501402226}]
[null,"Latex sobre cielo rasos","m2",1,{"$f":"IF((lista2!F261+lista3!F261+lista4!F261+lista5!F261)=0,0,(lista2!F261+lista3!F261+lista4!F261+lista5!F261)/((lista2!F261<>0)+(lista3!F261<>0)+(lista4!F261<>0)+(lista5!F261<>0)))","v":76.710957683741654},76.710957683741654,{"$f":"G181","v":104.05},7981.7751469933191]
[null,"Latex acrílico sobre muros exteriores","m2",1,{"$f":"IF((lista2!F262+lista3!F262+lista4!F262+lista5!F262)=0,0,(lista2!F262+lista3!F262+lista4!F262+lista5!F262)/((lista2!F262<>0)+(lista3!F262<>0)+(lista4!F262<>0)+(lista5!F262<>0)))","v":209.24184855233855},209.24184855233855,{"$f":"G157","v":146.58696},30672.12648406771]
[null,"Silicona s/ladrillo visto (m2)","m2",1,{"$f":"IF((lista2!F263+lista3!F263+lista4!F263+lista5!F263)=0,0,(lista2!F263+lista3!F263+lista4!F263+lista5!F263)/((lista2!F263<>0)+(lista3!F263<>0)+(lista4!F263<>0)+(lista5!F263<>0)))","v":105.56046770601337},105.56046770601337,0,0]
[null,"Esmalte sintético s/carpinterías","m2",1,{"$f":"IF((lista2!F264+lista3!F264+lista4!F264+lista5!F264)=0,0,(lista2!F264+lista3!F264+lista4!F264+lista5!F264)/((lista2!F264<>0)+(lista3!F264<>0)+(lista4!F264<>0)+(lista5!F264<>0)))","v":202.27817371937641},202.27817371937641,0,0]
[null,"Esmalte sintético s/carp metál","m2",1,{"$f":"IF((lista2!F265+lista3!F265+lista4!F265+lista5!F265)=0,0,(lista2!F265+lista3!F265+lista4!F265+lista5!F265)/((lista2!F265<>0)+(lista3!F265<>0)+(lista4!F265<>0)+(lista5!F265<>0)))","v":127.99897550111359},127.99897550111359,0,0]
[null,"Esmalte sintético sobre estructuras metáilcas","tn",1,{"$f":"IF((lista2!F266+lista3!F266+lista4!F266+lista5!F266)=0,0,(lista2!F266+lista3!F266+lista4!F266+lista5!F266)/((lista2!F266<>0)+(lista3!F266<>0)+(lista4!F266<>0)+(lista5!F266<>0)))","v":5914.5916926503342},5914.5916926503342,0,0]
[null,"Barniz marino. 1º mano con barniceta y 2º de barniz (este item tmb sirve para impregnantes)","m2",1,{"$f":"IF((lista2!F267+lista3!F267+lista4!F267+lista5!F267)=0,0,(lista2!F267+lista3!F267+lista4!F267+lista5!F267)/((lista2!F267<>0)+(lista3!F267<>0)+(lista4!F267<>0)+(lista5!F267<>0)))","v":138.94189309576839},138.94189309576839,{"$f":"4*(0.8*2)*2","v":12.8},1778.4562316258355]
[null,"Impermeabilizante fibrado para techos ( 2 manos )","m2",1,{"$f":"IF((lista2!F268+lista3!F268+lista4!F268+lista5!F268)=0,0,(lista2!F268+lista3!F268+lista4!F268+lista5!F268)/((lista2!F268<>0)+(lista3!F268<>0)+(lista4!F268<>0)+(lista5!F268<>0)))","v":40.124031180400891},40.124031180400891,0,0]
[null,"Empapelado de paredes con papel base","m2",1,{"$f":"IF((lista2!F269+lista3!F269+lista4!F269+lista5!F269)=0,0,(lista2!F269+lista3!F269+lista4!F269+lista5!F269)/((lista2!F269<>0)+(lista3!F269<>0)+(lista4!F269<>0)+(lista5!F269<>0)))","v":131.20447661469933},131.20447661469933,0,0]
[null,null,null,null,{"$f":"IF((lista2!F270+lista3!F270+lista4!F270+lista5!F270)=0,0,(lista2!F270+lista3!F270+lista4!F270+lista5!F270)/((lista2!F270<>0)+(lista3!F270<>0)+(lista4!F270<>0)+(lista5!F270<>0)))","v":0}]
[23,"Artefactos Sanitarios - Accesorios Griferías","Unid.",null,"Precio",null,"Cantid.","Parcial"]
[null,"Colocación de artefactos sanitarios","u",{"$f":"$N$27","v":1},{"$f":"IF((lista2!F272+lista3!F272+lista4!F272+lista5!F272)=0,0,(lista2!F272+lista3!F272+lista4!F272+lista5!F272)/((lista2!F272<>0)+(lista3!F272<>0)+(lista4!F272<>0)+(lista5!F272<>0)))","v":643.20037861915375},{"$f":"D272*E272","v":643.20037861915375},2,{"$f":"+F272*G272","v":1286.4007572383075}]
[null,"Colocación de accesorios sanitarios","u",{"$f":"$N$27","v":1},{"$f":"IF((lista2!F273+lista3!F273+lista4!F273+lista5!F273)=0,0,(lista2!F273+lista3!F273+lista4!F273+lista5!F273)/((lista2!F273<>0)+(lista3!F273<>0)+(lista4!F273<>0)+(lista5!F273<>0)))","v":74.27919821826282},{"$f":"D273*E273","v":74.27919821826282},4,{"$f":"+F273*G273","v":297.11679287305128}]
[null,"Colocación de griferías","u",{"$f":"$N$27","v":1},{"$f":"IF((lista2!F274+lista3!F274+lista4!F274+lista5!F274)=0,0,(lista2!F274+lista3!F274+lista4!F274+lista5!F274)/((lista2!F274<>0)+(lista3!F274<>0)+(lista4!F274<>0)+(lista5!F274<>0)))","v":693.27251670378632},{"$f":"D274*E274","v":693.27251670378632},2,{"$f":"+F274*G274","v":1386.5450334075726}]
[null,null,null,null,{"$f":"IF((lista2!F275+lista3!F275+lista4!F275+lista5!F275)=0,0,(lista2!F275+lista3!F275+lista4!F275+lista5!F275)/((lista2!F275<>0)+(lista3!F275<>0)+(lista4!F275<>0)+(lista5!F275<>0)))","v":0}]
[24,"Carpinterías Metálicas",null,"cf","prec","prec"]
[null,"No incluyen los vidrios",null,null,"vjo","act."]
[null,"Marco de chapa y puerta doble chapa muro 15cm de espesor. Incluye herraje","u",{"$f":"$N$27","v":1},{"$f":"IF((lista2!F278+lista3!F278+lista4!F278+lista5!F278)=0,0,(lista2!F278+lista3!F278+lista4!F278+lista5!F278)/((lista2!F278<>0)+(lista3!F278<>0)+(lista4!F278<>0)+(lista5!F278<>0)))","v":2930.0490868596885},{"$f":"D278*E278","v":2930.0490868596885},1,{"$f":"+F278*G278","v":2930.0490868596885}]
[null,"Marco de chapa muro 15cm espesor. Incluye juego de pomelas","u",1,{"$f":"IF((lista2!F279+lista3!F279+lista4!F279+lista5!F279)=0,0,(lista2!F279+lista3!F279+lista4!F279+lista5!F279)/((lista2!F279<>0)+(lista3!F279<>0)+(lista4!F279<>0)+(lista5!F279<>0)))","v":508.45879732739422},508.45879732739422,0,0]
[null,"Marco chapa y puerta simple chapa muro 15cm de espesor. Incluye herrajes","u",1,{"$f":"IF((lista2!F280+lista3!F280+lista4!F280+lista5!F280)=0,0,(lista2!F280+lista3!F280+lista4!F280+lista5!F280)/((lista2!F280<>0)+(lista3!F280<>0)+(lista4!F280<>0)+(lista5!F280<>0)))","v":2129.8896881959913},2129.8896881959913,0,0]
[null,"Marco placard con baulera 2x2 m p/muro 10cm espesor hojas corredizas o de abrir. Incluye herrajes.","u",1,{"$f":"IF((lista2!F281+lista3!F281+lista4!F281+lista5!F281)=0,0,(lista2!F281+lista3!F281+lista4!F281+lista5!F281)/((lista2!F281<>0)+(lista3!F281<>0)+(lista4!F281<>0)+(lista5!F281<>0)))","v":1365.764543429844},1365.764543429844,0,0]
[null,"Baranda pasamanos, dos travesaños, parantes planchuela","ml",1,{"$f":"IF((lista2!F282+lista3!F282+lista4!F282+lista5!F282)=0,0,(lista2!F282+lista3!F282+lista4!F282+lista5!F282)/((lista2!F282<>0)+(lista3!F282<>0)+(lista4!F282<>0)+(lista5!F282<>0)))","v":2424.0220489977728},2424.0220489977728,0,0]
[null,"Baranda pasamanos, travesaños y malla artística","ml",1,{"$f":"IF((lista2!F283+lista3!F283+lista4!F283+lista5!F283)=0,0,(lista2!F283+lista3!F283+lista4!F283+lista5!F283)/((lista2!F283<>0)+(lista3!F283<>0)+(lista4!F283<>0)+(lista5!F283<>0)))","v":1960.219198218263},1960.219198218263,0,0]
[null,"Baranda pasamanos, travesaños y vidrio laminado","ml",1,{"$f":"IF((lista2!F284+lista3!F284+lista4!F284+lista5!F284)=0,0,(lista2!F284+lista3!F284+lista4!F284+lista5!F284)/((lista2!F284<>0)+(lista3!F284<>0)+(lista4!F284<>0)+(lista5!F284<>0)))","v":2080.9228953229399},2080.9228953229399,0,0]
[null,"Reja de hierro redondo y planchuela","m2",1,{"$f":"IF((lista2!F285+lista3!F285+lista4!F285+lista5!F285)=0,0,(lista2!F285+lista3!F285+lista4!F285+lista5!F285)/((lista2!F285<>0)+(lista3!F285<>0)+(lista4!F285<>0)+(lista5!F285<>0)))","v":2358.9172160356347},2358.9172160356347,0,0]
[null,"Puerta doble chapa F60 DDN 16","u",1,{"$f":"IF((lista2!F286+lista3!F286+lista4!F286+lista5!F286)=0,0,(lista2!F286+lista3!F286+lista4!F286+lista5!F286)/((lista2!F286<>0)+(lista3!F286<>0)+(lista4!F286<>0)+(lista5!F286<>0)))","v":13189.531737193765},13189.531737193765,0,0]
[null,"Puerta doble chapa DDN 16","u",1,{"$f":"IF((lista2!F287+lista3!F287+lista4!F287+lista5!F287)=0,0,(lista2!F287+lista3!F287+lista4!F287+lista5!F287)/((lista2!F287<>0)+(lista3!F287<>0)+(lista4!F287<>0)+(lista5!F287<>0)))","v":8820.2126503340769},8820.2126503340769,0,0]
[null,"Escalera caracol diámetro 1,4 (por piso)","u",1,{"$f":"IF((lista2!F288+lista3!F288+lista4!F288+lista5!F288)=0,0,(lista2!F288+lista3!F288+lista4!F288+lista5!F288)/((lista2!F288<>0)+(lista3!F288<>0)+(lista4!F288<>0)+(lista5!F288<>0)))","v":10253.071648106905},10253.071648106905,0,0]
[null,"Escalera gato sin guarda hombre","ml",1,{"$f":"IF((lista2!F289+lista3!F289+lista4!F289+lista5!F289)=0,0,(lista2!F289+lista3!F289+lista4!F289+lista5!F289)/((lista2!F289<>0)+(lista3!F289<>0)+(lista4!F289<>0)+(lista5!F289<>0)))","v":486.35189309576839},486.35189309576839,0,0]
[null,"Escalera metálica con peldaños de madera","ml",1,{"$f":"IF((lista2!F290+lista3!F290+lista4!F290+lista5!F290)=0,0,(lista2!F290+lista3!F290+lista4!F290+lista5!F290)/((lista2!F290<>0)+(lista3!F290<>0)+(lista4!F290<>0)+(lista5!F290<>0)))","v":2055.6104899777283},2055.6104899777283,0,0]
[null,"Pasamanos de hierro","ml",1,{"$f":"IF((lista2!F291+lista3!F291+lista4!F291+lista5!F291)=0,0,(lista2!F291+lista3!F291+lista4!F291+lista5!F291)/((lista2!F291<>0)+(lista3!F291<>0)+(lista4!F291<>0)+(lista5!F291<>0)))","v":291.14792873051226},291.14792873051226,0,0]
[null,null,null,null,{"$f":"IF((lista2!F292+lista3!F292+lista4!F292+lista5!F292)=0,0,(lista2!F292+lista3!F292+lista4!F292+lista5!F292)/((lista2!F292<>0)+(lista3!F292<>0)+(lista4!F292<>0)+(lista5!F292<>0)))","v":0}]
[25,"Carpinterías de madera"]
[null,"No incluyen los vidrios"]
[null,"Ventana 1.50x1.50 incluyen herrajes. No incluye vidrios ni pintura","m2",{"$f":"$N$27","v":1},{"$f":"IF((lista2!F295+lista3!F295+lista4!F295+lista5!F295)=0,0,(lista2!F295+lista3!F295+lista4!F295+lista5!F295)/((lista2!F295<>0)+(lista3!F295<>0)+(lista4!F295<>0)+(lista5!F295<>0)))","v":1162.6020935412027},{"$f":"D295*E295","v":1162.6020935412027},0,{"$f":"+F295*G295","v":0}]
[null,"Ventana vidrio repartido 1.50x1.50 incluye herrajes. No incluye vidrios ni pintura","m2",1,{"$f":"IF((lista2!F296+lista3!F296+lista4!F296+lista5!F296)=0,0,(lista2!F296+lista3!F296+lista4!F296+lista5!F296)/((lista2!F296<>0)+(lista3!F296<>0)+(lista4!F296<>0)+(lista5!F296<>0)))","v":1294.2487082405348},1294.2487082405348,0,0]
[null,"Mueble de cocina bajomesada. Incluye herrajes","ml",1,{"$f":"IF((lista2!F297+lista3!F297+lista4!F297+lista5!F297)=0,0,(lista2!F297+lista3!F297+lista4!F297+lista5!F297)/((lista2!F297<>0)+(lista3!F297<>0)+(lista4!F297<>0)+(lista5!F297<>0)))","v":2753.6359910913138},2753.6359910913138,0,0]
[null,"Alacena. Incluye herrajes","ml",1,{"$f":"IF((lista2!F298+lista3!F298+lista4!F298+lista5!F298)=0,0,(lista2!F298+lista3!F298+lista4!F298+lista5!F298)/((lista2!F298<>0)+(lista3!F298<>0)+(lista4!F298<>0)+(lista5!F298<>0)))","v":2787.6806236080179},2787.6806236080179,0,0]
[null,"Escobero (ml de alzada) Incluye herrajes","ml",1,{"$f":"IF((lista2!F299+lista3!F299+lista4!F299+lista5!F299)=0,0,(lista2!F299+lista3!F299+lista4!F299+lista5!F299)/((lista2!F299<>0)+(lista3!F299<>0)+(lista4!F299<>0)+(lista5!F299<>0)))","v":2540.5254342984413},2540.5254342984413,0,0]
[null,"Colocación muebles de cocina","ml",1,{"$f":"IF((lista2!F300+lista3!F300+lista4!F300+lista5!F300)=0,0,(lista2!F300+lista3!F300+lista4!F300+lista5!F300)/((lista2!F300<>0)+(lista3!F300<>0)+(lista4!F300<>0)+(lista5!F300<>0)))","v":285.84227171492211},285.84227171492211,0,0]
[null,"Puerta de acceso (entablonado ambas caras) en cedro nacional. Incluye herrajes","m2",1,{"$f":"IF((lista2!F301+lista3!F301+lista4!F301+lista5!F301)=0,0,(lista2!F301+lista3!F301+lista4!F301+lista5!F301)/((lista2!F301<>0)+(lista3!F301<>0)+(lista4!F301<>0)+(lista5!F301<>0)))","v":2511.0127171492204},2511.0127171492204,0,0]
[null,"Baranda pasamanos y malla artística","ml",1,{"$f":"IF((lista2!F302+lista3!F302+lista4!F302+lista5!F302)=0,0,(lista2!F302+lista3!F302+lista4!F302+lista5!F302)/((lista2!F302<>0)+(lista3!F302<>0)+(lista4!F302<>0)+(lista5!F302<>0)))","v":872.7805790645881},872.7805790645881,0,0]
[null,"Baranda pasamanos y travesaños","ml",1,{"$f":"IF((lista2!F303+lista3!F303+lista4!F303+lista5!F303)=0,0,(lista2!F303+lista3!F303+lista4!F303+lista5!F303)/((lista2!F303<>0)+(lista3!F303<>0)+(lista4!F303<>0)+(lista5!F303<>0)))","v":698.35710467706008},698.35710467706008,0,0]
[null,"Pasamanos","ml",1,{"$f":"IF((lista2!F304+lista3!F304+lista4!F304+lista5!F304)=0,0,(lista2!F304+lista3!F304+lista4!F304+lista5!F304)/((lista2!F304<>0)+(lista3!F304<>0)+(lista4!F304<>0)+(lista5!F304<>0)))","v":328.72966592427616},328.72966592427616,0,0]
[null,"Escalera de madera con baranda","u",1,{"$f":"IF((lista2!F305+lista3!F305+lista4!F305+lista5!F305)=0,0,(lista2!F305+lista3!F305+lista4!F305+lista5!F305)/((lista2!F305<>0)+(lista3!F305<>0)+(lista4!F305<>0)+(lista5!F305<>0)))","v":2124.9156347438757},2124.9156347438757,0,0]
[null,"Puerta placa","u",1,{"$f":"IF((lista2!F306+lista3!F306+lista4!F306+lista5!F306)=0,0,(lista2!F306+lista3!F306+lista4!F306+lista5!F306)/((lista2!F306<>0)+(lista3!F306<>0)+(lista4!F306<>0)+(lista5!F306<>0)))","v":1738.597483296214},1738.597483296214,0,0]
[null,null,null,null,{"$f":"IF((lista2!F307+lista3!F307+lista4!F307+lista5!F307)=0,0,(lista2!F307+lista3!F307+lista4!F307+lista5!F307)/((lista2!F307<>0)+(lista3!F307<>0)+(lista4!F307<>0)+(lista5!F307<>0)))","v":0}]
[26,"Carpinterías de Aluminio y accesorios de fachadas","Unid.",null,"Precio",null,"Cantid.","Parcial"]
[null,"Incluyen los vidrios"]
[null,"Premarco","m2",{"$f":"$N$27","v":1},{"$f":"IF((lista2!F310+lista3!F310+lista4!F310+lista5!F310)=0,0,(lista2!F310+lista3!F310+lista4!F310+lista5!F310)/((lista2!F310<>0)+(lista3!F310<>0)+(lista4!F310<>0)+(lista5!F310<>0)))","v":742.01824053452117},{"$f":"D310*E310","v":742.01824053452117},4,{"$f":"+F310*G310","v":2968.0729621380847}]
[null,"Aluminio 1.50x1.50m hojas de abrir. Incluye herrajes","m2",{"$f":"$N$27","v":1},{"$f":"IF((lista2!F311+lista3!F311+lista4!F311+lista5!F311)=0,0,(lista2!F311+lista3!F311+lista4!F311+lista5!F311)/((lista2!F311<>0)+(lista3!F311<>0)+(lista4!F311<>0)+(lista5!F311<>0)))","v":1797.9545211581292},{"$f":"D311*E311","v":1797.9545211581292},4,{"$f":"+F311*G311","v":7191.8180846325167}]
[null,"Baranda","ml",{"$f":"$N$27","v":1},{"$f":"IF((lista2!F312+lista3!F312+lista4!F312+lista5!F312)=0,0,(lista2!F312+lista3!F312+lista4!F312+lista5!F312)/((lista2!F312<>0)+(lista3!F312<>0)+(lista4!F312<>0)+(lista5!F312<>0)))","v":2721.9125835189311},{"$f":"D312*E312","v":2721.9125835189311},0,{"$f":"+F312*G312","v":0}]
[null,"Baranda vidrio laminado","ml",{"$f":"$N$27","v":1},{"$f":"IF((lista2!F313+lista3!F313+lista4!F313+lista5!F313)=0,0,(lista2!F313+lista3!F313+lista4!F313+lista5!F313)/((lista2!F313<>0)+(lista3!F313<>0)+(lista4!F313<>0)+(lista5!F313<>0)))","v":3401.2577505567929},{"$f":"D313*E313","v":3401.2577505567929},0,{"$f":"+F313*G313","v":0}]
[null,"puerta de aluminio de 0,80*2,00 de abrir comun, izquierdo, con marco y herrajes","u",{"$f":"$N$27","v":1},{"$f":"IF((lista2!F314+lista3!F314+lista4!F314+lista5!F314)=0,0,(lista2!F314+lista3!F314+lista4!F314+lista5!F314)/((lista2!F314<>0)+(lista3!F314<>0)+(lista4!F314<>0)+(lista5!F314<>0)))","v":2210.6904231625836},{"$f":"D314*E314","v":2210.6904231625836},2,{"$f":"+F314*G314","v":4421.3808463251671}]
[27,"Cristales"]
[null,"Se considera la mano de obra y materiales"]
[null,"Espejo float 6 mm","m2",{"$f":"$N$27","v":1},{"$f":"IF((lista2!F317+lista3!F317+lista4!F317+lista5!F317)=0,0,(lista2!F317+lista3!F317+lista4!F317+lista5!F317)/((lista2!F317<>0)+(lista3!F317<>0)+(lista4!F317<>0)+(lista5!F317<>0)))","v":717.3690423162584},{"$f":"D317*E317","v":717.3690423162584},0,{"$f":"+F317*G317","v":0}]
[null,"Vidrio de 4 mm","m2",{"$f":"$N$27","v":1},{"$f":"IF((lista2!F318+lista3!F318+lista4!F318+lista5!F318)=0,0,(lista2!F318+lista3!F318+lista4!F318+lista5!F318)/((lista2!F318<>0)+(lista3!F318<>0)+(lista4!F318<>0)+(lista5!F318<>0)))","v":383.22318485523385},{"$f":"D318*E318","v":383.22318485523385},0,{"$f":"+F318*G318","v":0}]
[null,"Vidrio de 6 mm","m2",{"$f":"$N$27","v":1},{"$f":"IF((lista2!F319+lista3!F319+lista4!F319+lista5!F319)=0,0,(lista2!F319+lista3!F319+lista4!F319+lista5!F319)/((lista2!F319<>0)+(lista3!F319<>0)+(lista4!F319<>0)+(lista5!F319<>0)))","v":541.95075723830735},{"$f":"D319*E319","v":541.95075723830735},0,{"$f":"+F319*G319","v":0}]
[null,"Laminado de seguridad 3 + 3 mm","m2",{"$f":"$N$27","v":1},{"$f":"IF((lista2!F320+lista3!F320+lista4!F320+lista5!F320)=0,0,(lista2!F320+lista3!F320+lista4!F320+lista5!F320)/((lista2!F320<>0)+(lista3!F320<>0)+(lista4!F320<>0)+(lista5!F320<>0)))","v":1022.0021826280624},{"$f":"D320*E320","v":1022.0021826280624},0,{"$f":"+F320*G320","v":0}]
[null,null,null,null,{"$f":"IF((lista2!F321+lista3!F321+lista4!F321+lista5!F321)=0,0,(lista2!F321+lista3!F321+lista4!F321+lista5!F321)/((lista2!F321<>0)+(lista3!F321<>0)+(lista4!F321<>0)+(lista5!F321<>0)))","v":0}]
[28,"Limpieza y ayuda de gremios"]
[null,"Limpieza periódica","mes",{"$f":"$N$27","v":1},{"$f":"IF((lista2!F323+lista3!F323+lista4!F323+lista5!F323)=0,0,(lista2!F323+lista3!F323+lista4!F323+lista5!F323)/((lista2!F323<>0)+(lista3!F323<>0)+(lista4!F323<>0)+(lista5!F323<>0)))","v":6442.8361692650342},{"$f":"D323*E323","v":6442.8361692650342},0,{"$f":"+F323*G323","v":0}]
[null,"Limpieza final","m2",{"$f":"$N$27","v":1},{"$f":"IF((lista2!F324+lista3!F324+lista4!F324+lista5!F324)=0,0,(lista2!F324+lista3!F324+lista4!F324+lista5!F324)/((lista2!F324<>0)+(lista3!F324<>0)+(lista4!F324<>0)+(lista5!F324<>0)))","v":26.970423162583518},{"$f":"D324*E324","v":26.970423162583518},0,{"$f":"+F324*G324","v":0}]
[null,"Ayuda de gremios","m2",{"$f":"$N$27","v":1},{"$f":"IF((lista2!F325+lista3!F325+lista4!F325+lista5!F325)=0,0,(lista2!F325+lista3!F325+lista4!F325+lista5!F325)/((lista2!F325<>0)+(lista3!F325<>0)+(lista4!F325<>0)+(lista5!F325<>0)))","v":155.85367483296216},{"$f":"D325*E325","v":155.85367483296216},0,{"$f":"+F325*G325","v":0}]
[null,null,null,null,{"$f":"IF((lista2!F326+lista3!F326+lista4!F326+lista5!F326)=0,0,(lista2!F326+lista3!F326+lista4!F326+lista5!F326)/((lista2!F326<>0)+(lista3!F326<>0)+(lista4!F326<>0)+(lista5!F326<>0)))","v":0}]
[29,"Instalación sanitaria"]
[null,"Distribución de agua fría y caliente de polipropileno, desagües en PVC aprobado cloacal. Núcleo baño/cocina/lavadero propiedad horizontal incluye la parte proporcional de la montante, bajada, tanque e instalación general"]
[null,"Baño principal (bañera-bidet-lavaratorio-inodoro) cloaca agua fría y caliente, ventilaciones, colocación de artefactos y griferías","gl",{"$f":"$N$27","v":1},{"$f":"IF((lista2!F329+lista3!F329+lista4!F329+lista5!F329)=0,0,(lista2!F329+lista3!F329+lista4!F329+lista5!F329)/((lista2!F329<>0)+(lista3!F329<>0)+(lista4!F329<>0)+(lista5!F329<>0)))","v":56369.289755011137},{"$f":"D329*E329","v":56369.289755011137},0.7,{"$f":"+F329*G329","v":39458.502828507793}]
[null,"Cocina y lavadero (pileta de cocina y de lavar) Cloaca. Incluye la instalación de artefactos y broncería. Artefactos no incluídos","gl",{"$f":"$N$27","v":1},{"$f":"IF((lista2!F330+lista3!F330+lista4!F330+lista5!F330)=0,0,(lista2!F330+lista3!F330+lista4!F330+lista5!F330)/((lista2!F330<>0)+(lista3!F330<>0)+(lista4!F330<>0)+(lista5!F330<>0)))","v":16581.504587973275},{"$f":"D330*E330","v":16581.504587973275},0.7,{"$f":"+F330*G330","v":11607.053211581291}]
[null,"Construcción de cámara de inspección 60*60 con tapas y marcos prefabricados","gl",{"$f":"$N$27","v":1},{"$f":"IF((lista2!F331+lista3!F331+lista4!F331+lista5!F331)=0,0,(lista2!F331+lista3!F331+lista4!F331+lista5!F331)/((lista2!F331<>0)+(lista3!F331<>0)+(lista4!F331<>0)+(lista5!F331<>0)))","v":1658.0178173719378},{"$f":"D331*E331","v":1658.0178173719378},1,{"$f":"+F331*G331","v":1658.0178173719378}]
[30,"Instalación de Gas ","Unid.",null,"Precio",null,"Cantid.","Parcial"]
[]
[null,"Cocina y calefon completa (cañería conexiones llaves medidor) (artefactos no incluidos)","gl",{"$f":"$N$27","v":1},{"$f":"IF((lista2!F334+lista3!F334+lista4!F334+lista5!F334)=0,0,(lista2!F334+lista3!F334+lista4!F334+lista5!F334)/((lista2!F334<>0)+(lista3!F334<>0)+(lista4!F334<>0)+(lista5!F334<>0)))","v":29556.267750556795},{"$f":"D334*E334","v":29556.267750556795},1,{"$f":"+F334*G334","v":29556.267750556795}]
[null,"calefactores (precios aprox. Que incluya: artefacto,3 m cañ de gas y total cañ ventil. Sombrer., llav paso,gramp, etc. )","ud",1,{"$f":"IF((lista2!F335+lista3!F335+lista4!F335+lista5!F335)=0,0,(lista2!F335+lista3!F335+lista4!F335+lista5!F335)/((lista2!F335<>0)+(lista3!F335<>0)+(lista4!F335<>0)+(lista5!F335<>0)))","v":8842.7616926503342},8842.7616926503342,2,17685.523385300668]
[null,"cocina (precios aprox. Que incluya artefacto, total cañ ventil., Sombrer., sell., grampas, etc.)","ud",1,{"$f":"IF((lista2!F336+lista3!F336+lista4!F336+lista5!F336)=0,0,(lista2!F336+lista3!F336+lista4!F336+lista5!F336)/((lista2!F336<>0)+(lista3!F336<>0)+(lista4!F336<>0)+(lista5!F336<>0)))","v":6632.0712694877511},6632.0712694877511,1,6632.0712694877511]
[null,"calefon (precios aprox. Que incluya artefacto, total cañ ventil., Sombrer., sell., grampas, etc.)","ud",1,{"$f":"IF((lista2!F337+lista3!F337+lista4!F337+lista5!F337)=0,0,(lista2!F337+lista3!F337+lista4!F337+lista5!F337)/((lista2!F337<>0)+(lista3!F337<>0)+(lista4!F337<>0)+(lista5!F337<>0)))","v":6632.0712694877511},6632.0712694877511,1,6632.0712694877511]
[null,"planos de gas y cálculos varios todo referido a consumo de gas viv. Unifamiliar","gl",1,{"$f":"IF((lista2!F338+lista3!F338+lista4!F338+lista5!F338)=0,0,(lista2!F338+lista3!F338+lista4!F338+lista5!F338)/((lista2!F338<>0)+(lista3!F338<>0)+(lista4!F338<>0)+(lista5!F338<>0)))","v":4974.0534521158133},4974.0534521158133,1,4974.0534521158133]
[null,"tramit(etap parc. cañ.$2700 + aranceles por soldadura de servicio $1700 + etap fnal tasa mun3500 + apro final 2600","gl",1,{"$f":"IF((lista2!F339+lista3!F339+lista4!F339+lista5!F339)=0,0,(lista2!F339+lista3!F339+lista4!F339+lista5!F339)/((lista2!F339<>0)+(lista3!F339<>0)+(lista4!F339<>0)+(lista5!F339<>0)))","v":11606.124721603564},11606.124721603564,1,11606.124721603564]
[]
[31,"Instalación termomecánica "]
[null,"Materiales: caño de polietileno reticulado. Recordar aislación térmica y tapado de caños con concreto"]
[null,"Piso radiante conexiones a provisión de calor","m2",{"$f":"$N$27","v":1},{"$f":"IF((lista2!F343+lista3!F343+lista4!F343+lista5!F343)=0,0,(lista2!F343+lista3!F343+lista4!F343+lista5!F343)/((lista2!F343<>0)+(lista3!F343<>0)+(lista4!F343<>0)+(lista5!F343<>0)))","v":358.57398663697103},{"$f":"D343*E343","v":358.57398663697103},0,{"$f":"+F343*G343","v":0}]
[null,"Cañería y radiadores con conexiones a provisión de calor. No incluye caldera","m2",{"$f":"$N$27","v":1},{"$f":"IF((lista2!F344+lista3!F344+lista4!F344+lista5!F344)=0,0,(lista2!F344+lista3!F344+lista4!F344+lista5!F344)/((lista2!F344<>0)+(lista3!F344<>0)+(lista4!F344<>0)+(lista5!F344<>0)))","v":315.46552338530068},{"$f":"D344*E344","v":315.46552338530068},0,{"$f":"+F344*G344","v":0}]
[null,null,null,null,{"$f":"IF((lista2!F345+lista3!F345+lista4!F345+lista5!F345)=0,0,(lista2!F345+lista3!F345+lista4!F345+lista5!F345)/((lista2!F345<>0)+(lista3!F345<>0)+(lista4!F345<>0)+(lista5!F345<>0)))","v":0}]
[32,"Instalación eléctrica"]
[null,"Boca de aluminio y toma - Nota: se considera boca a cada centro y brazo, y a caja de toma. Para una cantidad aproximada de 40 bocas. Incluye incidencia de tablero general y tablero seccional","u",{"$f":"$N$27","v":1},{"$f":"IF((lista2!F347+lista3!F347+lista4!F347+lista5!F347)=0,0,(lista2!F347+lista3!F347+lista4!F347+lista5!F347)/((lista2!F347<>0)+(lista3!F347<>0)+(lista4!F347<>0)+(lista5!F347<>0)))","v":896.87710467706017},{"$f":"D347*E347","v":896.87710467706017},50,{"$f":"+F347*G347","v":44843.855233853006}]
[null,"Pilar completo (caja de medición, toma Jabalina, cruceta y pipeta","gl",1,{"$f":"IF((lista2!F348+lista3!F348+lista4!F348+lista5!F348)=0,0,(lista2!F348+lista3!F348+lista4!F348+lista5!F348)/((lista2!F348<>0)+(lista3!F348<>0)+(lista4!F348<>0)+(lista5!F348<>0)))","v":2780.1642761692651},2780.1642761692651,1,2780.1642761692651]
[null,"Boca timbre. Campanillas, caja, cables y 2 pulsadores","u",1,{"$f":"IF((lista2!F349+lista3!F349+lista4!F349+lista5!F349)=0,0,(lista2!F349+lista3!F349+lista4!F349+lista5!F349)/((lista2!F349<>0)+(lista3!F349<>0)+(lista4!F349<>0)+(lista5!F349<>0)))","v":1728.6493763919825},1728.6493763919825,1,1728.6493763919825]
[null,"Boca TE","u",1,{"$f":"IF((lista2!F350+lista3!F350+lista4!F350+lista5!F350)=0,0,(lista2!F350+lista3!F350+lista4!F350+lista5!F350)/((lista2!F350<>0)+(lista3!F350<>0)+(lista4!F350<>0)+(lista5!F350<>0)))","v":679.67677060133633},679.67677060133633,2,1359.3535412026727]
[null,"Boca TV o cable TV (vacía) Cañería de 1\"","u",1,{"$f":"IF((lista2!F351+lista3!F351+lista4!F351+lista5!F351)=0,0,(lista2!F351+lista3!F351+lista4!F351+lista5!F351)/((lista2!F351<>0)+(lista3!F351<>0)+(lista4!F351<>0)+(lista5!F351<>0)))","v":490.44167037861916},490.44167037861916,3,1471.3250111358575]
[null,"Boca de teléfono. Considera la insidencia de la caja de pase, sin bornera ni cables de montante","u",1,{"$f":"IF((lista2!F352+lista3!F352+lista4!F352+lista5!F352)=0,0,(lista2!F352+lista3!F352+lista4!F352+lista5!F352)/((lista2!F352<>0)+(lista3!F352<>0)+(lista4!F352<>0)+(lista5!F352<>0)))","v":665.63888641425399},665.63888641425399,0,0]
[null,"Tablero fuerza motriz ascensor","u",1,{"$f":"IF((lista2!F353+lista3!F353+lista4!F353+lista5!F353)=0,0,(lista2!F353+lista3!F353+lista4!F353+lista5!F353)/((lista2!F353<>0)+(lista3!F353<>0)+(lista4!F353<>0)+(lista5!F353<>0)))","v":11483.320868596882},11483.320868596882,0,0]
[null,"Tablero de bombas","u",1,{"$f":"IF((lista2!F354+lista3!F354+lista4!F354+lista5!F354)=0,0,(lista2!F354+lista3!F354+lista4!F354+lista5!F354)/((lista2!F354<>0)+(lista3!F354<>0)+(lista4!F354<>0)+(lista5!F354<>0)))","v":7322.4698886414262},7322.4698886414262,0,0]
[null,"Instalación de pararrayos altura 40 mts.","u",1,{"$f":"IF((lista2!F355+lista3!F355+lista4!F355+lista5!F355)=0,0,(lista2!F355+lista3!F355+lista4!F355+lista5!F355)/((lista2!F355<>0)+(lista3!F355<>0)+(lista4!F355<>0)+(lista5!F355<>0)))","v":5730.4411804008914},5730.4411804008914,0,0]
[null,"Colocación de artefactos","u",1,{"$f":"IF((lista2!F356+lista3!F356+lista4!F356+lista5!F356)=0,0,(lista2!F356+lista3!F356+lista4!F356+lista5!F356)/((lista2!F356<>0)+(lista3!F356<>0)+(lista4!F356<>0)+(lista5!F356<>0)))","v":162.92788418708241},162.92788418708241,0,0]
[null,null,null,null,{"$f":"IF((lista2!F357+lista3!F357+lista4!F357+lista5!F357)=0,0,(lista2!F357+lista3!F357+lista4!F357+lista5!F357)/((lista2!F357<>0)+(lista3!F357<>0)+(lista4!F357<>0)+(lista5!F357<>0)))","v":0}]
[33,"Instalación contra incendio"]
[null,"Boca de incendio completa. Incluye nicho, válvula, manguera, lanza, llave de ajuste y cañería","u",{"$f":"$N$27","v":1},{"$f":"IF((lista2!F359+lista3!F359+lista4!F359+lista5!F359)=0,0,(lista2!F359+lista3!F359+lista4!F359+lista5!F359)/((lista2!F359<>0)+(lista3!F359<>0)+(lista4!F359<>0)+(lista5!F359<>0)))","v":8376.4165478841878},{"$f":"D359*E359","v":8376.4165478841878},0,{"$f":"+F359*G359","v":0}]
[]
[null,null,"Total",null,"$",null,{"$f":"SUM(G4:G359)","v":3115.8489448320615},{"$f":"SUM(H4:H359)","v":1026371.2379866684}]

{"sheet":"lista2","index":1,"n_rows":386,"n_cols":20,"rows_kept":386,"cut":false,"hidden":false,"merged":[[59,2,60,2],[59,4,60,4],[59,6,60,6],[59,7,60,7],[27,17,27,18],[28,17,28,18],[33,2,34,2],[33,6,34,6],[33,7,34,7],[101,7,102,7],[167,2,168,2],[167,4,168,4],[167,6,168,6],[167,7,168,7],[1,6,1,7],[331,4,332,4],[331,6,332,6],[200,2,201,2],[200,4,201,4],[200,6,201,6],[200,7,201,7],[331,7,332,7],[307,2,308,2],[307,4,308,4],[307,6,308,6],[307,7,308,7],[331,2,332,2],[101,2,102,2],[101,4,102,4],[101,6,102,6]]}
[{"$f":"lista1!A1","v":"nro"},{"$f":"lista1!B1","v":"rubros o items"},{"$f":"lista1!C1","v":"Unid."},null,"$vjo","$nvo",{"$f":"lista1!G1","v":"Cantid."},"Parc."]
[{"$f":"lista1!A2","v":0},"revista Rubro (mayo 2012)","¿quiere usar estos precios?",null,null,null,"si",null,{"$f":"MAX((I3:I4=G2)*(J3:J4))","v":1}]
[{"$f":"lista1!A3","v":1},{"$f":"lista1!B3","v":"Trabajos preliminares"},{"$f":"lista1!C3","v":0},null,null,null,{"$f":"lista1!G3","v":0},null,"si",1]
[{"$f":"lista1!A4","v":0},{"$f":"lista1!B4","v":"Limpieza y nivelación del terreno"},{"$f":"lista1!C4","v":"m2"},{"$f":"$N$27","v":1.763681592039801},32,{"$f":"D4*E4","v":56.437810945273633},{"$f":"lista1!G4","v":162.5},{"$f":"+F4*G4","v":9171.1442786069656},"no",0]
[{"$f":"lista1!A5","v":0},{"$f":"lista1!B5","v":"Obrador, depósito y sanitarios"},{"$f":"lista1!C5","v":"m2"},{"$f":"$N$27","v":1.763681592039801},null,{"$f":"D5*E5","v":0},{"$f":"lista1!G5","v":13},{"$f":"+F5*G5","v":0}]
[{"$f":"lista1!A6","v":0},{"$f":"lista1!B6","v":"desmonte en terreno comun (si en terr. C. roca disgregable con barreta se debera mult. Prec. X 2,3)"},{"$f":"lista1!C6","v":"m3"},null,null,null,{"$f":"lista1!G6","v":0}]
[{"$f":"lista1!A7","v":2},{"$f":"lista1!B7","v":"Procedimientos y cumplimientos"},{"$f":"lista1!C7","v":0},null,null,null,{"$f":"lista1!G7","v":0}]
[{"$f":"lista1!A8","v":0},{"$f":"lista1!B8","v":"Replanteo"},{"$f":"lista1!C8","v":"m2"},{"$f":"$N$27","v":1.763681592039801},17.850000000000001,{"$f":"D8*E8","v":31.481716417910452},{"$f":"lista1!G8","v":104.05},{"$f":"+F8*G8","v":3275.6725932835825}]
[{"$f":"lista1!A9","v":0},{"$f":"lista1!B9","v":"Cartel de obra"},{"$f":"lista1!C9","v":"m2"},{"$f":"$N$27","v":1.763681592039801},null,{"$f":"D9*E9","v":0},{"$f":"lista1!G9","v":0},{"$f":"+F9*G9","v":0}]
[{"$f":"lista1!A10","v":0},{"$f":"lista1!B10","v":"Cerco de obra"},{"$f":"lista1!C10","v":"ml"},{"$f":"$N$27","v":1.763681592039801},null,{"$f":"D10*E10","v":0},{"$f":"lista1!G10","v":0},{"$f":"+F10*G10","v":0}]
[{"$f":"lista1!A11","v":0},{"$f":"lista1!B11","v":"Defensa de protección para trabajo en obra"},{"$f":"lista1!C11","v":"ml"},{"$f":"$N$27","v":1.763681592039801},null,{"$f":"D11*E11","v":0},{"$f":"lista1!G11","v":0},{"$f":"+F11*G11","v":0}]
[{"$f":"lista1!A12","v":0},{"$f":"lista1!B12","v":0},{"$f":"lista1!C12","v":0},null,null,null,{"$f":"lista1!G12","v":0}]
[{"$f":"lista1!A13","v":3},{"$f":"lista1!B13","v":"Demoliciones"},{"$f":"lista1!C13","v":0},null,null,null,{"$f":"lista1!G13","v":0}]
[{"$f":"lista1!A14","v":0},{"$f":"lista1!B14","v":"En los siguientes items, se incluye el retiro de los escombros de la obra hasta coloc.dentro del contenedor "},{"$f":"lista1!C14","v":0},null,null,null,{"$f":"lista1!G14","v":0}]
[{"$f":"lista1!A15","v":0},{"$f":"lista1!B15","v":"De estructura de hormigón, losas de HºAº, dados, camaras de HºAº (incluye cargarlo)"},{"$f":"lista1!C15","v":"m3"},{"$f":"$N$27","v":1.763681592039801},null,{"$f":"D15*E15","v":0},{"$f":"lista1!G15","v":0},{"$f":"+F15*G15","v":0}]
[{"$f":"lista1!A16","v":0},{"$f":"lista1!B16","v":"De mamposteria (todos los items incluyen cargar escombros a un contenedor cercano, refiere a planta baja)"},{"$f":"lista1!C16","v":"m3"},1.763681592039801,null,{"$f":"D16*E16","v":0},{"$f":"lista1!G16","v":0},{"$f":"+F16*G16","v":0}]
[{"$f":"lista1!A17","v":0},{"$f":"lista1!B17","v":"De pisos"},{"$f":"lista1!C17","v":"m2"},1.763681592039801,null,0,{"$f":"lista1!G17","v":0},0]
[{"$f":"lista1!A18","v":0},{"$f":"lista1!B18","v":"De contrapisos"},{"$f":"lista1!C18","v":"m2"},1.763681592039801,null,0,{"$f":"lista1!G18","v":0},0]
[{"$f":"lista1!A19","v":0},{"$f":"lista1!B19","v":"Picado de revoques, cielorrasos suspendidos ó demolcic. de cubiert d tejas coloniales (sin recuper. de tejas)"},{"$f":"lista1!C19","v":"m2"},1.763681592039801,null,0,{"$f":"lista1!G19","v":0},0]
[{"$f":"lista1!A20","v":0},{"$f":"lista1!B20","v":"Picado de revestimientos"},{"$f":"lista1!C20","v":"m2"},1.763681592039801,null,0,{"$f":"lista1!G20","v":0},0]
[{"$f":"lista1!A21","v":0},{"$f":"lista1!B21","v":"De estructura de madera con tejas francesa (o colonial)"},{"$f":"lista1!C21","v":"m2"},1.763681592039801,null,0,{"$f":"lista1!G21","v":0},0]
[{"$f":"lista1!A22","v":0},{"$f":"lista1!B22","v":"Demolición de obra completa"},{"$f":"lista1!C22","v":"m2"},1.763681592039801,null,0,{"$f":"lista1!G22","v":28},0]
[{"$f":"lista1!A23","v":0},{"$f":"lista1!B23","v":"Contenedor/Volquete, alquiler"},{"$f":"lista1!C23","v":"u"},1.763681592039801,null,0,{"$f":"lista1!G23","v":16},0]
[{"$f":"lista1!A24","v":0},{"$f":"lista1!B24","v":"Cargar Contenedor/Volquete"},{"$f":"lista1!C24","v":"u"},1.763681592039801,null,0,{"$f":"lista1!G24","v":16},0]
[{"$f":"lista1!A25","v":4},{"$f":"lista1!B25","v":"Movimientos de tierra"},{"$f":"lista1!C25","v":0},null,null,null,{"$f":"lista1!G25","v":0}]
[{"$f":"lista1!A26","v":0},{"$f":"lista1!B26","v":"Excavación manual p cimientos y bases column terreno común (si tosca mult.al prec.x 1,214 y x1,714 si es roca digregable)"},{"$f":"lista1!C26","v":"m3"},{"$f":"$N$27","v":1.763681592039801},null,{"$f":"D26*E26","v":0},{"$f":"lista1!G26","v":6.001526717557252},{"$f":"+F26*G26","v":0}]
[{"$f":"lista1!A27","v":0},{"$f":"lista1!B27","v":"Excavación manual de vigas de fundación hasta 1,20 m de prof."},{"$f":"lista1!C27","v":"m3"},1.763681592039801,87.95,155.1157960199005,{"$f":"lista1!G27","v":9.9022500000000004},1535.9953911380599,null,null,null,"mult",null,{"$f":"I2*T28/T31","v":1.763681592039801},null,null,null,null,null,"US$prom"]
[{"$f":"lista1!A28","v":0},{"$f":"lista1!B28","v":"Excavación de pozos para pilotín (diám. 23 cm - prof. 1,6 m)"},{"$f":"lista1!C28","v":"u"},1.763681592039801,null,0,{"$f":"lista1!G28","v":24},0,null,"#1precio dólar oficial vta",null,null,null,null,null,{"$f":"lista1!P28","v":9.3350000000000009},{"$f":"lista1!Q28","v":"$AR"},{"$f":"lista1!R28:S28","v":"2015-11-12"},null,{"$f":"AVERAGE(P28:P29)","v":12.407500000000001}]
[{"$f":"lista1!A29","v":0},{"$f":"lista1!B29","v":"Excavación p/ cisternas, cámaras sépt.,de inspec., sótanos a mano terr. Comun hast4m (tosca x1,351 y si fuese roc disgr x 1,89)"},{"$f":"lista1!C29","v":"m3"},1.763681592039801,null,0,{"$f":"lista1!G29","v":12.076000000000001},0,null,"#2precio dólar blue vta",null,null,null,null,null,{"$f":"lista1!P29","v":15.48},{"$f":"lista1!Q29","v":"$AR"},{"$f":"lista1!R29:S29","v":"2015-11-12"}]
[{"$f":"lista1!A30","v":0},{"$f":"lista1!B30","v":"Excavación p/ pozo absorbt o Romano, a mano terr. Comun hast10mprof.(tosca x1,364 y si fuese roc disgr x 1,909)"},{"$f":"lista1!C30","v":"m3"}]
[{"$f":"lista1!A31","v":0},{"$f":"lista1!B31","v":"Destape del terreno hasta 20/30 cm de profundidad con pala frontal o  Excavación de sótanos a maquina"},{"$f":"lista1!C31","v":"m3"},1.763681592039801,87.95,155.1157960199005,{"$f":"lista1!G31","v":0},0,null,"#1rev. Rubro dólar oficial vta",null,null,null,null,null,5.29,"$AR","2012-04-01",null,{"$f":"AVERAGE(P31:P32)","v":7.0350000000000001}]
[{"$f":"lista1!A32","v":0},{"$f":"lista1!B32","v":"Carga y retiro de tierra con camión"},{"$f":"lista1!C32","v":"m3"},1.763681592039801,null,0,{"$f":"lista1!G32","v":0},0,null,"#2Rev.Rubro dólar blu vta",null,null,null,null,null,8.7799999999999994,"$AR","2012-04-01","multip",{"$f":"T28/T31","v":1.763681592039801}]
[{"$f":"lista1!A33","v":0},{"$f":"lista1!B33","v":"terraplenamiento"},{"$f":"lista1!C33","v":"m3"},null,156,null,{"$f":"lista1!G33","v":0},null,null,"http://www.ambito.com/economia/mercados/monedas/dolar/"]
[{"$f":"lista1!A34","v":5},{"$f":"lista1!B34","v":"Estructuras de hormigón armado"},{"$f":"lista1!C34","v":"Unid."},null,null,"Prec.",{"$f":"lista1!G34","v":"Cant."},"Parcial",null,"http://www.ambito.com/economia/mercados/monedas/dolar/info/?ric=ARSB=&desde=15/12/2014&hasta=15/01/2015"]
[{"$f":"lista1!A35","v":0},{"$f":"lista1!B35","v":"Incluye el material, mano de obra, armado y desarme de encofrados de madera tradicionales y equipos"},null,null,"vjo","nvo"]
[{"$f":"lista1!A36","v":0},{"$f":"lista1!B36","v":"hormigon sin armar para relleno de cimientos"},{"$f":"lista1!C36","v":"m3"},{"$f":"$N$27","v":1.763681592039801},null,{"$f":"D36*E36","v":0},{"$f":"lista1!G36","v":0},{"$f":"+F36*G36","v":0}]
[{"$f":"lista1!A37","v":0},{"$f":"lista1!B37","v":"Bases céntricas cuantía 60 kg, HºAº p/ cabezal de pozos romanos (p/fuste pz rom dividir precio en 1,124)"},{"$f":"lista1!C37","v":"m3"},{"$f":"$N$27","v":1.763681592039801},null,{"$f":"D37*E37","v":0},{"$f":"lista1!G37","v":6.001526717557252},{"$f":"+F37*G37","v":0}]
[{"$f":"lista1!A38","v":0},{"$f":"lista1!B38","v":"Vigas de fundación 60 kg/m3, arriostramiento y de equilibrio"},{"$f":"lista1!C38","v":"m3"},{"$f":"$N$27","v":1.763681592039801},null,{"$f":"D38*E38","v":0},{"$f":"lista1!G38","v":9.9022500000000004},{"$f":"+F38*G38","v":0}]
[{"$f":"lista1!A39","v":0},{"$f":"lista1!B39","v":"Pilotín diametro 23 cm / profundidad 1,6 m"},{"$f":"lista1!C39","v":"ml"},1.763681592039801,null,0,{"$f":"lista1!G39","v":38.400000000000006},0]
[{"$f":"lista1!A40","v":0},{"$f":"lista1!B40","v":"Platea de fundación 35 kg/m3 de hierro o quiza con un poco mas de kg de cuantía, (bases de cañerías div./1,345)."},{"$f":"lista1!C40","v":"m3"},1.763681592039801,1077.3,1900.0141791044775,{"$f":"lista1!G40","v":0},0]
[{"$f":"lista1!A41","v":0},{"$f":"lista1!B41","v":"Zapatas para tabique de hormigón para submuración 80 kg hierro, bases de columna y zapatas de columna"},{"$f":"lista1!C41","v":"m3"},1.763681592039801,null,0,{"$f":"lista1!G41","v":0},0]
[{"$f":"lista1!A42","v":0},{"$f":"lista1!B42","v":"Zapatas para muro de Mamposteria 30 cm de ladrillo común cuantía 35kg de hierro/m3"},{"$f":"lista1!C42","v":"m3"},1.763681592039801,null,0,{"$f":"lista1!G42","v":0},0]
[{"$f":"lista1!A43","v":0},{"$f":"lista1!B43","v":"Tabiques de sótanos una cara vista 80 kg de hierro/m3"},{"$f":"lista1!C43","v":"m3"},1.763681592039801,null,0,{"$f":"lista1!G43","v":0},0]
[{"$f":"lista1!A44","v":0},{"$f":"lista1!B44","v":"Losas espesor 10 cm"},{"$f":"lista1!C44","v":"m3"},1.763681592039801,450,793.6567164179105,{"$f":"lista1!G44","v":0},0]
[{"$f":"lista1!A45","v":0},{"$f":"lista1!B45","v":"Losas de hormigón a la vista con encofrado fenólico"},{"$f":"lista1!C45","v":"m3"},1.763681592039801,null,0,{"$f":"lista1!G45","v":0},0]
[{"$f":"lista1!A46","v":0},{"$f":"lista1!B46","v":"Losas casetonada 70 kg/m3 de hierro (es precio mínimo.. p/ prec max mult. X 1,216)"},{"$f":"lista1!C46","v":"m3"},1.763681592039801,null,0,{"$f":"lista1!G46","v":0},0]
[{"$f":"lista1!A47","v":0},{"$f":"lista1!B47","v":"Losa nervurada Aº en un sentid. bloqH 14*19*39 (o x 1,162 sii es Aºda en 2 sentid c bloq poliest exp. De 40*40*25)"},{"$f":"lista1!C47","v":"m2"},1.763681592039801,null,0,{"$f":"lista1!G47","v":0},0]
[{"$f":"lista1!A48","v":0},{"$f":"lista1!B48","v":"Losa hueca pretensada 12 cm de espesor con tomado de juntas"},{"$f":"lista1!C48","v":"m2"},1.763681592039801,null,0,{"$f":"lista1!G48","v":0},0]
[{"$f":"lista1!A49","v":0},{"$f":"lista1!B49","v":"Losa viguetas pretensadas de hormigón y ladrillos cerámicos espesor 17cm con capa de compresión."},{"$f":"lista1!C49","v":"m2"},1.763681592039801,null,0,{"$f":"lista1!G49","v":104.05},0]
[{"$f":"lista1!A50","v":0},{"$f":"lista1!B50","v":"columnas estructurales de aprox. 30x30 (Si son a la vista al precio mult. X 1,08)"},{"$f":"lista1!C50","v":"m3"},1.763681592039801,1914.2,3376.039303482587,{"$f":"lista1!G50","v":0.32400000000000001},1093.8367343283583]
[{"$f":"lista1!A51","v":0},{"$f":"lista1!B51","v":"Encadenado verticales, horizontales, dinteles, dadosdapoyo, llaves,banquinas 7cm esp. de HºAº "},{"$f":"lista1!C51","v":"m3"},1.763681592039801,1896.3,3344.4694029850748,{"$f":"lista1!G51","v":5.2939208087112721},17705.356166560854]
[{"$f":"lista1!A52","v":0},{"$f":"lista1!B52","v":"Vigas cuantía 180 kg/m3, vigas aprox. De 20x40 (Si son a la vista al precio mult. X 1,08)"},{"$f":"lista1!C52","v":"m3"},1.763681592039801,null,0,{"$f":"lista1!G52","v":0.24},0]
[{"$f":"lista1!A53","v":0},{"$f":"lista1!B53","v":"Tabiques vistos cuantía 80 kg"},{"$f":"lista1!C53","v":"m3"},1.763681592039801,null,0,{"$f":"lista1!G53","v":0},0]
[{"$f":"lista1!A54","v":0},{"$f":"lista1!B54","v":"Tabiques cuantía 80 kg/m3"},{"$f":"lista1!C54","v":"m3"},1.763681592039801,null,0,{"$f":"lista1!G54","v":0},0]
[{"$f":"lista1!A55","v":0},{"$f":"lista1!B55","v":"Escaleras cuantía 75 kg/m3 (sii es HºAº p/LOSAS macizas de escaleras a este prec. Dividir por 1,887) "},{"$f":"lista1!C55","v":"m3"},1.763681592039801,null,0,{"$f":"lista1!G55","v":0},0]
[{"$f":"lista1!A56","v":0},{"$f":"lista1!B56","v":"Tanque de bombeo cuantía 105 kg/m3"},{"$f":"lista1!C56","v":"m3"},1.763681592039801,null,0,{"$f":"lista1!G56","v":0},0]
[{"$f":"lista1!A57","v":0},{"$f":"lista1!B57","v":"Tanque de reserva cuantía 105 kg/m3 y cisternas de HAº"},{"$f":"lista1!C57","v":"m3"},1.763681592039801,null,0,{"$f":"lista1!G57","v":0.29899999999999999},0]
[{"$f":"lista1!A58","v":0},{"$f":"lista1!B58","v":"Junta de PVC para hormigón"},{"$f":"lista1!C58","v":"ml"},{"$f":"$N$27","v":1.763681592039801},{"$f":"([1]noimpr2!E56+'[1]no impr3'!E56+'[1]no impr4'!E56+[1]noimpr5!E56)/(([1]noimpr2!E56<>0)+('[1]no impr3'!E56<>0)+('[1]no impr4'!E56<>0)+([1]noimpr5!E56<>0))","v":160.1},{"$f":"D58*E58","v":282.36542288557212},{"$f":"lista1!G58","v":0},{"$f":"+F58*G58","v":0}]
[{"$f":"lista1!A59","v":0},{"$f":"lista1!B59","v":"Barrera de vapor (dos manos de pintura asfáltica + 10% nafta)"},{"$f":"lista1!C59","v":"m2"},1.763681592039801,25.7,{"$f":"D59*E59","v":45.326616915422882},{"$f":"lista1!G59","v":104.05},{"$f":"+F59*G59","v":4716.234490049751}]
[{"$f":"lista1!A60","v":6},{"$f":"lista1!B60","v":"Estructuras metálicas"},{"$f":"lista1!C60","v":0},null,null,null,{"$f":"lista1!G60","v":0}]
[{"$f":"lista1!A61","v":0},{"$f":"lista1!B61","v":"En el caso de cubiertas no se consideran los cerramientos laterales ni superiores. Para los entrepisos no se incluye el solado. En ambos, tampoco la pintura. El armado es en taller. Incluye el montaje en obra y no se considera el flete"}]
[{"$f":"lista1!A62","v":0},{"$f":"lista1!B62","v":"Estructuras metálicas de perfiles normales"},{"$f":"lista1!C62","v":"kg"},{"$f":"$N$27","v":1.763681592039801},null,{"$f":"D62*E62","v":0},{"$f":"lista1!G62","v":0},{"$f":"+F62*G62","v":0}]
[{"$f":"lista1!A63","v":0},{"$f":"lista1!B63","v":"Estructuras metálicas de perfiles ángulos"},{"$f":"lista1!C63","v":"kg"},{"$f":"$N$27","v":1.763681592039801},null,{"$f":"D63*E63","v":0},{"$f":"lista1!G63","v":0},{"$f":"+F63*G63","v":0}]
[{"$f":"lista1!A64","v":0},{"$f":"lista1!B64","v":"Estructuras metálicas de hierro redondo"},{"$f":"lista1!C64","v":"kg"},{"$f":"$N$27","v":1.763681592039801},null,{"$f":"D64*E64","v":0},{"$f":"lista1!G64","v":0},{"$f":"+F64*G64","v":0}]
[{"$f":"lista1!A65","v":0},{"$f":"lista1!B65","v":0},{"$f":"lista1!C65","v":0},null,null,null,{"$f":"lista1!G65","v":0},{"$f":"+F65*G65","v":0}]
[{"$f":"lista1!A66","v":0},{"$f":"lista1!B66","v":0},{"$f":"lista1!C66","v":0},null,null,null,{"$f":"lista1!G66","v":0},{"$f":"+F66*G66","v":0}]
[{"$f":"lista1!A67","v":0},{"$f":"lista1!B67","v":0},{"$f":"lista1!C67","v":0},null,null,null,{"$f":"lista1!G67","v":0}]
[{"$f":"lista1!A68","v":7},{"$f":"lista1!B68","v":"Mampostería"},{"$f":"lista1!C68","v":"Unid."},null,"Precio",null,{"$f":"lista1!G68","v":"Cantid."},"Parcial"]
[{"$f":"lista1!A69","v":0},{"$f":"lista1!B69","v":"Bloques de hormigón estandar 19 x 19 x 39  ; idem cribada = D x 0,9365"},{"$f":"lista1!C69","v":"m2"},{"$f":"$N$27","v":1.763681592039801},null,{"$f":"D69*E69","v":0},{"$f":"lista1!G69","v":0},{"$f":"+F69*G69","v":0}]
[{"$f":"lista1!A70","v":0},{"$f":"lista1!B70","v":"Bloques de hormigón estandar 9,2 x 19 x 39 ;  ladrillos comunes de pandere 30 ud/m2 = corregir D x 0,88"},{"$f":"lista1!C70","v":"m2"},{"$f":"$N$27","v":1.763681592039801},null,{"$f":"D70*E70","v":0},{"$f":"lista1!G70","v":0},{"$f":"+F70*G70","v":0}]
[{"$f":"lista1!A71","v":0},{"$f":"lista1!B71","v":"Junta de dilatación bloque \"\"u\"\"de hormigón"},{"$f":"lista1!C71","v":"ml"},1.763681592039801,null,0,{"$f":"lista1!G71","v":0},0]
[{"$f":"lista1!A72","v":0},{"$f":"lista1!B72","v":"Encadenado pared bloques de hormigón"},{"$f":"lista1!C72","v":"ml"},1.763681592039801,null,0,{"$f":"lista1!G72","v":0},0]
[{"$f":"lista1!A73","v":0},{"$f":"lista1!B73","v":"Ladrillos comunes elevación espesor 30 cm (si es de cimiento =D/1,03) si es p/ 1er piso =D*1,08"},{"$f":"lista1!C73","v":"m3"},1.763681592039801,null,0,{"$f":"lista1!G73","v":0},0]
[{"$f":"lista1!A74","v":0},{"$f":"lista1!B74","v":"Ladrillos de máquina para vista espesor 30 cm sin tomado de juntas (con tomado junt =D x 1,094)"},{"$f":"lista1!C74","v":"m3"},1.763681592039801,null,0,{"$f":"lista1!G74","v":0},0]
[{"$f":"lista1!A75","v":0},{"$f":"lista1!B75","v":"Ladrillo común en elevación espesor 15 cm  (si es de cimiento =D/1,03) si es p/ 1er piso =D*1,08 , cribadas"},{"$f":"lista1!C75","v":"m3"},1.763681592039801,null,0,{"$f":"lista1!G75","v":0},0]
[{"$f":"lista1!A76","v":0},{"$f":"lista1!B76","v":"Ladrillo de máquina para vista espesor 15 cm con tomado de junta"},{"$f":"lista1!C76","v":"m3"},1.763681592039801,null,0,{"$f":"lista1!G76","v":0},0]
[{"$f":"lista1!A77","v":0},{"$f":"lista1!B77","v":"Refuerzos horizontales o encadenado para mampostería (vigas o dintel) en ladrillo común"},{"$f":"lista1!C77","v":"ml"},1.763681592039801,null,0,{"$f":"lista1!G77","v":0},0]
[{"$f":"lista1!A78","v":0},{"$f":"lista1!B78","v":"Ladrillo cerámico hueco de 8 x 18 x 33 pared de 8 cm de espesor"},{"$f":"lista1!C78","v":"m2"},1.763681592039801,null,0,{"$f":"lista1!G78","v":0},0]
[{"$f":"lista1!A79","v":0},{"$f":"lista1!B79","v":"Ladrillo cerámico hueco de 12 x 18 x 33 pared de 12 cm de espesor"},{"$f":"lista1!C79","v":"m2"},1.763681592039801,null,0,{"$f":"lista1!G79","v":0},0]
[{"$f":"lista1!A80","v":0},{"$f":"lista1!B80","v":"Ladrillo cerámico hueco de 18 x 18 x 33 pared de 18 cm de espesor"},{"$f":"lista1!C80","v":"m2"},1.763681592039801,null,0,{"$f":"lista1!G80","v":0},0]
[{"$f":"lista1!A81","v":0},{"$f":"lista1!B81","v":"Ladrillo cerámico portante de 13 x 19 x 33"},{"$f":"lista1!C81","v":"m2"},1.763681592039801,null,0,{"$f":"lista1!G81","v":360.43260000000009},0]
[{"$f":"lista1!A82","v":0},{"$f":"lista1!B82","v":"Ladrillo cerámico portante de 18 x 19 x 33"},{"$f":"lista1!C82","v":"m2"},1.763681592039801,null,0,{"$f":"lista1!G82","v":0},0]
[{"$f":"lista1!A83","v":0},{"$f":"lista1!B83","v":"Viga de encadenado superior con peine cerámico, armadura y hormigonado"},{"$f":"lista1!C83","v":"ml"},1.763681592039801,null,0,{"$f":"lista1!G83","v":0},0]
[{"$f":"lista1!A84","v":0},{"$f":"lista1!B84","v":"Columna con bloque cerámico armadura y hormigón"},{"$f":"lista1!C84","v":"ml"},1.763681592039801,null,0,{"$f":"lista1!G84","v":0},0]
[{"$f":"lista1!A85","v":0},{"$f":"lista1!B85","v":"Muro portante en elevación de HCCA tipo Retak"},{"$f":"lista1!C85","v":"m3"},1.763681592039801,null,0,{"$f":"lista1!G85","v":0},0]
[{"$f":"lista1!A86","v":0},{"$f":"lista1!B86","v":"Colocación de carpinterías (incluye amurado, marcos y premarcos)"},{"$f":"lista1!C86","v":"m2"},1.763681592039801,null,0,{"$f":"lista1!G86","v":0},0]
[{"$f":"lista1!A87","v":0},{"$f":"lista1!B87","v":"Colocación de barandas"},{"$f":"lista1!C87","v":"ml"},1.763681592039801,null,0,{"$f":"lista1!G87","v":0},0]
[{"$f":"lista1!A88","v":0},{"$f":"lista1!B88","v":"Muro portante en elevación de HCCA de 15x25x50 tipo Retak"},{"$f":"lista1!C88","v":"m2"},1.763681592039801,null,0,{"$f":"lista1!G88","v":0},0]
[{"$f":"lista1!A89","v":0},{"$f":"lista1!B89","v":"murete de mesada de cocina hasta 95 cm de alto (incl mat y m.o: muro 0,15+ revoq gr y fno ambas caras) sin revestim."},{"$f":"lista1!C89","v":"u"},1.763681592039801,null,0,{"$f":"lista1!G89","v":0},0]
[{"$f":"lista1!A90","v":0},{"$f":"lista1!B90","v":"murete de mesada de cocina hasta 95 cm de alto (incl mat y m.o: muro 0,15+ revoq gr y revest. ambas caras) sin fino"},{"$f":"lista1!C90","v":"u"},1.763681592039801,null,0,{"$f":"lista1!G90","v":0},0]
[{"$f":"lista1!A91","v":0},{"$f":"lista1!B91","v":"Conducto de ventilación"},{"$f":"lista1!C91","v":"ml"},1.763681592039801,null,0,{"$f":"lista1!G91","v":0},0]
[{"$f":"lista1!A92","v":0},{"$f":"lista1!B92","v":"Sombrete conducto ventilación"},{"$f":"lista1!C92","v":"u"},1.763681592039801,null,0,{"$f":"lista1!G92","v":0},0]
[{"$f":"lista1!A93","v":0},{"$f":"lista1!B93","v":"Rejilla para conducto"},{"$f":"lista1!C93","v":"ml"},1.763681592039801,null,0,{"$f":"lista1!G93","v":0},0]
[{"$f":"lista1!A94","v":0},{"$f":"lista1!B94","v":"Conducto de presurización"},{"$f":"lista1!C94","v":"ml"},1.763681592039801,null,0,{"$f":"lista1!G94","v":0},0]
[{"$f":"lista1!A95","v":0},{"$f":"lista1!B95","v":"Sombrete conducto presuriz."},{"$f":"lista1!C95","v":"u"},1.763681592039801,null,0,{"$f":"lista1!G95","v":0},0]
[{"$f":"lista1!A96","v":0},{"$f":"lista1!B96","v":"Reja conducto ventilación"},{"$f":"lista1!C96","v":"u"},1.763681592039801,null,0,{"$f":"lista1!G96","v":0},0]
[{"$f":"lista1!A97","v":0},{"$f":"lista1!B97","v":"banquinas de mesada (contrapiso + carpeta + revest. Ceramico)"},{"$f":"lista1!C97","v":"ml"},1.763681592039801,null,0,{"$f":"lista1!G97","v":6.3},0]
[{"$f":"lista1!A98","v":0},{"$f":"lista1!B98","v":"tomado de juntas en ladrillos visto rehundidas (al ras es 0,841*D)"},{"$f":"lista1!C98","v":"m2"},null,null,null,{"$f":"lista1!G98","v":0}]
[{"$f":"lista1!A99","v":0},{"$f":"lista1!B99","v":"Muros de ladrillo de vidrio 20x20x10 cm"},{"$f":"lista1!C99","v":"m2"},null,null,null,{"$f":"lista1!G99","v":0}]
[{"$f":"lista1!A100","v":0},{"$f":"lista1!B100","v":"Tabique de placas de yeso, tipo durlock 12,5 mm esp."},{"$f":"lista1!C100","v":"m2"},null,null,null,{"$f":"lista1!G100","v":0}]
[{"$f":"lista1!A101","v":0},{"$f":"lista1!B101","v":0},{"$f":"lista1!C101","v":0},null,null,null,{"$f":"lista1!G101","v":0}]
[{"$f":"lista1!A102","v":8},{"$f":"lista1!B102","v":"Construcción con placas de roca de yeso"},{"$f":"lista1!C102","v":"Unid."},null,"Precio",null,{"$f":"lista1!G102","v":"Cantid."},"Parcial"]
[{"$f":"lista1!A103","v":0},{"$f":"lista1!B103","v":"En todos los casos las terminaciones quedan listas para pintar. Junta tomada con cinta tramada y mansilla"}]
[{"$f":"lista1!A104","v":0},{"$f":"lista1!B104","v":"Tabique simple espesor 9,5 cm. Estructura de chapa galvanizada con montantes cada 48 cm. Solera inferior y superior de 70mm. Placa normal 15mm"},{"$f":"lista1!C104","v":"m2"},{"$f":"$N$27","v":1.763681592039801},null,{"$f":"D104*E104","v":0},{"$f":"lista1!G104","v":0},{"$f":"+F104*G104","v":0}]
[{"$f":"lista1!A105","v":0},{"$f":"lista1!B105","v":"Idem con aislación de lana de vidrio"},{"$f":"lista1!C105","v":"m2"},{"$f":"$N$27","v":1.763681592039801},null,{"$f":"D105*E105","v":0},{"$f":"lista1!G105","v":0},{"$f":"+F105*G105","v":0}]
[{"$f":"lista1!A106","v":0},{"$f":"lista1!B106","v":"Medio tabique espesor total 8,5 cm"},{"$f":"lista1!C106","v":"m2"},1.763681592039801,null,0,{"$f":"lista1!G106","v":0},0]
[{"$f":"lista1!A107","v":0},{"$f":"lista1!B107","v":"Pared divisoria de unidades funcionales espesor total 12 cm. Doble placa de 15mm en ambas caras. Montantes cada 40cm. Solera 70mm interior y super."},{"$f":"lista1!C107","v":"m2"},1.763681592039801,null,0,{"$f":"lista1!G107","v":0},0]
[{"$f":"lista1!A108","v":0},{"$f":"lista1!B108","v":"Cielorraso suspendido, junta tomada con placas de 12,5mm, Estructura soleras y montantes de chapa galvanizada"},{"$f":"lista1!C108","v":"m2"},1.763681592039801,null,0,{"$f":"lista1!G108","v":0},0]
[{"$f":"lista1!A109","v":0},{"$f":"lista1!B109","v":"Idem con placa verde."},{"$f":"lista1!C109","v":"m2"},1.763681592039801,null,0,{"$f":"lista1!G109","v":0},0]
[{"$f":"lista1!A110","v":0},{"$f":"lista1!B110","v":"Cielorraso suspendido desmontable. Estructura con bastidor de aluminio. Placas texturadas 60 x 1,20"},{"$f":"lista1!C110","v":"m2"},1.763681592039801,null,0,{"$f":"lista1!G110","v":0},0]
[{"$f":"lista1!A111","v":0},{"$f":"lista1!B111","v":0},{"$f":"lista1!C111","v":0},null,null,null,{"$f":"lista1!G111","v":0}]
[{"$f":"lista1!A112","v":9},{"$f":"lista1!B112","v":"Aislaciones"},{"$f":"lista1!C112","v":0},null,null,null,{"$f":"lista1!G112","v":0}]
[{"$f":"lista1!A113","v":0},{"$f":"lista1!B113","v":"De sótanos cementicia para cerramientos horizontal y vertical"},{"$f":"lista1!C113","v":"m2"},{"$f":"$N$27","v":1.763681592039801},null,{"$f":"D113*E113","v":0},{"$f":"lista1!G113","v":0},{"$f":"+F113*G113","v":0}]
[{"$f":"lista1!A114","v":0},{"$f":"lista1!B114","v":"Capa aisladora con tabique panderete"},{"$f":"lista1!C114","v":"m2"},{"$f":"$N$27","v":1.763681592039801},null,{"$f":"D114*E114","v":0},{"$f":"lista1!G114","v":0},0]
[{"$f":"lista1!A115","v":0},{"$f":"lista1!B115","v":"Horizontal espesor 2 cm sobre muro"},{"$f":"lista1!C115","v":"m2"},1.763681592039801,null,0,{"$f":"lista1!G115","v":14.36947058823529},0]
[{"$f":"lista1!A116","v":0},{"$f":"lista1!B116","v":"Film de polietileno bajo plateas o contrapisos"},{"$f":"lista1!C116","v":"m2"},1.763681592039801,null,0,{"$f":"lista1!G116","v":0},0]
[{"$f":"lista1!A117","v":0},{"$f":"lista1!B117","v":"Horizontal cementicia en contrapiso sobre terreno natural"},{"$f":"lista1!C117","v":"m2"},1.763681592039801,null,0,{"$f":"lista1!G117","v":0},0]
[{"$f":"lista1!A118","v":0},{"$f":"lista1!B118","v":"Horizontal sobre losa para locales húmedos"},{"$f":"lista1!C118","v":"m2"},1.763681592039801,null,0,{"$f":"lista1!G118","v":0},0]
[{"$f":"lista1!A119","v":0},{"$f":"lista1!B119","v":"Azotado hidrófugo bajo revestimientos "},{"$f":"lista1!C119","v":"m2"},1.763681592039801,null,0,{"$f":"lista1!G119","v":0},0]
[{"$f":"lista1!A120","v":0},{"$f":"lista1!B120","v":"Vertical de 1,5 de esp. sobre muros"},{"$f":"lista1!C120","v":"m2"},1.763681592039801,null,0,{"$f":"lista1!G120","v":21.6},0]
[{"$f":"lista1!A121","v":0},{"$f":"lista1!B121","v":"Horizontal y vertical cementicia para interior tanques de agua"},{"$f":"lista1!C121","v":"m2"},1.763681592039801,null,0,{"$f":"lista1!G121","v":0},0]
[{"$f":"lista1!A122","v":0},{"$f":"lista1!B122","v":"inyeccion de líquidos químicos SIKA inertol infiltración, c perf c/15 cm a tres bolillos, rev.,rev fino (220MO+300mat)"},{"$f":"lista1!C122","v":"ml"},1.763681592039801,null,0,{"$f":"lista1!G122","v":22},0]
[{"$f":"lista1!A123","v":10},{"$f":"lista1!B123","v":"Cubiertas "},{"$f":"lista1!C123","v":0},null,null,null,{"$f":"lista1!G123","v":0}]
[{"$f":"lista1!A124","v":0},{"$f":"lista1!B124","v":"No se incluye la losa de hormigón"},{"$f":"lista1!C124","v":0},null,null,null,{"$f":"lista1!G124","v":0}]
[{"$f":"lista1!A125","v":0},{"$f":"lista1!B125","v":"Planas"},{"$f":"lista1!C125","v":0},null,null,null,{"$f":"lista1!G125","v":0}]
[{"$f":"lista1!A126","v":0},{"$f":"lista1!B126","v":"Sobre losa con barrera de vapor, contrapiso con pendiente. Carpeta para recibir, y proteger, aislación térmica e hidráulica con membrana con aluminio"},{"$f":"lista1!C126","v":"m2"},{"$f":"$N$27","v":1.763681592039801},null,{"$f":"D126*E126","v":0},{"$f":"lista1!G126","v":104.05},{"$f":"+F126*G126","v":0}]
[{"$f":"lista1!A127","v":0},{"$f":"lista1!B127","v":"Idem anterior. Cubierta transitable terminación baldosas 20 x 20 para terraza"},{"$f":"lista1!C127","v":"m2"},{"$f":"$N$27","v":1.763681592039801},null,{"$f":"D127*E127","v":0},{"$f":"lista1!G127","v":0},{"$f":"+F127*G127","v":0}]
[{"$f":"lista1!A128","v":0},{"$f":"lista1!B128","v":0},{"$f":"lista1!C128","v":0},null,null,null,{"$f":"lista1!G128","v":0}]
[{"$f":"lista1!A129","v":0},{"$f":"lista1!B129","v":"Con pendiente"},{"$f":"lista1!C129","v":0},null,null,null,{"$f":"lista1!G129","v":0}]
[{"$f":"lista1!A130","v":0},{"$f":"lista1!B130","v":"No incluye la pintura. Para las de madera se consideró la aplicación de preservador. No incluye correas"},{"$f":"lista1!C130","v":0},null,null,null,{"$f":"lista1!G130","v":0}]
[{"$f":"lista1!A131","v":0},{"$f":"lista1!B131","v":"Tejas francesa estructura de madera vista con aislación térmica  "},{"$f":"lista1!C131","v":"m2"},{"$f":"$N$27","v":1.763681592039801},null,{"$f":"D131*E131","v":0},{"$f":"lista1!G131","v":0},{"$f":"+F131*G131","v":0}]
[{"$f":"lista1!A132","v":0},{"$f":"lista1!B132","v":"Idem, con madera sin cepillar"},{"$f":"lista1!C132","v":"m2"},{"$f":"$N$27","v":1.763681592039801},null,{"$f":"D132*E132","v":0},{"$f":"lista1!G132","v":0},{"$f":"+F132*G132","v":0}]
[{"$f":"lista1!A133","v":0},{"$f":"lista1!B133","v":"Chapa ondulada N24 estructura de madera vista. No se considera con aislación térmica"},{"$f":"lista1!C133","v":"m2"},1.763681592039801,null,0,{"$f":"lista1!G133","v":0},0]
[{"$f":"lista1!A134","v":0},{"$f":"lista1!B134","v":"Idem, chapa prepintada"},{"$f":"lista1!C134","v":"m2"},1.763681592039801,null,0,{"$f":"lista1!G134","v":0},0]
[{"$f":"lista1!A135","v":0},{"$f":"lista1!B135","v":"Chapa ambas caras con aislación térmica"},{"$f":"lista1!C135","v":"m2"},1.763681592039801,null,0,{"$f":"lista1!G135","v":0},0]
[{"$f":"lista1!A136","v":0},{"$f":"lista1!B136","v":"Teja colonial madera vista"},{"$f":"lista1!C136","v":"m2"},1.763681592039801,null,0,{"$f":"lista1!G136","v":0},0]
[{"$f":"lista1!A137","v":0},{"$f":"lista1!B137","v":"Teja colonial madera sin cepillar"},{"$f":"lista1!C137","v":"m2"},1.763681592039801,null,0,{"$f":"lista1!G137","v":0},0]
[{"$f":"lista1!A138","v":0},{"$f":"lista1!B138","v":"Chapa imitación tejas"},{"$f":"lista1!C138","v":"m2"},1.763681592039801,null,0,{"$f":"lista1!G138","v":0},0]
[{"$f":"lista1!A139","v":0},{"$f":"lista1!B139","v":"Junta de dilatación membrana asfáltica"},{"$f":"lista1!C139","v":"m2"},1.763681592039801,null,0,{"$f":"lista1!G139","v":0},0]
[{"$f":"lista1!A140","v":0},{"$f":"lista1!B140","v":"Tinglado chapa galvanizada sobre vigaa spagueti"},{"$f":"lista1!C140","v":"m2"},1.763681592039801,null,0,{"$f":"lista1!G140","v":0},0]
[{"$f":"lista1!A141","v":0},{"$f":"lista1!B141","v":0},{"$f":"lista1!C141","v":0},null,null,null,{"$f":"lista1!G141","v":0}]
[{"$f":"lista1!A142","v":11},{"$f":"lista1!B142","v":"Contrapiso"},{"$f":"lista1!C142","v":0},null,null,null,{"$f":"lista1!G142","v":0}]
[{"$f":"lista1!A143","v":0},{"$f":"lista1!B143","v":"Hormigón de cascotes armado de espesor 15 cm sobre terreno natural"},{"$f":"lista1!C143","v":"m2"},{"$f":"$N$27","v":1.763681592039801},null,{"$f":"D143*E143","v":0},{"$f":"lista1!G143","v":158.66},{"$f":"+F143*G143","v":0}]
[{"$f":"lista1!A144","v":0},{"$f":"lista1!B144","v":"Hormigón de cascotes sobre losa espesor 7 cm"},{"$f":"lista1!C144","v":"m2"},{"$f":"$N$27","v":1.763681592039801},null,{"$f":"D144*E144","v":0},{"$f":"lista1!G144","v":0},{"$f":"+F144*G144","v":0}]
[{"$f":"lista1!A145","v":0},{"$f":"lista1!B145","v":"Hormigón de cascotes sobre losa local sanitario espesor 25 cm"},{"$f":"lista1!C145","v":"m2"},{"$f":"$N$27","v":1.763681592039801},null,{"$f":"D145*E145","v":0},{"$f":"lista1!G145","v":0},{"$f":"+F145*G145","v":0}]
[{"$f":"lista1!A146","v":0},{"$f":"lista1!B146","v":"Hormigón de arcilla expandida 10 cm de espesor"},{"$f":"lista1!C146","v":"m2"},{"$f":"$N$27","v":1.763681592039801},null,{"$f":"D146*E146","v":0},{"$f":"lista1!G146","v":0},{"$f":"+F146*G146","v":0}]
[{"$f":"lista1!A147","v":0},{"$f":"lista1!B147","v":"Mortero celular de 7 cm espesor"},{"$f":"lista1!C147","v":"m2"},{"$f":"$N$27","v":1.763681592039801},null,{"$f":"D147*E147","v":0},{"$f":"lista1!G147","v":0},{"$f":"+F147*G147","v":0}]
[{"$f":"lista1!A148","v":0},{"$f":"lista1!B148","v":0},{"$f":"lista1!C148","v":0},null,null,null,{"$f":"lista1!G148","v":0}]
[{"$f":"lista1!A149","v":12},{"$f":"lista1!B149","v":"Carpetas"},{"$f":"lista1!C149","v":0},null,null,null,{"$f":"lista1!G149","v":0}]
[{"$f":"lista1!A150","v":0},{"$f":"lista1!B150","v":"De concreto bajo solado"},{"$f":"lista1!C150","v":"m2"},{"$f":"$N$27","v":1.763681592039801},null,{"$f":"D150*E150","v":0},{"$f":"lista1!G150","v":158.66},{"$f":"+F150*G150","v":0}]
[{"$f":"lista1!A151","v":0},{"$f":"lista1!B151","v":"Carpeta de mortero celular 2 cm espesor"},{"$f":"lista1!C151","v":"m2"},{"$f":"$N$27","v":1.763681592039801},null,{"$f":"D151*E151","v":0},{"$f":"lista1!G151","v":0},{"$f":"+F151*G151","v":0}]
[{"$f":"lista1!A152","v":0},{"$f":"lista1!B152","v":"Carpeta clavadora para parquet"},{"$f":"lista1!C152","v":"m2"},{"$f":"$N$27","v":1.763681592039801},null,{"$f":"D152*E152","v":0},{"$f":"lista1!G152","v":0},{"$f":"+F152*G152","v":0}]
[{"$f":"lista1!A153","v":0},{"$f":"lista1!B153","v":0},{"$f":"lista1!C153","v":0},null,null,null,{"$f":"lista1!G153","v":0}]
[{"$f":"lista1!A154","v":13},{"$f":"lista1!B154","v":"Revoques"},{"$f":"lista1!C154","v":0},null,null,null,{"$f":"lista1!G154","v":0}]
[{"$f":"lista1!A155","v":0},{"$f":"lista1!B155","v":"No se considera el trabajo de andamio"},{"$f":"lista1!C155","v":0},null,null,null,{"$f":"lista1!G155","v":0}]
[{"$f":"lista1!A156","v":0},{"$f":"lista1!B156","v":"Grueso y fino a la cal al fieltro"},{"$f":"lista1!C156","v":"m2"},{"$f":"$N$27","v":1.763681592039801},null,{"$f":"D156*E156","v":0},{"$f":"lista1!G156","v":342.03623999999996},{"$f":"+F156*G156","v":0}]
[{"$f":"lista1!A157","v":0},{"$f":"lista1!B157","v":"Grueso a la cal impermeable para exterior completo"},{"$f":"lista1!C157","v":"m2"},{"$f":"$N$27","v":1.763681592039801},null,{"$f":"D157*E157","v":0},{"$f":"lista1!G157","v":146.58696},{"$f":"+F157*G157","v":0}]
[{"$f":"lista1!A158","v":0},{"$f":"lista1!B158","v":"Grueso bajo revestimientos"},{"$f":"lista1!C158","v":"m2"},1.763681592039801,null,0,{"$f":"lista1!G158","v":0},0]
[{"$f":"lista1!A159","v":0},{"$f":"lista1!B159","v":"Revoque proyectado exterior con hidrófugo"},{"$f":"lista1!C159","v":"m2"},1.763681592039801,null,0,{"$f":"lista1!G159","v":0},0]
[{"$f":"lista1!A160","v":0},{"$f":"lista1!B160","v":"Revoque proyectable grueso a la cal para interior"},{"$f":"lista1!C160","v":"m2"},1.763681592039801,null,0,{"$f":"lista1!G160","v":0},0]
[{"$f":"lista1!A161","v":0},{"$f":"lista1!B161","v":"Revoque proyectable fino a la cal para interior"},{"$f":"lista1!C161","v":"m2"},1.763681592039801,null,0,{"$f":"lista1!G161","v":0},0]
[{"$f":"lista1!A162","v":0},{"$f":"lista1!B162","v":"Revoque proyectable de yeso para interior, con engrosado"},{"$f":"lista1!C162","v":"m2"},1.763681592039801,null,0,{"$f":"lista1!G162","v":0},0]
[{"$f":"lista1!A163","v":0},{"$f":"lista1!B163","v":"Salpicado con molinete"},{"$f":"lista1!C163","v":"m2"},1.763681592039801,null,0,{"$f":"lista1!G163","v":0},0]
[{"$f":"lista1!A164","v":0},{"$f":"lista1!B164","v":"Salpicado con molinete exterior planchado"},{"$f":"lista1!C164","v":"m2"},1.763681592039801,null,0,{"$f":"lista1!G164","v":0},0]
[{"$f":"lista1!A165","v":0},{"$f":"lista1!B165","v":"Revoque especial super Iggam"},{"$f":"lista1!C165","v":"ml"},1.763681592039801,null,0,{"$f":"lista1!G165","v":0},0]
[{"$f":"lista1!A166","v":0},{"$f":"lista1!B166","v":"Buñas super Iggam"},{"$f":"lista1!C166","v":"ml"},1.763681592039801,null,0,{"$f":"lista1!G166","v":0},0]
[{"$f":"lista1!A167","v":0},{"$f":"lista1!B167","v":"http://www.construircordoba.com/precios-de-tareas/revoques/"},{"$f":"lista1!C167","v":0},null,null,null,{"$f":"lista1!G167","v":0}]
[{"$f":"lista1!A168","v":14},{"$f":"lista1!B168","v":"Revestimientos"},{"$f":"lista1!C168","v":"Unid."},null,"Precio",null,{"$f":"lista1!G168","v":"Cantid."},"Parcial"]
[{"$f":"lista1!A169","v":0},{"$f":"lista1!B169","v":"Incluye la mano de obra completa, adhesivo y tomado de juntas"}]
[{"$f":"lista1!A170","v":0},{"$f":"lista1!B170","v":"Cerámico tipo San Lorenzo 20 x 20 "},{"$f":"lista1!C170","v":"m2"},{"$f":"$N$27","v":1.763681592039801},null,{"$f":"D170*E170","v":0},{"$f":"lista1!G170","v":0},{"$f":"+F170*G170","v":0}]
[{"$f":"lista1!A171","v":0},{"$f":"lista1!B171","v":"De venecita"},{"$f":"lista1!C171","v":"m2"},{"$f":"$N$27","v":1.763681592039801},null,{"$f":"D171*E171","v":0},{"$f":"lista1!G171","v":0},{"$f":"+F171*G171","v":0}]
[{"$f":"lista1!A172","v":0},{"$f":"lista1!B172","v":"Cerámico esmaltado 30 x 30 cm"},{"$f":"lista1!C172","v":"m2"},1.763681592039801,null,0,{"$f":"lista1!G172","v":29.93},0]
[{"$f":"lista1!A173","v":0},{"$f":"lista1!B173","v":"Revestimientos secos"},{"$f":"lista1!C173","v":0},1.763681592039801,null,0,{"$f":"lista1!G173","v":0},0]
[{"$f":"lista1!A174","v":0},{"$f":"lista1!B174","v":"De muros con machiembrado de pino 1/2\". Incluye la estructura sobre muro"},{"$f":"lista1!C174","v":"m2"},1.763681592039801,null,0,{"$f":"lista1!G174","v":0},0]
[{"$f":"lista1!A175","v":0},{"$f":"lista1!B175","v":"Cerámica esmaltada 30x30 con guardas"},{"$f":"lista1!C175","v":"m2"},1.763681592039801,null,0,{"$f":"lista1!G175","v":0},0]
[{"$f":"lista1!A176","v":0},{"$f":"lista1!B176","v":"Porcellanato 30x30 rústico"},{"$f":"lista1!C176","v":"m2"},1.763681592039801,null,0,{"$f":"lista1!G176","v":0},0]
[{"$f":"lista1!A177","v":0},{"$f":"lista1!B177","v":"Tejuelas de ladrillo"},{"$f":"lista1!C177","v":"m2"},1.763681592039801,null,0,{"$f":"lista1!G177","v":0},0]
[{"$f":"lista1!A178","v":0},{"$f":"lista1!B178","v":0},{"$f":"lista1!C178","v":0},null,null,null,{"$f":"lista1!G178","v":0}]
[{"$f":"lista1!A179","v":15},{"$f":"lista1!B179","v":"Cielorrasos"},{"$f":"lista1!C179","v":0},null,null,null,{"$f":"lista1!G179","v":0}]
[{"$f":"lista1!A180","v":0},{"$f":"lista1!B180","v":"Aplicado a la cal fina fratasada"},{"$f":"lista1!C180","v":"m2"},{"$f":"$N$27","v":1.763681592039801},null,{"$f":"D180*E180","v":0},{"$f":"lista1!G180","v":0},{"$f":"+F180*G180","v":0}]
[{"$f":"lista1!A181","v":0},{"$f":"lista1!B181","v":"Aplicado grueso y fino a la cal al fieltro"},{"$f":"lista1!C181","v":"m2"},{"$f":"$N$27","v":1.763681592039801},null,{"$f":"D181*E181","v":0},{"$f":"lista1!G181","v":104.05},{"$f":"+F181*G181","v":0}]
[{"$f":"lista1!A182","v":0},{"$f":"lista1!B182","v":"Suspendido a la cal armado en madera "},{"$f":"lista1!C182","v":"m2"},1.763681592039801,null,0,{"$f":"lista1!G182","v":0},0]
[{"$f":"lista1!A183","v":0},{"$f":"lista1!B183","v":"Suspendido a la cal armado en hierro"},{"$f":"lista1!C183","v":"m2"},1.763681592039801,null,0,{"$f":"lista1!G183","v":0},0]
[{"$f":"lista1!A184","v":0},{"$f":"lista1!B184","v":"Taparrollo armado a la cal"},{"$f":"lista1!C184","v":"ml"},1.763681592039801,null,0,{"$f":"lista1!G184","v":0},0]
[{"$f":"lista1!A185","v":0},{"$f":"lista1!B185","v":"Suspendido termoacústico"},{"$f":"lista1!C185","v":"m2"},1.763681592039801,null,0,{"$f":"lista1!G185","v":0},0]
[{"$f":"lista1!A186","v":0},{"$f":"lista1!B186","v":"Suspendido con dorso de aluminio"},{"$f":"lista1!C186","v":"m2"},1.763681592039801,null,0,{"$f":"lista1!G186","v":0},0]
[{"$f":"lista1!A187","v":0},{"$f":"lista1!B187","v":"Paneles de aluminio microperforado"},{"$f":"lista1!C187","v":"m2"},1.763681592039801,null,0,{"$f":"lista1!G187","v":0},0]
[{"$f":"lista1!A188","v":0},{"$f":"lista1!B188","v":0},{"$f":"lista1!C188","v":0},null,null,null,{"$f":"lista1!G188","v":0}]
[{"$f":"lista1!A189","v":16},{"$f":"lista1!B189","v":"Yeseria"},{"$f":"lista1!C189","v":0},null,null,null,{"$f":"lista1!G189","v":0}]
[{"$f":"lista1!A190","v":0},{"$f":"lista1!B190","v":"Enlucido de yeso"},{"$f":"lista1!C190","v":"m2"},{"$f":"$N$27","v":1.763681592039801},null,{"$f":"D190*E190","v":0},{"$f":"lista1!G190","v":0},{"$f":"+F190*G190","v":0}]
[{"$f":"lista1!A191","v":0},{"$f":"lista1!B191","v":"Enlucido de yeso reforzado con cemento"},{"$f":"lista1!C191","v":"m2"},{"$f":"$N$27","v":1.763681592039801},null,{"$f":"D191*E191","v":0},{"$f":"lista1!G191","v":0},{"$f":"+F191*G191","v":0}]
[{"$f":"lista1!A192","v":0},{"$f":"lista1!B192","v":"Enlucido de yeso y engrosado con yeso gris"},{"$f":"lista1!C192","v":"m2"},1.763681592039801,null,0,{"$f":"lista1!G192","v":0},0]
[{"$f":"lista1!A193","v":0},{"$f":"lista1!B193","v":"Guardacanto de yesero. Incluye el recubrimiento de yeso"},{"$f":"lista1!C193","v":"ml"},1.763681592039801,null,0,{"$f":"lista1!G193","v":0},0]
[{"$f":"lista1!A194","v":0},{"$f":"lista1!B194","v":"Fajas sobre revestimiento"},{"$f":"lista1!C194","v":"ml"},1.763681592039801,null,0,{"$f":"lista1!G194","v":0},0]
[{"$f":"lista1!A195","v":0},{"$f":"lista1!B195","v":"Agujeros circulares hasta 40 cm de diámetro"},{"$f":"lista1!C195","v":"u"},1.763681592039801,null,0,{"$f":"lista1!G195","v":0},0]
[{"$f":"lista1!A196","v":0},{"$f":"lista1!B196","v":"Cielorraso aplicado al yeso"},{"$f":"lista1!C196","v":"m2"},1.763681592039801,null,0,{"$f":"lista1!G196","v":0},0]
[{"$f":"lista1!A197","v":0},{"$f":"lista1!B197","v":"Cielorraso de yeso armado estructura de madera"},{"$f":"lista1!C197","v":"m2"},1.763681592039801,null,0,{"$f":"lista1!G197","v":0},0]
[{"$f":"lista1!A198","v":0},{"$f":"lista1!B198","v":"Cielorraso de yeso armado estructura de hierro"},{"$f":"lista1!C198","v":"m2"},1.763681592039801,null,0,{"$f":"lista1!G198","v":0},0]
[{"$f":"lista1!A199","v":0},{"$f":"lista1!B199","v":"Taparrollo de yeso armado"},{"$f":"lista1!C199","v":"ml"},1.763681592039801,null,0,{"$f":"lista1!G199","v":0},0]
[{"$f":"lista1!A200","v":0},{"$f":"lista1!B200","v":0},{"$f":"lista1!C200","v":0},null,null,null,{"$f":"lista1!G200","v":0}]
[{"$f":"lista1!A201","v":17},{"$f":"lista1!B201","v":"Solados"},{"$f":"lista1!C201","v":"Unid."},null,"Precio",null,{"$f":"lista1!G201","v":"Cantid."},"Parcial"]
[{"$f":"lista1!A202","v":0},{"$f":"lista1!B202","v":"Incluye la mano de obra completa, adhesivos y/o mezcla de asiento y/o tomado de juntas. No incluye el pulido"}]
[{"$f":"lista1!A203","v":0},{"$f":"lista1!B203","v":"Alisado de cemento ferrocemento 6 cm"},{"$f":"lista1!C203","v":"m2"},{"$f":"$N$27","v":1.763681592039801},null,{"$f":"D203*E203","v":0},{"$f":"lista1!G203","v":0},{"$f":"+F203*G203","v":0}]
[{"$f":"lista1!A204","v":0},{"$f":"lista1!B204","v":"Alisado de cemento ferrocemento 25 cm"},{"$f":"lista1!C204","v":"m2"},{"$f":"$N$27","v":1.763681592039801},null,{"$f":"D204*E204","v":0},{"$f":"lista1!G204","v":0},{"$f":"+F204*G204","v":0}]
[{"$f":"lista1!A205","v":0},{"$f":"lista1!B205","v":"Cemento alisado rodillado"},{"$f":"lista1!C205","v":"m2"},1.763681592039801,null,0,{"$f":"lista1!G205","v":0},0]
[{"$f":"lista1!A206","v":0},{"$f":"lista1!B206","v":"Porcelanato opaco 30 x 30 cm"},{"$f":"lista1!C206","v":"m2"},1.763681592039801,null,0,{"$f":"lista1!G206","v":0},0]
[{"$f":"lista1!A207","v":0},{"$f":"lista1!B207","v":"Cerámico esmaltado 40 x 40 cm"},{"$f":"lista1!C207","v":"m2"},1.763681592039801,null,0,{"$f":"lista1!G207","v":104.05},0]
[{"$f":"lista1!A208","v":0},{"$f":"lista1!B208","v":"Baldosa de azotea 30 x 30 cm junta ancha"},{"$f":"lista1!C208","v":"m2"},1.763681592039801,null,0,{"$f":"lista1!G208","v":0},0]
[{"$f":"lista1!A209","v":0},{"$f":"lista1!B209","v":"Baldosón para vereda 60 x 40 cm"},{"$f":"lista1!C209","v":"m2"},1.763681592039801,null,0,{"$f":"lista1!G209","v":0},0]
[{"$f":"lista1!A210","v":0},{"$f":"lista1!B210","v":"Mosaico granitico 30 x 30 cm colocado a la cal (No incluye pulido)"},{"$f":"lista1!C210","v":"m2"},1.763681592039801,null,0,{"$f":"lista1!G210","v":0},0]
[{"$f":"lista1!A211","v":0},{"$f":"lista1!B211","v":"Pulido de mosaico granito"},{"$f":"lista1!C211","v":"m2"},1.763681592039801,null,0,{"$f":"lista1!G211","v":0},0]
[{"$f":"lista1!A212","v":0},{"$f":"lista1!B212","v":"Porcelanato 30 x 30 rústico"},{"$f":"lista1!C212","v":"m2"},1.763681592039801,null,0,{"$f":"lista1!G212","v":0},0]
[{"$f":"lista1!A213","v":0},{"$f":"lista1!B213","v":"Hormigón estampado"},{"$f":"lista1!C213","v":"m2"},1.763681592039801,null,0,{"$f":"lista1!G213","v":0},0]
[{"$f":"lista1!A214","v":0},{"$f":"lista1!B214","v":"Cerámico azotea 20x20"},{"$f":"lista1!C214","v":"m2"},1.763681592039801,null,0,{"$f":"lista1!G214","v":0},0]
[{"$f":"lista1!A215","v":0},{"$f":"lista1!B215","v":"Baldosón de cemento sobre discos plásticos"},{"$f":"lista1!C215","v":"m2"},1.763681592039801,null,0,{"$f":"lista1!G215","v":0},0]
[{"$f":"lista1!A216","v":0},{"$f":"lista1!B216","v":0},{"$f":"lista1!C216","v":0},null,null,null,{"$f":"lista1!G216","v":0}]
[{"$f":"lista1!A217","v":18},{"$f":"lista1!B217","v":"Pisos especiales"},{"$f":"lista1!C217","v":0},null,null,null,{"$f":"lista1!G217","v":0}]
[{"$f":"lista1!A218","v":0},{"$f":"lista1!B218","v":"Parquet Eucaliptus con cola adhesiva"},{"$f":"lista1!C218","v":"m2"},{"$f":"$N$27","v":1.763681592039801},null,{"$f":"D218*E218","v":0},{"$f":"lista1!G218","v":0},{"$f":"+F218*G218","v":0}]
[{"$f":"lista1!A219","v":0},{"$f":"lista1!B219","v":"Parquet con adhesivo epoxi bi-componentes"},{"$f":"lista1!C219","v":"m2"},{"$f":"$N$27","v":1.763681592039801},null,{"$f":"D219*E219","v":0},{"$f":"lista1!G219","v":0},{"$f":"+F219*G219","v":0}]
[{"$f":"lista1!A220","v":0},{"$f":"lista1!B220","v":"Entablonado tarugado Viraró sobre alfajías"},{"$f":"lista1!C220","v":"m2"},1.763681592039801,null,0,{"$f":"lista1!G220","v":0},0]
[{"$f":"lista1!A221","v":0},{"$f":"lista1!B221","v":"Pulido y plastificado de pisos de madera"},{"$f":"lista1!C221","v":"m2"},1.763681592039801,null,0,{"$f":"lista1!G221","v":0},0]
[{"$f":"lista1!A222","v":0},{"$f":"lista1!B222","v":"Piso de goma con aplicación de masa niveladora y adhesivo"},{"$f":"lista1!C222","v":"m2"},1.763681592039801,null,0,{"$f":"lista1!G222","v":0},0]
[{"$f":"lista1!A223","v":0},{"$f":"lista1!B223","v":"Alfombra de Nylon pelo cortado aplicada con adhesivo"},{"$f":"lista1!C223","v":"m2"},1.763681592039801,null,0,{"$f":"lista1!G223","v":0},0]
[{"$f":"lista1!A224","v":0},{"$f":"lista1!B224","v":"Adoquines graniticos 9 x 9 x 9 sobre manto de arena"},{"$f":"lista1!C224","v":"m2"},1.763681592039801,null,0,{"$f":"lista1!G224","v":0},0]
[{"$f":"lista1!A225","v":0},{"$f":"lista1!B225","v":"Bloques intertrabados colocado sobre manto de arena"},{"$f":"lista1!C225","v":"m2"},1.763681592039801,null,0,{"$f":"lista1!G225","v":0},0]
[{"$f":"lista1!A226","v":0},{"$f":"lista1!B226","v":"Piso flotante de madera"},{"$f":"lista1!C226","v":"m2"},1.763681592039801,null,0,{"$f":"lista1!G226","v":0},0]
[{"$f":"lista1!A227","v":0},{"$f":"lista1!B227","v":"Piso térmico elevado (sin terminación)"},{"$f":"lista1!C227","v":"m2"},1.763681592039801,null,0,{"$f":"lista1!G227","v":0},0]
[{"$f":"lista1!A228","v":0},{"$f":"lista1!B228","v":"Alfombra modular para piso técnico"},{"$f":"lista1!C228","v":"m2"},1.763681592039801,null,0,{"$f":"lista1!G228","v":0},0]
[{"$f":"lista1!A229","v":0},{"$f":"lista1!B229","v":0},{"$f":"lista1!C229","v":0},null,null,null,{"$f":"lista1!G229","v":0}]
[{"$f":"lista1!A230","v":19},{"$f":"lista1!B230","v":"Escaleras"},{"$f":"lista1!C230","v":0},null,null,null,{"$f":"lista1!G230","v":0}]
[{"$f":"lista1!A231","v":0},{"$f":"lista1!B231","v":"Carpeta de nivelación"},{"$f":"lista1!C231","v":"m2"},{"$f":"$N$27","v":1.763681592039801},null,{"$f":"D231*E231","v":0},{"$f":"lista1!G231","v":0},{"$f":"+F231*G231","v":0}]
[{"$f":"lista1!A232","v":0},{"$f":"lista1!B232","v":"Alzada y pedada de cemento alisado "},{"$f":"lista1!C232","v":"m2"},1.763681592039801,null,0,{"$f":"lista1!G232","v":0},0]
[{"$f":"lista1!A233","v":0},{"$f":"lista1!B233","v":"Naríz metálica"},{"$f":"lista1!C233","v":"ml"},1.763681592039801,null,0,{"$f":"lista1!G233","v":0},0]
[{"$f":"lista1!A234","v":0},{"$f":"lista1!B234","v":"Zócalo de cemento alisado rampante"},{"$f":"lista1!C234","v":"ml"},1.763681592039801,null,0,{"$f":"lista1!G234","v":0},0]
[{"$f":"lista1!A235","v":0},{"$f":"lista1!B235","v":"Alzada y pedada de cerámica 20 x 20 ( Incluye cortes ) "},{"$f":"lista1!C235","v":"m2"},1.763681592039801,null,0,{"$f":"lista1!G235","v":0},0]
[{"$f":"lista1!A236","v":0},{"$f":"lista1!B236","v":"Alzada y pedada granítica reconstituida "},{"$f":"lista1!C236","v":"m2"},1.763681592039801,null,0,{"$f":"lista1!G236","v":0},0]
[{"$f":"lista1!A237","v":0},{"$f":"lista1!B237","v":0},{"$f":"lista1!C237","v":0},null,null,null,{"$f":"lista1!G237","v":0}]
[{"$f":"lista1!A238","v":20},{"$f":"lista1!B238","v":"Zócalos"},{"$f":"lista1!C238","v":"Unid."},null,"Precio",null,{"$f":"lista1!G238","v":"Cantid."},"Parcial"]
[{"$f":"lista1!A239","v":0},{"$f":"lista1!B239","v":"Cemento alisado"},{"$f":"lista1!C239","v":"ml"},{"$f":"$N$27","v":1.763681592039801},null,{"$f":"D239*E239","v":0},{"$f":"lista1!G239","v":0},{"$f":"+F239*G239","v":0}]
[{"$f":"lista1!A240","v":0},{"$f":"lista1!B240","v":"Zócalo de madera 1/2\" x 2\" liso"},{"$f":"lista1!C240","v":"ml"},{"$f":"$N$27","v":1.763681592039801},null,{"$f":"D240*E240","v":0},{"$f":"lista1!G240","v":0},{"$f":"+F240*G240","v":0}]
[{"$f":"lista1!A241","v":0},{"$f":"lista1!B241","v":"Zócalo de cerámica"},{"$f":"lista1!C241","v":"ml"},{"$f":"$N$27","v":1.763681592039801},null,{"$f":"D241*E241","v":0},{"$f":"lista1!G241","v":173.55999999999997},{"$f":"+F241*G241","v":0}]
[{"$f":"lista1!A242","v":0},{"$f":"lista1!B242","v":"Zócalo granítico"},{"$f":"lista1!C242","v":"ml"},{"$f":"$N$27","v":1.763681592039801},null,{"$f":"D242*E242","v":0},{"$f":"lista1!G242","v":0},{"$f":"+F242*G242","v":0}]
[{"$f":"lista1!A243","v":0},{"$f":"lista1!B243","v":0},{"$f":"lista1!C243","v":0},null,null,null,{"$f":"lista1!G243","v":0}]
[{"$f":"lista1!A244","v":21},{"$f":"lista1!B244","v":"Marmoleria"},{"$f":"lista1!C244","v":0},null,null,null,{"$f":"lista1!G244","v":0}]
[{"$f":"lista1!A245","v":0},{"$f":"lista1!B245","v":"Mesada de granito gris mara ancho 60 cm ( incluye trasforo, pileta y griferías )"},{"$f":"lista1!C245","v":"ml"},{"$f":"$N$27","v":1.763681592039801},null,{"$f":"D245*E245","v":0},{"$f":"lista1!G245","v":6.3},{"$f":"+F245*G245","v":0}]
[{"$f":"lista1!A246","v":0},{"$f":"lista1!B246","v":"Frentín de mesada de granito gris 20 cm"},{"$f":"lista1!C246","v":"ml"},{"$f":"$N$27","v":1.763681592039801},null,{"$f":"D246*E246","v":0},{"$f":"lista1!G246","v":0},{"$f":"+F246*G246","v":0}]
[{"$f":"lista1!A247","v":0},{"$f":"lista1!B247","v":"Respaldo de granito gris 60 cm"},{"$f":"lista1!C247","v":"ml"},1.763681592039801,null,0,{"$f":"lista1!G247","v":0},0]
[{"$f":"lista1!A248","v":0},{"$f":"lista1!B248","v":"Piso de marmetas de granito gris mara "},{"$f":"lista1!C248","v":"m2"},1.763681592039801,null,0,{"$f":"lista1!G248","v":0},0]
[{"$f":"lista1!A249","v":0},{"$f":"lista1!B249","v":"Revestimiento de marmetas de granito gris"},{"$f":"lista1!C249","v":"m2"},1.763681592039801,null,0,{"$f":"lista1!G249","v":0},0]
[{"$f":"lista1!A250","v":0},{"$f":"lista1!B250","v":0},{"$f":"lista1!C250","v":0},null,null,null,{"$f":"lista1!G250","v":0}]
[{"$f":"lista1!A251","v":0},{"$f":"lista1!B251","v":"Colocaciones "},{"$f":"lista1!C251","v":0},null,null,null,{"$f":"lista1!G251","v":0}]
[{"$f":"lista1!A252","v":0},{"$f":"lista1!B252","v":"zocalos de Mesadas (corte transv hasta 10cm/m longitudinal, fijar con claucol o silicona, tomar juntas)"},{"$f":"lista1!C252","v":"ml"},1.763681592039801,null,0,{"$f":"lista1!G252","v":6.3},0]
[{"$f":"lista1!A253","v":0},{"$f":"lista1!B253","v":"Revestimiento de mármol o grantio sobre pared"},{"$f":"lista1!C253","v":"m2"},1.763681592039801,null,0,{"$f":"lista1!G253","v":0},0]
[{"$f":"lista1!A254","v":0},{"$f":"lista1!B254","v":"Piso de mármol o granito"},{"$f":"lista1!C254","v":"m2"},1.763681592039801,null,0,{"$f":"lista1!G254","v":0},0]
[{"$f":"lista1!A255","v":0},{"$f":"lista1!B255","v":"Marmetas piso"},{"$f":"lista1!C255","v":"m2"},1.763681592039801,null,0,{"$f":"lista1!G255","v":0},0]
[{"$f":"lista1!A256","v":0},{"$f":"lista1!B256","v":"Marmetas revestimiento"},{"$f":"lista1!C256","v":"m2"},1.763681592039801,null,0,{"$f":"lista1!G256","v":0},0]
[{"$f":"lista1!A257","v":0},{"$f":"lista1!B257","v":0},{"$f":"lista1!C257","v":0},null,null,null,{"$f":"lista1!G257","v":0}]
[{"$f":"lista1!A258","v":22},{"$f":"lista1!B258","v":"Pinturas"},{"$f":"lista1!C258","v":0},null,null,null,{"$f":"lista1!G258","v":0}]
[{"$f":"lista1!A259","v":0},{"$f":"lista1!B259","v":"Se consideran en todos los casos el enduído parcial. Aplicación de fijador y 3 manos de pintura"},{"$f":"lista1!C259","v":0},null,null,null,{"$f":"lista1!G259","v":0}]
[{"$f":"lista1!A260","v":0},{"$f":"lista1!B260","v":"Latex sobre muros interiores"},{"$f":"lista1!C260","v":"m2"},{"$f":"$N$27","v":1.763681592039801},null,{"$f":"D260*E260","v":0},{"$f":"lista1!G260","v":342.03623999999996},{"$f":"+F260*G260","v":0}]
[{"$f":"lista1!A261","v":0},{"$f":"lista1!B261","v":"Latex sobre cielo rasos"},{"$f":"lista1!C261","v":"m2"},{"$f":"$N$27","v":1.763681592039801},null,{"$f":"D261*E261","v":0},{"$f":"lista1!G261","v":104.05},{"$f":"+F261*G261","v":0}]
[{"$f":"lista1!A262","v":0},{"$f":"lista1!B262","v":"Latex acrílico sobre muros exteriores"},{"$f":"lista1!C262","v":"m2"},1.763681592039801,null,0,{"$f":"lista1!G262","v":146.58696},0]
[{"$f":"lista1!A263","v":0},{"$f":"lista1!B263","v":"Silicona s/ladrillo visto (m2)"},{"$f":"lista1!C263","v":"m2"},1.763681592039801,null,0,{"$f":"lista1!G263","v":0},0]
[{"$f":"lista1!A264","v":0},{"$f":"lista1!B264","v":"Esmalte sintético s/carpinterías"},{"$f":"lista1!C264","v":"m2"},1.763681592039801,null,0,{"$f":"lista1!G264","v":0},0]
[{"$f":"lista1!A265","v":0},{"$f":"lista1!B265","v":"Esmalte sintético s/carp metál"},{"$f":"lista1!C265","v":"m2"},1.763681592039801,null,0,{"$f":"lista1!G265","v":0},0]
[{"$f":"lista1!A266","v":0},{"$f":"lista1!B266","v":"Esmalte sintético sobre estructuras metáilcas"},{"$f":"lista1!C266","v":"tn"},1.763681592039801,null,0,{"$f":"lista1!G266","v":0},0]
[{"$f":"lista1!A267","v":0},{"$f":"lista1!B267","v":"Barniz marino. 1º mano con barniceta y 2º de barniz (este item tmb sirve para impregnantes)"},{"$f":"lista1!C267","v":"m2"},1.763681592039801,null,0,{"$f":"lista1!G267","v":12.8},0]
[{"$f":"lista1!A268","v":0},{"$f":"lista1!B268","v":"Impermeabilizante fibrado para techos ( 2 manos )"},{"$f":"lista1!C268","v":"m2"},1.763681592039801,null,0,{"$f":"lista1!G268","v":0},0]
[{"$f":"lista1!A269","v":0},{"$f":"lista1!B269","v":"Empapelado de paredes con papel base"},{"$f":"lista1!C269","v":"m2"},1.763681592039801,null,0,{"$f":"lista1!G269","v":0},0]
[{"$f":"lista1!A270","v":0},{"$f":"lista1!B270","v":0},{"$f":"lista1!C270","v":0},null,null,null,{"$f":"lista1!G270","v":0}]
[{"$f":"lista1!A271","v":23},{"$f":"lista1!B271","v":"Artefactos Sanitarios - Accesorios Griferías"},{"$f":"lista1!C271","v":"Unid."},null,"Precio",null,{"$f":"lista1!G271","v":"Cantid."},"Parcial"]
[{"$f":"lista1!A272","v":0},{"$f":"lista1!B272","v":"Colocación de artefactos sanitarios"},{"$f":"lista1!C272","v":"u"},{"$f":"$N$27","v":1.763681592039801},null,{"$f":"D272*E272","v":0},{"$f":"lista1!G272","v":2},{"$f":"+F272*G272","v":0}]
[{"$f":"lista1!A273","v":0},{"$f":"lista1!B273","v":"Colocación de accesorios sanitarios"},{"$f":"lista1!C273","v":"u"},{"$f":"$N$27","v":1.763681592039801},null,{"$f":"D273*E273","v":0},{"$f":"lista1!G273","v":4},{"$f":"+F273*G273","v":0}]
[{"$f":"lista1!A274","v":0},{"$f":"lista1!B274","v":"Colocación de griferías"},{"$f":"lista1!C274","v":"u"},{"$f":"$N$27","v":1.763681592039801},null,{"$f":"D274*E274","v":0},{"$f":"lista1!G274","v":2},{"$f":"+F274*G274","v":0}]
[{"$f":"lista1!A275","v":0},{"$f":"lista1!B275","v":0},{"$f":"lista1!C275","v":0},null,null,null,{"$f":"lista1!G275","v":0}]
[{"$f":"lista1!A276","v":24},{"$f":"lista1!B276","v":"Carpinterías Metálicas"},{"$f":"lista1!C276","v":0},"cf","prec","prec",{"$f":"lista1!G276","v":0}]
[{"$f":"lista1!A277","v":0},{"$f":"lista1!B277","v":"No incluyen los vidrios"},{"$f":"lista1!C277","v":0},null,"vjo","act.",{"$f":"lista1!G277","v":0}]
[{"$f":"lista1!A278","v":0},{"$f":"lista1!B278","v":"Marco de chapa y puerta doble chapa muro 15cm de espesor. Incluye herraje"},{"$f":"lista1!C278","v":"u"},{"$f":"$N$27","v":1.763681592039801},null,{"$f":"D278*E278","v":0},{"$f":"lista1!G278","v":1},{"$f":"+F278*G278","v":0}]
[{"$f":"lista1!A279","v":0},{"$f":"lista1!B279","v":"Marco de chapa muro 15cm espesor. Incluye juego de pomelas"},{"$f":"lista1!C279","v":"u"},{"$f":"$N$27","v":1.763681592039801},null,{"$f":"D279*E279","v":0},{"$f":"lista1!G279","v":0},{"$f":"+F279*G279","v":0}]
[{"$f":"lista1!A280","v":0},{"$f":"lista1!B280","v":"Marco chapa y puerta simple chapa muro 15cm de espesor. Incluye herrajes"},{"$f":"lista1!C280","v":"u"},1.763681592039801,null,0,{"$f":"lista1!G280","v":0},0]
[{"$f":"lista1!A281","v":0},{"$f":"lista1!B281","v":"Marco placard con baulera 2x2 m p/muro 10cm espesor hojas corredizas o de abrir. Incluye herrajes."},{"$f":"lista1!C281","v":"u"},1.763681592039801,null,0,{"$f":"lista1!G281","v":0},0]
[{"$f":"lista1!A282","v":0},{"$f":"lista1!B282","v":"Baranda pasamanos, dos travesaños, parantes planchuela"},{"$f":"lista1!C282","v":"ml"},1.763681592039801,null,0,{"$f":"lista1!G282","v":0},0]
[{"$f":"lista1!A283","v":0},{"$f":"lista1!B283","v":"Baranda pasamanos, travesaños y malla artística"},{"$f":"lista1!C283","v":"ml"},1.763681592039801,null,0,{"$f":"lista1!G283","v":0},0]
[{"$f":"lista1!A284","v":0},{"$f":"lista1!B284","v":"Baranda pasamanos, travesaños y vidrio laminado"},{"$f":"lista1!C284","v":"ml"},1.763681592039801,null,0,{"$f":"lista1!G284","v":0},0]
[{"$f":"lista1!A285","v":0},{"$f":"lista1!B285","v":"Reja de hierro redondo y planchuela"},{"$f":"lista1!C285","v":"m2"},1.763681592039801,null,0,{"$f":"lista1!G285","v":0},0]
[{"$f":"lista1!A286","v":0},{"$f":"lista1!B286","v":"Puerta doble chapa F60 DDN 16"},{"$f":"lista1!C286","v":"u"},1.763681592039801,null,0,{"$f":"lista1!G286","v":0},0]
[{"$f":"lista1!A287","v":0},{"$f":"lista1!B287","v":"Puerta doble chapa DDN 16"},{"$f":"lista1!C287","v":"u"},1.763681592039801,null,0,{"$f":"lista1!G287","v":0},0]
[{"$f":"lista1!A288","v":0},{"$f":"lista1!B288","v":"Escalera caracol diámetro 1,4 (por piso)"},{"$f":"lista1!C288","v":"u"},1.763681592039801,null,0,{"$f":"lista1!G288","v":0},0]
[{"$f":"lista1!A289","v":0},{"$f":"lista1!B289","v":"Escalera gato sin guarda hombre"},{"$f":"lista1!C289","v":"ml"},1.763681592039801,null,0,{"$f":"lista1!G289","v":0},0]
[{"$f":"lista1!A290","v":0},{"$f":"lista1!B290","v":"Escalera metálica con peldaños de madera"},{"$f":"lista1!C290","v":"ml"},1.763681592039801,null,0,{"$f":"lista1!G290","v":0},0]
[{"$f":"lista1!A291","v":0},{"$f":"lista1!B291","v":"Pasamanos de hierro"},{"$f":"lista1!C291","v":"ml"},1.763681592039801,null,0,{"$f":"lista1!G291","v":0},0]
[{"$f":"lista1!A292","v":0},{"$f":"lista1!B292","v":0},{"$f":"lista1!C292","v":0},null,null,null,{"$f":"lista1!G292","v":0}]
[{"$f":"lista1!A293","v":25},{"$f":"lista1!B293","v":"Carpinterías de madera"},{"$f":"lista1!C293","v":0},null,null,null,{"$f":"lista1!G293","v":0}]
[{"$f":"lista1!A294","v":0},{"$f":"lista1!B294","v":"No incluyen los vidrios"},{"$f":"lista1!C294","v":0},null,null,null,{"$f":"lista1!G294","v":0}]
[{"$f":"lista1!A295","v":0},{"$f":"lista1!B295","v":"Ventana 1.50x1.50 incluyen herrajes. No incluye vidrios ni pintura"},{"$f":"lista1!C295","v":"m2"},{"$f":"$N$27","v":1.763681592039801},null,{"$f":"D295*E295","v":0},{"$f":"lista1!G295","v":0},{"$f":"+F295*G295","v":0}]
[{"$f":"lista1!A296","v":0},{"$f":"lista1!B296","v":"Ventana vidrio repartido 1.50x1.50 incluye herrajes. No incluye vidrios ni pintura"},{"$f":"lista1!C296","v":"m2"},{"$f":"$N$27","v":1.763681592039801},null,{"$f":"D296*E296","v":0},{"$f":"lista1!G296","v":0},{"$f":"+F296*G296","v":0}]
[{"$f":"lista1!A297","v":0},{"$f":"lista1!B297","v":"Mueble de cocina bajomesada. Incluye herrajes"},{"$f":"lista1!C297","v":"ml"},1.763681592039801,null,0,{"$f":"lista1!G297","v":0},0]
[{"$f":"lista1!A298","v":0},{"$f":"lista1!B298","v":"Alacena. Incluye herrajes"},{"$f":"lista1!C298","v":"ml"},1.763681592039801,null,0,{"$f":"lista1!G298","v":0},0]
[{"$f":"lista1!A299","v":0},{"$f":"lista1!B299","v":"Escobero (ml de alzada) Incluye herrajes"},{"$f":"lista1!C299","v":"ml"},1.763681592039801,null,0,{"$f":"lista1!G299","v":0},0]
[{"$f":"lista1!A300","v":0},{"$f":"lista1!B300","v":"Colocación muebles de cocina"},{"$f":"lista1!C300","v":"ml"},1.763681592039801,null,0,{"$f":"lista1!G300","v":0},0]
[{"$f":"lista1!A301","v":0},{"$f":"lista1!B301","v":"Puerta de acceso (entablonado ambas caras) en cedro nacional. Incluye herrajes"},{"$f":"lista1!C301","v":"m2"},1.763681592039801,null,0,{"$f":"lista1!G301","v":0},0]
[{"$f":"lista1!A302","v":0},{"$f":"lista1!B302","v":"Baranda pasamanos y malla artística"},{"$f":"lista1!C302","v":"ml"},1.763681592039801,null,0,{"$f":"lista1!G302","v":0},0]
[{"$f":"lista1!A303","v":0},{"$f":"lista1!B303","v":"Baranda pasamanos y travesaños"},{"$f":"lista1!C303","v":"ml"},1.763681592039801,null,0,{"$f":"lista1!G303","v":0},0]
[{"$f":"lista1!A304","v":0},{"$f":"lista1!B304","v":"Pasamanos"},{"$f":"lista1!C304","v":"ml"},1.763681592039801,null,0,{"$f":"lista1!G304","v":0},0]
[{"$f":"lista1!A305","v":0},{"$f":"lista1!B305","v":"Escalera de madera con baranda"},{"$f":"lista1!C305","v":"u"},1.763681592039801,null,0,{"$f":"lista1!G305","v":0},0]
[{"$f":"lista1!A306","v":0},{"$f":"lista1!B306","v":"Puerta placa"},{"$f":"lista1!C306","v":"u"},1.763681592039801,null,0,{"$f":"lista1!G306","v":0},0]
[{"$f":"lista1!A307","v":0},{"$f":"lista1!B307","v":0},{"$f":"lista1!C307","v":0},null,null,null,{"$f":"lista1!G307","v":0}]
[{"$f":"lista1!A308","v":26},{"$f":"lista1!B308","v":"Carpinterías de Aluminio y accesorios de fachadas"},{"$f":"lista1!C308","v":"Unid."},null,"Precio",null,{"$f":"lista1!G308","v":"Cantid."},"Parcial"]
[{"$f":"lista1!A309","v":0},{"$f":"lista1!B309","v":"Incluyen los vidrios"}]
[{"$f":"lista1!A310","v":0},{"$f":"lista1!B310","v":"Premarco"},{"$f":"lista1!C310","v":"m2"},{"$f":"$N$27","v":1.763681592039801},null,{"$f":"D310*E310","v":0},{"$f":"lista1!G310","v":4},{"$f":"+F310*G310","v":0}]
[{"$f":"lista1!A311","v":0},{"$f":"lista1!B311","v":"Aluminio 1.50x1.50m hojas de abrir. Incluye herrajes"},{"$f":"lista1!C311","v":"m2"},{"$f":"$N$27","v":1.763681592039801},null,{"$f":"D311*E311","v":0},{"$f":"lista1!G311","v":4},{"$f":"+F311*G311","v":0}]
[{"$f":"lista1!A312","v":0},{"$f":"lista1!B312","v":"Baranda"},{"$f":"lista1!C312","v":"ml"},{"$f":"$N$27","v":1.763681592039801},null,{"$f":"D312*E312","v":0},{"$f":"lista1!G312","v":0},{"$f":"+F312*G312","v":0}]
[{"$f":"lista1!A313","v":0},{"$f":"lista1!B313","v":"Baranda vidrio laminado"},{"$f":"lista1!C313","v":"ml"},{"$f":"$N$27","v":1.763681592039801},null,{"$f":"D313*E313","v":0},{"$f":"lista1!G313","v":0},{"$f":"+F313*G313","v":0}]
[{"$f":"lista1!A314","v":0},{"$f":"lista1!B314","v":"puerta de aluminio de 0,80*2,00 de abrir comun, izquierdo, con marco y herrajes"},{"$f":"lista1!C314","v":"u"},null,null,null,{"$f":"lista1!G314","v":2}]
[{"$f":"lista1!A315","v":27},{"$f":"lista1!B315","v":"Cristales"},{"$f":"lista1!C315","v":0},null,null,null,{"$f":"lista1!G315","v":0}]
[{"$f":"lista1!A316","v":0},{"$f":"lista1!B316","v":"Se considera la mano de obra y materiales"},{"$f":"lista1!C316","v":0},null,null,null,{"$f":"lista1!G316","v":0}]
[{"$f":"lista1!A317","v":0},{"$f":"lista1!B317","v":"Espejo float 6 mm"},{"$f":"lista1!C317","v":"m2"},{"$f":"$N$27","v":1.763681592039801},null,{"$f":"D317*E317","v":0},{"$f":"lista1!G317","v":0},{"$f":"+F317*G317","v":0}]
[{"$f":"lista1!A318","v":0},{"$f":"lista1!B318","v":"Vidrio de 4 mm"},{"$f":"lista1!C318","v":"m2"},{"$f":"$N$27","v":1.763681592039801},null,{"$f":"D318*E318","v":0},{"$f":"lista1!G318","v":0},{"$f":"+F318*G318","v":0}]
[{"$f":"lista1!A319","v":0},{"$f":"lista1!B319","v":"Vidrio de 6 mm"},{"$f":"lista1!C319","v":"m2"},{"$f":"$N$27","v":1.763681592039801},null,{"$f":"D319*E319","v":0},{"$f":"lista1!G319","v":0},{"$f":"+F319*G319","v":0}]
[{"$f":"lista1!A320","v":0},{"$f":"lista1!B320","v":"Laminado de seguridad 3 + 3 mm"},{"$f":"lista1!C320","v":"m2"},{"$f":"$N$27","v":1.763681592039801},null,{"$f":"D320*E320","v":0},{"$f":"lista1!G320","v":0},{"$f":"+F320*G320","v":0}]
[{"$f":"lista1!A321","v":0},{"$f":"lista1!B321","v":0},{"$f":"lista1!C321","v":0},null,null,null,{"$f":"lista1!G321","v":0}]
[{"$f":"lista1!A322","v":28},{"$f":"lista1!B322","v":"Limpieza y ayuda de gremios"},{"$f":"lista1!C322","v":0},null,null,null,{"$f":"lista1!G322","v":0}]
[{"$f":"lista1!A323","v":0},{"$f":"lista1!B323","v":"Limpieza periódica"},{"$f":"lista1!C323","v":"mes"},{"$f":"$N$27","v":1.763681592039801},null,{"$f":"D323*E323","v":0},{"$f":"lista1!G323","v":0},{"$f":"+F323*G323","v":0}]
[{"$f":"lista1!A324","v":0},{"$f":"lista1!B324","v":"Limpieza final"},{"$f":"lista1!C324","v":"m2"},{"$f":"$N$27","v":1.763681592039801},null,{"$f":"D324*E324","v":0},{"$f":"lista1!G324","v":0},{"$f":"+F324*G324","v":0}]
[{"$f":"lista1!A325","v":0},{"$f":"lista1!B325","v":"Ayuda de gremios"},{"$f":"lista1!C325","v":"m2"},{"$f":"$N$27","v":1.763681592039801},null,{"$f":"D325*E325","v":0},{"$f":"lista1!G325","v":0},{"$f":"+F325*G325","v":0}]
[{"$f":"lista1!A326","v":0},{"$f":"lista1!B326","v":0},{"$f":"lista1!C326","v":0},null,null,null,{"$f":"lista1!G326","v":0}]
[{"$f":"lista1!A327","v":29},{"$f":"lista1!B327","v":"Instalación sanitaria"},{"$f":"lista1!C327","v":0},null,null,null,{"$f":"lista1!G327","v":0}]
[{"$f":"lista1!A328","v":0},{"$f":"lista1!B328","v":"Distribución de agua fría y caliente de polipropileno, desagües en PVC aprobado cloacal. Núcleo baño/cocina/lavadero propiedad horizontal incluye la parte proporcional de la montante, bajada, tanque e instalación general"},{"$f":"lista1!C328","v":0},null,null,null,{"$f":"lista1!G328","v":0}]
[{"$f":"lista1!A329","v":0},{"$f":"lista1!B329","v":"Baño principal (bañera-bidet-lavaratorio-inodoro) cloaca agua fría y caliente, ventilaciones, colocación de artefactos y griferías"},{"$f":"lista1!C329","v":"gl"},{"$f":"$N$27","v":1.763681592039801},null,{"$f":"D329*E329","v":0},{"$f":"lista1!G329","v":0.7},{"$f":"+F329*G329","v":0}]
[{"$f":"lista1!A330","v":0},{"$f":"lista1!B330","v":"Cocina y lavadero (pileta de cocina y de lavar) Cloaca. Incluye la instalación de artefactos y broncería. Artefactos no incluídos"},{"$f":"lista1!C330","v":"gl"},{"$f":"$N$27","v":1.763681592039801},null,{"$f":"D330*E330","v":0},{"$f":"lista1!G330","v":0.7},{"$f":"+F330*G330","v":0}]
[{"$f":"lista1!A331","v":0},{"$f":"lista1!B331","v":"Construcción de cámara de inspección 60*60 con tapas y marcos prefabricados"},{"$f":"lista1!C331","v":"gl"},{"$f":"$N$27","v":1.763681592039801},null,{"$f":"D331*E331","v":0},{"$f":"lista1!G331","v":1},{"$f":"+F331*G331","v":0}]
[{"$f":"lista1!A332","v":30},{"$f":"lista1!B332","v":"Instalación de Gas "},{"$f":"lista1!C332","v":"Unid."},null,"Precio",null,{"$f":"lista1!G332","v":"Cantid."},"Parcial"]
[{"$f":"lista1!A333","v":0},{"$f":"lista1!B333","v":0}]
[{"$f":"lista1!A334","v":0},{"$f":"lista1!B334","v":"Cocina y calefon completa (cañería conexiones llaves medidor) (artefactos no incluidos)"},{"$f":"lista1!C334","v":"gl"},{"$f":"$N$27","v":1.763681592039801},null,{"$f":"D334*E334","v":0},{"$f":"lista1!G334","v":1},{"$f":"+F334*G334","v":0}]
[{"$f":"lista1!A335","v":0},{"$f":"lista1!B335","v":"calefactores (precios aprox. Que incluya: artefacto,3 m cañ de gas y total cañ ventil. Sombrer., llav paso,gramp, etc. )"},{"$f":"lista1!C335","v":"ud"},1.763681592039801,null,0,{"$f":"lista1!G335","v":2},0]
[{"$f":"lista1!A336","v":0},{"$f":"lista1!B336","v":"cocina (precios aprox. Que incluya artefacto, total cañ ventil., Sombrer., sell., grampas, etc.)"},{"$f":"lista1!C336","v":"ud"},1.763681592039801,null,0,{"$f":"lista1!G336","v":1},0]
[{"$f":"lista1!A337","v":0},{"$f":"lista1!B337","v":"calefon (precios aprox. Que incluya artefacto, total cañ ventil., Sombrer., sell., grampas, etc.)"},{"$f":"lista1!C337","v":"ud"},1.763681592039801,null,0,{"$f":"lista1!G337","v":1},0]
[{"$f":"lista1!A338","v":0},{"$f":"lista1!B338","v":"planos de gas y cálculos varios todo referido a consumo de gas viv. Unifamiliar"},{"$f":"lista1!C338","v":"gl"},1.763681592039801,null,0,{"$f":"lista1!G338","v":1},0]
[{"$f":"lista1!A339","v":0},{"$f":"lista1!B339","v":"tramit(etap parc. cañ.$2700 + aranceles por soldadura de servicio $1700 + etap fnal tasa mun3500 + apro final 2600"},{"$f":"lista1!C339","v":"gl"},1.763681592039801,null,0,{"$f":"lista1!G339","v":1},0]
[{"$f":"lista1!A340","v":0},{"$f":"lista1!B340","v":0},{"$f":"lista1!C340","v":0},null,null,null,{"$f":"lista1!G340","v":0}]
[{"$f":"lista1!A341","v":31},{"$f":"lista1!B341","v":"Instalación termomecánica "},{"$f":"lista1!C341","v":0},null,null,null,{"$f":"lista1!G341","v":0}]
[{"$f":"lista1!A342","v":0},{"$f":"lista1!B342","v":"Materiales: caño de polietileno reticulado. Recordar aislación térmica y tapado de caños con concreto"},{"$f":"lista1!C342","v":0},null,null,null,{"$f":"lista1!G342","v":0}]
[{"$f":"lista1!A343","v":0},{"$f":"lista1!B343","v":"Piso radiante conexiones a provisión de calor"},{"$f":"lista1!C343","v":"m2"},{"$f":"$N$27","v":1.763681592039801},null,{"$f":"D343*E343","v":0},{"$f":"lista1!G343","v":0},{"$f":"+F343*G343","v":0}]
[{"$f":"lista1!A344","v":0},{"$f":"lista1!B344","v":"Cañería y radiadores con conexiones a provisión de calor. No incluye caldera"},{"$f":"lista1!C344","v":"m2"},{"$f":"$N$27","v":1.763681592039801},null,{"$f":"D344*E344","v":0},{"$f":"lista1!G344","v":0},{"$f":"+F344*G344","v":0}]
[{"$f":"lista1!A345","v":0},{"$f":"lista1!B345","v":0},{"$f":"lista1!C345","v":0},null,null,null,{"$f":"lista1!G345","v":0}]
[{"$f":"lista1!A346","v":32},{"$f":"lista1!B346","v":"Instalación eléctrica"},{"$f":"lista1!C346","v":0},null,null,null,{"$f":"lista1!G346","v":0}]
[{"$f":"lista1!A347","v":0},{"$f":"lista1!B347","v":"Boca de aluminio y toma - Nota: se considera boca a cada centro y brazo, y a caja de toma. Para una cantidad aproximada de 40 bocas. Incluye incidencia de tablero general y tablero seccional"},{"$f":"lista1!C347","v":"u"},{"$f":"$N$27","v":1.763681592039801},null,{"$f":"D347*E347","v":0},{"$f":"lista1!G347","v":50},{"$f":"+F347*G347","v":0}]
[{"$f":"lista1!A348","v":0},{"$f":"lista1!B348","v":"Pilar completo (caja de medición, toma Jabalina, cruceta y pipeta"},{"$f":"lista1!C348","v":"gl"},{"$f":"$N$27","v":1.763681592039801},null,{"$f":"D348*E348","v":0},{"$f":"lista1!G348","v":1},{"$f":"+F348*G348","v":0}]
[{"$f":"lista1!A349","v":0},{"$f":"lista1!B349","v":"Boca timbre. Campanillas, caja, cables y 2 pulsadores"},{"$f":"lista1!C349","v":"u"},1.763681592039801,null,0,{"$f":"lista1!G349","v":1},0]
[{"$f":"lista1!A350","v":0},{"$f":"lista1!B350","v":"Boca TE"},{"$f":"lista1!C350","v":"u"},1.763681592039801,null,0,{"$f":"lista1!G350","v":2},0]
[{"$f":"lista1!A351","v":0},{"$f":"lista1!B351","v":"Boca TV o cable TV (vacía) Cañería de 1\""},{"$f":"lista1!C351","v":"u"},1.763681592039801,null,0,{"$f":"lista1!G351","v":3},0]
[{"$f":"lista1!A352","v":0},{"$f":"lista1!B352","v":"Boca de teléfono. Considera la insidencia de la caja de pase, sin bornera ni cables de montante"},{"$f":"lista1!C352","v":"u"},1.763681592039801,null,0,{"$f":"lista1!G352","v":0},0]
[{"$f":"lista1!A353","v":0},{"$f":"lista1!B353","v":"Tablero fuerza motriz ascensor"},{"$f":"lista1!C353","v":"u"},1.763681592039801,null,0,{"$f":"lista1!G353","v":0},0]
[{"$f":"lista1!A354","v":0},{"$f":"lista1!B354","v":"Tablero de bombas"},{"$f":"lista1!C354","v":"u"},1.763681592039801,null,0,{"$f":"lista1!G354","v":0},0]
[{"$f":"lista1!A355","v":0},{"$f":"lista1!B355","v":"Instalación de pararrayos altura 40 mts."},{"$f":"lista1!C355","v":"u"},1.763681592039801,null,0,{"$f":"lista1!G355","v":0},0]
[{"$f":"lista1!A356","v":0},{"$f":"lista1!B356","v":"Colocación de artefactos"},{"$f":"lista1!C356","v":"u"},1.763681592039801,null,0,{"$f":"lista1!G356","v":0},0]
[{"$f":"lista1!A357","v":0},{"$f":"lista1!B357","v":0},{"$f":"lista1!C357","v":0},null,null,null,{"$f":"lista1!G357","v":0}]
[{"$f":"lista1!A358","v":33},{"$f":"lista1!B358","v":"Instalación contra incendio"},{"$f":"lista1!C358","v":0},null,null,null,{"$f":"lista1!G358","v":0}]
[{"$f":"lista1!A359","v":0},{"$f":"lista1!B359","v":"Boca de incendio completa. Incluye nicho, válvula, manguera, lanza, llave de ajuste y cañería"},{"$f":"lista1!C359","v":"u"},{"$f":"$N$27","v":1.763681592039801},null,{"$f":"D359*E359","v":0},{"$f":"lista1!G359","v":0},{"$f":"+F359*G359","v":0}]
[{"$f":"lista1!A360","v":0},{"$f":"lista1!B360","v":0},{"$f":"lista1!C360","v":0},null,null,null,{"$f":"lista1!G360","v":0}]
[{"$f":"lista1!A361","v":0},{"$f":"lista1!B361","v":0},{"$f":"lista1!C361","v":"Total"},null,"$",null,{"$f":"lista1!G361","v":3115.8489448320615},{"$f":"SUM(H4:H359)","v":37498.239653967568}]
[{"$f":"lista1!A362","v":0},{"$f":"lista1!B362","v":0},{"$f":"lista1!C362","v":0},null,null,null,{"$f":"lista1!G362","v":0}]
[{"$f":"lista1!A363","v":0},{"$f":"lista1!B363","v":0},{"$f":"lista1!C363","v":0},null,null,null,{"$f":"lista1!G363","v":0}]
[{"$f":"lista1!A364","v":0},{"$f":"lista1!B364","v":0},{"$f":"lista1!C364","v":0},null,null,null,{"$f":"lista1!G364","v":0}]
[{"$f":"lista1!A365","v":0},{"$f":"lista1!B365","v":0},{"$f":"lista1!C365","v":0},null,null,null,{"$f":"lista1!G365","v":0}]
[{"$f":"lista1!A366","v":0},{"$f":"lista1!B366","v":0},{"$f":"lista1!C366","v":0},null,null,null,{"$f":"lista1!G366","v":0}]
[{"$f":"lista1!A367","v":0},{"$f":"lista1!B367","v":0},{"$f":"lista1!C367","v":0},null,null,null,{"$f":"lista1!G367","v":0}]
[{"$f":"lista1!A368","v":0},{"$f":"lista1!B368","v":0},{"$f":"lista1!C368","v":0},null,null,null,{"$f":"lista1!G368","v":0}]
[null,{"$f":"lista1!B369","v":0},{"$f":"lista1!C369","v":0},null,null,null,{"$f":"lista1!G369","v":0}]
[null,{"$f":"lista1!B370","v":0},{"$f":"lista1!C370","v":0},null,null,null,{"$f":"lista1!G370","v":0}]
[null,{"$f":"lista1!B371","v":0},{"$f":"lista1!C371","v":0},null,"Unidad de medida",null,{"$f":"lista1!G371","v":0}]
[null,{"$f":"lista1!B372","v":0},{"$f":"lista1!C372","v":0},null,"meses",null,{"$f":"lista1!G372","v":0}]
[null,{"$f":"lista1!B373","v":0},{"$f":"lista1!C373","v":0},null,"20 % de precio final de la obra",null,{"$f":"lista1!G373","v":0}]
[null,{"$f":"lista1!B374","v":0},{"$f":"lista1!C374","v":0},null,60,null,{"$f":"lista1!G374","v":0}]
[null,{"$f":"lista1!B375","v":0},{"$f":"lista1!C375","v":0},null,2,null,{"$f":"lista1!G375","v":0}]
[null,{"$f":"lista1!B376","v":0},{"$f":"lista1!C376","v":0},null,0.15,null,{"$f":"lista1!G376","v":0}]
[null,{"$f":"lista1!B377","v":0},{"$f":"lista1!C377","v":0},null,0.04,null,{"$f":"lista1!G377","v":0}]
[null,{"$f":"lista1!B378","v":0},{"$f":"lista1!C378","v":0},null,0.02,null,{"$f":"lista1!G378","v":0}]
[null,{"$f":"lista1!B379","v":0},{"$f":"lista1!C379","v":0},null,null,null,{"$f":"lista1!G379","v":0}]
[null,{"$f":"lista1!B380","v":0},{"$f":"lista1!C380","v":0},null,null,null,{"$f":"lista1!G380","v":0}]
[null,{"$f":"lista1!B381","v":0},{"$f":"lista1!C381","v":0},null,null,null,{"$f":"lista1!G381","v":0}]
[null,{"$f":"lista1!B382","v":0},{"$f":"lista1!C382","v":0},null,null,null,{"$f":"lista1!G382","v":0}]
[null,{"$f":"lista1!B383","v":0},{"$f":"lista1!C383","v":0},null,null,null,{"$f":"lista1!G383","v":0}]
[null,{"$f":"lista1!B384","v":0},{"$f":"lista1!C384","v":0},null,null,null,{"$f":"lista1!G384","v":0}]
[null,{"$f":"lista1!B385","v":0},{"$f":"lista1!C385","v":0},null,null,null,{"$f":"lista1!G385","v":0}]
[null,{"$f":"lista1!B386","v":0},{"$f":"lista1!C386","v":0},null,null,null,{"$f":"lista1!G386","v":0}]

{"sheet":"lista3","index":2,"n_rows":386,"n_cols":20,"rows_kept":386,"cut":false,"hidden":false,"merged":[[59,2,60,2],[59,4,60,4],[59,6,60,6],[59,7,60,7],[27,17,27,18],[28,17,28,18],[33,2,34,2],[33,6,34,6],[33,7,34,7],[101,7,102,7],[167,2,168,2],[167,4,168,4],[167,6,168,6],[167,7,168,7],[1,6,1,7],[331,4,332,4],[331,6,332,6],[200,2,201,2],[200,4,201,4],[200,6,201,6],[200,7,201,7],[331,7,332,7],[307,2,308,2],[307,4,308,4],[307,6,308,6],[307,7,308,7],[331,2,332,2],[101,2,102,2],[101,4,102,4],[101,6,102,6]]}
[{"$f":"lista1!A1","v":"nro"},{"$f":"lista1!B1","v":"rubros o items"},{"$f":"lista1!C1","v":"Unid."},null,"$vjo","$nvo",{"$f":"lista1!G1","v":"Cantid."},"Parc."]
[{"$f":"lista1!A2","v":0},"http://www.construircordoba.com/precios-de-tareas/hormigon/","¿quiere usar estos precios?",null,null,null,"si",null,{"$f":"MAX((I3:I4=G2)*(J3:J4))","v":1}]
[{"$f":"lista1!A3","v":1},{"$f":"lista1!B3","v":"Trabajos preliminares"},{"$f":"lista1!C3","v":0},null,null,null,{"$f":"lista1!G3","v":0},null,"si",1]
[{"$f":"lista1!A4","v":0},{"$f":"lista1!B4","v":"Limpieza y nivelación del terreno"},{"$f":"lista1!C4","v":"m2"},{"$f":"$N$27","v":0.90225536571975007},null,{"$f":"D4*E4","v":0},{"$f":"lista1!G4","v":162.5},{"$f":"+F4*G4","v":0},"no",0]
[{"$f":"lista1!A5","v":0},{"$f":"lista1!B5","v":"Obrador, depósito y sanitarios"},{"$f":"lista1!C5","v":"m2"},{"$f":"$N$27","v":0.90225536571975007},null,{"$f":"D5*E5","v":0},{"$f":"lista1!G5","v":13},{"$f":"+F5*G5","v":0}]
[{"$f":"lista1!A6","v":0},{"$f":"lista1!B6","v":"desmonte en terreno comun (si en terr. C. roca disgregable con barreta se debera mult. Prec. X 2,3)"},{"$f":"lista1!C6","v":"m3"},{"$f":"$N$27","v":0.90225536571975007},246.64,{"$f":"D6*E6","v":222.53226340111914},{"$f":"lista1!G6","v":0},{"$f":"+F6*G6","v":0}]
[{"$f":"lista1!A7","v":2},{"$f":"lista1!B7","v":"Procedimientos y cumplimientos"},{"$f":"lista1!C7","v":0},null,null,null,{"$f":"lista1!G7","v":0}]
[{"$f":"lista1!A8","v":0},{"$f":"lista1!B8","v":"Replanteo"},{"$f":"lista1!C8","v":"m2"},{"$f":"$N$27","v":0.90225536571975007},null,{"$f":"D8*E8","v":0},{"$f":"lista1!G8","v":104.05},{"$f":"+F8*G8","v":0}]
[{"$f":"lista1!A9","v":0},{"$f":"lista1!B9","v":"Cartel de obra"},{"$f":"lista1!C9","v":"m2"},{"$f":"$N$27","v":0.90225536571975007},null,{"$f":"D9*E9","v":0},{"$f":"lista1!G9","v":0},{"$f":"+F9*G9","v":0}]
[{"$f":"lista1!A10","v":0},{"$f":"lista1!B10","v":"Cerco de obra"},{"$f":"lista1!C10","v":"ml"},{"$f":"$N$27","v":0.90225536571975007},null,{"$f":"D10*E10","v":0},{"$f":"lista1!G10","v":0},{"$f":"+F10*G10","v":0}]
[{"$f":"lista1!A11","v":0},{"$f":"lista1!B11","v":"Defensa de protección para trabajo en obra"},{"$f":"lista1!C11","v":"ml"},{"$f":"$N$27","v":0.90225536571975007},null,{"$f":"D11*E11","v":0},{"$f":"lista1!G11","v":0},{"$f":"+F11*G11","v":0}]
[{"$f":"lista1!A12","v":0},{"$f":"lista1!B12","v":0},{"$f":"lista1!C12","v":0},null,null,null,{"$f":"lista1!G12","v":0}]
[{"$f":"lista1!A13","v":3},{"$f":"lista1!B13","v":"Demoliciones"},{"$f":"lista1!C13","v":0},null,null,null,{"$f":"lista1!G13","v":0}]
[{"$f":"lista1!A14","v":0},{"$f":"lista1!B14","v":"En los siguientes items, se incluye el retiro de los escombros de la obra hasta coloc.dentro del contenedor "},{"$f":"lista1!C14","v":0},null,null,null,{"$f":"lista1!G14","v":0}]
[{"$f":"lista1!A15","v":0},{"$f":"lista1!B15","v":"De estructura de hormigón, losas de HºAº, dados, camaras de HºAº (incluye cargarlo)"},{"$f":"lista1!C15","v":"m3"},{"$f":"$N$27","v":0.90225536571975007},575,{"$f":"D15*E15","v":518.7968352888563},{"$f":"lista1!G15","v":0},{"$f":"+F15*G15","v":0}]
[{"$f":"lista1!A16","v":0},{"$f":"lista1!B16","v":"De mamposteria (todos los items incluyen cargar escombros a un contenedor cercano, refiere a planta baja)"},{"$f":"lista1!C16","v":"m3"},0.90225536571975007,{"$f":"(110+380)/2","v":245},{"$f":"D16*E16","v":221.05256460133876},{"$f":"lista1!G16","v":0},{"$f":"+F16*G16","v":0}]
[{"$f":"lista1!A17","v":0},{"$f":"lista1!B17","v":"De pisos"},{"$f":"lista1!C17","v":"m2"},0.90225536571975007,48.88,44.102242276381382,{"$f":"lista1!G17","v":0},0]
[{"$f":"lista1!A18","v":0},{"$f":"lista1!B18","v":"De contrapisos"},{"$f":"lista1!C18","v":"m2"},0.90225536571975007,{"$f":"81.45-E17","v":32.57},29.386457261492261,{"$f":"lista1!G18","v":0},0]
[{"$f":"lista1!A19","v":0},{"$f":"lista1!B19","v":"Picado de revoques, cielorrasos suspendidos ó demolcic. de cubiert d tejas coloniales (sin recuper. de tejas)"},{"$f":"lista1!C19","v":"m2"},0.90225536571975007,54.3,48.992466358582426,{"$f":"lista1!G19","v":0},0]
[{"$f":"lista1!A20","v":0},{"$f":"lista1!B20","v":"Picado de revestimientos"},{"$f":"lista1!C20","v":"m2"},0.90225536571975007,54.3,48.992466358582426,{"$f":"lista1!G20","v":0},0]
[{"$f":"lista1!A21","v":0},{"$f":"lista1!B21","v":"De estructura de madera con tejas francesa (o colonial)"},{"$f":"lista1!C21","v":"m2"},0.90225536571975007,271.52999999999997,244.98939945388372,{"$f":"lista1!G21","v":0},0]
[{"$f":"lista1!A22","v":0},{"$f":"lista1!B22","v":"Demolición de obra completa"},{"$f":"lista1!C22","v":"m2"},0.90225536571975007,{"$f":"SUM(E16:E21)","v":706.57999999999993},637.51559631026089,{"$f":"lista1!G22","v":28},17850.436696687306]
[{"$f":"lista1!A23","v":0},{"$f":"lista1!B23","v":"Contenedor/Volquete, alquiler"},{"$f":"lista1!C23","v":"u"},0.90225536571975007,null,0,{"$f":"lista1!G23","v":16},0]
[{"$f":"lista1!A24","v":0},{"$f":"lista1!B24","v":"Cargar Contenedor/Volquete"},{"$f":"lista1!C24","v":"u"},0.90225536571975007,null,0,{"$f":"lista1!G24","v":16},0]
[{"$f":"lista1!A25","v":4},{"$f":"lista1!B25","v":"Movimientos de tierra"},{"$f":"lista1!C25","v":0},null,null,null,{"$f":"lista1!G25","v":0}]
[{"$f":"lista1!A26","v":0},{"$f":"lista1!B26","v":"Excavación manual p cimientos y bases column terreno común (si tosca mult.al prec.x 1,214 y x1,714 si es roca digregable)"},{"$f":"lista1!C26","v":"m3"},{"$f":"$N$27","v":0.90225536571975007},287.73,{"$f":"D26*E26","v":259.60593637854373},{"$f":"lista1!G26","v":6.001526717557252},{"$f":"+F26*G26","v":1558.0319632122983}]
[{"$f":"lista1!A27","v":0},{"$f":"lista1!B27","v":"Excavación manual de vigas de fundación hasta 1,20 m de prof."},{"$f":"lista1!C27","v":"m3"},0.90225536571975007,null,192,{"$f":"lista1!G27","v":9.9022500000000004},1901.232,null,null,null,"mult",null,{"$f":"$I$2*T28/T31/1.21","v":0.90225536571975007},null,null,null,null,null,"US$prom"]
[{"$f":"lista1!A28","v":0},{"$f":"lista1!B28","v":"Excavación de pozos para pilotín (diám. 23 cm - prof. 1,6 m)"},{"$f":"lista1!C28","v":"u"},0.90225536571975007,null,0,{"$f":"lista1!G28","v":24},0,null,"#1precio dólar oficial vta",null,null,null,null,null,{"$f":"lista1!P28","v":9.3350000000000009},{"$f":"lista1!Q28","v":"$AR"},{"$f":"lista1!R28:S28","v":"2015-11-12"},null,{"$f":"AVERAGE(P28:P29)","v":12.407500000000001}]
[{"$f":"lista1!A29","v":0},{"$f":"lista1!B29","v":"Excavación p/ cisternas, cámaras sépt.,de inspec., sótanos a mano terr. Comun hast4m (tosca x1,351 y si fuese roc disgr x 1,89)"},{"$f":"lista1!C29","v":"m3"},0.90225536571975007,380.22,343.05553515396338,{"$f":"lista1!G29","v":12.076000000000001},4142.7386425192617,null,"#2precio dólar blue vta",null,null,null,null,null,{"$f":"lista1!P29","v":15.48},{"$f":"lista1!Q29","v":"$AR"},{"$f":"lista1!R29:S29","v":"2015-11-12"}]
[{"$f":"lista1!A30","v":0},{"$f":"lista1!B30","v":"Excavación p/ pozo absorbt o Romano, a mano terr. Comun hast10mprof.(tosca x1,364 y si fuese roc disgr x 1,909)"},{"$f":"lista1!C30","v":"m3"},0.90225536571975007,565.20000000000005,{"$f":"D30*E30","v":509.95473270480278},{"$f":"lista1!G30","v":6},{"$f":"+F30*G30","v":3059.7283962288166}]
[{"$f":"lista1!A31","v":0},{"$f":"lista1!B31","v":"Destape del terreno hasta 20/30 cm de profundidad con pala frontal o  Excavación de sótanos a maquina"},{"$f":"lista1!C31","v":"m3"},0.90225536571975007,null,0,{"$f":"lista1!G31","v":0},0,null,null,null,null,null,null,null,9.08,"$AR","2015-07-07",null,{"$f":"AVERAGE(P31:P32)","v":11.365}]
[{"$f":"lista1!A32","v":0},{"$f":"lista1!B32","v":"Carga y retiro de tierra con camión"},{"$f":"lista1!C32","v":"m3"},0.90225536571975007,null,0,{"$f":"lista1!G32","v":0},0,null,null,null,null,null,null,null,13.65,"$AR","2015-07-07","multip"]
[{"$f":"lista1!A33","v":0},{"$f":"lista1!B33","v":"terraplenamiento"},{"$f":"lista1!C33","v":"m3"},0.90225536571975007,205.52,{"$f":"D33*E33","v":185.43152276272303},{"$f":"lista1!G33","v":0},{"$f":"+F33*G33","v":0},null,"http://www.construircordoba.com/precios-de-tareas/hormigon/"]
[{"$f":"lista1!A34","v":5},{"$f":"lista1!B34","v":"Estructuras de hormigón armado"},{"$f":"lista1!C34","v":"Unid."},null,"Prec.","Prec.",{"$f":"lista1!G34","v":"Cant."},"Parcial",null,"http://www.ambito.com/economia/mercados/monedas/dolar/info/?ric=ARSB=&desde=15/12/2014&hasta=15/01/2015"]
[{"$f":"lista1!A35","v":0},{"$f":"lista1!B35","v":"Incluye el material, mano de obra, armado y desarme de encofrados de madera tradicionales y equipos"},null,null,"vjo","nvo"]
[{"$f":"lista1!A36","v":0},{"$f":"lista1!B36","v":"hormigon sin armar para relleno de cimientos"},{"$f":"lista1!C36","v":"m3"},{"$f":"$N$27","v":0.90225536571975007},1120,{"$f":"D36*E36","v":1010.5260096061201},{"$f":"lista1!G36","v":0},{"$f":"+F36*G36","v":0}]
[{"$f":"lista1!A37","v":0},{"$f":"lista1!B37","v":"Bases céntricas cuantía 60 kg, HºAº p/ cabezal de pozos romanos (p/fuste pz rom dividir precio en 1,124)"},{"$f":"lista1!C37","v":"m3"},{"$f":"$N$27","v":0.90225536571975007},2711,{"$f":"D37*E37","v":2446.0142964662423},{"$f":"lista1!G37","v":6.001526717557252},{"$f":"+F37*G37","v":14679.820151769158}]
[{"$f":"lista1!A38","v":0},{"$f":"lista1!B38","v":"Vigas de fundación 60 kg/m3, arriostramiento y de equilibrio"},{"$f":"lista1!C38","v":"m3"},{"$f":"$N$27","v":0.90225536571975007},4985,{"$f":"D38*E38","v":4497.7429981129544},{"$f":"lista1!G38","v":9.9022500000000004},{"$f":"+F38*G38","v":44537.775603064001}]
[{"$f":"lista1!A39","v":0},{"$f":"lista1!B39","v":"Pilotín diametro 23 cm / profundidad 1,6 m"},{"$f":"lista1!C39","v":"ml"},0.90225536571975007,null,0,{"$f":"lista1!G39","v":38.400000000000006},0]
[{"$f":"lista1!A40","v":0},{"$f":"lista1!B40","v":"Platea de fundación 35 kg/m3 de hierro o quiza con un poco mas de kg de cuantía, (bases de cañerías div./1,345)."},{"$f":"lista1!C40","v":"m3"},0.90225536571975007,3228,2912.4803205433532,{"$f":"lista1!G40","v":0},0]
[{"$f":"lista1!A41","v":0},{"$f":"lista1!B41","v":"Zapatas para tabique de hormigón para submuración 80 kg hierro, bases de columna y zapatas de columna"},{"$f":"lista1!C41","v":"m3"},0.90225536571975007,2875,2593.9841764442813,{"$f":"lista1!G41","v":0},0]
[{"$f":"lista1!A42","v":0},{"$f":"lista1!B42","v":"Zapatas para muro de Mamposteria 30 cm de ladrillo común cuantía 35kg de hierro/m3"},{"$f":"lista1!C42","v":"m3"},0.90225536571975007,3228,2912.4803205433532,{"$f":"lista1!G42","v":0},0]
[{"$f":"lista1!A43","v":0},{"$f":"lista1!B43","v":"Tabiques de sótanos una cara vista 80 kg de hierro/m3"},{"$f":"lista1!C43","v":"m3"},0.90225536571975007,null,0,{"$f":"lista1!G43","v":0},0]
[{"$f":"lista1!A44","v":0},{"$f":"lista1!B44","v":"Losas espesor 10 cm"},{"$f":"lista1!C44","v":"m3"},0.90225536571975007,6010.77,5423.2494846073023,{"$f":"lista1!G44","v":0},0]
[{"$f":"lista1!A45","v":0},{"$f":"lista1!B45","v":"Losas de hormigón a la vista con encofrado fenólico"},{"$f":"lista1!C45","v":"m3"},0.90225536571975007,null,0,{"$f":"lista1!G45","v":0},0]
[{"$f":"lista1!A46","v":0},{"$f":"lista1!B46","v":"Losas casetonada 70 kg/m3 de hierro (es precio mínimo.. p/ prec max mult. X 1,216)"},{"$f":"lista1!C46","v":"m3"},0.90225536571975007,null,0,{"$f":"lista1!G46","v":0},0]
[{"$f":"lista1!A47","v":0},{"$f":"lista1!B47","v":"Losa nervurada Aº en un sentid. bloqH 14*19*39 (o x 1,162 sii es Aºda en 2 sentid c bloq poliest exp. De 40*40*25)"},{"$f":"lista1!C47","v":"m2"},0.90225536571975007,1062.23,958.40271712849017,{"$f":"lista1!G47","v":0},0]
[{"$f":"lista1!A48","v":0},{"$f":"lista1!B48","v":"Losa hueca pretensada 12 cm de espesor con tomado de juntas"},{"$f":"lista1!C48","v":"m2"},0.90225536571975007,null,0,{"$f":"lista1!G48","v":0},0]
[{"$f":"lista1!A49","v":0},{"$f":"lista1!B49","v":"Losa viguetas pretensadas de hormigón y ladrillos cerámicos espesor 17cm con capa de compresión."},{"$f":"lista1!C49","v":"m2"},0.90225536571975007,725,654.1351401468188,{"$f":"lista1!G49","v":104.05},68062.761332276496]
[{"$f":"lista1!A50","v":0},{"$f":"lista1!B50","v":"columnas estructurales de aprox. 30x30 (Si son a la vista al precio mult. X 1,08)"},{"$f":"lista1!C50","v":"m3"},0.90225536571975007,9282,8374.7343046107198,{"$f":"lista1!G50","v":0.32400000000000001},2713.4139146938733]
[{"$f":"lista1!A51","v":0},{"$f":"lista1!B51","v":"Encadenado verticales, horizontales, dinteles, dadosdapoyo, llaves,banquinas 7cm esp. de HºAº "},{"$f":"lista1!C51","v":"m3"},0.90225536571975007,5112.25,4612.5549934007922,{"$f":"lista1!G51","v":5.2939208087112721},24418.500860889537]
[{"$f":"lista1!A52","v":0},{"$f":"lista1!B52","v":"Vigas cuantía 180 kg/m3, vigas aprox. De 20x40 (Si son a la vista al precio mult. X 1,08)"},{"$f":"lista1!C52","v":"m3"},0.90225536571975007,7963,7184.6594772263697,{"$f":"lista1!G52","v":0.24},1724.3182745343286]
[{"$f":"lista1!A53","v":0},{"$f":"lista1!B53","v":"Tabiques vistos cuantía 80 kg"},{"$f":"lista1!C53","v":"m3"},0.90225536571975007,null,0,{"$f":"lista1!G53","v":0},0]
[{"$f":"lista1!A54","v":0},{"$f":"lista1!B54","v":"Tabiques cuantía 80 kg/m3"},{"$f":"lista1!C54","v":"m3"},0.90225536571975007,8990,8111.2757378205533,{"$f":"lista1!G54","v":0},0]
[{"$f":"lista1!A55","v":0},{"$f":"lista1!B55","v":"Escaleras cuantía 75 kg/m3 (sii es HºAº p/LOSAS macizas de escaleras a este prec. Dividir por 1,887) "},{"$f":"lista1!C55","v":"m3"},0.90225536571975007,null,0,{"$f":"lista1!G55","v":0},0]
[{"$f":"lista1!A56","v":0},{"$f":"lista1!B56","v":"Tanque de bombeo cuantía 105 kg/m3"},{"$f":"lista1!C56","v":"m3"},0.90225536571975007,null,0,{"$f":"lista1!G56","v":0},0]
[{"$f":"lista1!A57","v":0},{"$f":"lista1!B57","v":"Tanque de reserva cuantía 105 kg/m3 y cisternas de HAº"},{"$f":"lista1!C57","v":"m3"},0.90225536571975007,9411,8491.1252467885679,{"$f":"lista1!G57","v":0.29899999999999999},2538.8464487897818]
[{"$f":"lista1!A58","v":0},{"$f":"lista1!B58","v":"Junta de PVC para hormigón"},{"$f":"lista1!C58","v":"ml"},0.90225536571975007,null,0,{"$f":"lista1!G58","v":0},0]
[{"$f":"lista1!A59","v":0},{"$f":"lista1!B59","v":"Barrera de vapor (dos manos de pintura asfáltica + 10% nafta)"},{"$f":"lista1!C59","v":"m2"},0.90225536571975007,null,{"$f":"D59*E59","v":0},{"$f":"lista1!G59","v":104.05},{"$f":"+F59*G59","v":0}]
[{"$f":"lista1!A60","v":6},{"$f":"lista1!B60","v":"Estructuras metálicas"},{"$f":"lista1!C60","v":0},null,null,null,{"$f":"lista1!G60","v":0}]
[{"$f":"lista1!A61","v":0},{"$f":"lista1!B61","v":"En el caso de cubiertas no se consideran los cerramientos laterales ni superiores. Para los entrepisos no se incluye el solado. En ambos, tampoco la pintura. El armado es en taller. Incluye el montaje en obra y no se considera el flete"}]
[{"$f":"lista1!A62","v":0},{"$f":"lista1!B62","v":"Estructuras metálicas de perfiles normales"},{"$f":"lista1!C62","v":"kg"},{"$f":"$N$27","v":0.90225536571975007},null,{"$f":"D62*E62","v":0},{"$f":"lista1!G62","v":0},{"$f":"+F62*G62","v":0}]
[{"$f":"lista1!A63","v":0},{"$f":"lista1!B63","v":"Estructuras metálicas de perfiles ángulos"},{"$f":"lista1!C63","v":"kg"},{"$f":"$N$27","v":0.90225536571975007},null,{"$f":"D63*E63","v":0},{"$f":"lista1!G63","v":0},{"$f":"+F63*G63","v":0}]
[{"$f":"lista1!A64","v":0},{"$f":"lista1!B64","v":"Estructuras metálicas de hierro redondo"},{"$f":"lista1!C64","v":"kg"},{"$f":"$N$27","v":0.90225536571975007},null,{"$f":"D64*E64","v":0},{"$f":"lista1!G64","v":0},{"$f":"+F64*G64","v":0}]
[{"$f":"lista1!A65","v":0},{"$f":"lista1!B65","v":0},{"$f":"lista1!C65","v":0},null,null,null,{"$f":"lista1!G65","v":0},{"$f":"+F65*G65","v":0}]
[{"$f":"lista1!A66","v":0},{"$f":"lista1!B66","v":0},{"$f":"lista1!C66","v":0},null,null,null,{"$f":"lista1!G66","v":0},{"$f":"+F66*G66","v":0}]
[{"$f":"lista1!A67","v":0},{"$f":"lista1!B67","v":0},{"$f":"lista1!C67","v":0},null,null,null,{"$f":"lista1!G67","v":0}]
[{"$f":"lista1!A68","v":7},{"$f":"lista1!B68","v":"Mampostería"},{"$f":"lista1!C68","v":"Unid."},null,"Precio",null,{"$f":"lista1!G68","v":"Cantid."},"Parcial"]
[{"$f":"lista1!A69","v":0},{"$f":"lista1!B69","v":"Bloques de hormigón estandar 19 x 19 x 39  ; idem cribada = D x 0,9365"},{"$f":"lista1!C69","v":"m2"},{"$f":"$N$27","v":0.90225536571975007},456.56,{"$f":"D69*E69","v":411.93370977300907},{"$f":"lista1!G69","v":0},{"$f":"+F69*G69","v":0}]
[{"$f":"lista1!A70","v":0},{"$f":"lista1!B70","v":"Bloques de hormigón estandar 9,2 x 19 x 39 ;  ladrillos comunes de pandere 30 ud/m2 = corregir D x 0,88"},{"$f":"lista1!C70","v":"m2"},{"$f":"$N$27","v":0.90225536571975007},279.72000000000003,{"$f":"D70*E70","v":252.37887089912851},{"$f":"lista1!G70","v":0},{"$f":"+F70*G70","v":0}]
[{"$f":"lista1!A71","v":0},{"$f":"lista1!B71","v":"Junta de dilatación bloque \"\"u\"\"de hormigón"},{"$f":"lista1!C71","v":"ml"},0.90225536571975007,null,0,{"$f":"lista1!G71","v":0},0]
[{"$f":"lista1!A72","v":0},{"$f":"lista1!B72","v":"Encadenado pared bloques de hormigón"},{"$f":"lista1!C72","v":"ml"},0.90225536571975007,null,0,{"$f":"lista1!G72","v":0},0]
[{"$f":"lista1!A73","v":0},{"$f":"lista1!B73","v":"Ladrillos comunes elevación espesor 30 cm (si es de cimiento =D/1,03) si es p/ 1er piso =D*1,08"},{"$f":"lista1!C73","v":"m3"},0.90225536571975007,2616,2360.300036722866,{"$f":"lista1!G73","v":0},0]
[{"$f":"lista1!A74","v":0},{"$f":"lista1!B74","v":"Ladrillos de máquina para vista espesor 30 cm sin tomado de juntas (con tomado junt =D x 1,094)"},{"$f":"lista1!C74","v":"m3"},0.90225536571975007,null,0,{"$f":"lista1!G74","v":0},0]
[{"$f":"lista1!A75","v":0},{"$f":"lista1!B75","v":"Ladrillo común en elevación espesor 15 cm  (si es de cimiento =D/1,03) si es p/ 1er piso =D*1,08 , cribadas"},{"$f":"lista1!C75","v":"m3"},0.90225536571975007,2000,1804.5107314395002,{"$f":"lista1!G75","v":0},0]
[{"$f":"lista1!A76","v":0},{"$f":"lista1!B76","v":"Ladrillo de máquina para vista espesor 15 cm con tomado de junta"},{"$f":"lista1!C76","v":"m3"},0.90225536571975007,null,0,{"$f":"lista1!G76","v":0},0]
[{"$f":"lista1!A77","v":0},{"$f":"lista1!B77","v":"Refuerzos horizontales o encadenado para mampostería (vigas o dintel) en ladrillo común"},{"$f":"lista1!C77","v":"ml"},0.90225536571975007,null,0,{"$f":"lista1!G77","v":0},0]
[{"$f":"lista1!A78","v":0},{"$f":"lista1!B78","v":"Ladrillo cerámico hueco de 8 x 18 x 33 pared de 8 cm de espesor"},{"$f":"lista1!C78","v":"m2"},0.90225536571975007,279.89999999999998,252.54127686495804,{"$f":"lista1!G78","v":0},0]
[{"$f":"lista1!A79","v":0},{"$f":"lista1!B79","v":"Ladrillo cerámico hueco de 12 x 18 x 33 pared de 12 cm de espesor"},{"$f":"lista1!C79","v":"m2"},0.90225536571975007,310.8,280.42096766569836,{"$f":"lista1!G79","v":0},0]
[{"$f":"lista1!A80","v":0},{"$f":"lista1!B80","v":"Ladrillo cerámico hueco de 18 x 18 x 33 pared de 18 cm de espesor"},{"$f":"lista1!C80","v":"m2"},0.90225536571975007,378.04,341.08861845669435,{"$f":"lista1!G80","v":0},0]
[{"$f":"lista1!A81","v":0},{"$f":"lista1!B81","v":"Ladrillo cerámico portante de 13 x 19 x 33"},{"$f":"lista1!C81","v":"m2"},0.90225536571975007,287.02999999999997,258.97435762253986,{"$f":"lista1!G81","v":360.43260000000009},93342.80105122189]
[{"$f":"lista1!A82","v":0},{"$f":"lista1!B82","v":"Ladrillo cerámico portante de 18 x 19 x 33"},{"$f":"lista1!C82","v":"m2"},0.90225536571975007,357.01,322.11418811560799,{"$f":"lista1!G82","v":0},0]
[{"$f":"lista1!A83","v":0},{"$f":"lista1!B83","v":"Viga de encadenado superior con peine cerámico, armadura y hormigonado"},{"$f":"lista1!C83","v":"ml"},0.90225536571975007,null,0,{"$f":"lista1!G83","v":0},0]
[{"$f":"lista1!A84","v":0},{"$f":"lista1!B84","v":"Columna con bloque cerámico armadura y hormigón"},{"$f":"lista1!C84","v":"ml"},0.90225536571975007,null,0,{"$f":"lista1!G84","v":0},0]
[{"$f":"lista1!A85","v":0},{"$f":"lista1!B85","v":"Muro portante en elevación de HCCA tipo Retak"},{"$f":"lista1!C85","v":"m3"},0.90225536571975007,null,0,{"$f":"lista1!G85","v":0},0]
[{"$f":"lista1!A86","v":0},{"$f":"lista1!B86","v":"Colocación de carpinterías (incluye amurado, marcos y premarcos)"},{"$f":"lista1!C86","v":"m2"},0.90225536571975007,null,0,{"$f":"lista1!G86","v":0},0]
[{"$f":"lista1!A87","v":0},{"$f":"lista1!B87","v":"Colocación de barandas"},{"$f":"lista1!C87","v":"ml"},0.90225536571975007,null,0,{"$f":"lista1!G87","v":0},0]
[{"$f":"lista1!A88","v":0},{"$f":"lista1!B88","v":"Muro portante en elevación de HCCA de 15x25x50 tipo Retak"},{"$f":"lista1!C88","v":"m2"},0.90225536571975007,null,0,{"$f":"lista1!G88","v":0},0]
[{"$f":"lista1!A89","v":0},{"$f":"lista1!B89","v":"murete de mesada de cocina hasta 95 cm de alto (incl mat y m.o: muro 0,15+ revoq gr y fno ambas caras) sin revestim."},{"$f":"lista1!C89","v":"u"},0.90225536571975007,null,0,{"$f":"lista1!G89","v":0},0]
[{"$f":"lista1!A90","v":0},{"$f":"lista1!B90","v":"murete de mesada de cocina hasta 95 cm de alto (incl mat y m.o: muro 0,15+ revoq gr y revest. ambas caras) sin fino"},{"$f":"lista1!C90","v":"u"},0.90225536571975007,null,0,{"$f":"lista1!G90","v":0},0]
[{"$f":"lista1!A91","v":0},{"$f":"lista1!B91","v":"Conducto de ventilación"},{"$f":"lista1!C91","v":"ml"},0.90225536571975007,null,0,{"$f":"lista1!G91","v":0},0]
[{"$f":"lista1!A92","v":0},{"$f":"lista1!B92","v":"Sombrete conducto ventilación"},{"$f":"lista1!C92","v":"u"},0.90225536571975007,null,0,{"$f":"lista1!G92","v":0},0]
[{"$f":"lista1!A93","v":0},{"$f":"lista1!B93","v":"Rejilla para conducto"},{"$f":"lista1!C93","v":"ml"},0.90225536571975007,null,0,{"$f":"lista1!G93","v":0},0]
[{"$f":"lista1!A94","v":0},{"$f":"lista1!B94","v":"Conducto de presurización"},{"$f":"lista1!C94","v":"ml"},0.90225536571975007,null,0,{"$f":"lista1!G94","v":0},0]
[{"$f":"lista1!A95","v":0},{"$f":"lista1!B95","v":"Sombrete conducto presuriz."},{"$f":"lista1!C95","v":"u"},0.90225536571975007,null,0,{"$f":"lista1!G95","v":0},0]
[{"$f":"lista1!A96","v":0},{"$f":"lista1!B96","v":"Reja conducto ventilación"},{"$f":"lista1!C96","v":"u"},0.90225536571975007,null,0,{"$f":"lista1!G96","v":0},0]
[{"$f":"lista1!A97","v":0},{"$f":"lista1!B97","v":"banquinas de mesada (contrapiso + carpeta + revest. Ceramico)"},{"$f":"lista1!C97","v":"ml"},0.90225536571975007,null,0,{"$f":"lista1!G97","v":6.3},0]
[{"$f":"lista1!A98","v":0},{"$f":"lista1!B98","v":"tomado de juntas en ladrillos visto rehundidas (al ras es 0,841*D)"},{"$f":"lista1!C98","v":"m2"},0.90225536571975007,108,{"$f":"D98*E98","v":97.443579497733012},{"$f":"lista1!G98","v":0},{"$f":"+F98*G98","v":0}]
[{"$f":"lista1!A99","v":0},{"$f":"lista1!B99","v":"Muros de ladrillo de vidrio 20x20x10 cm"},{"$f":"lista1!C99","v":"m2"},0.90225536571975007,3365.26,{"$f":"D99*E99","v":3036.3238920420463},{"$f":"lista1!G99","v":0},{"$f":"+F99*G99","v":0}]
[{"$f":"lista1!A100","v":0},{"$f":"lista1!B100","v":"Tabique de placas de yeso, tipo durlock 12,5 mm esp."},{"$f":"lista1!C100","v":"m2"},0.90225536571975007,528.83000000000004,{"$f":"D100*E100","v":477.13970505357548},{"$f":"lista1!G100","v":0},{"$f":"+F100*G100","v":0}]
[{"$f":"lista1!A101","v":0},{"$f":"lista1!B101","v":0},{"$f":"lista1!C101","v":0},null,null,null,{"$f":"lista1!G101","v":0}]
[{"$f":"lista1!A102","v":8},{"$f":"lista1!B102","v":"Construcción con placas de roca de yeso"},{"$f":"lista1!C102","v":"Unid."},null,"Precio",null,{"$f":"lista1!G102","v":"Cantid."},"Parcial"]
[{"$f":"lista1!A103","v":0},{"$f":"lista1!B103","v":"En todos los casos las terminaciones quedan listas para pintar. Junta tomada con cinta tramada y mansilla"}]
[{"$f":"lista1!A104","v":0},{"$f":"lista1!B104","v":"Tabique simple espesor 9,5 cm. Estructura de chapa galvanizada con montantes cada 48 cm. Solera inferior y superior de 70mm. Placa normal 15mm"},{"$f":"lista1!C104","v":"m2"},{"$f":"$N$27","v":0.90225536571975007},null,{"$f":"D104*E104","v":0},{"$f":"lista1!G104","v":0},{"$f":"+F104*G104","v":0}]
[{"$f":"lista1!A105","v":0},{"$f":"lista1!B105","v":"Idem con aislación de lana de vidrio"},{"$f":"lista1!C105","v":"m2"},{"$f":"$N$27","v":0.90225536571975007},null,{"$f":"D105*E105","v":0},{"$f":"lista1!G105","v":0},{"$f":"+F105*G105","v":0}]
[{"$f":"lista1!A106","v":0},{"$f":"lista1!B106","v":"Medio tabique espesor total 8,5 cm"},{"$f":"lista1!C106","v":"m2"},0.90225536571975007,null,0,{"$f":"lista1!G106","v":0},0]
[{"$f":"lista1!A107","v":0},{"$f":"lista1!B107","v":"Pared divisoria de unidades funcionales espesor total 12 cm. Doble placa de 15mm en ambas caras. Montantes cada 40cm. Solera 70mm interior y super."},{"$f":"lista1!C107","v":"m2"},0.90225536571975007,null,0,{"$f":"lista1!G107","v":0},0]
[{"$f":"lista1!A108","v":0},{"$f":"lista1!B108","v":"Cielorraso suspendido, junta tomada con placas de 12,5mm, Estructura soleras y montantes de chapa galvanizada"},{"$f":"lista1!C108","v":"m2"},0.90225536571975007,null,0,{"$f":"lista1!G108","v":0},0]
[{"$f":"lista1!A109","v":0},{"$f":"lista1!B109","v":"Idem con placa verde."},{"$f":"lista1!C109","v":"m2"},0.90225536571975007,null,0,{"$f":"lista1!G109","v":0},0]
[{"$f":"lista1!A110","v":0},{"$f":"lista1!B110","v":"Cielorraso suspendido desmontable. Estructura con bastidor de aluminio. Placas texturadas 60 x 1,20"},{"$f":"lista1!C110","v":"m2"},0.90225536571975007,null,0,{"$f":"lista1!G110","v":0},0]
[{"$f":"lista1!A111","v":0},{"$f":"lista1!B111","v":0},{"$f":"lista1!C111","v":0},null,null,null,{"$f":"lista1!G111","v":0}]
[{"$f":"lista1!A112","v":9},{"$f":"lista1!B112","v":"Aislaciones"},{"$f":"lista1!C112","v":0},null,null,null,{"$f":"lista1!G112","v":0}]
[{"$f":"lista1!A113","v":0},{"$f":"lista1!B113","v":"De sótanos cementicia para cerramientos horizontal y vertical"},{"$f":"lista1!C113","v":"m2"},{"$f":"$N$27","v":0.90225536571975007},null,{"$f":"D113*E113","v":0},{"$f":"lista1!G113","v":0},{"$f":"+F113*G113","v":0}]
[{"$f":"lista1!A114","v":0},{"$f":"lista1!B114","v":"Capa aisladora con tabique panderete"},{"$f":"lista1!C114","v":"m2"},{"$f":"$N$27","v":0.90225536571975007},581,{"$f":"D114*E114","v":524.21036748317476},{"$f":"lista1!G114","v":0},0]
[{"$f":"lista1!A115","v":0},{"$f":"lista1!B115","v":"Horizontal espesor 2 cm sobre muro"},{"$f":"lista1!C115","v":"m2"},0.90225536571975007,180.82,163.14581522944519,{"$f":"lista1!G115","v":14.36947058823529},2344.3189935331816]
[{"$f":"lista1!A116","v":0},{"$f":"lista1!B116","v":"Film de polietileno bajo plateas o contrapisos"},{"$f":"lista1!C116","v":"m2"},0.90225536571975007,null,0,{"$f":"lista1!G116","v":0},0]
[{"$f":"lista1!A117","v":0},{"$f":"lista1!B117","v":"Horizontal cementicia en contrapiso sobre terreno natural"},{"$f":"lista1!C117","v":"m2"},0.90225536571975007,101.77,91.822528569298967,{"$f":"lista1!G117","v":0},0]
[{"$f":"lista1!A118","v":0},{"$f":"lista1!B118","v":"Horizontal sobre losa para locales húmedos"},{"$f":"lista1!C118","v":"m2"},0.90225536571975007,null,0,{"$f":"lista1!G118","v":0},0]
[{"$f":"lista1!A119","v":0},{"$f":"lista1!B119","v":"Azotado hidrófugo bajo revestimientos "},{"$f":"lista1!C119","v":"m2"},0.90225536571975007,null,0,{"$f":"lista1!G119","v":0},0]
[{"$f":"lista1!A120","v":0},{"$f":"lista1!B120","v":"Vertical de 1,5 de esp. sobre muros"},{"$f":"lista1!C120","v":"m2"},0.90225536571975007,124.17,112.03304876142137,{"$f":"lista1!G120","v":21.6},2419.9138532467018]
[{"$f":"lista1!A121","v":0},{"$f":"lista1!B121","v":"Horizontal y vertical cementicia para interior tanques de agua"},{"$f":"lista1!C121","v":"m2"},0.90225536571975007,null,0,{"$f":"lista1!G121","v":0},0]
[{"$f":"lista1!A122","v":0},{"$f":"lista1!B122","v":"inyeccion de líquidos químicos SIKA inertol infiltración, c perf c/15 cm a tres bolillos, rev.,rev fino (220MO+300mat)"},{"$f":"lista1!C122","v":"ml"},0.90225536571975007,449.25,405.33822304959773,{"$f":"lista1!G122","v":22},8917.4409070911497]
[{"$f":"lista1!A123","v":10},{"$f":"lista1!B123","v":"Cubiertas "},{"$f":"lista1!C123","v":0},null,null,null,{"$f":"lista1!G123","v":0}]
[{"$f":"lista1!A124","v":0},{"$f":"lista1!B124","v":"No se incluye la losa de hormigón"},{"$f":"lista1!C124","v":0},null,null,null,{"$f":"lista1!G124","v":0}]
[{"$f":"lista1!A125","v":0},{"$f":"lista1!B125","v":"Planas"},{"$f":"lista1!C125","v":0},null,null,null,{"$f":"lista1!G125","v":0}]
[{"$f":"lista1!A126","v":0},{"$f":"lista1!B126","v":"Sobre losa con barrera de vapor, contrapiso con pendiente. Carpeta para recibir, y proteger, aislación térmica e hidráulica con membrana con aluminio"},{"$f":"lista1!C126","v":"m2"},{"$f":"$N$27","v":0.90225536571975007},null,{"$f":"D126*E126","v":0},{"$f":"lista1!G126","v":104.05},{"$f":"+F126*G126","v":0}]
[{"$f":"lista1!A127","v":0},{"$f":"lista1!B127","v":"Idem anterior. Cubierta transitable terminación baldosas 20 x 20 para terraza"},{"$f":"lista1!C127","v":"m2"},{"$f":"$N$27","v":0.90225536571975007},null,{"$f":"D127*E127","v":0},{"$f":"lista1!G127","v":0},{"$f":"+F127*G127","v":0}]
[{"$f":"lista1!A128","v":0},{"$f":"lista1!B128","v":0},{"$f":"lista1!C128","v":0},null,null,null,{"$f":"lista1!G128","v":0}]
[{"$f":"lista1!A129","v":0},{"$f":"lista1!B129","v":"Con pendiente"},{"$f":"lista1!C129","v":0},null,null,null,{"$f":"lista1!G129","v":0}]
[{"$f":"lista1!A130","v":0},{"$f":"lista1!B130","v":"No incluye la pintura. Para las de madera se consideró la aplicación de preservador. No incluye correas"},{"$f":"lista1!C130","v":0},null,null,null,{"$f":"lista1!G130","v":0}]
[{"$f":"lista1!A131","v":0},{"$f":"lista1!B131","v":"Tejas francesa estructura de madera vista con aislación térmica  "},{"$f":"lista1!C131","v":"m2"},{"$f":"$N$27","v":0.90225536571975007},null,{"$f":"D131*E131","v":0},{"$f":"lista1!G131","v":0},{"$f":"+F131*G131","v":0}]
[{"$f":"lista1!A132","v":0},{"$f":"lista1!B132","v":"Idem, con madera sin cepillar"},{"$f":"lista1!C132","v":"m2"},{"$f":"$N$27","v":0.90225536571975007},null,{"$f":"D132*E132","v":0},{"$f":"lista1!G132","v":0},{"$f":"+F132*G132","v":0}]
[{"$f":"lista1!A133","v":0},{"$f":"lista1!B133","v":"Chapa ondulada N24 estructura de madera vista. No se considera con aislación térmica"},{"$f":"lista1!C133","v":"m2"},0.90225536571975007,null,0,{"$f":"lista1!G133","v":0},0]
[{"$f":"lista1!A134","v":0},{"$f":"lista1!B134","v":"Idem, chapa prepintada"},{"$f":"lista1!C134","v":"m2"},0.90225536571975007,null,0,{"$f":"lista1!G134","v":0},0]
[{"$f":"lista1!A135","v":0},{"$f":"lista1!B135","v":"Chapa ambas caras con aislación térmica"},{"$f":"lista1!C135","v":"m2"},0.90225536571975007,null,0,{"$f":"lista1!G135","v":0},0]
[{"$f":"lista1!A136","v":0},{"$f":"lista1!B136","v":"Teja colonial madera vista"},{"$f":"lista1!C136","v":"m2"},0.90225536571975007,null,0,{"$f":"lista1!G136","v":0},0]
[{"$f":"lista1!A137","v":0},{"$f":"lista1!B137","v":"Teja colonial madera sin cepillar"},{"$f":"lista1!C137","v":"m2"},0.90225536571975007,null,0,{"$f":"lista1!G137","v":0},0]
[{"$f":"lista1!A138","v":0},{"$f":"lista1!B138","v":"Chapa imitación tejas"},{"$f":"lista1!C138","v":"m2"},0.90225536571975007,null,0,{"$f":"lista1!G138","v":0},0]
[{"$f":"lista1!A139","v":0},{"$f":"lista1!B139","v":"Junta de dilatación membrana asfáltica"},{"$f":"lista1!C139","v":"m2"},0.90225536571975007,null,0,{"$f":"lista1!G139","v":0},0]
[{"$f":"lista1!A140","v":0},{"$f":"lista1!B140","v":"Tinglado chapa galvanizada sobre vigaa spagueti"},{"$f":"lista1!C140","v":"m2"},0.90225536571975007,null,0,{"$f":"lista1!G140","v":0},0]
[{"$f":"lista1!A141","v":0},{"$f":"lista1!B141","v":0},{"$f":"lista1!C141","v":0},null,null,null,{"$f":"lista1!G141","v":0}]
[{"$f":"lista1!A142","v":11},{"$f":"lista1!B142","v":"Contrapiso"},{"$f":"lista1!C142","v":0},null,null,null,{"$f":"lista1!G142","v":0}]
[{"$f":"lista1!A143","v":0},{"$f":"lista1!B143","v":"Hormigón de cascotes armado de espesor 15 cm sobre terreno natural"},{"$f":"lista1!C143","v":"m2"},{"$f":"$N$27","v":0.90225536571975007},null,{"$f":"D143*E143","v":0},{"$f":"lista1!G143","v":158.66},{"$f":"+F143*G143","v":0}]
[{"$f":"lista1!A144","v":0},{"$f":"lista1!B144","v":"Hormigón de cascotes sobre losa espesor 7 cm"},{"$f":"lista1!C144","v":"m2"},{"$f":"$N$27","v":0.90225536571975007},null,{"$f":"D144*E144","v":0},{"$f":"lista1!G144","v":0},{"$f":"+F144*G144","v":0}]
[{"$f":"lista1!A145","v":0},{"$f":"lista1!B145","v":"Hormigón de cascotes sobre losa local sanitario espesor 25 cm"},{"$f":"lista1!C145","v":"m2"},{"$f":"$N$27","v":0.90225536571975007},null,{"$f":"D145*E145","v":0},{"$f":"lista1!G145","v":0},{"$f":"+F145*G145","v":0}]
[{"$f":"lista1!A146","v":0},{"$f":"lista1!B146","v":"Hormigón de arcilla expandida 10 cm de espesor"},{"$f":"lista1!C146","v":"m2"},{"$f":"$N$27","v":0.90225536571975007},null,{"$f":"D146*E146","v":0},{"$f":"lista1!G146","v":0},{"$f":"+F146*G146","v":0}]
[{"$f":"lista1!A147","v":0},{"$f":"lista1!B147","v":"Mortero celular de 7 cm espesor"},{"$f":"lista1!C147","v":"m2"},{"$f":"$N$27","v":0.90225536571975007},null,{"$f":"D147*E147","v":0},{"$f":"lista1!G147","v":0},{"$f":"+F147*G147","v":0}]
[{"$f":"lista1!A148","v":0},{"$f":"lista1!B148","v":0},{"$f":"lista1!C148","v":0},null,null,null,{"$f":"lista1!G148","v":0}]
[{"$f":"lista1!A149","v":12},{"$f":"lista1!B149","v":"Carpetas"},{"$f":"lista1!C149","v":0},null,null,null,{"$f":"lista1!G149","v":0}]
[{"$f":"lista1!A150","v":0},{"$f":"lista1!B150","v":"De concreto bajo solado"},{"$f":"lista1!C150","v":"m2"},{"$f":"$N$27","v":0.90225536571975007},null,{"$f":"D150*E150","v":0},{"$f":"lista1!G150","v":158.66},{"$f":"+F150*G150","v":0}]
[{"$f":"lista1!A151","v":0},{"$f":"lista1!B151","v":"Carpeta de mortero celular 2 cm espesor"},{"$f":"lista1!C151","v":"m2"},{"$f":"$N$27","v":0.90225536571975007},null,{"$f":"D151*E151","v":0},{"$f":"lista1!G151","v":0},{"$f":"+F151*G151","v":0}]
[{"$f":"lista1!A152","v":0},{"$f":"lista1!B152","v":"Carpeta clavadora para parquet"},{"$f":"lista1!C152","v":"m2"},{"$f":"$N$27","v":0.90225536571975007},null,{"$f":"D152*E152","v":0},{"$f":"lista1!G152","v":0},{"$f":"+F152*G152","v":0}]
[{"$f":"lista1!A153","v":0},{"$f":"lista1!B153","v":0},{"$f":"lista1!C153","v":0},null,null,null,{"$f":"lista1!G153","v":0}]
[{"$f":"lista1!A154","v":13},{"$f":"lista1!B154","v":"Revoques"},{"$f":"lista1!C154","v":0},null,null,null,{"$f":"lista1!G154","v":0}]
[{"$f":"lista1!A155","v":0},{"$f":"lista1!B155","v":"No se considera el trabajo de andamio"},{"$f":"lista1!C155","v":0},null,null,null,{"$f":"lista1!G155","v":0}]
[{"$f":"lista1!A156","v":0},{"$f":"lista1!B156","v":"Grueso y fino a la cal al fieltro"},{"$f":"lista1!C156","v":"m2"},{"$f":"$N$27","v":0.90225536571975007},null,{"$f":"D156*E156","v":0},{"$f":"lista1!G156","v":342.03623999999996},{"$f":"+F156*G156","v":0}]
[{"$f":"lista1!A157","v":0},{"$f":"lista1!B157","v":"Grueso a la cal impermeable para exterior completo"},{"$f":"lista1!C157","v":"m2"},{"$f":"$N$27","v":0.90225536571975007},null,{"$f":"D157*E157","v":0},{"$f":"lista1!G157","v":146.58696},{"$f":"+F157*G157","v":0}]
[{"$f":"lista1!A158","v":0},{"$f":"lista1!B158","v":"Grueso bajo revestimientos"},{"$f":"lista1!C158","v":"m2"},0.90225536571975007,null,0,{"$f":"lista1!G158","v":0},0]
[{"$f":"lista1!A159","v":0},{"$f":"lista1!B159","v":"Revoque proyectado exterior con hidrófugo"},{"$f":"lista1!C159","v":"m2"},0.90225536571975007,null,0,{"$f":"lista1!G159","v":0},0]
[{"$f":"lista1!A160","v":0},{"$f":"lista1!B160","v":"Revoque proyectable grueso a la cal para interior"},{"$f":"lista1!C160","v":"m2"},0.90225536571975007,null,0,{"$f":"lista1!G160","v":0},0]
[{"$f":"lista1!A161","v":0},{"$f":"lista1!B161","v":"Revoque proyectable fino a la cal para interior"},{"$f":"lista1!C161","v":"m2"},0.90225536571975007,null,0,{"$f":"lista1!G161","v":0},0]
[{"$f":"lista1!A162","v":0},{"$f":"lista1!B162","v":"Revoque proyectable de yeso para interior, con engrosado"},{"$f":"lista1!C162","v":"m2"},0.90225536571975007,null,0,{"$f":"lista1!G162","v":0},0]
[{"$f":"lista1!A163","v":0},{"$f":"lista1!B163","v":"Salpicado con molinete"},{"$f":"lista1!C163","v":"m2"},0.90225536571975007,null,0,{"$f":"lista1!G163","v":0},0]
[{"$f":"lista1!A164","v":0},{"$f":"lista1!B164","v":"Salpicado con molinete exterior planchado"},{"$f":"lista1!C164","v":"m2"},0.90225536571975007,null,0,{"$f":"lista1!G164","v":0},0]
[{"$f":"lista1!A165","v":0},{"$f":"lista1!B165","v":"Revoque especial super Iggam"},{"$f":"lista1!C165","v":"ml"},0.90225536571975007,null,0,{"$f":"lista1!G165","v":0},0]
[{"$f":"lista1!A166","v":0},{"$f":"lista1!B166","v":"Buñas super Iggam"},{"$f":"lista1!C166","v":"ml"},0.90225536571975007,null,0,{"$f":"lista1!G166","v":0},0]
[{"$f":"lista1!A167","v":0},{"$f":"lista1!B167","v":"http://www.construircordoba.com/precios-de-tareas/revoques/"},{"$f":"lista1!C167","v":0},null,null,null,{"$f":"lista1!G167","v":0}]
[{"$f":"lista1!A168","v":14},{"$f":"lista1!B168","v":"Revestimientos"},{"$f":"lista1!C168","v":"Unid."},null,"Precio",null,{"$f":"lista1!G168","v":"Cantid."},"Parcial"]
[{"$f":"lista1!A169","v":0},{"$f":"lista1!B169","v":"Incluye la mano de obra completa, adhesivo y tomado de juntas"}]
[{"$f":"lista1!A170","v":0},{"$f":"lista1!B170","v":"Cerámico tipo San Lorenzo 20 x 20 "},{"$f":"lista1!C170","v":"m2"},{"$f":"$N$27","v":0.90225536571975007},null,{"$f":"D170*E170","v":0},{"$f":"lista1!G170","v":0},{"$f":"+F170*G170","v":0}]
[{"$f":"lista1!A171","v":0},{"$f":"lista1!B171","v":"De venecita"},{"$f":"lista1!C171","v":"m2"},{"$f":"$N$27","v":0.90225536571975007},null,{"$f":"D171*E171","v":0},{"$f":"lista1!G171","v":0},{"$f":"+F171*G171","v":0}]
[{"$f":"lista1!A172","v":0},{"$f":"lista1!B172","v":"Cerámico esmaltado 30 x 30 cm"},{"$f":"lista1!C172","v":"m2"},0.90225536571975007,null,0,{"$f":"lista1!G172","v":29.93},0]
[{"$f":"lista1!A173","v":0},{"$f":"lista1!B173","v":"Revestimientos secos"},{"$f":"lista1!C173","v":0},0.90225536571975007,null,0,{"$f":"lista1!G173","v":0},0]
[{"$f":"lista1!A174","v":0},{"$f":"lista1!B174","v":"De muros con machiembrado de pino 1/2\". Incluye la estructura sobre muro"},{"$f":"lista1!C174","v":"m2"},0.90225536571975007,null,0,{"$f":"lista1!G174","v":0},0]
[{"$f":"lista1!A175","v":0},{"$f":"lista1!B175","v":"Cerámica esmaltada 30x30 con guardas"},{"$f":"lista1!C175","v":"m2"},0.90225536571975007,null,0,{"$f":"lista1!G175","v":0},0]
[{"$f":"lista1!A176","v":0},{"$f":"lista1!B176","v":"Porcellanato 30x30 rústico"},{"$f":"lista1!C176","v":"m2"},0.90225536571975007,null,0,{"$f":"lista1!G176","v":0},0]
[{"$f":"lista1!A177","v":0},{"$f":"lista1!B177","v":"Tejuelas de ladrillo"},{"$f":"lista1!C177","v":"m2"},0.90225536571975007,null,0,{"$f":"lista1!G177","v":0},0]
[{"$f":"lista1!A178","v":0},{"$f":"lista1!B178","v":0},{"$f":"lista1!C178","v":0},null,null,null,{"$f":"lista1!G178","v":0}]
[{"$f":"lista1!A179","v":15},{"$f":"lista1!B179","v":"Cielorrasos"},{"$f":"lista1!C179","v":0},null,null,null,{"$f":"lista1!G179","v":0}]
[{"$f":"lista1!A180","v":0},{"$f":"lista1!B180","v":"Aplicado a la cal fina fratasada"},{"$f":"lista1!C180","v":"m2"},{"$f":"$N$27","v":0.90225536571975007},null,{"$f":"D180*E180","v":0},{"$f":"lista1!G180","v":0},{"$f":"+F180*G180","v":0}]
[{"$f":"lista1!A181","v":0},{"$f":"lista1!B181","v":"Aplicado grueso y fino a la cal al fieltro"},{"$f":"lista1!C181","v":"m2"},{"$f":"$N$27","v":0.90225536571975007},null,{"$f":"D181*E181","v":0},{"$f":"lista1!G181","v":104.05},{"$f":"+F181*G181","v":0}]
[{"$f":"lista1!A182","v":0},{"$f":"lista1!B182","v":"Suspendido a la cal armado en madera "},{"$f":"lista1!C182","v":"m2"},0.90225536571975007,null,0,{"$f":"lista1!G182","v":0},0]
[{"$f":"lista1!A183","v":0},{"$f":"lista1!B183","v":"Suspendido a la cal armado en hierro"},{"$f":"lista1!C183","v":"m2"},0.90225536571975007,null,0,{"$f":"lista1!G183","v":0},0]
[{"$f":"lista1!A184","v":0},{"$f":"lista1!B184","v":"Taparrollo armado a la cal"},{"$f":"lista1!C184","v":"ml"},0.90225536571975007,null,0,{"$f":"lista1!G184","v":0},0]
[{"$f":"lista1!A185","v":0},{"$f":"lista1!B185","v":"Suspendido termoacústico"},{"$f":"lista1!C185","v":"m2"},0.90225536571975007,null,0,{"$f":"lista1!G185","v":0},0]
[{"$f":"lista1!A186","v":0},{"$f":"lista1!B186","v":"Suspendido con dorso de aluminio"},{"$f":"lista1!C186","v":"m2"},0.90225536571975007,null,0,{"$f":"lista1!G186","v":0},0]
[{"$f":"lista1!A187","v":0},{"$f":"lista1!B187","v":"Paneles de aluminio microperforado"},{"$f":"lista1!C187","v":"m2"},0.90225536571975007,null,0,{"$f":"lista1!G187","v":0},0]
[{"$f":"lista1!A188","v":0},{"$f":"lista1!B188","v":0},{"$f":"lista1!C188","v":0},null,null,null,{"$f":"lista1!G188","v":0}]
[{"$f":"lista1!A189","v":16},{"$f":"lista1!B189","v":"Yeseria"},{"$f":"lista1!C189","v":0},null,null,null,{"$f":"lista1!G189","v":0}]
[{"$f":"lista1!A190","v":0},{"$f":"lista1!B190","v":"Enlucido de yeso"},{"$f":"lista1!C190","v":"m2"},{"$f":"$N$27","v":0.90225536571975007},null,{"$f":"D190*E190","v":0},{"$f":"lista1!G190","v":0},{"$f":"+F190*G190","v":0}]
[{"$f":"lista1!A191","v":0},{"$f":"lista1!B191","v":"Enlucido de yeso reforzado con cemento"},{"$f":"lista1!C191","v":"m2"},{"$f":"$N$27","v":0.90225536571975007},null,{"$f":"D191*E191","v":0},{"$f":"lista1!G191","v":0},{"$f":"+F191*G191","v":0}]
[{"$f":"lista1!A192","v":0},{"$f":"lista1!B192","v":"Enlucido de yeso y engrosado con yeso gris"},{"$f":"lista1!C192","v":"m2"},0.90225536571975007,null,0,{"$f":"lista1!G192","v":0},0]
[{"$f":"lista1!A193","v":0},{"$f":"lista1!B193","v":"Guardacanto de yesero. Incluye el recubrimiento de yeso"},{"$f":"lista1!C193","v":"ml"},0.90225536571975007,null,0,{"$f":"lista1!G193","v":0},0]
[{"$f":"lista1!A194","v":0},{"$f":"lista1!B194","v":"Fajas sobre revestimiento"},{"$f":"lista1!C194","v":"ml"},0.90225536571975007,null,0,{"$f":"lista1!G194","v":0},0]
[{"$f":"lista1!A195","v":0},{"$f":"lista1!B195","v":"Agujeros circulares hasta 40 cm de diámetro"},{"$f":"lista1!C195","v":"u"},0.90225536571975007,null,0,{"$f":"lista1!G195","v":0},0]
[{"$f":"lista1!A196","v":0},{"$f":"lista1!B196","v":"Cielorraso aplicado al yeso"},{"$f":"lista1!C196","v":"m2"},0.90225536571975007,null,0,{"$f":"lista1!G196","v":0},0]
[{"$f":"lista1!A197","v":0},{"$f":"lista1!B197","v":"Cielorraso de yeso armado estructura de madera"},{"$f":"lista1!C197","v":"m2"},0.90225536571975007,null,0,{"$f":"lista1!G197","v":0},0]
[{"$f":"lista1!A198","v":0},{"$f":"lista1!B198","v":"Cielorraso de yeso armado estructura de hierro"},{"$f":"lista1!C198","v":"m2"},0.90225536571975007,null,0,{"$f":"lista1!G198","v":0},0]
[{"$f":"lista1!A199","v":0},{"$f":"lista1!B199","v":"Taparrollo de yeso armado"},{"$f":"lista1!C199","v":"ml"},0.90225536571975007,null,0,{"$f":"lista1!G199","v":0},0]
[{"$f":"lista1!A200","v":0},{"$f":"lista1!B200","v":0},{"$f":"lista1!C200","v":0},null,null,null,{"$f":"lista1!G200","v":0}]
[{"$f":"lista1!A201","v":17},{"$f":"lista1!B201","v":"Solados"},{"$f":"lista1!C201","v":"Unid."},null,"Precio",null,{"$f":"lista1!G201","v":"Cantid."},"Parcial"]
[{"$f":"lista1!A202","v":0},{"$f":"lista1!B202","v":"Incluye la mano de obra completa, adhesivos y/o mezcla de asiento y/o tomado de juntas. No incluye el pulido"}]
[{"$f":"lista1!A203","v":0},{"$f":"lista1!B203","v":"Alisado de cemento ferrocemento 6 cm"},{"$f":"lista1!C203","v":"m2"},{"$f":"$N$27","v":0.90225536571975007},null,{"$f":"D203*E203","v":0},{"$f":"lista1!G203","v":0},{"$f":"+F203*G203","v":0}]
[{"$f":"lista1!A204","v":0},{"$f":"lista1!B204","v":"Alisado de cemento ferrocemento 25 cm"},{"$f":"lista1!C204","v":"m2"},{"$f":"$N$27","v":0.90225536571975007},null,{"$f":"D204*E204","v":0},{"$f":"lista1!G204","v":0},{"$f":"+F204*G204","v":0}]
[{"$f":"lista1!A205","v":0},{"$f":"lista1!B205","v":"Cemento alisado rodillado"},{"$f":"lista1!C205","v":"m2"},0.90225536571975007,null,0,{"$f":"lista1!G205","v":0},0]
[{"$f":"lista1!A206","v":0},{"$f":"lista1!B206","v":"Porcelanato opaco 30 x 30 cm"},{"$f":"lista1!C206","v":"m2"},0.90225536571975007,null,0,{"$f":"lista1!G206","v":0},0]
[{"$f":"lista1!A207","v":0},{"$f":"lista1!B207","v":"Cerámico esmaltado 40 x 40 cm"},{"$f":"lista1!C207","v":"m2"},0.90225536571975007,null,0,{"$f":"lista1!G207","v":104.05},0]
[{"$f":"lista1!A208","v":0},{"$f":"lista1!B208","v":"Baldosa de azotea 30 x 30 cm junta ancha"},{"$f":"lista1!C208","v":"m2"},0.90225536571975007,null,0,{"$f":"lista1!G208","v":0},0]
[{"$f":"lista1!A209","v":0},{"$f":"lista1!B209","v":"Baldosón para vereda 60 x 40 cm"},{"$f":"lista1!C209","v":"m2"},0.90225536571975007,null,0,{"$f":"lista1!G209","v":0},0]
[{"$f":"lista1!A210","v":0},{"$f":"lista1!B210","v":"Mosaico granitico 30 x 30 cm colocado a la cal (No incluye pulido)"},{"$f":"lista1!C210","v":"m2"},0.90225536571975007,null,0,{"$f":"lista1!G210","v":0},0]
[{"$f":"lista1!A211","v":0},{"$f":"lista1!B211","v":"Pulido de mosaico granito"},{"$f":"lista1!C211","v":"m2"},0.90225536571975007,null,0,{"$f":"lista1!G211","v":0},0]
[{"$f":"lista1!A212","v":0},{"$f":"lista1!B212","v":"Porcelanato 30 x 30 rústico"},{"$f":"lista1!C212","v":"m2"},0.90225536571975007,null,0,{"$f":"lista1!G212","v":0},0]
[{"$f":"lista1!A213","v":0},{"$f":"lista1!B213","v":"Hormigón estampado"},{"$f":"lista1!C213","v":"m2"},0.90225536571975007,null,0,{"$f":"lista1!G213","v":0},0]
[{"$f":"lista1!A214","v":0},{"$f":"lista1!B214","v":"Cerámico azotea 20x20"},{"$f":"lista1!C214","v":"m2"},0.90225536571975007,null,0,{"$f":"lista1!G214","v":0},0]
[{"$f":"lista1!A215","v":0},{"$f":"lista1!B215","v":"Baldosón de cemento sobre discos plásticos"},{"$f":"lista1!C215","v":"m2"},0.90225536571975007,null,0,{"$f":"lista1!G215","v":0},0]
[{"$f":"lista1!A216","v":0},{"$f":"lista1!B216","v":0},{"$f":"lista1!C216","v":0},null,null,null,{"$f":"lista1!G216","v":0}]
[{"$f":"lista1!A217","v":18},{"$f":"lista1!B217","v":"Pisos especiales"},{"$f":"lista1!C217","v":0},null,null,null,{"$f":"lista1!G217","v":0}]
[{"$f":"lista1!A218","v":0},{"$f":"lista1!B218","v":"Parquet Eucaliptus con cola adhesiva"},{"$f":"lista1!C218","v":"m2"},{"$f":"$N$27","v":0.90225536571975007},null,{"$f":"D218*E218","v":0},{"$f":"lista1!G218","v":0},{"$f":"+F218*G218","v":0}]
[{"$f":"lista1!A219","v":0},{"$f":"lista1!B219","v":"Parquet con adhesivo epoxi bi-componentes"},{"$f":"lista1!C219","v":"m2"},{"$f":"$N$27","v":0.90225536571975007},null,{"$f":"D219*E219","v":0},{"$f":"lista1!G219","v":0},{"$f":"+F219*G219","v":0}]
[{"$f":"lista1!A220","v":0},{"$f":"lista1!B220","v":"Entablonado tarugado Viraró sobre alfajías"},{"$f":"lista1!C220","v":"m2"},0.90225536571975007,null,0,{"$f":"lista1!G220","v":0},0]
[{"$f":"lista1!A221","v":0},{"$f":"lista1!B221","v":"Pulido y plastificado de pisos de madera"},{"$f":"lista1!C221","v":"m2"},0.90225536571975007,null,0,{"$f":"lista1!G221","v":0},0]
[{"$f":"lista1!A222","v":0},{"$f":"lista1!B222","v":"Piso de goma con aplicación de masa niveladora y adhesivo"},{"$f":"lista1!C222","v":"m2"},0.90225536571975007,null,0,{"$f":"lista1!G222","v":0},0]
[{"$f":"lista1!A223","v":0},{"$f":"lista1!B223","v":"Alfombra de Nylon pelo cortado aplicada con adhesivo"},{"$f":"lista1!C223","v":"m2"},0.90225536571975007,null,0,{"$f":"lista1!G223","v":0},0]
[{"$f":"lista1!A224","v":0},{"$f":"lista1!B224","v":"Adoquines graniticos 9 x 9 x 9 sobre manto de arena"},{"$f":"lista1!C224","v":"m2"},0.90225536571975007,null,0,{"$f":"lista1!G224","v":0},0]
[{"$f":"lista1!A225","v":0},{"$f":"lista1!B225","v":"Bloques intertrabados colocado sobre manto de arena"},{"$f":"lista1!C225","v":"m2"},0.90225536571975007,null,0,{"$f":"lista1!G225","v":0},0]
[{"$f":"lista1!A226","v":0},{"$f":"lista1!B226","v":"Piso flotante de madera"},{"$f":"lista1!C226","v":"m2"},0.90225536571975007,null,0,{"$f":"lista1!G226","v":0},0]
[{"$f":"lista1!A227","v":0},{"$f":"lista1!B227","v":"Piso térmico elevado (sin terminación)"},{"$f":"lista1!C227","v":"m2"},0.90225536571975007,null,0,{"$f":"lista1!G227","v":0},0]
[{"$f":"lista1!A228","v":0},{"$f":"lista1!B228","v":"Alfombra modular para piso técnico"},{"$f":"lista1!C228","v":"m2"},0.90225536571975007,null,0,{"$f":"lista1!G228","v":0},0]
[{"$f":"lista1!A229","v":0},{"$f":"lista1!B229","v":0},{"$f":"lista1!C229","v":0},null,null,null,{"$f":"lista1!G229","v":0}]
[{"$f":"lista1!A230","v":19},{"$f":"lista1!B230","v":"Escaleras"},{"$f":"lista1!C230","v":0},null,null,null,{"$f":"lista1!G230","v":0}]
[{"$f":"lista1!A231","v":0},{"$f":"lista1!B231","v":"Carpeta de nivelación"},{"$f":"lista1!C231","v":"m2"},{"$f":"$N$27","v":0.90225536571975007},null,{"$f":"D231*E231","v":0},{"$f":"lista1!G231","v":0},{"$f":"+F231*G231","v":0}]
[{"$f":"lista1!A232","v":0},{"$f":"lista1!B232","v":"Alzada y pedada de cemento alisado "},{"$f":"lista1!C232","v":"m2"},0.90225536571975007,null,0,{"$f":"lista1!G232","v":0},0]
[{"$f":"lista1!A233","v":0},{"$f":"lista1!B233","v":"Naríz metálica"},{"$f":"lista1!C233","v":"ml"},0.90225536571975007,null,0,{"$f":"lista1!G233","v":0},0]
[{"$f":"lista1!A234","v":0},{"$f":"lista1!B234","v":"Zócalo de cemento alisado rampante"},{"$f":"lista1!C234","v":"ml"},0.90225536571975007,null,0,{"$f":"lista1!G234","v":0},0]
[{"$f":"lista1!A235","v":0},{"$f":"lista1!B235","v":"Alzada y pedada de cerámica 20 x 20 ( Incluye cortes ) "},{"$f":"lista1!C235","v":"m2"},0.90225536571975007,null,0,{"$f":"lista1!G235","v":0},0]
[{"$f":"lista1!A236","v":0},{"$f":"lista1!B236","v":"Alzada y pedada granítica reconstituida "},{"$f":"lista1!C236","v":"m2"},0.90225536571975007,null,0,{"$f":"lista1!G236","v":0},0]
[{"$f":"lista1!A237","v":0},{"$f":"lista1!B237","v":0},{"$f":"lista1!C237","v":0},null,null,null,{"$f":"lista1!G237","v":0}]
[{"$f":"lista1!A238","v":20},{"$f":"lista1!B238","v":"Zócalos"},{"$f":"lista1!C238","v":"Unid."},null,"Precio",null,{"$f":"lista1!G238","v":"Cantid."},"Parcial"]
[{"$f":"lista1!A239","v":0},{"$f":"lista1!B239","v":"Cemento alisado"},{"$f":"lista1!C239","v":"ml"},{"$f":"$N$27","v":0.90225536571975007},null,{"$f":"D239*E239","v":0},{"$f":"lista1!G239","v":0},{"$f":"+F239*G239","v":0}]
[{"$f":"lista1!A240","v":0},{"$f":"lista1!B240","v":"Zócalo de madera 1/2\" x 2\" liso"},{"$f":"lista1!C240","v":"ml"},{"$f":"$N$27","v":0.90225536571975007},null,{"$f":"D240*E240","v":0},{"$f":"lista1!G240","v":0},{"$f":"+F240*G240","v":0}]
[{"$f":"lista1!A241","v":0},{"$f":"lista1!B241","v":"Zócalo de cerámica"},{"$f":"lista1!C241","v":"ml"},{"$f":"$N$27","v":0.90225536571975007},null,{"$f":"D241*E241","v":0},{"$f":"lista1!G241","v":173.55999999999997},{"$f":"+F241*G241","v":0}]
[{"$f":"lista1!A242","v":0},{"$f":"lista1!B242","v":"Zócalo granítico"},{"$f":"lista1!C242","v":"ml"},{"$f":"$N$27","v":0.90225536571975007},null,{"$f":"D242*E242","v":0},{"$f":"lista1!G242","v":0},{"$f":"+F242*G242","v":0}]
[{"$f":"lista1!A243","v":0},{"$f":"lista1!B243","v":0},{"$f":"lista1!C243","v":0},null,null,null,{"$f":"lista1!G243","v":0}]
[{"$f":"lista1!A244","v":21},{"$f":"lista1!B244","v":"Marmoleria"},{"$f":"lista1!C244","v":0},null,null,null,{"$f":"lista1!G244","v":0}]
[{"$f":"lista1!A245","v":0},{"$f":"lista1!B245","v":"Mesada de granito gris mara ancho 60 cm ( incluye trasforo, pileta y griferías )"},{"$f":"lista1!C245","v":"ml"},{"$f":"$N$27","v":0.90225536571975007},null,{"$f":"D245*E245","v":0},{"$f":"lista1!G245","v":6.3},{"$f":"+F245*G245","v":0}]
[{"$f":"lista1!A246","v":0},{"$f":"lista1!B246","v":"Frentín de mesada de granito gris 20 cm"},{"$f":"lista1!C246","v":"ml"},{"$f":"$N$27","v":0.90225536571975007},null,{"$f":"D246*E246","v":0},{"$f":"lista1!G246","v":0},{"$f":"+F246*G246","v":0}]
[{"$f":"lista1!A247","v":0},{"$f":"lista1!B247","v":"Respaldo de granito gris 60 cm"},{"$f":"lista1!C247","v":"ml"},0.90225536571975007,null,0,{"$f":"lista1!G247","v":0},0]
[{"$f":"lista1!A248","v":0},{"$f":"lista1!B248","v":"Piso de marmetas de granito gris mara "},{"$f":"lista1!C248","v":"m2"},0.90225536571975007,null,0,{"$f":"lista1!G248","v":0},0]
[{"$f":"lista1!A249","v":0},{"$f":"lista1!B249","v":"Revestimiento de marmetas de granito gris"},{"$f":"lista1!C249","v":"m2"},0.90225536571975007,null,0,{"$f":"lista1!G249","v":0},0]
[{"$f":"lista1!A250","v":0},{"$f":"lista1!B250","v":0},{"$f":"lista1!C250","v":0},null,null,null,{"$f":"lista1!G250","v":0}]
[{"$f":"lista1!A251","v":0},{"$f":"lista1!B251","v":"Colocaciones "},{"$f":"lista1!C251","v":0},null,null,null,{"$f":"lista1!G251","v":0}]
[{"$f":"lista1!A252","v":0},{"$f":"lista1!B252","v":"zocalos de Mesadas (corte transv hasta 10cm/m longitudinal, fijar con claucol o silicona, tomar juntas)"},{"$f":"lista1!C252","v":"ml"},0.90225536571975007,null,0,{"$f":"lista1!G252","v":6.3},0]
[{"$f":"lista1!A253","v":0},{"$f":"lista1!B253","v":"Revestimiento de mármol o grantio sobre pared"},{"$f":"lista1!C253","v":"m2"},0.90225536571975007,null,0,{"$f":"lista1!G253","v":0},0]
[{"$f":"lista1!A254","v":0},{"$f":"lista1!B254","v":"Piso de mármol o granito"},{"$f":"lista1!C254","v":"m2"},0.90225536571975007,null,0,{"$f":"lista1!G254","v":0},0]
[{"$f":"lista1!A255","v":0},{"$f":"lista1!B255","v":"Marmetas piso"},{"$f":"lista1!C255","v":"m2"},0.90225536571975007,null,0,{"$f":"lista1!G255","v":0},0]
[{"$f":"lista1!A256","v":0},{"$f":"lista1!B256","v":"Marmetas revestimiento"},{"$f":"lista1!C256","v":"m2"},0.90225536571975007,null,0,{"$f":"lista1!G256","v":0},0]
[{"$f":"lista1!A257","v":0},{"$f":"lista1!B257","v":0},{"$f":"lista1!C257","v":0},null,null,null,{"$f":"lista1!G257","v":0}]
[{"$f":"lista1!A258","v":22},{"$f":"lista1!B258","v":"Pinturas"},{"$f":"lista1!C258","v":0},null,null,null,{"$f":"lista1!G258","v":0}]
[{"$f":"lista1!A259","v":0},{"$f":"lista1!B259","v":"Se consideran en todos los casos el enduído parcial. Aplicación de fijador y 3 manos de pintura"},{"$f":"lista1!C259","v":0},null,null,null,{"$f":"lista1!G259","v":0}]
[{"$f":"lista1!A260","v":0},{"$f":"lista1!B260","v":"Latex sobre muros interiores"},{"$f":"lista1!C260","v":"m2"},{"$f":"$N$27","v":0.90225536571975007},null,{"$f":"D260*E260","v":0},{"$f":"lista1!G260","v":342.03623999999996},{"$f":"+F260*G260","v":0}]
[{"$f":"lista1!A261","v":0},{"$f":"lista1!B261","v":"Latex sobre cielo rasos"},{"$f":"lista1!C261","v":"m2"},{"$f":"$N$27","v":0.90225536571975007},null,{"$f":"D261*E261","v":0},{"$f":"lista1!G261","v":104.05},{"$f":"+F261*G261","v":0}]
[{"$f":"lista1!A262","v":0},{"$f":"lista1!B262","v":"Latex acrílico sobre muros exteriores"},{"$f":"lista1!C262","v":"m2"},0.90225536571975007,null,0,{"$f":"lista1!G262","v":146.58696},0]
[{"$f":"lista1!A263","v":0},{"$f":"lista1!B263","v":"Silicona s/ladrillo visto (m2)"},{"$f":"lista1!C263","v":"m2"},0.90225536571975007,null,0,{"$f":"lista1!G263","v":0},0]
[{"$f":"lista1!A264","v":0},{"$f":"lista1!B264","v":"Esmalte sintético s/carpinterías"},{"$f":"lista1!C264","v":"m2"},0.90225536571975007,null,0,{"$f":"lista1!G264","v":0},0]
[{"$f":"lista1!A265","v":0},{"$f":"lista1!B265","v":"Esmalte sintético s/carp metál"},{"$f":"lista1!C265","v":"m2"},0.90225536571975007,null,0,{"$f":"lista1!G265","v":0},0]
[{"$f":"lista1!A266","v":0},{"$f":"lista1!B266","v":"Esmalte sintético sobre estructuras metáilcas"},{"$f":"lista1!C266","v":"tn"},0.90225536571975007,null,0,{"$f":"lista1!G266","v":0},0]
[{"$f":"lista1!A267","v":0},{"$f":"lista1!B267","v":"Barniz marino. 1º mano con barniceta y 2º de barniz (este item tmb sirve para impregnantes)"},{"$f":"lista1!C267","v":"m2"},0.90225536571975007,null,0,{"$f":"lista1!G267","v":12.8},0]
[{"$f":"lista1!A268","v":0},{"$f":"lista1!B268","v":"Impermeabilizante fibrado para techos ( 2 manos )"},{"$f":"lista1!C268","v":"m2"},0.90225536571975007,null,0,{"$f":"lista1!G268","v":0},0]
[{"$f":"lista1!A269","v":0},{"$f":"lista1!B269","v":"Empapelado de paredes con papel base"},{"$f":"lista1!C269","v":"m2"},0.90225536571975007,null,0,{"$f":"lista1!G269","v":0},0]
[{"$f":"lista1!A270","v":0},{"$f":"lista1!B270","v":0},{"$f":"lista1!C270","v":0},null,null,null,{"$f":"lista1!G270","v":0}]
[{"$f":"lista1!A271","v":23},{"$f":"lista1!B271","v":"Artefactos Sanitarios - Accesorios Griferías"},{"$f":"lista1!C271","v":"Unid."},null,"Precio",null,{"$f":"lista1!G271","v":"Cantid."},"Parcial"]
[{"$f":"lista1!A272","v":0},{"$f":"lista1!B272","v":"Colocación de artefactos sanitarios"},{"$f":"lista1!C272","v":"u"},{"$f":"$N$27","v":0.90225536571975007},null,{"$f":"D272*E272","v":0},{"$f":"lista1!G272","v":2},{"$f":"+F272*G272","v":0}]
[{"$f":"lista1!A273","v":0},{"$f":"lista1!B273","v":"Colocación de accesorios sanitarios"},{"$f":"lista1!C273","v":"u"},{"$f":"$N$27","v":0.90225536571975007},null,{"$f":"D273*E273","v":0},{"$f":"lista1!G273","v":4},{"$f":"+F273*G273","v":0}]
[{"$f":"lista1!A274","v":0},{"$f":"lista1!B274","v":"Colocación de griferías"},{"$f":"lista1!C274","v":"u"},{"$f":"$N$27","v":0.90225536571975007},null,{"$f":"D274*E274","v":0},{"$f":"lista1!G274","v":2},{"$f":"+F274*G274","v":0}]
[{"$f":"lista1!A275","v":0},{"$f":"lista1!B275","v":0},{"$f":"lista1!C275","v":0},null,null,null,{"$f":"lista1!G275","v":0}]
[{"$f":"lista1!A276","v":24},{"$f":"lista1!B276","v":"Carpinterías Metálicas"},{"$f":"lista1!C276","v":0},"cf","prec","prec",{"$f":"lista1!G276","v":0}]
[{"$f":"lista1!A277","v":0},{"$f":"lista1!B277","v":"No incluyen los vidrios"},{"$f":"lista1!C277","v":0},null,"vjo","act.",{"$f":"lista1!G277","v":0}]
[{"$f":"lista1!A278","v":0},{"$f":"lista1!B278","v":"Marco de chapa y puerta doble chapa muro 15cm de espesor. Incluye herraje"},{"$f":"lista1!C278","v":"u"},{"$f":"$N$27","v":0.90225536571975007},null,{"$f":"D278*E278","v":0},{"$f":"lista1!G278","v":1},{"$f":"+F278*G278","v":0}]
[{"$f":"lista1!A279","v":0},{"$f":"lista1!B279","v":"Marco de chapa muro 15cm espesor. Incluye juego de pomelas"},{"$f":"lista1!C279","v":"u"},{"$f":"$N$27","v":0.90225536571975007},null,{"$f":"D279*E279","v":0},{"$f":"lista1!G279","v":0},{"$f":"+F279*G279","v":0}]
[{"$f":"lista1!A280","v":0},{"$f":"lista1!B280","v":"Marco chapa y puerta simple chapa muro 15cm de espesor. Incluye herrajes"},{"$f":"lista1!C280","v":"u"},0.90225536571975007,null,0,{"$f":"lista1!G280","v":0},0]
[{"$f":"lista1!A281","v":0},{"$f":"lista1!B281","v":"Marco placard con baulera 2x2 m p/muro 10cm espesor hojas corredizas o de abrir. Incluye herrajes."},{"$f":"lista1!C281","v":"u"},0.90225536571975007,null,0,{"$f":"lista1!G281","v":0},0]
[{"$f":"lista1!A282","v":0},{"$f":"lista1!B282","v":"Baranda pasamanos, dos travesaños, parantes planchuela"},{"$f":"lista1!C282","v":"ml"},0.90225536571975007,null,0,{"$f":"lista1!G282","v":0},0]
[{"$f":"lista1!A283","v":0},{"$f":"lista1!B283","v":"Baranda pasamanos, travesaños y malla artística"},{"$f":"lista1!C283","v":"ml"},0.90225536571975007,null,0,{"$f":"lista1!G283","v":0},0]
[{"$f":"lista1!A284","v":0},{"$f":"lista1!B284","v":"Baranda pasamanos, travesaños y vidrio laminado"},{"$f":"lista1!C284","v":"ml"},0.90225536571975007,null,0,{"$f":"lista1!G284","v":0},0]
[{"$f":"lista1!A285","v":0},{"$f":"lista1!B285","v":"Reja de hierro redondo y planchuela"},{"$f":"lista1!C285","v":"m2"},0.90225536571975007,null,0,{"$f":"lista1!G285","v":0},0]
[{"$f":"lista1!A286","v":0},{"$f":"lista1!B286","v":"Puerta doble chapa F60 DDN 16"},{"$f":"lista1!C286","v":"u"},0.90225536571975007,null,0,{"$f":"lista1!G286","v":0},0]
[{"$f":"lista1!A287","v":0},{"$f":"lista1!B287","v":"Puerta doble chapa DDN 16"},{"$f":"lista1!C287","v":"u"},0.90225536571975007,null,0,{"$f":"lista1!G287","v":0},0]
[{"$f":"lista1!A288","v":0},{"$f":"lista1!B288","v":"Escalera caracol diámetro 1,4 (por piso)"},{"$f":"lista1!C288","v":"u"},0.90225536571975007,null,0,{"$f":"lista1!G288","v":0},0]
[{"$f":"lista1!A289","v":0},{"$f":"lista1!B289","v":"Escalera gato sin guarda hombre"},{"$f":"lista1!C289","v":"ml"},0.90225536571975007,null,0,{"$f":"lista1!G289","v":0},0]
[{"$f":"lista1!A290","v":0},{"$f":"lista1!B290","v":"Escalera metálica con peldaños de madera"},{"$f":"lista1!C290","v":"ml"},0.90225536571975007,null,0,{"$f":"lista1!G290","v":0},0]
[{"$f":"lista1!A291","v":0},{"$f":"lista1!B291","v":"Pasamanos de hierro"},{"$f":"lista1!C291","v":"ml"},0.90225536571975007,null,0,{"$f":"lista1!G291","v":0},0]
[{"$f":"lista1!A292","v":0},{"$f":"lista1!B292","v":0},{"$f":"lista1!C292","v":0},null,null,null,{"$f":"lista1!G292","v":0}]
[{"$f":"lista1!A293","v":25},{"$f":"lista1!B293","v":"Carpinterías de madera"},{"$f":"lista1!C293","v":0},null,null,null,{"$f":"lista1!G293","v":0}]
[{"$f":"lista1!A294","v":0},{"$f":"lista1!B294","v":"No incluyen los vidrios"},{"$f":"lista1!C294","v":0},null,null,null,{"$f":"lista1!G294","v":0}]
[{"$f":"lista1!A295","v":0},{"$f":"lista1!B295","v":"Ventana 1.50x1.50 incluyen herrajes. No incluye vidrios ni pintura"},{"$f":"lista1!C295","v":"m2"},{"$f":"$N$27","v":0.90225536571975007},null,{"$f":"D295*E295","v":0},{"$f":"lista1!G295","v":0},{"$f":"+F295*G295","v":0}]
[{"$f":"lista1!A296","v":0},{"$f":"lista1!B296","v":"Ventana vidrio repartido 1.50x1.50 incluye herrajes. No incluye vidrios ni pintura"},{"$f":"lista1!C296","v":"m2"},{"$f":"$N$27","v":0.90225536571975007},null,{"$f":"D296*E296","v":0},{"$f":"lista1!G296","v":0},{"$f":"+F296*G296","v":0}]
[{"$f":"lista1!A297","v":0},{"$f":"lista1!B297","v":"Mueble de cocina bajomesada. Incluye herrajes"},{"$f":"lista1!C297","v":"ml"},0.90225536571975007,null,0,{"$f":"lista1!G297","v":0},0]
[{"$f":"lista1!A298","v":0},{"$f":"lista1!B298","v":"Alacena. Incluye herrajes"},{"$f":"lista1!C298","v":"ml"},0.90225536571975007,null,0,{"$f":"lista1!G298","v":0},0]
[{"$f":"lista1!A299","v":0},{"$f":"lista1!B299","v":"Escobero (ml de alzada) Incluye herrajes"},{"$f":"lista1!C299","v":"ml"},0.90225536571975007,null,0,{"$f":"lista1!G299","v":0},0]
[{"$f":"lista1!A300","v":0},{"$f":"lista1!B300","v":"Colocación muebles de cocina"},{"$f":"lista1!C300","v":"ml"},0.90225536571975007,null,0,{"$f":"lista1!G300","v":0},0]
[{"$f":"lista1!A301","v":0},{"$f":"lista1!B301","v":"Puerta de acceso (entablonado ambas caras) en cedro nacional. Incluye herrajes"},{"$f":"lista1!C301","v":"m2"},0.90225536571975007,null,0,{"$f":"lista1!G301","v":0},0]
[{"$f":"lista1!A302","v":0},{"$f":"lista1!B302","v":"Baranda pasamanos y malla artística"},{"$f":"lista1!C302","v":"ml"},0.90225536571975007,null,0,{"$f":"lista1!G302","v":0},0]
[{"$f":"lista1!A303","v":0},{"$f":"lista1!B303","v":"Baranda pasamanos y travesaños"},{"$f":"lista1!C303","v":"ml"},0.90225536571975007,null,0,{"$f":"lista1!G303","v":0},0]
[{"$f":"lista1!A304","v":0},{"$f":"lista1!B304","v":"Pasamanos"},{"$f":"lista1!C304","v":"ml"},0.90225536571975007,null,0,{"$f":"lista1!G304","v":0},0]
[{"$f":"lista1!A305","v":0},{"$f":"lista1!B305","v":"Escalera de madera con baranda"},{"$f":"lista1!C305","v":"u"},0.90225536571975007,null,0,{"$f":"lista1!G305","v":0},0]
[{"$f":"lista1!A306","v":0},{"$f":"lista1!B306","v":"Puerta placa"},{"$f":"lista1!C306","v":"u"},0.90225536571975007,null,0,{"$f":"lista1!G306","v":0},0]
[{"$f":"lista1!A307","v":0},{"$f":"lista1!B307","v":0},{"$f":"lista1!C307","v":0},null,null,null,{"$f":"lista1!G307","v":0}]
[{"$f":"lista1!A308","v":26},{"$f":"lista1!B308","v":"Carpinterías de Aluminio y accesorios de fachadas"},{"$f":"lista1!C308","v":"Unid."},null,"Precio",null,{"$f":"lista1!G308","v":"Cantid."},"Parcial"]
[{"$f":"lista1!A309","v":0},{"$f":"lista1!B309","v":"Incluyen los vidrios"}]
[{"$f":"lista1!A310","v":0},{"$f":"lista1!B310","v":"Premarco"},{"$f":"lista1!C310","v":"m2"},{"$f":"$N$27","v":0.90225536571975007},null,{"$f":"D310*E310","v":0},{"$f":"lista1!G310","v":4},{"$f":"+F310*G310","v":0}]
[{"$f":"lista1!A311","v":0},{"$f":"lista1!B311","v":"Aluminio 1.50x1.50m hojas de abrir. Incluye herrajes"},{"$f":"lista1!C311","v":"m2"},{"$f":"$N$27","v":0.90225536571975007},null,{"$f":"D311*E311","v":0},{"$f":"lista1!G311","v":4},{"$f":"+F311*G311","v":0}]
[{"$f":"lista1!A312","v":0},{"$f":"lista1!B312","v":"Baranda"},{"$f":"lista1!C312","v":"ml"},{"$f":"$N$27","v":0.90225536571975007},null,{"$f":"D312*E312","v":0},{"$f":"lista1!G312","v":0},{"$f":"+F312*G312","v":0}]
[{"$f":"lista1!A313","v":0},{"$f":"lista1!B313","v":"Baranda vidrio laminado"},{"$f":"lista1!C313","v":"ml"},{"$f":"$N$27","v":0.90225536571975007},null,{"$f":"D313*E313","v":0},{"$f":"lista1!G313","v":0},{"$f":"+F313*G313","v":0}]
[{"$f":"lista1!A314","v":0},{"$f":"lista1!B314","v":"puerta de aluminio de 0,80*2,00 de abrir comun, izquierdo, con marco y herrajes"},{"$f":"lista1!C314","v":"u"},null,null,null,{"$f":"lista1!G314","v":2}]
[{"$f":"lista1!A315","v":27},{"$f":"lista1!B315","v":"Cristales"},{"$f":"lista1!C315","v":0},null,null,null,{"$f":"lista1!G315","v":0}]
[{"$f":"lista1!A316","v":0},{"$f":"lista1!B316","v":"Se considera la mano de obra y materiales"},{"$f":"lista1!C316","v":0},null,null,null,{"$f":"lista1!G316","v":0}]
[{"$f":"lista1!A317","v":0},{"$f":"lista1!B317","v":"Espejo float 6 mm"},{"$f":"lista1!C317","v":"m2"},{"$f":"$N$27","v":0.90225536571975007},null,{"$f":"D317*E317","v":0},{"$f":"lista1!G317","v":0},{"$f":"+F317*G317","v":0}]
[{"$f":"lista1!A318","v":0},{"$f":"lista1!B318","v":"Vidrio de 4 mm"},{"$f":"lista1!C318","v":"m2"},{"$f":"$N$27","v":0.90225536571975007},null,{"$f":"D318*E318","v":0},{"$f":"lista1!G318","v":0},{"$f":"+F318*G318","v":0}]
[{"$f":"lista1!A319","v":0},{"$f":"lista1!B319","v":"Vidrio de 6 mm"},{"$f":"lista1!C319","v":"m2"},{"$f":"$N$27","v":0.90225536571975007},null,{"$f":"D319*E319","v":0},{"$f":"lista1!G319","v":0},{"$f":"+F319*G319","v":0}]
[{"$f":"lista1!A320","v":0},{"$f":"lista1!B320","v":"Laminado de seguridad 3 + 3 mm"},{"$f":"lista1!C320","v":"m2"},{"$f":"$N$27","v":0.90225536571975007},null,{"$f":"D320*E320","v":0},{"$f":"lista1!G320","v":0},{"$f":"+F320*G320","v":0}]
[{"$f":"lista1!A321","v":0},{"$f":"lista1!B321","v":0},{"$f":"lista1!C321","v":0},null,null,null,{"$f":"lista1!G321","v":0}]
[{"$f":"lista1!A322","v":28},{"$f":"lista1!B322","v":"Limpieza y ayuda de gremios"},{"$f":"lista1!C322","v":0},null,null,null,{"$f":"lista1!G322","v":0}]
[{"$f":"lista1!A323","v":0},{"$f":"lista1!B323","v":"Limpieza periódica"},{"$f":"lista1!C323","v":"mes"},{"$f":"$N$27","v":0.90225536571975007},null,{"$f":"D323*E323","v":0},{"$f":"lista1!G323","v":0},{"$f":"+F323*G323","v":0}]
[{"$f":"lista1!A324","v":0},{"$f":"lista1!B324","v":"Limpieza final"},{"$f":"lista1!C324","v":"m2"},{"$f":"$N$27","v":0.90225536571975007},null,{"$f":"D324*E324","v":0},{"$f":"lista1!G324","v":0},{"$f":"+F324*G324","v":0}]
[{"$f":"lista1!A325","v":0},{"$f":"lista1!B325","v":"Ayuda de gremios"},{"$f":"lista1!C325","v":"m2"},{"$f":"$N$27","v":0.90225536571975007},null,{"$f":"D325*E325","v":0},{"$f":"lista1!G325","v":0},{"$f":"+F325*G325","v":0}]
[{"$f":"lista1!A326","v":0},{"$f":"lista1!B326","v":0},{"$f":"lista1!C326","v":0},null,null,null,{"$f":"lista1!G326","v":0}]
[{"$f":"lista1!A327","v":29},{"$f":"lista1!B327","v":"Instalación sanitaria"},{"$f":"lista1!C327","v":0},null,null,null,{"$f":"lista1!G327","v":0}]
[{"$f":"lista1!A328","v":0},{"$f":"lista1!B328","v":"Distribución de agua fría y caliente de polipropileno, desagües en PVC aprobado cloacal. Núcleo baño/cocina/lavadero propiedad horizontal incluye la parte proporcional de la montante, bajada, tanque e instalación general"},{"$f":"lista1!C328","v":0},null,null,null,{"$f":"lista1!G328","v":0}]
[{"$f":"lista1!A329","v":0},{"$f":"lista1!B329","v":"Baño principal (bañera-bidet-lavaratorio-inodoro) cloaca agua fría y caliente, ventilaciones, colocación de artefactos y griferías"},{"$f":"lista1!C329","v":"gl"},{"$f":"$N$27","v":0.90225536571975007},null,{"$f":"D329*E329","v":0},{"$f":"lista1!G329","v":0.7},{"$f":"+F329*G329","v":0}]
[{"$f":"lista1!A330","v":0},{"$f":"lista1!B330","v":"Cocina y lavadero (pileta de cocina y de lavar) Cloaca. Incluye la instalación de artefactos y broncería. Artefactos no incluídos"},{"$f":"lista1!C330","v":"gl"},{"$f":"$N$27","v":0.90225536571975007},null,{"$f":"D330*E330","v":0},{"$f":"lista1!G330","v":0.7},{"$f":"+F330*G330","v":0}]
[{"$f":"lista1!A331","v":0},{"$f":"lista1!B331","v":"Construcción de cámara de inspección 60*60 con tapas y marcos prefabricados"},{"$f":"lista1!C331","v":"gl"},{"$f":"$N$27","v":0.90225536571975007},null,{"$f":"D331*E331","v":0},{"$f":"lista1!G331","v":1},{"$f":"+F331*G331","v":0}]
[{"$f":"lista1!A332","v":30},{"$f":"lista1!B332","v":"Instalación de Gas "},{"$f":"lista1!C332","v":"Unid."},null,"Precio",null,{"$f":"lista1!G332","v":"Cantid."},"Parcial"]
[{"$f":"lista1!A333","v":0},{"$f":"lista1!B333","v":0}]
[{"$f":"lista1!A334","v":0},{"$f":"lista1!B334","v":"Cocina y calefon completa (cañería conexiones llaves medidor) (artefactos no incluidos)"},{"$f":"lista1!C334","v":"gl"},{"$f":"$N$27","v":0.90225536571975007},null,{"$f":"D334*E334","v":0},{"$f":"lista1!G334","v":1},{"$f":"+F334*G334","v":0}]
[{"$f":"lista1!A335","v":0},{"$f":"lista1!B335","v":"calefactores (precios aprox. Que incluya: artefacto,3 m cañ de gas y total cañ ventil. Sombrer., llav paso,gramp, etc. )"},{"$f":"lista1!C335","v":"ud"},0.90225536571975007,null,0,{"$f":"lista1!G335","v":2},0]
[{"$f":"lista1!A336","v":0},{"$f":"lista1!B336","v":"cocina (precios aprox. Que incluya artefacto, total cañ ventil., Sombrer., sell., grampas, etc.)"},{"$f":"lista1!C336","v":"ud"},0.90225536571975007,null,0,{"$f":"lista1!G336","v":1},0]
[{"$f":"lista1!A337","v":0},{"$f":"lista1!B337","v":"calefon (precios aprox. Que incluya artefacto, total cañ ventil., Sombrer., sell., grampas, etc.)"},{"$f":"lista1!C337","v":"ud"},0.90225536571975007,null,0,{"$f":"lista1!G337","v":1},0]
[{"$f":"lista1!A338","v":0},{"$f":"lista1!B338","v":"planos de gas y cálculos varios todo referido a consumo de gas viv. Unifamiliar"},{"$f":"lista1!C338","v":"gl"},0.90225536571975007,null,0,{"$f":"lista1!G338","v":1},0]
[{"$f":"lista1!A339","v":0},{"$f":"lista1!B339","v":"tramit(etap parc. cañ.$2700 + aranceles por soldadura de servicio $1700 + etap fnal tasa mun3500 + apro final 2600"},{"$f":"lista1!C339","v":"gl"},0.90225536571975007,null,0,{"$f":"lista1!G339","v":1},0]
[{"$f":"lista1!A340","v":0},{"$f":"lista1!B340","v":0},{"$f":"lista1!C340","v":0},null,null,null,{"$f":"lista1!G340","v":0}]
[{"$f":"lista1!A341","v":31},{"$f":"lista1!B341","v":"Instalación termomecánica "},{"$f":"lista1!C341","v":0},null,null,null,{"$f":"lista1!G341","v":0}]
[{"$f":"lista1!A342","v":0},{"$f":"lista1!B342","v":"Materiales: caño de polietileno reticulado. Recordar aislación térmica y tapado de caños con concreto"},{"$f":"lista1!C342","v":0},null,null,null,{"$f":"lista1!G342","v":0}]
[{"$f":"lista1!A343","v":0},{"$f":"lista1!B343","v":"Piso radiante conexiones a provisión de calor"},{"$f":"lista1!C343","v":"m2"},{"$f":"$N$27","v":0.90225536571975007},null,{"$f":"D343*E343","v":0},{"$f":"lista1!G343","v":0},{"$f":"+F343*G343","v":0}]
[{"$f":"lista1!A344","v":0},{"$f":"lista1!B344","v":"Cañería y radiadores con conexiones a provisión de calor. No incluye caldera"},{"$f":"lista1!C344","v":"m2"},{"$f":"$N$27","v":0.90225536571975007},null,{"$f":"D344*E344","v":0},{"$f":"lista1!G344","v":0},{"$f":"+F344*G344","v":0}]
[{"$f":"lista1!A345","v":0},{"$f":"lista1!B345","v":0},{"$f":"lista1!C345","v":0},null,null,null,{"$f":"lista1!G345","v":0}]
[{"$f":"lista1!A346","v":32},{"$f":"lista1!B346","v":"Instalación eléctrica"},{"$f":"lista1!C346","v":0},null,null,null,{"$f":"lista1!G346","v":0}]
[{"$f":"lista1!A347","v":0},{"$f":"lista1!B347","v":"Boca de aluminio y toma - Nota: se considera boca a cada centro y brazo, y a caja de toma. Para una cantidad aproximada de 40 bocas. Incluye incidencia de tablero general y tablero seccional"},{"$f":"lista1!C347","v":"u"},{"$f":"$N$27","v":0.90225536571975007},null,{"$f":"D347*E347","v":0},{"$f":"lista1!G347","v":50},{"$f":"+F347*G347","v":0}]
[{"$f":"lista1!A348","v":0},{"$f":"lista1!B348","v":"Pilar completo (caja de medición, toma Jabalina, cruceta y pipeta"},{"$f":"lista1!C348","v":"gl"},{"$f":"$N$27","v":0.90225536571975007},null,{"$f":"D348*E348","v":0},{"$f":"lista1!G348","v":1},{"$f":"+F348*G348","v":0}]
[{"$f":"lista1!A349","v":0},{"$f":"lista1!B349","v":"Boca timbre. Campanillas, caja, cables y 2 pulsadores"},{"$f":"lista1!C349","v":"u"},0.90225536571975007,null,0,{"$f":"lista1!G349","v":1},0]
[{"$f":"lista1!A350","v":0},{"$f":"lista1!B350","v":"Boca TE"},{"$f":"lista1!C350","v":"u"},0.90225536571975007,null,0,{"$f":"lista1!G350","v":2},0]
[{"$f":"lista1!A351","v":0},{"$f":"lista1!B351","v":"Boca TV o cable TV (vacía) Cañería de 1\""},{"$f":"lista1!C351","v":"u"},0.90225536571975007,null,0,{"$f":"lista1!G351","v":3},0]
[{"$f":"lista1!A352","v":0},{"$f":"lista1!B352","v":"Boca de teléfono. Considera la insidencia de la caja de pase, sin bornera ni cables de montante"},{"$f":"lista1!C352","v":"u"},0.90225536571975007,null,0,{"$f":"lista1!G352","v":0},0]
[{"$f":"lista1!A353","v":0},{"$f":"lista1!B353","v":"Tablero fuerza motriz ascensor"},{"$f":"lista1!C353","v":"u"},0.90225536571975007,null,0,{"$f":"lista1!G353","v":0},0]
[{"$f":"lista1!A354","v":0},{"$f":"lista1!B354","v":"Tablero de bombas"},{"$f":"lista1!C354","v":"u"},0.90225536571975007,null,0,{"$f":"lista1!G354","v":0},0]
[{"$f":"lista1!A355","v":0},{"$f":"lista1!B355","v":"Instalación de pararrayos altura 40 mts."},{"$f":"lista1!C355","v":"u"},0.90225536571975007,null,0,{"$f":"lista1!G355","v":0},0]
[{"$f":"lista1!A356","v":0},{"$f":"lista1!B356","v":"Colocación de artefactos"},{"$f":"lista1!C356","v":"u"},0.90225536571975007,null,0,{"$f":"lista1!G356","v":0},0]
[{"$f":"lista1!A357","v":0},{"$f":"lista1!B357","v":0},{"$f":"lista1!C357","v":0},null,null,null,{"$f":"lista1!G357","v":0}]
[{"$f":"lista1!A358","v":33},{"$f":"lista1!B358","v":"Instalación contra incendio"},{"$f":"lista1!C358","v":0},null,null,null,{"$f":"lista1!G358","v":0}]
[{"$f":"lista1!A359","v":0},{"$f":"lista1!B359","v":"Boca de incendio completa. Incluye nicho, válvula, manguera, lanza, llave de ajuste y cañería"},{"$f":"lista1!C359","v":"u"},{"$f":"$N$27","v":0.90225536571975007},null,{"$f":"D359*E359","v":0},{"$f":"lista1!G359","v":0},{"$f":"+F359*G359","v":0}]
[{"$f":"lista1!A360","v":0},{"$f":"lista1!B360","v":0},{"$f":"lista1!C360","v":0},null,null,null,{"$f":"lista1!G360","v":0}]
[{"$f":"lista1!A361","v":0},{"$f":"lista1!B361","v":0},{"$f":"lista1!C361","v":"Total"},null,"$",null,{"$f":"lista1!G361","v":3115.8489448320615},{"$f":"SUM(H4:H359)","v":294212.07908975781}]
[{"$f":"lista1!A362","v":0},{"$f":"lista1!B362","v":0},{"$f":"lista1!C362","v":0},null,null,null,{"$f":"lista1!G362","v":0}]
[{"$f":"lista1!A363","v":0},{"$f":"lista1!B363","v":0},{"$f":"lista1!C363","v":0},null,null,null,{"$f":"lista1!G363","v":0}]
[{"$f":"lista1!A364","v":0},{"$f":"lista1!B364","v":0},{"$f":"lista1!C364","v":0},null,null,null,{"$f":"lista1!G364","v":0}]
[{"$f":"lista1!A365","v":0},{"$f":"lista1!B365","v":0},{"$f":"lista1!C365","v":0},null,null,null,{"$f":"lista1!G365","v":0}]
[{"$f":"lista1!A366","v":0},{"$f":"lista1!B366","v":0},{"$f":"lista1!C366","v":0},null,null,null,{"$f":"lista1!G366","v":0}]
[{"$f":"lista1!A367","v":0},{"$f":"lista1!B367","v":0},{"$f":"lista1!C367","v":0},null,null,null,{"$f":"lista1!G367","v":0}]
[{"$f":"lista1!A368","v":0},{"$f":"lista1!B368","v":0},{"$f":"lista1!C368","v":0},null,null,null,{"$f":"lista1!G368","v":0}]
[null,{"$f":"lista1!B369","v":0},{"$f":"lista1!C369","v":0},null,null,null,{"$f":"lista1!G369","v":0}]
[null,{"$f":"lista1!B370","v":0},{"$f":"lista1!C370","v":0},null,null,null,{"$f":"lista1!G370","v":0}]
[null,{"$f":"lista1!B371","v":0},{"$f":"lista1!C371","v":0},null,"Unidad de medida",null,{"$f":"lista1!G371","v":0}]
[null,{"$f":"lista1!B372","v":0},{"$f":"lista1!C372","v":0},null,"meses",null,{"$f":"lista1!G372","v":0}]
[null,{"$f":"lista1!B373","v":0},{"$f":"lista1!C373","v":0},null,"20 % de precio final de la obra",null,{"$f":"lista1!G373","v":0}]
[null,{"$f":"lista1!B374","v":0},{"$f":"lista1!C374","v":0},null,60,null,{"$f":"lista1!G374","v":0}]
[null,{"$f":"lista1!B375","v":0},{"$f":"lista1!C375","v":0},null,2,null,{"$f":"lista1!G375","v":0}]
[null,{"$f":"lista1!B376","v":0},{"$f":"lista1!C376","v":0},null,0.15,null,{"$f":"lista1!G376","v":0}]
[null,{"$f":"lista1!B377","v":0},{"$f":"lista1!C377","v":0},null,0.04,null,{"$f":"lista1!G377","v":0}]
[null,{"$f":"lista1!B378","v":0},{"$f":"lista1!C378","v":0},null,0.02,null,{"$f":"lista1!G378","v":0}]
[null,{"$f":"lista1!B379","v":0},{"$f":"lista1!C379","v":0},null,null,null,{"$f":"lista1!G379","v":0}]
[null,{"$f":"lista1!B380","v":0},{"$f":"lista1!C380","v":0},null,null,null,{"$f":"lista1!G380","v":0}]
[null,{"$f":"lista1!B381","v":0},{"$f":"lista1!C381","v":0},null,null,null,{"$f":"lista1!G381","v":0}]
[null,{"$f":"lista1!B382","v":0},{"$f":"lista1!C382","v":0},null,null,null,{"$f":"lista1!G382","v":0}]
[null,{"$f":"lista1!B383","v":0},{"$f":"lista1!C383","v":0},null,null,null,{"$f":"lista1!G383","v":0}]
[null,{"$f":"lista1!B384","v":0},{"$f":"lista1!C384","v":0},null,null,null,{"$f":"lista1!G384","v":0}]
[null,{"$f":"lista1!B385","v":0},{"$f":"lista1!C385","v":0},null,null,null,{"$f":"lista1!G385","v":0}]
[null,{"$f":"lista1!B386","v":0},{"$f":"lista1!C386","v":0},null,null,null,{"$f":"lista1!G386","v":0}]

{"sheet":"lista4","index":3,"n_rows":386,"n_cols":257,"rows_kept":386,"cut":false,"hidden":false,"merged":[[59,2,60,2],[59,4,60,4],[59,6,60,6],[59,7,60,7],[27,17,27,18],[28,17,28,18],[33,2,34,2],[33,6,34,6],[33,7,34,7],[101,7,102,7],[167,2,168,2],[167,4,168,4],[167,6,168,6],[167,7,168,7],[1,6,1,7],[331,4,332,4],[331,6,332,6],[200,2,201,2],[200,4,201,4],[200,6,201,6],[200,7,201,7],[331,7,332,7],[307,2,308,2],[307,4,308,4],[307,6,308,6],[307,7,308,7],[331,2,332,2],[101,2,102,2],[101,4,102,4],[101,6,102,6]]}
[{"$f":"lista1!A1","v":"nro"},{"$f":"lista1!B1","v":"rubros o items"},{"$f":"lista1!C1","v":"Unid."},null,"$vjo","$nvo",{"$f":"lista1!G1","v":"Cantid."},"Parc.",350,"pago al ayudante"]
[{"$f":"lista1!A2","v":0},"precios German Invernizzi","¿quiere usar estos precios?",null,null,null,"si",null,{"$f":"MAX((I3:I4=G2)*(J3:J4))","v":1}]
[{"$f":"lista1!A3","v":1},{"$f":"lista1!B3","v":"Trabajos preliminares"},{"$f":"lista1!C3","v":0},null,null,null,{"$f":"lista1!G3","v":0},null,"si",1]
[{"$f":"lista1!A4","v":0},{"$f":"lista1!B4","v":"Limpieza y nivelación del terreno"},{"$f":"lista1!C4","v":"m2"},{"$f":"$N$27","v":1.1053452115812918},null,{"$f":"D4*E4","v":0},{"$f":"lista1!G4","v":162.5},{"$f":"+F4*G4","v":0},"no",0]
[{"$f":"lista1!A5","v":0},{"$f":"lista1!B5","v":"Obrador, depósito y sanitarios"},{"$f":"lista1!C5","v":"m2"},{"$f":"$N$27","v":1.1053452115812918},null,{"$f":"D5*E5","v":0},{"$f":"lista1!G5","v":13},{"$f":"+F5*G5","v":0}]
[{"$f":"lista1!A6","v":0},{"$f":"lista1!B6","v":"desmonte en terreno comun (si en terr. C. roca disgregable con barreta se debera mult. Prec. X 2,3)"},{"$f":"lista1!C6","v":"m3"},null,null,null,{"$f":"lista1!G6","v":0}]
[{"$f":"lista1!A7","v":2},{"$f":"lista1!B7","v":"Procedimientos y cumplimientos"},{"$f":"lista1!C7","v":0},null,null,null,{"$f":"lista1!G7","v":0}]
[{"$f":"lista1!A8","v":0},{"$f":"lista1!B8","v":"Replanteo"},{"$f":"lista1!C8","v":"m2"},{"$f":"$N$27","v":1.1053452115812918},null,{"$f":"D8*E8","v":0},{"$f":"lista1!G8","v":104.05},{"$f":"+F8*G8","v":0}]
[{"$f":"lista1!A9","v":0},{"$f":"lista1!B9","v":"Cartel de obra"},{"$f":"lista1!C9","v":"m2"},{"$f":"$N$27","v":1.1053452115812918},null,{"$f":"D9*E9","v":0},{"$f":"lista1!G9","v":0},{"$f":"+F9*G9","v":0}]
[{"$f":"lista1!A10","v":0},{"$f":"lista1!B10","v":"Cerco de obra"},{"$f":"lista1!C10","v":"ml"},{"$f":"$N$27","v":1.1053452115812918},null,{"$f":"D10*E10","v":0},{"$f":"lista1!G10","v":0},{"$f":"+F10*G10","v":0}]
[{"$f":"lista1!A11","v":0},{"$f":"lista1!B11","v":"Defensa de protección para trabajo en obra"},{"$f":"lista1!C11","v":"ml"},{"$f":"$N$27","v":1.1053452115812918},null,{"$f":"D11*E11","v":0},{"$f":"lista1!G11","v":0},{"$f":"+F11*G11","v":0}]
[{"$f":"lista1!A12","v":0},{"$f":"lista1!B12","v":0},{"$f":"lista1!C12","v":0},null,null,null,{"$f":"lista1!G12","v":0}]
[{"$f":"lista1!A13","v":3},{"$f":"lista1!B13","v":"Demoliciones"},{"$f":"lista1!C13","v":0},null,null,null,{"$f":"lista1!G13","v":0}]
[{"$f":"lista1!A14","v":0},{"$f":"lista1!B14","v":"En los siguientes items, se incluye el retiro de los escombros de la obra hasta coloc.dentro del contenedor "},{"$f":"lista1!C14","v":0},null,null,null,{"$f":"lista1!G14","v":0}]
[{"$f":"lista1!A15","v":0},{"$f":"lista1!B15","v":"De estructura de hormigón, losas de HºAº, dados, camaras de HºAº (incluye cargarlo)"},{"$f":"lista1!C15","v":"m3"},{"$f":"$N$27","v":1.1053452115812918},null,{"$f":"D15*E15","v":0},{"$f":"lista1!G15","v":0},{"$f":"+F15*G15","v":0}]
[{"$f":"lista1!A16","v":0},{"$f":"lista1!B16","v":"De mamposteria (todos los items incluyen cargar escombros a un contenedor cercano, refiere a planta baja)"},{"$f":"lista1!C16","v":"m3"},1.1053452115812918,{"$f":"150+E24/5","v":269},{"$f":"D16*E16","v":297.33786191536751},{"$f":"lista1!G16","v":0},{"$f":"+F16*G16","v":0}]
[{"$f":"lista1!A17","v":0},{"$f":"lista1!B17","v":"De pisos"},{"$f":"lista1!C17","v":"m2"},1.1053452115812918,null,0,{"$f":"lista1!G17","v":0},0]
[{"$f":"lista1!A18","v":0},{"$f":"lista1!B18","v":"De contrapisos"},{"$f":"lista1!C18","v":"m2"},1.1053452115812918,null,0,{"$f":"lista1!G18","v":0},0]
[{"$f":"lista1!A19","v":0},{"$f":"lista1!B19","v":"Picado de revoques, cielorrasos suspendidos ó demolcic. de cubiert d tejas coloniales (sin recuper. de tejas)"},{"$f":"lista1!C19","v":"m2"},1.1053452115812918,28,30.949665924276172,{"$f":"lista1!G19","v":0},0]
[{"$f":"lista1!A20","v":0},{"$f":"lista1!B20","v":"Picado de revestimientos"},{"$f":"lista1!C20","v":"m2"},1.1053452115812918,null,0,{"$f":"lista1!G20","v":0},0]
[{"$f":"lista1!A21","v":0},{"$f":"lista1!B21","v":"De estructura de madera con tejas francesa (o colonial)"},{"$f":"lista1!C21","v":"m2"},1.1053452115812918,150,165.80178173719378,{"$f":"lista1!G21","v":0},0]
[{"$f":"lista1!A22","v":0},{"$f":"lista1!B22","v":"Demolición de obra completa"},{"$f":"lista1!C22","v":"m2"},1.1053452115812918,null,0,{"$f":"lista1!G22","v":28},0]
[{"$f":"lista1!A23","v":0},{"$f":"lista1!B23","v":"Contenedor/Volquete, alquiler"},{"$f":"lista1!C23","v":"u"},1.1053452115812918,550,607.93986636971056,{"$f":"lista1!G23","v":16},9727.0378619153689]
[{"$f":"lista1!A24","v":0},{"$f":"lista1!B24","v":"Cargar Contenedor/Volquete"},{"$f":"lista1!C24","v":"u"},1.1053452115812918,{"$f":"I1*1.7","v":595},657.68040089086867,{"$f":"lista1!G24","v":16},10522.886414253899]
[{"$f":"lista1!A25","v":4},{"$f":"lista1!B25","v":"Movimientos de tierra"},{"$f":"lista1!C25","v":0},null,null,null,{"$f":"lista1!G25","v":0}]
[{"$f":"lista1!A26","v":0},{"$f":"lista1!B26","v":"Excavación manual p cimientos y bases column terreno común (si tosca mult.al prec.x 1,214 y x1,714 si es roca digregable)"},{"$f":"lista1!C26","v":"m3"},{"$f":"$N$27","v":1.1053452115812918},null,{"$f":"D26*E26","v":0},{"$f":"lista1!G26","v":6.001526717557252},{"$f":"+F26*G26","v":0}]
[{"$f":"lista1!A27","v":0},{"$f":"lista1!B27","v":"Excavación manual de vigas de fundación hasta 1,20 m de prof."},{"$f":"lista1!C27","v":"m3"},1.1053452115812918,null,0,{"$f":"lista1!G27","v":9.9022500000000004},0,null,null,null,"mult",null,{"$f":"I2*T28/T31","v":1.1053452115812918},null,null,null,null,null,"US$prom"]
[{"$f":"lista1!A28","v":0},{"$f":"lista1!B28","v":"Excavación de pozos para pilotín (diám. 23 cm - prof. 1,6 m)"},{"$f":"lista1!C28","v":"u"},1.1053452115812918,null,0,{"$f":"lista1!G28","v":24},0,null,"#1precio dólar oficial vta",null,null,null,null,null,{"$f":"lista1!P28","v":9.3350000000000009},{"$f":"lista1!Q28","v":"$AR"},{"$f":"lista1!R28:S28","v":"2015-11-12"},null,{"$f":"AVERAGE(P28:P29)","v":12.407500000000001}]
[{"$f":"lista1!A29","v":0},{"$f":"lista1!B29","v":"Excavación p/ cisternas, cámaras sépt.,de inspec., sótanos a mano terr. Comun hast4m (tosca x1,351 y si fuese roc disgr x 1,89)"},{"$f":"lista1!C29","v":"m3"},1.1053452115812918,250,276.33630289532294,{"$f":"lista1!G29","v":12.076000000000001},3337.0371937639202,null,"#2precio dólar blue vta",null,null,null,null,null,{"$f":"lista1!P29","v":15.48},{"$f":"lista1!Q29","v":"$AR"},{"$f":"lista1!R29:S29","v":"2015-11-12"}]
[{"$f":"lista1!A30","v":0},{"$f":"lista1!B30","v":"Excavación p/ pozo absorbt o Romano, a mano terr. Comun hast10mprof.(tosca x1,364 y si fuese roc disgr x 1,909)"},{"$f":"lista1!C30","v":"m3"}]
[{"$f":"lista1!A31","v":0},{"$f":"lista1!B31","v":"Destape del terreno hasta 20/30 cm de profundidad con pala frontal o  Excavación de sótanos a maquina"},{"$f":"lista1!C31","v":"m3"},1.1053452115812918,null,0,{"$f":"lista1!G31","v":0},0,null,"#1 dólar oficial vta",null,null,null,null,null,8.75,"$AR","2015-01-01",null,{"$f":"AVERAGE(P31:P32)","v":11.225}]
[{"$f":"lista1!A32","v":0},{"$f":"lista1!B32","v":"Carga y retiro de tierra con camión"},{"$f":"lista1!C32","v":"m3"},1.1053452115812918,null,0,{"$f":"lista1!G32","v":0},0,null,"#2 dólar blu vta",null,null,null,null,null,13.7,"$AR","2015-01-01"]
[{"$f":"lista1!A33","v":0},{"$f":"lista1!B33","v":"terraplenamiento"},{"$f":"lista1!C33","v":"m3"},null,null,null,{"$f":"lista1!G33","v":0}]
[{"$f":"lista1!A34","v":5},{"$f":"lista1!B34","v":"Estructuras de hormigón armado"},{"$f":"lista1!C34","v":"Unid."},null,"Prec.","Prec.",{"$f":"lista1!G34","v":"Cant."},"Parcial",null,"http://www.ambito.com/economia/mercados/monedas/dolar/info/?ric=ARSB=&desde=15/12/2014&hasta=15/01/2015"]
[{"$f":"lista1!A35","v":0},{"$f":"lista1!B35","v":"Incluye el material, mano de obra, armado y desarme de encofrados de madera tradicionales y equipos"},null,null,"vjo","nvo"]
[{"$f":"lista1!A36","v":0},{"$f":"lista1!B36","v":"hormigon sin armar para relleno de cimientos"},{"$f":"lista1!C36","v":"m3"},{"$f":"lista1!D36","v":1},null,{"$f":"D36*E36","v":0},{"$f":"lista1!G36","v":0},{"$f":"+F36*G36","v":0},{"$f":"lista1!I36","v":0},{"$f":"lista1!J36","v":0},{"$f":"lista1!K36","v":0},{"$f":"lista1!L36","v":0},{"$f":"lista1!M36","v":0},{"$f":"lista1!N36","v":0},{"$f":"lista1!O36","v":0},{"$f":"lista1!P36","v":0},{"$f":"lista1!Q36","v":0},{"$f":"lista1!R36","v":0},{"$f":"lista1!S36","v":0},{"$f":"lista1!T36","v":0},{"$f":"lista1!U36","v":0},{"$f":"lista1!V36","v":0},{"$f":"lista1!W36","v":0},{"$f":"lista1!X36","v":0},{"$f":"lista1!Y36","v":0},{"$f":"lista1!Z36","v":0},{"$f":"lista1!AA36","v":0},{"$f":"lista1!AB36","v":0},{"$f":"lista1!AC36","v":0},{"$f":"lista1!AD36","v":0},{"$f":"lista1!AE36","v":0},{"$f":"lista1!AF36","v":0},{"$f":"lista1!AG36","v":0},{"$f":"lista1!AH36","v":0},{"$f":"lista1!AI36","v":0},{"$f":"lista1!AJ36","v":0},{"$f":"lista1!AK36","v":0},{"$f":"lista1!AL36","v":0},{"$f":"lista1!AM36","v":0},{"$f":"lista1!AN36","v":0},{"$f":"lista1!AO36","v":0},{"$f":"lista1!AP36","v":0},{"$f":"lista1!AQ36","v":0},{"$f":"lista1!AR36","v":0},{"$f":"lista1!AS36","v":0},{"$f":"lista1!AT36","v":0},{"$f":"lista1!AU36","v":0},{"$f":"lista1!AV36","v":0},{"$f":"lista1!AW36","v":0},{"$f":"lista1!AX36","v":0},{"$f":"lista1!AY36","v":0},{"$f":"lista1!AZ36","v":0},{"$f":"lista1!BA36","v":0},{"$f":"lista1!BB36","v":0},{"$f":"lista1!BC36","v":0},{"$f":"lista1!BD36","v":0},{"$f":"lista1!BE36","v":0},{"$f":"lista1!BF36","v":0},{"$f":"lista1!BG36","v":0},{"$f":"lista1!BH36","v":0},{"$f":"lista1!BI36","v":0},{"$f":"lista1!BJ36","v":0},{"$f":"lista1!BK36","v":0},{"$f":"lista1!BL36","v":0},{"$f":"lista1!BM36","v":0},{"$f":"lista1!BN36","v":0},{"$f":"lista1!BO36","v":0},{"$f":"lista1!BP36","v":0},{"$f":"lista1!BQ36","v":0},{"$f":"lista1!BR36","v":0},{"$f":"lista1!BS36","v":0},{"$f":"lista1!BT36","v":0},{"$f":"lista1!BU36","v":0},{"$f":"lista1!BV36","v":0},{"$f":"lista1!BW36","v":0},{"$f":"lista1!BX36","v":0},{"$f":"lista1!BY36","v":0},{"$f":"lista1!BZ36","v":0},{"$f":"lista1!CA36","v":0},{"$f":"lista1!CB36","v":0},{"$f":"lista1!CC36","v":0},{"$f":"lista1!CD36","v":0},{"$f":"lista1!CE36","v":0},{"$f":"lista1!CF36","v":0},{"$f":"lista1!CG36","v":0},{"$f":"lista1!CH36","v":0},{"$f":"lista1!CI36","v":0},{"$f":"lista1!CJ36","v":0},{"$f":"lista1!CK36","v":0},{"$f":"lista1!CL36","v":0},{"$f":"lista1!CM36","v":0},{"$f":"lista1!CN36","v":0},{"$f":"lista1!CO36","v":0},{"$f":"lista1!CP36","v":0},{"$f":"lista1!CQ36","v":0},{"$f":"lista1!CR36","v":0},{"$f":"lista1!CS36","v":0},{"$f":"lista1!CT36","v":0},{"$f":"lista1!CU36","v":0},{"$f":"lista1!CV36","v":0},{"$f":"lista1!CW36","v":0},{"$f":"lista1!CX36","v":0},{"$f":"lista1!CY36","v":0},{"$f":"lista1!CZ36","v":0},{"$f":"lista1!DA36","v":0},{"$f":"lista1!DB36","v":0},{"$f":"lista1!DC36","v":0},{"$f":"lista1!DD36","v":0},{"$f":"lista1!DE36","v":0},{"$f":"lista1!DF36","v":0},{"$f":"lista1!DG36","v":0},{"$f":"lista1!DH36","v":0},{"$f":"lista1!DI36","v":0},{"$f":"lista1!DJ36","v":0},{"$f":"lista1!DK36","v":0},{"$f":"lista1!DL36","v":0},{"$f":"lista1!DM36","v":0},{"$f":"lista1!DN36","v":0},{"$f":"lista1!DO36","v":0},{"$f":"lista1!DP36","v":0},{"$f":"lista1!DQ36","v":0},{"$f":"lista1!DR36","v":0},{"$f":"lista1!DS36","v":0},{"$f":"lista1!DT36","v":0},{"$f":"lista1!DU36","v":0},{"$f":"lista1!DV36","v":0},{"$f":"lista1!DW36","v":0},{"$f":"lista1!DX36","v":0},{"$f":"lista1!DY36","v":0},{"$f":"lista1!DZ36","v":0},{"$f":"lista1!EA36","v":0},{"$f":"lista1!EB36","v":0},{"$f":"lista1!EC36","v":0},{"$f":"lista1!ED36","v":0},{"$f":"lista1!EE36","v":0},{"$f":"lista1!EF36","v":0},{"$f":"lista1!EG36","v":0},{"$f":"lista1!EH36","v":0},{"$f":"lista1!EI36","v":0},{"$f":"lista1!EJ36","v":0},{"$f":"lista1!EK36","v":0},{"$f":"lista1!EL36","v":0},{"$f":"lista1!EM36","v":0},{"$f":"lista1!EN36","v":0},{"$f":"lista1!EO36","v":0},{"$f":"lista1!EP36","v":0},{"$f":"lista1!EQ36","v":0},{"$f":"lista1!ER36","v":0},{"$f":"lista1!ES36","v":0},{"$f":"lista1!ET36","v":0},{"$f":"lista1!EU36","v":0},{"$f":"lista1!EV36","v":0},{"$f":"lista1!EW36","v":0},{"$f":"lista1!EX36","v":0},{"$f":"lista1!EY36","v":0},{"$f":"lista1!EZ36","v":0},{"$f":"lista1!FA36","v":0},{"$f":"lista1!FB36","v":0},{"$f":"lista1!FC36","v":0},{"$f":"lista1!FD36","v":0},{"$f":"lista1!FE36","v":0},{"$f":"lista1!FF36","v":0},{"$f":"lista1!FG36","v":0},{"$f":"lista1!FH36","v":0},{"$f":"lista1!FI36","v":0},{"$f":"lista1!FJ36","v":0},{"$f":"lista1!FK36","v":0},{"$f":"lista1!FL36","v":0},{"$f":"lista1!FM36","v":0},{"$f":"lista1!FN36","v":0},{"$f":"lista1!FO36","v":0},{"$f":"lista1!FP36","v":0},{"$f":"lista1!FQ36","v":0},{"$f":"lista1!FR36","v":0},{"$f":"lista1!FS36","v":0},{"$f":"lista1!FT36","v":0},{"$f":"lista1!FU36","v":0},{"$f":"lista1!FV36","v":0},{"$f":"lista1!FW36","v":0},{"$f":"lista1!FX36","v":0},{"$f":"lista1!FY36","v":0},{"$f":"lista1!FZ36","v":0},{"$f":"lista1!GA36","v":0},{"$f":"lista1!GB36","v":0},{"$f":"lista1!GC36","v":0},{"$f":"lista1!GD36","v":0},{"$f":"lista1!GE36","v":0},{"$f":"lista1!GF36","v":0},{"$f":"lista1!GG36","v":0},{"$f":"lista1!GH36","v":0},{"$f":"lista1!GI36","v":0},{"$f":"lista1!GJ36","v":0},{"$f":"lista1!GK36","v":0},{"$f":"lista1!GL36","v":0},{"$f":"lista1!GM36","v":0},{"$f":"lista1!GN36","v":0},{"$f":"lista1!GO36","v":0},{"$f":"lista1!GP36","v":0},{"$f":"lista1!GQ36","v":0},{"$f":"lista1!GR36","v":0},{"$f":"lista1!GS36","v":0},{"$f":"lista1!GT36","v":0},{"$f":"lista1!GU36","v":0},{"$f":"lista1!GV36","v":0},{"$f":"lista1!GW36","v":0},{"$f":"lista1!GX36","v":0},{"$f":"lista1!GY36","v":0},{"$f":"lista1!GZ36","v":0},{"$f":"lista1!HA36","v":0},{"$f":"lista1!HB36","v":0},{"$f":"lista1!HC36","v":0},{"$f":"lista1!HD36","v":0},{"$f":"lista1!HE36","v":0},{"$f":"lista1!HF36","v":0},{"$f":"lista1!HG36","v":0},{"$f":"lista1!HH36","v":0},{"$f":"lista1!HI36","v":0},{"$f":"lista1!HJ36","v":0},{"$f":"lista1!HK36","v":0},{"$f":"lista1!HL36","v":0},{"$f":"lista1!HM36","v":0},{"$f":"lista1!HN36","v":0},{"$f":"lista1!HO36","v":0},{"$f":"lista1!HP36","v":0},{"$f":"lista1!HQ36","v":0},{"$f":"lista1!HR36","v":0},{"$f":"lista1!HS36","v":0},{"$f":"lista1!HT36","v":0},{"$f":"lista1!HU36","v":0},{"$f":"lista1!HV36","v":0},{"$f":"lista1!HW36","v":0},{"$f":"lista1!HX36","v":0},{"$f":"lista1!HY36","v":0},{"$f":"lista1!HZ36","v":0},{"$f":"lista1!IA36","v":0},{"$f":"lista1!IB36","v":0},{"$f":"lista1!IC36","v":0},{"$f":"lista1!ID36","v":0},{"$f":"lista1!IE36","v":0},{"$f":"lista1!IF36","v":0},{"$f":"lista1!IG36","v":0},{"$f":"lista1!IH36","v":0},{"$f":"lista1!II36","v":0},{"$f":"lista1!IJ36","v":0},{"$f":"lista1!IK36","v":0},{"$f":"lista1!IL36","v":0},{"$f":"lista1!IM36","v":0},{"$f":"lista1!IN36","v":0},{"$f":"lista1!IO36","v":0},{"$f":"lista1!IP36","v":0},{"$f":"lista1!IQ36","v":0},{"$f":"lista1!IR36","v":0},{"$f":"lista1!IS36","v":0},{"$f":"lista1!IT36","v":0},{"$f":"lista1!IU36","v":0},{"$f":"lista1!IV36","v":0},{"$f":"lista1!IW36","v":0}]
[{"$f":"lista1!A37","v":0},{"$f":"lista1!B37","v":"Bases céntricas cuantía 60 kg, HºAº p/ cabezal de pozos romanos (p/fuste pz rom dividir precio en 1,124)"},{"$f":"lista1!C37","v":"m3"},{"$f":"$N$27","v":1.1053452115812918},null,{"$f":"D37*E37","v":0},{"$f":"lista1!G37","v":6.001526717557252},{"$f":"+F37*G37","v":0}]
[{"$f":"lista1!A38","v":0},{"$f":"lista1!B38","v":"Vigas de fundación 60 kg/m3, arriostramiento y de equilibrio"},{"$f":"lista1!C38","v":"m3"},{"$f":"$N$27","v":1.1053452115812918},null,{"$f":"D38*E38","v":0},{"$f":"lista1!G38","v":9.9022500000000004},{"$f":"+F38*G38","v":0}]
[{"$f":"lista1!A39","v":0},{"$f":"lista1!B39","v":"Pilotín diametro 23 cm / profundidad 1,6 m"},{"$f":"lista1!C39","v":"ml"},1.1053452115812918,null,0,{"$f":"lista1!G39","v":38.400000000000006},0]
[{"$f":"lista1!A40","v":0},{"$f":"lista1!B40","v":"Platea de fundación 35 kg/m3 de hierro o quiza con un poco mas de kg de cuantía, (bases de cañerías div./1,345)."},{"$f":"lista1!C40","v":"m3"},1.1053452115812918,null,0,{"$f":"lista1!G40","v":0},0]
[{"$f":"lista1!A41","v":0},{"$f":"lista1!B41","v":"Zapatas para tabique de hormigón para submuración 80 kg hierro, bases de columna y zapatas de columna"},{"$f":"lista1!C41","v":"m3"},1.1053452115812918,null,0,{"$f":"lista1!G41","v":0},0]
[{"$f":"lista1!A42","v":0},{"$f":"lista1!B42","v":"Zapatas para muro de Mamposteria 30 cm de ladrillo común cuantía 35kg de hierro/m3"},{"$f":"lista1!C42","v":"m3"},1.1053452115812918,null,0,{"$f":"lista1!G42","v":0},0]
[{"$f":"lista1!A43","v":0},{"$f":"lista1!B43","v":"Tabiques de sótanos una cara vista 80 kg de hierro/m3"},{"$f":"lista1!C43","v":"m3"},1.1053452115812918,null,0,{"$f":"lista1!G43","v":0},0]
[{"$f":"lista1!A44","v":0},{"$f":"lista1!B44","v":"Losas espesor 10 cm"},{"$f":"lista1!C44","v":"m3"},1.1053452115812918,null,0,{"$f":"lista1!G44","v":0},0]
[{"$f":"lista1!A45","v":0},{"$f":"lista1!B45","v":"Losas de hormigón a la vista con encofrado fenólico"},{"$f":"lista1!C45","v":"m3"},1.1053452115812918,null,0,{"$f":"lista1!G45","v":0},0]
[{"$f":"lista1!A46","v":0},{"$f":"lista1!B46","v":"Losas casetonada 70 kg/m3 de hierro (es precio mínimo.. p/ prec max mult. X 1,216)"},{"$f":"lista1!C46","v":"m3"},1.1053452115812918,null,0,{"$f":"lista1!G46","v":0},0]
[{"$f":"lista1!A47","v":0},{"$f":"lista1!B47","v":"Losa nervurada Aº en un sentid. bloqH 14*19*39 (o x 1,162 sii es Aºda en 2 sentid c bloq poliest exp. De 40*40*25)"},{"$f":"lista1!C47","v":"m2"},1.1053452115812918,null,0,{"$f":"lista1!G47","v":0},0]
[{"$f":"lista1!A48","v":0},{"$f":"lista1!B48","v":"Losa hueca pretensada 12 cm de espesor con tomado de juntas"},{"$f":"lista1!C48","v":"m2"},1.1053452115812918,null,0,{"$f":"lista1!G48","v":0},0]
[{"$f":"lista1!A49","v":0},{"$f":"lista1!B49","v":"Losa viguetas pretensadas de hormigón y ladrillos cerámicos espesor 17cm con capa de compresión."},{"$f":"lista1!C49","v":"m2"},1.1053452115812918,null,0,{"$f":"lista1!G49","v":104.05},0]
[{"$f":"lista1!A50","v":0},{"$f":"lista1!B50","v":"columnas estructurales de aprox. 30x30 (Si son a la vista al precio mult. X 1,08)"},{"$f":"lista1!C50","v":"m3"},1.1053452115812918,null,0,{"$f":"lista1!G50","v":0.32400000000000001},0]
[{"$f":"lista1!A51","v":0},{"$f":"lista1!B51","v":"Encadenado verticales, horizontales, dinteles, dadosdapoyo, llaves,banquinas 7cm esp. de HºAº "},{"$f":"lista1!C51","v":"m3"},1.1053452115812918,null,0,{"$f":"lista1!G51","v":5.2939208087112721},0]
[{"$f":"lista1!A52","v":0},{"$f":"lista1!B52","v":"Vigas cuantía 180 kg/m3, vigas aprox. De 20x40 (Si son a la vista al precio mult. X 1,08)"},{"$f":"lista1!C52","v":"m3"},1.1053452115812918,null,0,{"$f":"lista1!G52","v":0.24},0]
[{"$f":"lista1!A53","v":0},{"$f":"lista1!B53","v":"Tabiques vistos cuantía 80 kg"},{"$f":"lista1!C53","v":"m3"},1.1053452115812918,null,0,{"$f":"lista1!G53","v":0},0]
[{"$f":"lista1!A54","v":0},{"$f":"lista1!B54","v":"Tabiques cuantía 80 kg/m3"},{"$f":"lista1!C54","v":"m3"},1.1053452115812918,null,0,{"$f":"lista1!G54","v":0},0]
[{"$f":"lista1!A55","v":0},{"$f":"lista1!B55","v":"Escaleras cuantía 75 kg/m3 (sii es HºAº p/LOSAS macizas de escaleras a este prec. Dividir por 1,887) "},{"$f":"lista1!C55","v":"m3"},1.1053452115812918,null,0,{"$f":"lista1!G55","v":0},0]
[{"$f":"lista1!A56","v":0},{"$f":"lista1!B56","v":"Tanque de bombeo cuantía 105 kg/m3"},{"$f":"lista1!C56","v":"m3"},1.1053452115812918,null,0,{"$f":"lista1!G56","v":0},0]
[{"$f":"lista1!A57","v":0},{"$f":"lista1!B57","v":"Tanque de reserva cuantía 105 kg/m3 y cisternas de HAº"},{"$f":"lista1!C57","v":"m3"},1.1053452115812918,null,0,{"$f":"lista1!G57","v":0.29899999999999999},0]
[{"$f":"lista1!A58","v":0},{"$f":"lista1!B58","v":"Junta de PVC para hormigón"},{"$f":"lista1!C58","v":"ml"},1.1053452115812918,null,0,{"$f":"lista1!G58","v":0},0]
[{"$f":"lista1!A59","v":0},{"$f":"lista1!B59","v":"Barrera de vapor (dos manos de pintura asfáltica + 10% nafta)"},{"$f":"lista1!C59","v":"m2"},1.1053452115812918,35,38.687082405345215,{"$f":"lista1!G59","v":104.05},4025.3909242761697]
[{"$f":"lista1!A60","v":6},{"$f":"lista1!B60","v":"Estructuras metálicas"},{"$f":"lista1!C60","v":0},null,null,null,{"$f":"lista1!G60","v":0}]
[{"$f":"lista1!A61","v":0},{"$f":"lista1!B61","v":"En el caso de cubiertas no se consideran los cerramientos laterales ni superiores. Para los entrepisos no se incluye el solado. En ambos, tampoco la pintura. El armado es en taller. Incluye el montaje en obra y no se considera el flete"}]
[{"$f":"lista1!A62","v":0},{"$f":"lista1!B62","v":"Estructuras metálicas de perfiles normales"},{"$f":"lista1!C62","v":"kg"},{"$f":"$N$27","v":1.1053452115812918},null,{"$f":"D62*E62","v":0},{"$f":"lista1!G62","v":0},{"$f":"+F62*G62","v":0}]
[{"$f":"lista1!A63","v":0},{"$f":"lista1!B63","v":"Estructuras metálicas de perfiles ángulos"},{"$f":"lista1!C63","v":"kg"},{"$f":"$N$27","v":1.1053452115812918},null,{"$f":"D63*E63","v":0},{"$f":"lista1!G63","v":0},{"$f":"+F63*G63","v":0}]
[{"$f":"lista1!A64","v":0},{"$f":"lista1!B64","v":"Estructuras metálicas de hierro redondo"},{"$f":"lista1!C64","v":"kg"},{"$f":"$N$27","v":1.1053452115812918},null,{"$f":"D64*E64","v":0},{"$f":"lista1!G64","v":0},{"$f":"+F64*G64","v":0}]
[{"$f":"lista1!A65","v":0},{"$f":"lista1!B65","v":0},{"$f":"lista1!C65","v":0},null,null,null,{"$f":"lista1!G65","v":0},{"$f":"+F65*G65","v":0}]
[{"$f":"lista1!A66","v":0},{"$f":"lista1!B66","v":0},{"$f":"lista1!C66","v":0},null,null,null,{"$f":"lista1!G66","v":0},{"$f":"+F66*G66","v":0}]
[{"$f":"lista1!A67","v":0},{"$f":"lista1!B67","v":0},{"$f":"lista1!C67","v":0},null,null,null,{"$f":"lista1!G67","v":0}]
[{"$f":"lista1!A68","v":7},{"$f":"lista1!B68","v":"Mampostería"},{"$f":"lista1!C68","v":"Unid."},null,"Precio",null,{"$f":"lista1!G68","v":"Cantid."},"Parcial"]
[{"$f":"lista1!A69","v":0},{"$f":"lista1!B69","v":"Bloques de hormigón estandar 19 x 19 x 39  ; idem cribada = D x 0,9365"},{"$f":"lista1!C69","v":"m2"},{"$f":"$N$27","v":1.1053452115812918},null,{"$f":"D69*E69","v":0},{"$f":"lista1!G69","v":0},{"$f":"+F69*G69","v":0}]
[{"$f":"lista1!A70","v":0},{"$f":"lista1!B70","v":"Bloques de hormigón estandar 9,2 x 19 x 39 ;  ladrillos comunes de pandere 30 ud/m2 = corregir D x 0,88"},{"$f":"lista1!C70","v":"m2"},{"$f":"$N$27","v":1.1053452115812918},null,{"$f":"D70*E70","v":0},{"$f":"lista1!G70","v":0},{"$f":"+F70*G70","v":0}]
[{"$f":"lista1!A71","v":0},{"$f":"lista1!B71","v":"Junta de dilatación bloque \"\"u\"\"de hormigón"},{"$f":"lista1!C71","v":"ml"},1.1053452115812918,null,0,{"$f":"lista1!G71","v":0},0]
[{"$f":"lista1!A72","v":0},{"$f":"lista1!B72","v":"Encadenado pared bloques de hormigón"},{"$f":"lista1!C72","v":"ml"},1.1053452115812918,null,0,{"$f":"lista1!G72","v":0},0]
[{"$f":"lista1!A73","v":0},{"$f":"lista1!B73","v":"Ladrillos comunes elevación espesor 30 cm (si es de cimiento =D/1,03) si es p/ 1er piso =D*1,08"},{"$f":"lista1!C73","v":"m3"},1.1053452115812918,null,0,{"$f":"lista1!G73","v":0},0]
[{"$f":"lista1!A74","v":0},{"$f":"lista1!B74","v":"Ladrillos de máquina para vista espesor 30 cm sin tomado de juntas (con tomado junt =D x 1,094)"},{"$f":"lista1!C74","v":"m3"},1.1053452115812918,null,0,{"$f":"lista1!G74","v":0},0]
[{"$f":"lista1!A75","v":0},{"$f":"lista1!B75","v":"Ladrillo común en elevación espesor 15 cm  (si es de cimiento =D/1,03) si es p/ 1er piso =D*1,08 , cribadas"},{"$f":"lista1!C75","v":"m3"},1.1053452115812918,null,0,{"$f":"lista1!G75","v":0},0]
[{"$f":"lista1!A76","v":0},{"$f":"lista1!B76","v":"Ladrillo de máquina para vista espesor 15 cm con tomado de junta"},{"$f":"lista1!C76","v":"m3"},1.1053452115812918,null,0,{"$f":"lista1!G76","v":0},0]
[{"$f":"lista1!A77","v":0},{"$f":"lista1!B77","v":"Refuerzos horizontales o encadenado para mampostería (vigas o dintel) en ladrillo común"},{"$f":"lista1!C77","v":"ml"},1.1053452115812918,null,0,{"$f":"lista1!G77","v":0},0]
[{"$f":"lista1!A78","v":0},{"$f":"lista1!B78","v":"Ladrillo cerámico hueco de 8 x 18 x 33 pared de 8 cm de espesor"},{"$f":"lista1!C78","v":"m2"},1.1053452115812918,null,0,{"$f":"lista1!G78","v":0},0]
[{"$f":"lista1!A79","v":0},{"$f":"lista1!B79","v":"Ladrillo cerámico hueco de 12 x 18 x 33 pared de 12 cm de espesor"},{"$f":"lista1!C79","v":"m2"},1.1053452115812918,null,0,{"$f":"lista1!G79","v":0},0]
[{"$f":"lista1!A80","v":0},{"$f":"lista1!B80","v":"Ladrillo cerámico hueco de 18 x 18 x 33 pared de 18 cm de espesor"},{"$f":"lista1!C80","v":"m2"},1.1053452115812918,null,0,{"$f":"lista1!G80","v":0},0]
[{"$f":"lista1!A81","v":0},{"$f":"lista1!B81","v":"Ladrillo cerámico portante de 13 x 19 x 33"},{"$f":"lista1!C81","v":"m2"},1.1053452115812918,null,0,{"$f":"lista1!G81","v":360.43260000000009},0]
[{"$f":"lista1!A82","v":0},{"$f":"lista1!B82","v":"Ladrillo cerámico portante de 18 x 19 x 33"},{"$f":"lista1!C82","v":"m2"},1.1053452115812918,null,0,{"$f":"lista1!G82","v":0},0]
[{"$f":"lista1!A83","v":0},{"$f":"lista1!B83","v":"Viga de encadenado superior con peine cerámico, armadura y hormigonado"},{"$f":"lista1!C83","v":"ml"},1.1053452115812918,null,0,{"$f":"lista1!G83","v":0},0]
[{"$f":"lista1!A84","v":0},{"$f":"lista1!B84","v":"Columna con bloque cerámico armadura y hormigón"},{"$f":"lista1!C84","v":"ml"},1.1053452115812918,null,0,{"$f":"lista1!G84","v":0},0]
[{"$f":"lista1!A85","v":0},{"$f":"lista1!B85","v":"Muro portante en elevación de HCCA tipo Retak"},{"$f":"lista1!C85","v":"m3"},1.1053452115812918,null,0,{"$f":"lista1!G85","v":0},0]
[{"$f":"lista1!A86","v":0},{"$f":"lista1!B86","v":"Colocación de carpinterías (incluye amurado, marcos y premarcos)"},{"$f":"lista1!C86","v":"m2"},1.1053452115812918,null,0,{"$f":"lista1!G86","v":0},0]
[{"$f":"lista1!A87","v":0},{"$f":"lista1!B87","v":"Colocación de barandas"},{"$f":"lista1!C87","v":"ml"},1.1053452115812918,null,0,{"$f":"lista1!G87","v":0},0]
[{"$f":"lista1!A88","v":0},{"$f":"lista1!B88","v":"Muro portante en elevación de HCCA de 15x25x50 tipo Retak"},{"$f":"lista1!C88","v":"m2"},1.1053452115812918,null,0,{"$f":"lista1!G88","v":0},0]
[{"$f":"lista1!A89","v":0},{"$f":"lista1!B89","v":"murete de mesada de cocina hasta 95 cm de alto (incl mat y m.o: muro 0,15+ revoq gr y fno ambas caras) sin revestim."},{"$f":"lista1!C89","v":"u"},1.1053452115812918,null,0,{"$f":"lista1!G89","v":0},0]
[{"$f":"lista1!A90","v":0},{"$f":"lista1!B90","v":"murete de mesada de cocina hasta 95 cm de alto (incl mat y m.o: muro 0,15+ revoq gr y revest. ambas caras) sin fino"},{"$f":"lista1!C90","v":"u"},1.1053452115812918,null,0,{"$f":"lista1!G90","v":0},0]
[{"$f":"lista1!A91","v":0},{"$f":"lista1!B91","v":"Conducto de ventilación"},{"$f":"lista1!C91","v":"ml"},1.1053452115812918,null,0,{"$f":"lista1!G91","v":0},0]
[{"$f":"lista1!A92","v":0},{"$f":"lista1!B92","v":"Sombrete conducto ventilación"},{"$f":"lista1!C92","v":"u"},1.1053452115812918,null,0,{"$f":"lista1!G92","v":0},0]
[{"$f":"lista1!A93","v":0},{"$f":"lista1!B93","v":"Rejilla para conducto"},{"$f":"lista1!C93","v":"ml"},1.1053452115812918,null,0,{"$f":"lista1!G93","v":0},0]
[{"$f":"lista1!A94","v":0},{"$f":"lista1!B94","v":"Conducto de presurización"},{"$f":"lista1!C94","v":"ml"},1.1053452115812918,null,0,{"$f":"lista1!G94","v":0},0]
[{"$f":"lista1!A95","v":0},{"$f":"lista1!B95","v":"Sombrete conducto presuriz."},{"$f":"lista1!C95","v":"u"},1.1053452115812918,null,0,{"$f":"lista1!G95","v":0},0]
[{"$f":"lista1!A96","v":0},{"$f":"lista1!B96","v":"Reja conducto ventilación"},{"$f":"lista1!C96","v":"u"},1.1053452115812918,null,0,{"$f":"lista1!G96","v":0},0]
[{"$f":"lista1!A97","v":0},{"$f":"lista1!B97","v":"banquinas de mesada (contrapiso + carpeta + revest. Ceramico)"},{"$f":"lista1!C97","v":"ml"},1.1053452115812918,null,0,{"$f":"lista1!G97","v":6.3},0]
[{"$f":"lista1!A98","v":0},{"$f":"lista1!B98","v":"tomado de juntas en ladrillos visto rehundidas (al ras es 0,841*D)"},{"$f":"lista1!C98","v":"m2"},null,null,null,{"$f":"lista1!G98","v":0}]
[{"$f":"lista1!A99","v":0},{"$f":"lista1!B99","v":"Muros de ladrillo de vidrio 20x20x10 cm"},{"$f":"lista1!C99","v":"m2"},null,null,null,{"$f":"lista1!G99","v":0}]
[{"$f":"lista1!A100","v":0},{"$f":"lista1!B100","v":"Tabique de placas de yeso, tipo durlock 12,5 mm esp."},{"$f":"lista1!C100","v":"m2"},null,null,null,{"$f":"lista1!G100","v":0}]
[{"$f":"lista1!A101","v":0},{"$f":"lista1!B101","v":0},{"$f":"lista1!C101","v":0},null,null,null,{"$f":"lista1!G101","v":0}]
[{"$f":"lista1!A102","v":8},{"$f":"lista1!B102","v":"Construcción con placas de roca de yeso"},{"$f":"lista1!C102","v":"Unid."},null,"Precio",null,{"$f":"lista1!G102","v":"Cantid."},"Parcial"]
[{"$f":"lista1!A103","v":0},{"$f":"lista1!B103","v":"En todos los casos las terminaciones quedan listas para pintar. Junta tomada con cinta tramada y mansilla"}]
[{"$f":"lista1!A104","v":0},{"$f":"lista1!B104","v":"Tabique simple espesor 9,5 cm. Estructura de chapa galvanizada con montantes cada 48 cm. Solera inferior y superior de 70mm. Placa normal 15mm"},{"$f":"lista1!C104","v":"m2"},{"$f":"$N$27","v":1.1053452115812918},null,{"$f":"D104*E104","v":0},{"$f":"lista1!G104","v":0},{"$f":"+F104*G104","v":0}]
[{"$f":"lista1!A105","v":0},{"$f":"lista1!B105","v":"Idem con aislación de lana de vidrio"},{"$f":"lista1!C105","v":"m2"},{"$f":"$N$27","v":1.1053452115812918},null,{"$f":"D105*E105","v":0},{"$f":"lista1!G105","v":0},{"$f":"+F105*G105","v":0}]
[{"$f":"lista1!A106","v":0},{"$f":"lista1!B106","v":"Medio tabique espesor total 8,5 cm"},{"$f":"lista1!C106","v":"m2"},1.1053452115812918,null,0,{"$f":"lista1!G106","v":0},0]
[{"$f":"lista1!A107","v":0},{"$f":"lista1!B107","v":"Pared divisoria de unidades funcionales espesor total 12 cm. Doble placa de 15mm en ambas caras. Montantes cada 40cm. Solera 70mm interior y super."},{"$f":"lista1!C107","v":"m2"},1.1053452115812918,null,0,{"$f":"lista1!G107","v":0},0]
[{"$f":"lista1!A108","v":0},{"$f":"lista1!B108","v":"Cielorraso suspendido, junta tomada con placas de 12,5mm, Estructura soleras y montantes de chapa galvanizada"},{"$f":"lista1!C108","v":"m2"},1.1053452115812918,null,0,{"$f":"lista1!G108","v":0},0]
[{"$f":"lista1!A109","v":0},{"$f":"lista1!B109","v":"Idem con placa verde."},{"$f":"lista1!C109","v":"m2"},1.1053452115812918,null,0,{"$f":"lista1!G109","v":0},0]
[{"$f":"lista1!A110","v":0},{"$f":"lista1!B110","v":"Cielorraso suspendido desmontable. Estructura con bastidor de aluminio. Placas texturadas 60 x 1,20"},{"$f":"lista1!C110","v":"m2"},1.1053452115812918,null,0,{"$f":"lista1!G110","v":0},0]
[{"$f":"lista1!A111","v":0},{"$f":"lista1!B111","v":0},{"$f":"lista1!C111","v":0},null,null,null,{"$f":"lista1!G111","v":0}]
[{"$f":"lista1!A112","v":9},{"$f":"lista1!B112","v":"Aislaciones"},{"$f":"lista1!C112","v":0},null,null,null,{"$f":"lista1!G112","v":0}]
[{"$f":"lista1!A113","v":0},{"$f":"lista1!B113","v":"De sótanos cementicia para cerramientos horizontal y vertical"},{"$f":"lista1!C113","v":"m2"},{"$f":"$N$27","v":1.1053452115812918},null,{"$f":"D113*E113","v":0},{"$f":"lista1!G113","v":0},{"$f":"+F113*G113","v":0}]
[{"$f":"lista1!A114","v":0},{"$f":"lista1!B114","v":"Capa aisladora con tabique panderete"},{"$f":"lista1!C114","v":"m2"},{"$f":"$N$27","v":1.1053452115812918},null,{"$f":"D114*E114","v":0},{"$f":"lista1!G114","v":0},0]
[{"$f":"lista1!A115","v":0},{"$f":"lista1!B115","v":"Horizontal espesor 2 cm sobre muro"},{"$f":"lista1!C115","v":"m2"},1.1053452115812918,null,0,{"$f":"lista1!G115","v":14.36947058823529},0]
[{"$f":"lista1!A116","v":0},{"$f":"lista1!B116","v":"Film de polietileno bajo plateas o contrapisos"},{"$f":"lista1!C116","v":"m2"},1.1053452115812918,null,0,{"$f":"lista1!G116","v":0},0]
[{"$f":"lista1!A117","v":0},{"$f":"lista1!B117","v":"Horizontal cementicia en contrapiso sobre terreno natural"},{"$f":"lista1!C117","v":"m2"},1.1053452115812918,null,0,{"$f":"lista1!G117","v":0},0]
[{"$f":"lista1!A118","v":0},{"$f":"lista1!B118","v":"Horizontal sobre losa para locales húmedos"},{"$f":"lista1!C118","v":"m2"},1.1053452115812918,null,0,{"$f":"lista1!G118","v":0},0]
[{"$f":"lista1!A119","v":0},{"$f":"lista1!B119","v":"Azotado hidrófugo bajo revestimientos "},{"$f":"lista1!C119","v":"m2"},1.1053452115812918,null,0,{"$f":"lista1!G119","v":0},0]
[{"$f":"lista1!A120","v":0},{"$f":"lista1!B120","v":"Vertical de 1,5 de esp. sobre muros"},{"$f":"lista1!C120","v":"m2"},1.1053452115812918,null,0,{"$f":"lista1!G120","v":21.6},0]
[{"$f":"lista1!A121","v":0},{"$f":"lista1!B121","v":"Horizontal y vertical cementicia para interior tanques de agua"},{"$f":"lista1!C121","v":"m2"},1.1053452115812918,null,0,{"$f":"lista1!G121","v":0},0]
[{"$f":"lista1!A122","v":0},{"$f":"lista1!B122","v":"inyeccion de líquidos químicos SIKA inertol infiltración, c perf c/15 cm a tres bolillos, rev.,rev fino (220MO+300mat)"},{"$f":"lista1!C122","v":"ml"},1.1053452115812918,{"$f":"I122+E156+F19+135","v":302.94966592427613},334.86396257955067,{"$f":"lista1!G122","v":22},7367.0071767501149,27,"$/litro"]
[{"$f":"lista1!A123","v":10},{"$f":"lista1!B123","v":"Cubiertas "},{"$f":"lista1!C123","v":0},null,null,null,{"$f":"lista1!G123","v":0},null,5,"entran 5 litros/ml/pared30"]
[{"$f":"lista1!A124","v":0},{"$f":"lista1!B124","v":"No se incluye la losa de hormigón"},{"$f":"lista1!C124","v":0},null,null,null,{"$f":"lista1!G124","v":0}]
[{"$f":"lista1!A125","v":0},{"$f":"lista1!B125","v":"Planas"},{"$f":"lista1!C125","v":0},null,null,null,{"$f":"lista1!G125","v":0}]
[{"$f":"lista1!A126","v":0},{"$f":"lista1!B126","v":"Sobre losa con barrera de vapor, contrapiso con pendiente. Carpeta para recibir, y proteger, aislación térmica e hidráulica con membrana con aluminio"},{"$f":"lista1!C126","v":"m2"},{"$f":"$N$27","v":1.1053452115812918},null,{"$f":"D126*E126","v":0},{"$f":"lista1!G126","v":104.05},{"$f":"+F126*G126","v":0}]
[{"$f":"lista1!A127","v":0},{"$f":"lista1!B127","v":"Idem anterior. Cubierta transitable terminación baldosas 20 x 20 para terraza"},{"$f":"lista1!C127","v":"m2"},{"$f":"$N$27","v":1.1053452115812918},null,{"$f":"D127*E127","v":0},{"$f":"lista1!G127","v":0},{"$f":"+F127*G127","v":0}]
[{"$f":"lista1!A128","v":0},{"$f":"lista1!B128","v":0},{"$f":"lista1!C128","v":0},null,null,null,{"$f":"lista1!G128","v":0}]
[{"$f":"lista1!A129","v":0},{"$f":"lista1!B129","v":"Con pendiente"},{"$f":"lista1!C129","v":0},null,null,null,{"$f":"lista1!G129","v":0}]
[{"$f":"lista1!A130","v":0},{"$f":"lista1!B130","v":"No incluye la pintura. Para las de madera se consideró la aplicación de preservador. No incluye correas"},{"$f":"lista1!C130","v":0},null,null,null,{"$f":"lista1!G130","v":0}]
[{"$f":"lista1!A131","v":0},{"$f":"lista1!B131","v":"Tejas francesa estructura de madera vista con aislación térmica  "},{"$f":"lista1!C131","v":"m2"},{"$f":"$N$27","v":1.1053452115812918},null,{"$f":"D131*E131","v":0},{"$f":"lista1!G131","v":0},{"$f":"+F131*G131","v":0}]
[{"$f":"lista1!A132","v":0},{"$f":"lista1!B132","v":"Idem, con madera sin cepillar"},{"$f":"lista1!C132","v":"m2"},{"$f":"$N$27","v":1.1053452115812918},null,{"$f":"D132*E132","v":0},{"$f":"lista1!G132","v":0},{"$f":"+F132*G132","v":0}]
[{"$f":"lista1!A133","v":0},{"$f":"lista1!B133","v":"Chapa ondulada N24 estructura de madera vista. No se considera con aislación térmica"},{"$f":"lista1!C133","v":"m2"},1.1053452115812918,null,0,{"$f":"lista1!G133","v":0},0]
[{"$f":"lista1!A134","v":0},{"$f":"lista1!B134","v":"Idem, chapa prepintada"},{"$f":"lista1!C134","v":"m2"},1.1053452115812918,null,0,{"$f":"lista1!G134","v":0},0]
[{"$f":"lista1!A135","v":0},{"$f":"lista1!B135","v":"Chapa ambas caras con aislación térmica"},{"$f":"lista1!C135","v":"m2"},1.1053452115812918,null,0,{"$f":"lista1!G135","v":0},0]
[{"$f":"lista1!A136","v":0},{"$f":"lista1!B136","v":"Teja colonial madera vista"},{"$f":"lista1!C136","v":"m2"},1.1053452115812918,null,0,{"$f":"lista1!G136","v":0},0]
[{"$f":"lista1!A137","v":0},{"$f":"lista1!B137","v":"Teja colonial madera sin cepillar"},{"$f":"lista1!C137","v":"m2"},1.1053452115812918,null,0,{"$f":"lista1!G137","v":0},0]
[{"$f":"lista1!A138","v":0},{"$f":"lista1!B138","v":"Chapa imitación tejas"},{"$f":"lista1!C138","v":"m2"},1.1053452115812918,null,0,{"$f":"lista1!G138","v":0},0]
[{"$f":"lista1!A139","v":0},{"$f":"lista1!B139","v":"Junta de dilatación membrana asfáltica"},{"$f":"lista1!C139","v":"m2"},1.1053452115812918,null,0,{"$f":"lista1!G139","v":0},0]
[{"$f":"lista1!A140","v":0},{"$f":"lista1!B140","v":"Tinglado chapa galvanizada sobre vigaa spagueti"},{"$f":"lista1!C140","v":"m2"},1.1053452115812918,null,0,{"$f":"lista1!G140","v":0},0]
[{"$f":"lista1!A141","v":0},{"$f":"lista1!B141","v":0},{"$f":"lista1!C141","v":0},null,null,null,{"$f":"lista1!G141","v":0}]
[{"$f":"lista1!A142","v":11},{"$f":"lista1!B142","v":"Contrapiso"},{"$f":"lista1!C142","v":0},null,null,null,{"$f":"lista1!G142","v":0}]
[{"$f":"lista1!A143","v":0},{"$f":"lista1!B143","v":"Hormigón de cascotes armado de espesor 15 cm sobre terreno natural"},{"$f":"lista1!C143","v":"m2"},{"$f":"$N$27","v":1.1053452115812918},null,{"$f":"D143*E143","v":0},{"$f":"lista1!G143","v":158.66},{"$f":"+F143*G143","v":0}]
[{"$f":"lista1!A144","v":0},{"$f":"lista1!B144","v":"Hormigón de cascotes sobre losa espesor 7 cm"},{"$f":"lista1!C144","v":"m2"},{"$f":"$N$27","v":1.1053452115812918},null,{"$f":"D144*E144","v":0},{"$f":"lista1!G144","v":0},{"$f":"+F144*G144","v":0}]
[{"$f":"lista1!A145","v":0},{"$f":"lista1!B145","v":"Hormigón de cascotes sobre losa local sanitario espesor 25 cm"},{"$f":"lista1!C145","v":"m2"},{"$f":"$N$27","v":1.1053452115812918},null,{"$f":"D145*E145","v":0},{"$f":"lista1!G145","v":0},{"$f":"+F145*G145","v":0}]
[{"$f":"lista1!A146","v":0},{"$f":"lista1!B146","v":"Hormigón de arcilla expandida 10 cm de espesor"},{"$f":"lista1!C146","v":"m2"},{"$f":"$N$27","v":1.1053452115812918},null,{"$f":"D146*E146","v":0},{"$f":"lista1!G146","v":0},{"$f":"+F146*G146","v":0}]
[{"$f":"lista1!A147","v":0},{"$f":"lista1!B147","v":"Mortero celular de 7 cm espesor"},{"$f":"lista1!C147","v":"m2"},{"$f":"$N$27","v":1.1053452115812918},null,{"$f":"D147*E147","v":0},{"$f":"lista1!G147","v":0},{"$f":"+F147*G147","v":0}]
[{"$f":"lista1!A148","v":0},{"$f":"lista1!B148","v":0},{"$f":"lista1!C148","v":0},null,null,null,{"$f":"lista1!G148","v":0}]
[{"$f":"lista1!A149","v":12},{"$f":"lista1!B149","v":"Carpetas"},{"$f":"lista1!C149","v":0},null,null,null,{"$f":"lista1!G149","v":0}]
[{"$f":"lista1!A150","v":0},{"$f":"lista1!B150","v":"De concreto bajo solado"},{"$f":"lista1!C150","v":"m2"},{"$f":"$N$27","v":1.1053452115812918},null,{"$f":"D150*E150","v":0},{"$f":"lista1!G150","v":158.66},{"$f":"+F150*G150","v":0}]
[{"$f":"lista1!A151","v":0},{"$f":"lista1!B151","v":"Carpeta de mortero celular 2 cm espesor"},{"$f":"lista1!C151","v":"m2"},{"$f":"$N$27","v":1.1053452115812918},null,{"$f":"D151*E151","v":0},{"$f":"lista1!G151","v":0},{"$f":"+F151*G151","v":0}]
[{"$f":"lista1!A152","v":0},{"$f":"lista1!B152","v":"Carpeta clavadora para parquet"},{"$f":"lista1!C152","v":"m2"},{"$f":"$N$27","v":1.1053452115812918},null,{"$f":"D152*E152","v":0},{"$f":"lista1!G152","v":0},{"$f":"+F152*G152","v":0}]
[{"$f":"lista1!A153","v":0},{"$f":"lista1!B153","v":0},{"$f":"lista1!C153","v":0},null,null,null,{"$f":"lista1!G153","v":0}]
[{"$f":"lista1!A154","v":13},{"$f":"lista1!B154","v":"Revoques"},{"$f":"lista1!C154","v":0},null,null,null,{"$f":"lista1!G154","v":0}]
[{"$f":"lista1!A155","v":0},{"$f":"lista1!B155","v":"No se considera el trabajo de andamio"},{"$f":"lista1!C155","v":0},null,null,null,{"$f":"lista1!G155","v":0}]
[{"$f":"lista1!A156","v":0},{"$f":"lista1!B156","v":"Grueso y fino a la cal al fieltro"},{"$f":"lista1!C156","v":"m2"},{"$f":"$N$27","v":1.1053452115812918},110,{"$f":"D156*E156","v":121.5879732739421},{"$f":"lista1!G156","v":342.03623999999996},{"$f":"+F156*G156","v":41587.493207839638}]
[{"$f":"lista1!A157","v":0},{"$f":"lista1!B157","v":"Grueso a la cal impermeable para exterior completo"},{"$f":"lista1!C157","v":"m2"},{"$f":"$N$27","v":1.1053452115812918},null,{"$f":"D157*E157","v":0},{"$f":"lista1!G157","v":146.58696},{"$f":"+F157*G157","v":0}]
[{"$f":"lista1!A158","v":0},{"$f":"lista1!B158","v":"Grueso bajo revestimientos"},{"$f":"lista1!C158","v":"m2"},1.1053452115812918,null,0,{"$f":"lista1!G158","v":0},0]
[{"$f":"lista1!A159","v":0},{"$f":"lista1!B159","v":"Revoque proyectado exterior con hidrófugo"},{"$f":"lista1!C159","v":"m2"},1.1053452115812918,null,0,{"$f":"lista1!G159","v":0},0]
[{"$f":"lista1!A160","v":0},{"$f":"lista1!B160","v":"Revoque proyectable grueso a la cal para interior"},{"$f":"lista1!C160","v":"m2"},1.1053452115812918,null,0,{"$f":"lista1!G160","v":0},0]
[{"$f":"lista1!A161","v":0},{"$f":"lista1!B161","v":"Revoque proyectable fino a la cal para interior"},{"$f":"lista1!C161","v":"m2"},1.1053452115812918,null,0,{"$f":"lista1!G161","v":0},0]
[{"$f":"lista1!A162","v":0},{"$f":"lista1!B162","v":"Revoque proyectable de yeso para interior, con engrosado"},{"$f":"lista1!C162","v":"m2"},1.1053452115812918,null,0,{"$f":"lista1!G162","v":0},0]
[{"$f":"lista1!A163","v":0},{"$f":"lista1!B163","v":"Salpicado con molinete"},{"$f":"lista1!C163","v":"m2"},1.1053452115812918,null,0,{"$f":"lista1!G163","v":0},0]
[{"$f":"lista1!A164","v":0},{"$f":"lista1!B164","v":"Salpicado con molinete exterior planchado"},{"$f":"lista1!C164","v":"m2"},1.1053452115812918,null,0,{"$f":"lista1!G164","v":0},0]
[{"$f":"lista1!A165","v":0},{"$f":"lista1!B165","v":"Revoque especial super Iggam"},{"$f":"lista1!C165","v":"ml"},1.1053452115812918,null,0,{"$f":"lista1!G165","v":0},0]
[{"$f":"lista1!A166","v":0},{"$f":"lista1!B166","v":"Buñas super Iggam"},{"$f":"lista1!C166","v":"ml"},1.1053452115812918,null,0,{"$f":"lista1!G166","v":0},0]
[{"$f":"lista1!A167","v":0},{"$f":"lista1!B167","v":"http://www.construircordoba.com/precios-de-tareas/revoques/"},{"$f":"lista1!C167","v":0},null,null,null,{"$f":"lista1!G167","v":0}]
[{"$f":"lista1!A168","v":14},{"$f":"lista1!B168","v":"Revestimientos"},{"$f":"lista1!C168","v":"Unid."},null,"Precio",null,{"$f":"lista1!G168","v":"Cantid."},"Parcial"]
[{"$f":"lista1!A169","v":0},{"$f":"lista1!B169","v":"Incluye la mano de obra completa, adhesivo y tomado de juntas"}]
[{"$f":"lista1!A170","v":0},{"$f":"lista1!B170","v":"Cerámico tipo San Lorenzo 20 x 20 "},{"$f":"lista1!C170","v":"m2"},{"$f":"$N$27","v":1.1053452115812918},null,{"$f":"D170*E170","v":0},{"$f":"lista1!G170","v":0},{"$f":"+F170*G170","v":0}]
[{"$f":"lista1!A171","v":0},{"$f":"lista1!B171","v":"De venecita"},{"$f":"lista1!C171","v":"m2"},{"$f":"$N$27","v":1.1053452115812918},null,{"$f":"D171*E171","v":0},{"$f":"lista1!G171","v":0},{"$f":"+F171*G171","v":0}]
[{"$f":"lista1!A172","v":0},{"$f":"lista1!B172","v":"Cerámico esmaltado 30 x 30 cm"},{"$f":"lista1!C172","v":"m2"},1.1053452115812918,null,0,{"$f":"lista1!G172","v":29.93},0]
[{"$f":"lista1!A173","v":0},{"$f":"lista1!B173","v":"Revestimientos secos"},{"$f":"lista1!C173","v":0},1.1053452115812918,null,0,{"$f":"lista1!G173","v":0},0]
[{"$f":"lista1!A174","v":0},{"$f":"lista1!B174","v":"De muros con machiembrado de pino 1/2\". Incluye la estructura sobre muro"},{"$f":"lista1!C174","v":"m2"},1.1053452115812918,null,0,{"$f":"lista1!G174","v":0},0]
[{"$f":"lista1!A175","v":0},{"$f":"lista1!B175","v":"Cerámica esmaltada 30x30 con guardas"},{"$f":"lista1!C175","v":"m2"},1.1053452115812918,null,0,{"$f":"lista1!G175","v":0},0]
[{"$f":"lista1!A176","v":0},{"$f":"lista1!B176","v":"Porcellanato 30x30 rústico"},{"$f":"lista1!C176","v":"m2"},1.1053452115812918,null,0,{"$f":"lista1!G176","v":0},0]
[{"$f":"lista1!A177","v":0},{"$f":"lista1!B177","v":"Tejuelas de ladrillo"},{"$f":"lista1!C177","v":"m2"},1.1053452115812918,null,0,{"$f":"lista1!G177","v":0},0]
[{"$f":"lista1!A178","v":0},{"$f":"lista1!B178","v":0},{"$f":"lista1!C178","v":0},null,null,null,{"$f":"lista1!G178","v":0}]
[{"$f":"lista1!A179","v":15},{"$f":"lista1!B179","v":"Cielorrasos"},{"$f":"lista1!C179","v":0},null,null,null,{"$f":"lista1!G179","v":0}]
[{"$f":"lista1!A180","v":0},{"$f":"lista1!B180","v":"Aplicado a la cal fina fratasada"},{"$f":"lista1!C180","v":"m2"},{"$f":"$N$27","v":1.1053452115812918},null,{"$f":"D180*E180","v":0},{"$f":"lista1!G180","v":0},{"$f":"+F180*G180","v":0}]
[{"$f":"lista1!A181","v":0},{"$f":"lista1!B181","v":"Aplicado grueso y fino a la cal al fieltro"},{"$f":"lista1!C181","v":"m2"},{"$f":"$N$27","v":1.1053452115812918},null,{"$f":"D181*E181","v":0},{"$f":"lista1!G181","v":104.05},{"$f":"+F181*G181","v":0}]
[{"$f":"lista1!A182","v":0},{"$f":"lista1!B182","v":"Suspendido a la cal armado en madera "},{"$f":"lista1!C182","v":"m2"},1.1053452115812918,null,0,{"$f":"lista1!G182","v":0},0]
[{"$f":"lista1!A183","v":0},{"$f":"lista1!B183","v":"Suspendido a la cal armado en hierro"},{"$f":"lista1!C183","v":"m2"},1.1053452115812918,null,0,{"$f":"lista1!G183","v":0},0]
[{"$f":"lista1!A184","v":0},{"$f":"lista1!B184","v":"Taparrollo armado a la cal"},{"$f":"lista1!C184","v":"ml"},1.1053452115812918,null,0,{"$f":"lista1!G184","v":0},0]
[{"$f":"lista1!A185","v":0},{"$f":"lista1!B185","v":"Suspendido termoacústico"},{"$f":"lista1!C185","v":"m2"},1.1053452115812918,null,0,{"$f":"lista1!G185","v":0},0]
[{"$f":"lista1!A186","v":0},{"$f":"lista1!B186","v":"Suspendido con dorso de aluminio"},{"$f":"lista1!C186","v":"m2"},1.1053452115812918,null,0,{"$f":"lista1!G186","v":0},0]
[{"$f":"lista1!A187","v":0},{"$f":"lista1!B187","v":"Paneles de aluminio microperforado"},{"$f":"lista1!C187","v":"m2"},1.1053452115812918,null,0,{"$f":"lista1!G187","v":0},0]
[{"$f":"lista1!A188","v":0},{"$f":"lista1!B188","v":0},{"$f":"lista1!C188","v":0},null,null,null,{"$f":"lista1!G188","v":0}]
[{"$f":"lista1!A189","v":16},{"$f":"lista1!B189","v":"Yeseria"},{"$f":"lista1!C189","v":0},null,null,null,{"$f":"lista1!G189","v":0}]
[{"$f":"lista1!A190","v":0},{"$f":"lista1!B190","v":"Enlucido de yeso"},{"$f":"lista1!C190","v":"m2"},{"$f":"$N$27","v":1.1053452115812918},null,{"$f":"D190*E190","v":0},{"$f":"lista1!G190","v":0},{"$f":"+F190*G190","v":0}]
[{"$f":"lista1!A191","v":0},{"$f":"lista1!B191","v":"Enlucido de yeso reforzado con cemento"},{"$f":"lista1!C191","v":"m2"},{"$f":"$N$27","v":1.1053452115812918},null,{"$f":"D191*E191","v":0},{"$f":"lista1!G191","v":0},{"$f":"+F191*G191","v":0}]
[{"$f":"lista1!A192","v":0},{"$f":"lista1!B192","v":"Enlucido de yeso y engrosado con yeso gris"},{"$f":"lista1!C192","v":"m2"},1.1053452115812918,null,0,{"$f":"lista1!G192","v":0},0]
[{"$f":"lista1!A193","v":0},{"$f":"lista1!B193","v":"Guardacanto de yesero. Incluye el recubrimiento de yeso"},{"$f":"lista1!C193","v":"ml"},1.1053452115812918,null,0,{"$f":"lista1!G193","v":0},0]
[{"$f":"lista1!A194","v":0},{"$f":"lista1!B194","v":"Fajas sobre revestimiento"},{"$f":"lista1!C194","v":"ml"},1.1053452115812918,null,0,{"$f":"lista1!G194","v":0},0]
[{"$f":"lista1!A195","v":0},{"$f":"lista1!B195","v":"Agujeros circulares hasta 40 cm de diámetro"},{"$f":"lista1!C195","v":"u"},1.1053452115812918,null,0,{"$f":"lista1!G195","v":0},0]
[{"$f":"lista1!A196","v":0},{"$f":"lista1!B196","v":"Cielorraso aplicado al yeso"},{"$f":"lista1!C196","v":"m2"},1.1053452115812918,null,0,{"$f":"lista1!G196","v":0},0]
[{"$f":"lista1!A197","v":0},{"$f":"lista1!B197","v":"Cielorraso de yeso armado estructura de madera"},{"$f":"lista1!C197","v":"m2"},1.1053452115812918,null,0,{"$f":"lista1!G197","v":0},0]
[{"$f":"lista1!A198","v":0},{"$f":"lista1!B198","v":"Cielorraso de yeso armado estructura de hierro"},{"$f":"lista1!C198","v":"m2"},1.1053452115812918,null,0,{"$f":"lista1!G198","v":0},0]
[{"$f":"lista1!A199","v":0},{"$f":"lista1!B199","v":"Taparrollo de yeso armado"},{"$f":"lista1!C199","v":"ml"},1.1053452115812918,null,0,{"$f":"lista1!G199","v":0},0]
[{"$f":"lista1!A200","v":0},{"$f":"lista1!B200","v":0},{"$f":"lista1!C200","v":0},null,null,null,{"$f":"lista1!G200","v":0}]
[{"$f":"lista1!A201","v":17},{"$f":"lista1!B201","v":"Solados"},{"$f":"lista1!C201","v":"Unid."},null,"Precio",null,{"$f":"lista1!G201","v":"Cantid."},"Parcial"]
[{"$f":"lista1!A202","v":0},{"$f":"lista1!B202","v":"Incluye la mano de obra completa, adhesivos y/o mezcla de asiento y/o tomado de juntas. No incluye el pulido"}]
[{"$f":"lista1!A203","v":0},{"$f":"lista1!B203","v":"Alisado de cemento ferrocemento 6 cm"},{"$f":"lista1!C203","v":"m2"},{"$f":"$N$27","v":1.1053452115812918},null,{"$f":"D203*E203","v":0},{"$f":"lista1!G203","v":0},{"$f":"+F203*G203","v":0}]
[{"$f":"lista1!A204","v":0},{"$f":"lista1!B204","v":"Alisado de cemento ferrocemento 25 cm"},{"$f":"lista1!C204","v":"m2"},{"$f":"$N$27","v":1.1053452115812918},null,{"$f":"D204*E204","v":0},{"$f":"lista1!G204","v":0},{"$f":"+F204*G204","v":0}]
[{"$f":"lista1!A205","v":0},{"$f":"lista1!B205","v":"Cemento alisado rodillado"},{"$f":"lista1!C205","v":"m2"},1.1053452115812918,null,0,{"$f":"lista1!G205","v":0},0]
[{"$f":"lista1!A206","v":0},{"$f":"lista1!B206","v":"Porcelanato opaco 30 x 30 cm"},{"$f":"lista1!C206","v":"m2"},1.1053452115812918,null,0,{"$f":"lista1!G206","v":0},0]
[{"$f":"lista1!A207","v":0},{"$f":"lista1!B207","v":"Cerámico esmaltado 40 x 40 cm"},{"$f":"lista1!C207","v":"m2"},1.1053452115812918,null,0,{"$f":"lista1!G207","v":104.05},0]
[{"$f":"lista1!A208","v":0},{"$f":"lista1!B208","v":"Baldosa de azotea 30 x 30 cm junta ancha"},{"$f":"lista1!C208","v":"m2"},1.1053452115812918,null,0,{"$f":"lista1!G208","v":0},0]
[{"$f":"lista1!A209","v":0},{"$f":"lista1!B209","v":"Baldosón para vereda 60 x 40 cm"},{"$f":"lista1!C209","v":"m2"},1.1053452115812918,null,0,{"$f":"lista1!G209","v":0},0]
[{"$f":"lista1!A210","v":0},{"$f":"lista1!B210","v":"Mosaico granitico 30 x 30 cm colocado a la cal (No incluye pulido)"},{"$f":"lista1!C210","v":"m2"},1.1053452115812918,null,0,{"$f":"lista1!G210","v":0},0]
[{"$f":"lista1!A211","v":0},{"$f":"lista1!B211","v":"Pulido de mosaico granito"},{"$f":"lista1!C211","v":"m2"},1.1053452115812918,null,0,{"$f":"lista1!G211","v":0},0]
[{"$f":"lista1!A212","v":0},{"$f":"lista1!B212","v":"Porcelanato 30 x 30 rústico"},{"$f":"lista1!C212","v":"m2"},1.1053452115812918,null,0,{"$f":"lista1!G212","v":0},0]
[{"$f":"lista1!A213","v":0},{"$f":"lista1!B213","v":"Hormigón estampado"},{"$f":"lista1!C213","v":"m2"},1.1053452115812918,null,0,{"$f":"lista1!G213","v":0},0]
[{"$f":"lista1!A214","v":0},{"$f":"lista1!B214","v":"Cerámico azotea 20x20"},{"$f":"lista1!C214","v":"m2"},1.1053452115812918,null,0,{"$f":"lista1!G214","v":0},0]
[{"$f":"lista1!A215","v":0},{"$f":"lista1!B215","v":"Baldosón de cemento sobre discos plásticos"},{"$f":"lista1!C215","v":"m2"},1.1053452115812918,null,0,{"$f":"lista1!G215","v":0},0]
[{"$f":"lista1!A216","v":0},{"$f":"lista1!B216","v":0},{"$f":"lista1!C216","v":0},null,null,null,{"$f":"lista1!G216","v":0}]
[{"$f":"lista1!A217","v":18},{"$f":"lista1!B217","v":"Pisos especiales"},{"$f":"lista1!C217","v":0},null,null,null,{"$f":"lista1!G217","v":0}]
[{"$f":"lista1!A218","v":0},{"$f":"lista1!B218","v":"Parquet Eucaliptus con cola adhesiva"},{"$f":"lista1!C218","v":"m2"},{"$f":"$N$27","v":1.1053452115812918},null,{"$f":"D218*E218","v":0},{"$f":"lista1!G218","v":0},{"$f":"+F218*G218","v":0}]
[{"$f":"lista1!A219","v":0},{"$f":"lista1!B219","v":"Parquet con adhesivo epoxi bi-componentes"},{"$f":"lista1!C219","v":"m2"},{"$f":"$N$27","v":1.1053452115812918},null,{"$f":"D219*E219","v":0},{"$f":"lista1!G219","v":0},{"$f":"+F219*G219","v":0}]
[{"$f":"lista1!A220","v":0},{"$f":"lista1!B220","v":"Entablonado tarugado Viraró sobre alfajías"},{"$f":"lista1!C220","v":"m2"},1.1053452115812918,null,0,{"$f":"lista1!G220","v":0},0]
[{"$f":"lista1!A221","v":0},{"$f":"lista1!B221","v":"Pulido y plastificado de pisos de madera"},{"$f":"lista1!C221","v":"m2"},1.1053452115812918,null,0,{"$f":"lista1!G221","v":0},0]
[{"$f":"lista1!A222","v":0},{"$f":"lista1!B222","v":"Piso de goma con aplicación de masa niveladora y adhesivo"},{"$f":"lista1!C222","v":"m2"},1.1053452115812918,null,0,{"$f":"lista1!G222","v":0},0]
[{"$f":"lista1!A223","v":0},{"$f":"lista1!B223","v":"Alfombra de Nylon pelo cortado aplicada con adhesivo"},{"$f":"lista1!C223","v":"m2"},1.1053452115812918,null,0,{"$f":"lista1!G223","v":0},0]
[{"$f":"lista1!A224","v":0},{"$f":"lista1!B224","v":"Adoquines graniticos 9 x 9 x 9 sobre manto de arena"},{"$f":"lista1!C224","v":"m2"},1.1053452115812918,null,0,{"$f":"lista1!G224","v":0},0]
[{"$f":"lista1!A225","v":0},{"$f":"lista1!B225","v":"Bloques intertrabados colocado sobre manto de arena"},{"$f":"lista1!C225","v":"m2"},1.1053452115812918,null,0,{"$f":"lista1!G225","v":0},0]
[{"$f":"lista1!A226","v":0},{"$f":"lista1!B226","v":"Piso flotante de madera"},{"$f":"lista1!C226","v":"m2"},1.1053452115812918,null,0,{"$f":"lista1!G226","v":0},0]
[{"$f":"lista1!A227","v":0},{"$f":"lista1!B227","v":"Piso térmico elevado (sin terminación)"},{"$f":"lista1!C227","v":"m2"},1.1053452115812918,null,0,{"$f":"lista1!G227","v":0},0]
[{"$f":"lista1!A228","v":0},{"$f":"lista1!B228","v":"Alfombra modular para piso técnico"},{"$f":"lista1!C228","v":"m2"},1.1053452115812918,null,0,{"$f":"lista1!G228","v":0},0]
[{"$f":"lista1!A229","v":0},{"$f":"lista1!B229","v":0},{"$f":"lista1!C229","v":0},null,null,null,{"$f":"lista1!G229","v":0}]
[{"$f":"lista1!A230","v":19},{"$f":"lista1!B230","v":"Escaleras"},{"$f":"lista1!C230","v":0},null,null,null,{"$f":"lista1!G230","v":0}]
[{"$f":"lista1!A231","v":0},{"$f":"lista1!B231","v":"Carpeta de nivelación"},{"$f":"lista1!C231","v":"m2"},{"$f":"$N$27","v":1.1053452115812918},null,{"$f":"D231*E231","v":0},{"$f":"lista1!G231","v":0},{"$f":"+F231*G231","v":0}]
[{"$f":"lista1!A232","v":0},{"$f":"lista1!B232","v":"Alzada y pedada de cemento alisado "},{"$f":"lista1!C232","v":"m2"},1.1053452115812918,null,0,{"$f":"lista1!G232","v":0},0]
[{"$f":"lista1!A233","v":0},{"$f":"lista1!B233","v":"Naríz metálica"},{"$f":"lista1!C233","v":"ml"},1.1053452115812918,null,0,{"$f":"lista1!G233","v":0},0]
[{"$f":"lista1!A234","v":0},{"$f":"lista1!B234","v":"Zócalo de cemento alisado rampante"},{"$f":"lista1!C234","v":"ml"},1.1053452115812918,null,0,{"$f":"lista1!G234","v":0},0]
[{"$f":"lista1!A235","v":0},{"$f":"lista1!B235","v":"Alzada y pedada de cerámica 20 x 20 ( Incluye cortes ) "},{"$f":"lista1!C235","v":"m2"},1.1053452115812918,null,0,{"$f":"lista1!G235","v":0},0]
[{"$f":"lista1!A236","v":0},{"$f":"lista1!B236","v":"Alzada y pedada granítica reconstituida "},{"$f":"lista1!C236","v":"m2"},1.1053452115812918,null,0,{"$f":"lista1!G236","v":0},0]
[{"$f":"lista1!A237","v":0},{"$f":"lista1!B237","v":0},{"$f":"lista1!C237","v":0},null,null,null,{"$f":"lista1!G237","v":0}]
[{"$f":"lista1!A238","v":20},{"$f":"lista1!B238","v":"Zócalos"},{"$f":"lista1!C238","v":"Unid."},null,"Precio",null,{"$f":"lista1!G238","v":"Cantid."},"Parcial"]
[{"$f":"lista1!A239","v":0},{"$f":"lista1!B239","v":"Cemento alisado"},{"$f":"lista1!C239","v":"ml"},{"$f":"$N$27","v":1.1053452115812918},null,{"$f":"D239*E239","v":0},{"$f":"lista1!G239","v":0},{"$f":"+F239*G239","v":0}]
[{"$f":"lista1!A240","v":0},{"$f":"lista1!B240","v":"Zócalo de madera 1/2\" x 2\" liso"},{"$f":"lista1!C240","v":"ml"},{"$f":"$N$27","v":1.1053452115812918},null,{"$f":"D240*E240","v":0},{"$f":"lista1!G240","v":0},{"$f":"+F240*G240","v":0}]
[{"$f":"lista1!A241","v":0},{"$f":"lista1!B241","v":"Zócalo de cerámica"},{"$f":"lista1!C241","v":"ml"},{"$f":"$N$27","v":1.1053452115812918},null,{"$f":"D241*E241","v":0},{"$f":"lista1!G241","v":173.55999999999997},{"$f":"+F241*G241","v":0}]
[{"$f":"lista1!A242","v":0},{"$f":"lista1!B242","v":"Zócalo granítico"},{"$f":"lista1!C242","v":"ml"},{"$f":"$N$27","v":1.1053452115812918},null,{"$f":"D242*E242","v":0},{"$f":"lista1!G242","v":0},{"$f":"+F242*G242","v":0}]
[{"$f":"lista1!A243","v":0},{"$f":"lista1!B243","v":0},{"$f":"lista1!C243","v":0},null,null,null,{"$f":"lista1!G243","v":0}]
[{"$f":"lista1!A244","v":21},{"$f":"lista1!B244","v":"Marmoleria"},{"$f":"lista1!C244","v":0},null,null,null,{"$f":"lista1!G244","v":0}]
[{"$f":"lista1!A245","v":0},{"$f":"lista1!B245","v":"Mesada de granito gris mara ancho 60 cm ( incluye trasforo, pileta y griferías )"},{"$f":"lista1!C245","v":"ml"},{"$f":"$N$27","v":1.1053452115812918},null,{"$f":"D245*E245","v":0},{"$f":"lista1!G245","v":6.3},{"$f":"+F245*G245","v":0}]
[{"$f":"lista1!A246","v":0},{"$f":"lista1!B246","v":"Frentín de mesada de granito gris 20 cm"},{"$f":"lista1!C246","v":"ml"},{"$f":"$N$27","v":1.1053452115812918},null,{"$f":"D246*E246","v":0},{"$f":"lista1!G246","v":0},{"$f":"+F246*G246","v":0}]
[{"$f":"lista1!A247","v":0},{"$f":"lista1!B247","v":"Respaldo de granito gris 60 cm"},{"$f":"lista1!C247","v":"ml"},1.1053452115812918,null,0,{"$f":"lista1!G247","v":0},0]
[{"$f":"lista1!A248","v":0},{"$f":"lista1!B248","v":"Piso de marmetas de granito gris mara "},{"$f":"lista1!C248","v":"m2"},1.1053452115812918,null,0,{"$f":"lista1!G248","v":0},0]
[{"$f":"lista1!A249","v":0},{"$f":"lista1!B249","v":"Revestimiento de marmetas de granito gris"},{"$f":"lista1!C249","v":"m2"},1.1053452115812918,null,0,{"$f":"lista1!G249","v":0},0]
[{"$f":"lista1!A250","v":0},{"$f":"lista1!B250","v":0},{"$f":"lista1!C250","v":0},null,null,null,{"$f":"lista1!G250","v":0}]
[{"$f":"lista1!A251","v":0},{"$f":"lista1!B251","v":"Colocaciones "},{"$f":"lista1!C251","v":0},null,null,null,{"$f":"lista1!G251","v":0}]
[{"$f":"lista1!A252","v":0},{"$f":"lista1!B252","v":"zocalos de Mesadas (corte transv hasta 10cm/m longitudinal, fijar con claucol o silicona, tomar juntas)"},{"$f":"lista1!C252","v":"ml"},1.1053452115812918,null,0,{"$f":"lista1!G252","v":6.3},0]
[{"$f":"lista1!A253","v":0},{"$f":"lista1!B253","v":"Revestimiento de mármol o grantio sobre pared"},{"$f":"lista1!C253","v":"m2"},1.1053452115812918,null,0,{"$f":"lista1!G253","v":0},0]
[{"$f":"lista1!A254","v":0},{"$f":"lista1!B254","v":"Piso de mármol o granito"},{"$f":"lista1!C254","v":"m2"},1.1053452115812918,null,0,{"$f":"lista1!G254","v":0},0]
[{"$f":"lista1!A255","v":0},{"$f":"lista1!B255","v":"Marmetas piso"},{"$f":"lista1!C255","v":"m2"},1.1053452115812918,null,0,{"$f":"lista1!G255","v":0},0]
[{"$f":"lista1!A256","v":0},{"$f":"lista1!B256","v":"Marmetas revestimiento"},{"$f":"lista1!C256","v":"m2"},1.1053452115812918,null,0,{"$f":"lista1!G256","v":0},0]
[{"$f":"lista1!A257","v":0},{"$f":"lista1!B257","v":0},{"$f":"lista1!C257","v":0},null,null,null,{"$f":"lista1!G257","v":0}]
[{"$f":"lista1!A258","v":22},{"$f":"lista1!B258","v":"Pinturas"},{"$f":"lista1!C258","v":0},null,null,null,{"$f":"lista1!G258","v":0}]
[{"$f":"lista1!A259","v":0},{"$f":"lista1!B259","v":"Se consideran en todos los casos el enduído parcial. Aplicación de fijador y 3 manos de pintura"},{"$f":"lista1!C259","v":0},null,null,null,{"$f":"lista1!G259","v":0}]
[{"$f":"lista1!A260","v":0},{"$f":"lista1!B260","v":"Latex sobre muros interiores"},{"$f":"lista1!C260","v":"m2"},{"$f":"$N$27","v":1.1053452115812918},null,{"$f":"D260*E260","v":0},{"$f":"lista1!G260","v":342.03623999999996},{"$f":"+F260*G260","v":0}]
[{"$f":"lista1!A261","v":0},{"$f":"lista1!B261","v":"Latex sobre cielo rasos"},{"$f":"lista1!C261","v":"m2"},{"$f":"$N$27","v":1.1053452115812918},null,{"$f":"D261*E261","v":0},{"$f":"lista1!G261","v":104.05},{"$f":"+F261*G261","v":0}]
[{"$f":"lista1!A262","v":0},{"$f":"lista1!B262","v":"Latex acrílico sobre muros exteriores"},{"$f":"lista1!C262","v":"m2"},1.1053452115812918,null,0,{"$f":"lista1!G262","v":146.58696},0]
[{"$f":"lista1!A263","v":0},{"$f":"lista1!B263","v":"Silicona s/ladrillo visto (m2)"},{"$f":"lista1!C263","v":"m2"},1.1053452115812918,null,0,{"$f":"lista1!G263","v":0},0]
[{"$f":"lista1!A264","v":0},{"$f":"lista1!B264","v":"Esmalte sintético s/carpinterías"},{"$f":"lista1!C264","v":"m2"},1.1053452115812918,null,0,{"$f":"lista1!G264","v":0},0]
[{"$f":"lista1!A265","v":0},{"$f":"lista1!B265","v":"Esmalte sintético s/carp metál"},{"$f":"lista1!C265","v":"m2"},1.1053452115812918,null,0,{"$f":"lista1!G265","v":0},0]
[{"$f":"lista1!A266","v":0},{"$f":"lista1!B266","v":"Esmalte sintético sobre estructuras metáilcas"},{"$f":"lista1!C266","v":"tn"},1.1053452115812918,null,0,{"$f":"lista1!G266","v":0},0]
[{"$f":"lista1!A267","v":0},{"$f":"lista1!B267","v":"Barniz marino. 1º mano con barniceta y 2º de barniz (este item tmb sirve para impregnantes)"},{"$f":"lista1!C267","v":"m2"},1.1053452115812918,null,0,{"$f":"lista1!G267","v":12.8},0]
[{"$f":"lista1!A268","v":0},{"$f":"lista1!B268","v":"Impermeabilizante fibrado para techos ( 2 manos )"},{"$f":"lista1!C268","v":"m2"},1.1053452115812918,null,0,{"$f":"lista1!G268","v":0},0]
[{"$f":"lista1!A269","v":0},{"$f":"lista1!B269","v":"Empapelado de paredes con papel base"},{"$f":"lista1!C269","v":"m2"},1.1053452115812918,null,0,{"$f":"lista1!G269","v":0},0]
[{"$f":"lista1!A270","v":0},{"$f":"lista1!B270","v":0},{"$f":"lista1!C270","v":0},null,null,null,{"$f":"lista1!G270","v":0}]
[{"$f":"lista1!A271","v":23},{"$f":"lista1!B271","v":"Artefactos Sanitarios - Accesorios Griferías"},{"$f":"lista1!C271","v":"Unid."},null,"Precio",null,{"$f":"lista1!G271","v":"Cantid."},"Parcial"]
[{"$f":"lista1!A272","v":0},{"$f":"lista1!B272","v":"Colocación de artefactos sanitarios"},{"$f":"lista1!C272","v":"u"},{"$f":"$N$27","v":1.1053452115812918},null,{"$f":"D272*E272","v":0},{"$f":"lista1!G272","v":2},{"$f":"+F272*G272","v":0}]
[{"$f":"lista1!A273","v":0},{"$f":"lista1!B273","v":"Colocación de accesorios sanitarios"},{"$f":"lista1!C273","v":"u"},{"$f":"$N$27","v":1.1053452115812918},null,{"$f":"D273*E273","v":0},{"$f":"lista1!G273","v":4},{"$f":"+F273*G273","v":0}]
[{"$f":"lista1!A274","v":0},{"$f":"lista1!B274","v":"Colocación de griferías"},{"$f":"lista1!C274","v":"u"},{"$f":"$N$27","v":1.1053452115812918},null,{"$f":"D274*E274","v":0},{"$f":"lista1!G274","v":2},{"$f":"+F274*G274","v":0}]
[{"$f":"lista1!A275","v":0},{"$f":"lista1!B275","v":0},{"$f":"lista1!C275","v":0},null,null,null,{"$f":"lista1!G275","v":0}]
[{"$f":"lista1!A276","v":24},{"$f":"lista1!B276","v":"Carpinterías Metálicas"},{"$f":"lista1!C276","v":0},"cf","prec","prec",{"$f":"lista1!G276","v":0}]
[{"$f":"lista1!A277","v":0},{"$f":"lista1!B277","v":"No incluyen los vidrios"},{"$f":"lista1!C277","v":0},null,"vjo","act.",{"$f":"lista1!G277","v":0}]
[{"$f":"lista1!A278","v":0},{"$f":"lista1!B278","v":"Marco de chapa y puerta doble chapa muro 15cm de espesor. Incluye herraje"},{"$f":"lista1!C278","v":"u"},{"$f":"$N$27","v":1.1053452115812918},null,{"$f":"D278*E278","v":0},{"$f":"lista1!G278","v":1},{"$f":"+F278*G278","v":0}]
[{"$f":"lista1!A279","v":0},{"$f":"lista1!B279","v":"Marco de chapa muro 15cm espesor. Incluye juego de pomelas"},{"$f":"lista1!C279","v":"u"},{"$f":"$N$27","v":1.1053452115812918},null,{"$f":"D279*E279","v":0},{"$f":"lista1!G279","v":0},{"$f":"+F279*G279","v":0}]
[{"$f":"lista1!A280","v":0},{"$f":"lista1!B280","v":"Marco chapa y puerta simple chapa muro 15cm de espesor. Incluye herrajes"},{"$f":"lista1!C280","v":"u"},1.1053452115812918,null,0,{"$f":"lista1!G280","v":0},0]
[{"$f":"lista1!A281","v":0},{"$f":"lista1!B281","v":"Marco placard con baulera 2x2 m p/muro 10cm espesor hojas corredizas o de abrir. Incluye herrajes."},{"$f":"lista1!C281","v":"u"},1.1053452115812918,null,0,{"$f":"lista1!G281","v":0},0]
[{"$f":"lista1!A282","v":0},{"$f":"lista1!B282","v":"Baranda pasamanos, dos travesaños, parantes planchuela"},{"$f":"lista1!C282","v":"ml"},1.1053452115812918,null,0,{"$f":"lista1!G282","v":0},0]
[{"$f":"lista1!A283","v":0},{"$f":"lista1!B283","v":"Baranda pasamanos, travesaños y malla artística"},{"$f":"lista1!C283","v":"ml"},1.1053452115812918,null,0,{"$f":"lista1!G283","v":0},0]
[{"$f":"lista1!A284","v":0},{"$f":"lista1!B284","v":"Baranda pasamanos, travesaños y vidrio laminado"},{"$f":"lista1!C284","v":"ml"},1.1053452115812918,null,0,{"$f":"lista1!G284","v":0},0]
[{"$f":"lista1!A285","v":0},{"$f":"lista1!B285","v":"Reja de hierro redondo y planchuela"},{"$f":"lista1!C285","v":"m2"},1.1053452115812918,null,0,{"$f":"lista1!G285","v":0},0]
[{"$f":"lista1!A286","v":0},{"$f":"lista1!B286","v":"Puerta doble chapa F60 DDN 16"},{"$f":"lista1!C286","v":"u"},1.1053452115812918,null,0,{"$f":"lista1!G286","v":0},0]
[{"$f":"lista1!A287","v":0},{"$f":"lista1!B287","v":"Puerta doble chapa DDN 16"},{"$f":"lista1!C287","v":"u"},1.1053452115812918,null,0,{"$f":"lista1!G287","v":0},0]
[{"$f":"lista1!A288","v":0},{"$f":"lista1!B288","v":"Escalera caracol diámetro 1,4 (por piso)"},{"$f":"lista1!C288","v":"u"},1.1053452115812918,null,0,{"$f":"lista1!G288","v":0},0]
[{"$f":"lista1!A289","v":0},{"$f":"lista1!B289","v":"Escalera gato sin guarda hombre"},{"$f":"lista1!C289","v":"ml"},1.1053452115812918,null,0,{"$f":"lista1!G289","v":0},0]
[{"$f":"lista1!A290","v":0},{"$f":"lista1!B290","v":"Escalera metálica con peldaños de madera"},{"$f":"lista1!C290","v":"ml"},1.1053452115812918,null,0,{"$f":"lista1!G290","v":0},0]
[{"$f":"lista1!A291","v":0},{"$f":"lista1!B291","v":"Pasamanos de hierro"},{"$f":"lista1!C291","v":"ml"},1.1053452115812918,null,0,{"$f":"lista1!G291","v":0},0]
[{"$f":"lista1!A292","v":0},{"$f":"lista1!B292","v":0},{"$f":"lista1!C292","v":0},null,null,null,{"$f":"lista1!G292","v":0}]
[{"$f":"lista1!A293","v":25},{"$f":"lista1!B293","v":"Carpinterías de madera"},{"$f":"lista1!C293","v":0},null,null,null,{"$f":"lista1!G293","v":0}]
[{"$f":"lista1!A294","v":0},{"$f":"lista1!B294","v":"No incluyen los vidrios"},{"$f":"lista1!C294","v":0},null,null,null,{"$f":"lista1!G294","v":0}]
[{"$f":"lista1!A295","v":0},{"$f":"lista1!B295","v":"Ventana 1.50x1.50 incluyen herrajes. No incluye vidrios ni pintura"},{"$f":"lista1!C295","v":"m2"},{"$f":"$N$27","v":1.1053452115812918},null,{"$f":"D295*E295","v":0},{"$f":"lista1!G295","v":0},{"$f":"+F295*G295","v":0}]
[{"$f":"lista1!A296","v":0},{"$f":"lista1!B296","v":"Ventana vidrio repartido 1.50x1.50 incluye herrajes. No incluye vidrios ni pintura"},{"$f":"lista1!C296","v":"m2"},{"$f":"$N$27","v":1.1053452115812918},null,{"$f":"D296*E296","v":0},{"$f":"lista1!G296","v":0},{"$f":"+F296*G296","v":0}]
[{"$f":"lista1!A297","v":0},{"$f":"lista1!B297","v":"Mueble de cocina bajomesada. Incluye herrajes"},{"$f":"lista1!C297","v":"ml"},1.1053452115812918,null,0,{"$f":"lista1!G297","v":0},0]
[{"$f":"lista1!A298","v":0},{"$f":"lista1!B298","v":"Alacena. Incluye herrajes"},{"$f":"lista1!C298","v":"ml"},1.1053452115812918,null,0,{"$f":"lista1!G298","v":0},0]
[{"$f":"lista1!A299","v":0},{"$f":"lista1!B299","v":"Escobero (ml de alzada) Incluye herrajes"},{"$f":"lista1!C299","v":"ml"},1.1053452115812918,null,0,{"$f":"lista1!G299","v":0},0]
[{"$f":"lista1!A300","v":0},{"$f":"lista1!B300","v":"Colocación muebles de cocina"},{"$f":"lista1!C300","v":"ml"},1.1053452115812918,null,0,{"$f":"lista1!G300","v":0},0]
[{"$f":"lista1!A301","v":0},{"$f":"lista1!B301","v":"Puerta de acceso (entablonado ambas caras) en cedro nacional. Incluye herrajes"},{"$f":"lista1!C301","v":"m2"},1.1053452115812918,null,0,{"$f":"lista1!G301","v":0},0]
[{"$f":"lista1!A302","v":0},{"$f":"lista1!B302","v":"Baranda pasamanos y malla artística"},{"$f":"lista1!C302","v":"ml"},1.1053452115812918,null,0,{"$f":"lista1!G302","v":0},0]
[{"$f":"lista1!A303","v":0},{"$f":"lista1!B303","v":"Baranda pasamanos y travesaños"},{"$f":"lista1!C303","v":"ml"},1.1053452115812918,null,0,{"$f":"lista1!G303","v":0},0]
[{"$f":"lista1!A304","v":0},{"$f":"lista1!B304","v":"Pasamanos"},{"$f":"lista1!C304","v":"ml"},1.1053452115812918,null,0,{"$f":"lista1!G304","v":0},0]
[{"$f":"lista1!A305","v":0},{"$f":"lista1!B305","v":"Escalera de madera con baranda"},{"$f":"lista1!C305","v":"u"},1.1053452115812918,null,0,{"$f":"lista1!G305","v":0},0]
[{"$f":"lista1!A306","v":0},{"$f":"lista1!B306","v":"Puerta placa"},{"$f":"lista1!C306","v":"u"},1.1053452115812918,null,0,{"$f":"lista1!G306","v":0},0]
[{"$f":"lista1!A307","v":0},{"$f":"lista1!B307","v":0},{"$f":"lista1!C307","v":0},null,null,null,{"$f":"lista1!G307","v":0}]
[{"$f":"lista1!A308","v":26},{"$f":"lista1!B308","v":"Carpinterías de Aluminio y accesorios de fachadas"},{"$f":"lista1!C308","v":"Unid."},null,"Precio",null,{"$f":"lista1!G308","v":"Cantid."},"Parcial"]
[{"$f":"lista1!A309","v":0},{"$f":"lista1!B309","v":"Incluyen los vidrios"}]
[{"$f":"lista1!A310","v":0},{"$f":"lista1!B310","v":"Premarco"},{"$f":"lista1!C310","v":"m2"},{"$f":"$N$27","v":1.1053452115812918},null,{"$f":"D310*E310","v":0},{"$f":"lista1!G310","v":4},{"$f":"+F310*G310","v":0}]
[{"$f":"lista1!A311","v":0},{"$f":"lista1!B311","v":"Aluminio 1.50x1.50m hojas de abrir. Incluye herrajes"},{"$f":"lista1!C311","v":"m2"},{"$f":"$N$27","v":1.1053452115812918},null,{"$f":"D311*E311","v":0},{"$f":"lista1!G311","v":4},{"$f":"+F311*G311","v":0}]
[{"$f":"lista1!A312","v":0},{"$f":"lista1!B312","v":"Baranda"},{"$f":"lista1!C312","v":"ml"},{"$f":"$N$27","v":1.1053452115812918},null,{"$f":"D312*E312","v":0},{"$f":"lista1!G312","v":0},{"$f":"+F312*G312","v":0}]
[{"$f":"lista1!A313","v":0},{"$f":"lista1!B313","v":"Baranda vidrio laminado"},{"$f":"lista1!C313","v":"ml"},{"$f":"$N$27","v":1.1053452115812918},null,{"$f":"D313*E313","v":0},{"$f":"lista1!G313","v":0},{"$f":"+F313*G313","v":0}]
[{"$f":"lista1!A314","v":0},{"$f":"lista1!B314","v":"puerta de aluminio de 0,80*2,00 de abrir comun, izquierdo, con marco y herrajes"},{"$f":"lista1!C314","v":"u"},{"$f":"$N$27","v":1.1053452115812918},2000,{"$f":"D314*E314","v":2210.6904231625836},{"$f":"lista1!G314","v":2},{"$f":"+F314*G314","v":4421.3808463251671}]
[{"$f":"lista1!A315","v":27},{"$f":"lista1!B315","v":"Cristales"},{"$f":"lista1!C315","v":0},null,null,null,{"$f":"lista1!G315","v":0}]
[{"$f":"lista1!A316","v":0},{"$f":"lista1!B316","v":"Se considera la mano de obra y materiales"},{"$f":"lista1!C316","v":0},null,null,null,{"$f":"lista1!G316","v":0}]
[{"$f":"lista1!A317","v":0},{"$f":"lista1!B317","v":"Espejo float 6 mm"},{"$f":"lista1!C317","v":"m2"},{"$f":"$N$27","v":1.1053452115812918},null,{"$f":"D317*E317","v":0},{"$f":"lista1!G317","v":0},{"$f":"+F317*G317","v":0}]
[{"$f":"lista1!A318","v":0},{"$f":"lista1!B318","v":"Vidrio de 4 mm"},{"$f":"lista1!C318","v":"m2"},{"$f":"$N$27","v":1.1053452115812918},null,{"$f":"D318*E318","v":0},{"$f":"lista1!G318","v":0},{"$f":"+F318*G318","v":0}]
[{"$f":"lista1!A319","v":0},{"$f":"lista1!B319","v":"Vidrio de 6 mm"},{"$f":"lista1!C319","v":"m2"},{"$f":"$N$27","v":1.1053452115812918},null,{"$f":"D319*E319","v":0},{"$f":"lista1!G319","v":0},{"$f":"+F319*G319","v":0}]
[{"$f":"lista1!A320","v":0},{"$f":"lista1!B320","v":"Laminado de seguridad 3 + 3 mm"},{"$f":"lista1!C320","v":"m2"},{"$f":"$N$27","v":1.1053452115812918},null,{"$f":"D320*E320","v":0},{"$f":"lista1!G320","v":0},{"$f":"+F320*G320","v":0}]
[{"$f":"lista1!A321","v":0},{"$f":"lista1!B321","v":0},{"$f":"lista1!C321","v":0},null,null,null,{"$f":"lista1!G321","v":0}]
[{"$f":"lista1!A322","v":28},{"$f":"lista1!B322","v":"Limpieza y ayuda de gremios"},{"$f":"lista1!C322","v":0},null,null,null,{"$f":"lista1!G322","v":0}]
[{"$f":"lista1!A323","v":0},{"$f":"lista1!B323","v":"Limpieza periódica"},{"$f":"lista1!C323","v":"mes"},{"$f":"$N$27","v":1.1053452115812918},null,{"$f":"D323*E323","v":0},{"$f":"lista1!G323","v":0},{"$f":"+F323*G323","v":0}]
[{"$f":"lista1!A324","v":0},{"$f":"lista1!B324","v":"Limpieza final"},{"$f":"lista1!C324","v":"m2"},{"$f":"$N$27","v":1.1053452115812918},null,{"$f":"D324*E324","v":0},{"$f":"lista1!G324","v":0},{"$f":"+F324*G324","v":0}]
[{"$f":"lista1!A325","v":0},{"$f":"lista1!B325","v":"Ayuda de gremios"},{"$f":"lista1!C325","v":"m2"},{"$f":"$N$27","v":1.1053452115812918},null,{"$f":"D325*E325","v":0},{"$f":"lista1!G325","v":0},{"$f":"+F325*G325","v":0}]
[{"$f":"lista1!A326","v":0},{"$f":"lista1!B326","v":0},{"$f":"lista1!C326","v":0},null,null,null,{"$f":"lista1!G326","v":0}]
[{"$f":"lista1!A327","v":29},{"$f":"lista1!B327","v":"Instalación sanitaria"},{"$f":"lista1!C327","v":0},null,null,null,{"$f":"lista1!G327","v":0}]
[{"$f":"lista1!A328","v":0},{"$f":"lista1!B328","v":"Distribución de agua fría y caliente de polipropileno, desagües en PVC aprobado cloacal. Núcleo baño/cocina/lavadero propiedad horizontal incluye la parte proporcional de la montante, bajada, tanque e instalación general"},{"$f":"lista1!C328","v":0},null,null,null,{"$f":"lista1!G328","v":0}]
[{"$f":"lista1!A329","v":0},{"$f":"lista1!B329","v":"Baño principal (bañera-bidet-lavaratorio-inodoro) cloaca agua fría y caliente, ventilaciones, colocación de artefactos y griferías"},{"$f":"lista1!C329","v":"gl"},{"$f":"$N$27","v":1.1053452115812918},null,{"$f":"D329*E329","v":0},{"$f":"lista1!G329","v":0.7},{"$f":"+F329*G329","v":0}]
[{"$f":"lista1!A330","v":0},{"$f":"lista1!B330","v":"Cocina y lavadero (pileta de cocina y de lavar) Cloaca. Incluye la instalación de artefactos y broncería. Artefactos no incluídos"},{"$f":"lista1!C330","v":"gl"},{"$f":"$N$27","v":1.1053452115812918},null,{"$f":"D330*E330","v":0},{"$f":"lista1!G330","v":0.7},{"$f":"+F330*G330","v":0}]
[{"$f":"lista1!A331","v":0},{"$f":"lista1!B331","v":"Construcción de cámara de inspección 60*60 con tapas y marcos prefabricados"},{"$f":"lista1!C331","v":"gl"},{"$f":"$N$27","v":1.1053452115812918},null,{"$f":"D331*E331","v":0},{"$f":"lista1!G331","v":1},{"$f":"+F331*G331","v":0}]
[{"$f":"lista1!A332","v":30},{"$f":"lista1!B332","v":"Instalación de Gas "},{"$f":"lista1!C332","v":"Unid."},null,"Precio",null,{"$f":"lista1!G332","v":"Cantid."},"Parcial"]
[{"$f":"lista1!A333","v":0},{"$f":"lista1!B333","v":0}]
[{"$f":"lista1!A334","v":0},{"$f":"lista1!B334","v":"Cocina y calefon completa (cañería conexiones llaves medidor) (artefactos no incluidos)"},{"$f":"lista1!C334","v":"gl"},{"$f":"$N$27","v":1.1053452115812918},null,{"$f":"D334*E334","v":0},{"$f":"lista1!G334","v":1},{"$f":"+F334*G334","v":0}]
[{"$f":"lista1!A335","v":0},{"$f":"lista1!B335","v":"calefactores (precios aprox. Que incluya: artefacto,3 m cañ de gas y total cañ ventil. Sombrer., llav paso,gramp, etc. )"},{"$f":"lista1!C335","v":"ud"},1.1053452115812918,null,0,{"$f":"lista1!G335","v":2},0]
[{"$f":"lista1!A336","v":0},{"$f":"lista1!B336","v":"cocina (precios aprox. Que incluya artefacto, total cañ ventil., Sombrer., sell., grampas, etc.)"},{"$f":"lista1!C336","v":"ud"},1.1053452115812918,null,0,{"$f":"lista1!G336","v":1},0]
[{"$f":"lista1!A337","v":0},{"$f":"lista1!B337","v":"calefon (precios aprox. Que incluya artefacto, total cañ ventil., Sombrer., sell., grampas, etc.)"},{"$f":"lista1!C337","v":"ud"},1.1053452115812918,null,0,{"$f":"lista1!G337","v":1},0]
[{"$f":"lista1!A338","v":0},{"$f":"lista1!B338","v":"planos de gas y cálculos varios todo referido a consumo de gas viv. Unifamiliar"},{"$f":"lista1!C338","v":"gl"},1.1053452115812918,null,0,{"$f":"lista1!G338","v":1},0]
[{"$f":"lista1!A339","v":0},{"$f":"lista1!B339","v":"tramit(etap parc. cañ.$2700 + aranceles por soldadura de servicio $1700 + etap fnal tasa mun3500 + apro final 2600"},{"$f":"lista1!C339","v":"gl"},1.1053452115812918,null,0,{"$f":"lista1!G339","v":1},0]
[{"$f":"lista1!A340","v":0},{"$f":"lista1!B340","v":0},{"$f":"lista1!C340","v":0},null,null,null,{"$f":"lista1!G340","v":0}]
[{"$f":"lista1!A341","v":31},{"$f":"lista1!B341","v":"Instalación termomecánica "},{"$f":"lista1!C341","v":0},null,null,null,{"$f":"lista1!G341","v":0}]
[{"$f":"lista1!A342","v":0},{"$f":"lista1!B342","v":"Materiales: caño de polietileno reticulado. Recordar aislación térmica y tapado de caños con concreto"},{"$f":"lista1!C342","v":0},null,null,null,{"$f":"lista1!G342","v":0}]
[{"$f":"lista1!A343","v":0},{"$f":"lista1!B343","v":"Piso radiante conexiones a provisión de calor"},{"$f":"lista1!C343","v":"m2"},{"$f":"$N$27","v":1.1053452115812918},null,{"$f":"D343*E343","v":0},{"$f":"lista1!G343","v":0},{"$f":"+F343*G343","v":0}]
[{"$f":"lista1!A344","v":0},{"$f":"lista1!B344","v":"Cañería y radiadores con conexiones a provisión de calor. No incluye caldera"},{"$f":"lista1!C344","v":"m2"},{"$f":"$N$27","v":1.1053452115812918},null,{"$f":"D344*E344","v":0},{"$f":"lista1!G344","v":0},{"$f":"+F344*G344","v":0}]
[{"$f":"lista1!A345","v":0},{"$f":"lista1!B345","v":0},{"$f":"lista1!C345","v":0},null,null,null,{"$f":"lista1!G345","v":0}]
[{"$f":"lista1!A346","v":32},{"$f":"lista1!B346","v":"Instalación eléctrica"},{"$f":"lista1!C346","v":0},null,null,null,{"$f":"lista1!G346","v":0}]
[{"$f":"lista1!A347","v":0},{"$f":"lista1!B347","v":"Boca de aluminio y toma - Nota: se considera boca a cada centro y brazo, y a caja de toma. Para una cantidad aproximada de 40 bocas. Incluye incidencia de tablero general y tablero seccional"},{"$f":"lista1!C347","v":"u"},{"$f":"$N$27","v":1.1053452115812918},null,{"$f":"D347*E347","v":0},{"$f":"lista1!G347","v":50},{"$f":"+F347*G347","v":0}]
[{"$f":"lista1!A348","v":0},{"$f":"lista1!B348","v":"Pilar completo (caja de medición, toma Jabalina, cruceta y pipeta"},{"$f":"lista1!C348","v":"gl"},{"$f":"$N$27","v":1.1053452115812918},null,{"$f":"D348*E348","v":0},{"$f":"lista1!G348","v":1},{"$f":"+F348*G348","v":0}]
[{"$f":"lista1!A349","v":0},{"$f":"lista1!B349","v":"Boca timbre. Campanillas, caja, cables y 2 pulsadores"},{"$f":"lista1!C349","v":"u"},1.1053452115812918,null,0,{"$f":"lista1!G349","v":1},0]
[{"$f":"lista1!A350","v":0},{"$f":"lista1!B350","v":"Boca TE"},{"$f":"lista1!C350","v":"u"},1.1053452115812918,null,0,{"$f":"lista1!G350","v":2},0]
[{"$f":"lista1!A351","v":0},{"$f":"lista1!B351","v":"Boca TV o cable TV (vacía) Cañería de 1\""},{"$f":"lista1!C351","v":"u"},1.1053452115812918,null,0,{"$f":"lista1!G351","v":3},0]
[{"$f":"lista1!A352","v":0},{"$f":"lista1!B352","v":"Boca de teléfono. Considera la insidencia de la caja de pase, sin bornera ni cables de montante"},{"$f":"lista1!C352","v":"u"},1.1053452115812918,null,0,{"$f":"lista1!G352","v":0},0]
[{"$f":"lista1!A353","v":0},{"$f":"lista1!B353","v":"Tablero fuerza motriz ascensor"},{"$f":"lista1!C353","v":"u"},1.1053452115812918,null,0,{"$f":"lista1!G353","v":0},0]
[{"$f":"lista1!A354","v":0},{"$f":"lista1!B354","v":"Tablero de bombas"},{"$f":"lista1!C354","v":"u"},1.1053452115812918,null,0,{"$f":"lista1!G354","v":0},0]
[{"$f":"lista1!A355","v":0},{"$f":"lista1!B355","v":"Instalación de pararrayos altura 40 mts."},{"$f":"lista1!C355","v":"u"},1.1053452115812918,null,0,{"$f":"lista1!G355","v":0},0]
[{"$f":"lista1!A356","v":0},{"$f":"lista1!B356","v":"Colocación de artefactos"},{"$f":"lista1!C356","v":"u"},1.1053452115812918,null,0,{"$f":"lista1!G356","v":0},0]
[{"$f":"lista1!A357","v":0},{"$f":"lista1!B357","v":0},{"$f":"lista1!C357","v":0},null,null,null,{"$f":"lista1!G357","v":0}]
[{"$f":"lista1!A358","v":33},{"$f":"lista1!B358","v":"Instalación contra incendio"},{"$f":"lista1!C358","v":0},null,null,null,{"$f":"lista1!G358","v":0}]
[{"$f":"lista1!A359","v":0},{"$f":"lista1!B359","v":"Boca de incendio completa. Incluye nicho, válvula, manguera, lanza, llave de ajuste y cañería"},{"$f":"lista1!C359","v":"u"},{"$f":"$N$27","v":1.1053452115812918},null,{"$f":"D359*E359","v":0},{"$f":"lista1!G359","v":0},{"$f":"+F359*G359","v":0}]
[{"$f":"lista1!A360","v":0},{"$f":"lista1!B360","v":0},{"$f":"lista1!C360","v":0},null,null,null,{"$f":"lista1!G360","v":0}]
[{"$f":"lista1!A361","v":0},{"$f":"lista1!B361","v":0},{"$f":"lista1!C361","v":"Total"},null,"$",null,{"$f":"lista1!G361","v":3115.8489448320615},{"$f":"SUM(H4:H359)","v":80988.233625124267}]
[{"$f":"lista1!A362","v":0},{"$f":"lista1!B362","v":0},{"$f":"lista1!C362","v":0},null,null,null,{"$f":"lista1!G362","v":0}]
[{"$f":"lista1!A363","v":0},{"$f":"lista1!B363","v":0},{"$f":"lista1!C363","v":0},null,null,null,{"$f":"lista1!G363","v":0}]
[{"$f":"lista1!A364","v":0},{"$f":"lista1!B364","v":0},{"$f":"lista1!C364","v":0},null,null,null,{"$f":"lista1!G364","v":0}]
[{"$f":"lista1!A365","v":0},{"$f":"lista1!B365","v":0},{"$f":"lista1!C365","v":0},null,null,null,{"$f":"lista1!G365","v":0}]
[{"$f":"lista1!A366","v":0},{"$f":"lista1!B366","v":0},{"$f":"lista1!C366","v":0},null,null,null,{"$f":"lista1!G366","v":0}]
[{"$f":"lista1!A367","v":0},{"$f":"lista1!B367","v":0},{"$f":"lista1!C367","v":0},null,null,null,{"$f":"lista1!G367","v":0}]
[{"$f":"lista1!A368","v":0},{"$f":"lista1!B368","v":0},{"$f":"lista1!C368","v":0},null,null,null,{"$f":"lista1!G368","v":0}]
[null,{"$f":"lista1!B369","v":0},{"$f":"lista1!C369","v":0},null,null,null,{"$f":"lista1!G369","v":0}]
[null,{"$f":"lista1!B370","v":0},{"$f":"lista1!C370","v":0},null,null,null,{"$f":"lista1!G370","v":0}]
[]
[]
[]
[]
[]
[]
[]
[]
[null,{"$f":"lista1!B379","v":0},{"$f":"lista1!C379","v":0},null,null,null,{"$f":"lista1!G379","v":0}]
[null,{"$f":"lista1!B380","v":0},{"$f":"lista1!C380","v":0},null,null,null,{"$f":"lista1!G380","v":0}]
[null,{"$f":"lista1!B381","v":0},{"$f":"lista1!C381","v":0},null,null,null,{"$f":"lista1!G381","v":0}]
[null,{"$f":"lista1!B382","v":0},{"$f":"lista1!C382","v":0},null,null,null,{"$f":"lista1!G382","v":0}]
[null,{"$f":"lista1!B383","v":0},{"$f":"lista1!C383","v":0},null,null,null,{"$f":"lista1!G383","v":0}]
[null,{"$f":"lista1!B384","v":0},{"$f":"lista1!C384","v":0},null,null,null,{"$f":"lista1!G384","v":0}]
[null,{"$f":"lista1!B385","v":0},{"$f":"lista1!C385","v":0},null,null,null,{"$f":"lista1!G385","v":0}]
[null,{"$f":"lista1!B386","v":0},{"$f":"lista1!C386","v":0},null,null,null,{"$f":"lista1!G386","v":0}]

{"sheet":"lista5","index":4,"n_rows":1048576,"n_cols":20,"rows_kept":4500,"cut":true,"hidden":false,"merged":[[59,2,60,2],[59,4,60,4],[59,6,60,6],[59,7,60,7],[27,17,27,18],[28,17,28,18],[33,2,34,2],[33,6,34,6],[33,7,34,7],[101,7,102,7],[167,2,168,2],[167,4,168,4],[167,6,168,6],[167,7,168,7],[1,6,1,7],[331,4,332,4],[331,6,332,6],[200,2,201,2],[200,4,201,4],[200,6,201,6],[200,7,201,7],[331,7,332,7],[307,2,308,2],[307,4,308,4],[307,6,308,6],[307,7,308,7],[331,2,332,2],[101,2,102,2],[101,4,102,4],[101,6,102,6]],"bounds":{"rows_first":2000,"rows_last":500,"rows_between":2000,"halvings":0}}
[{"$f":"lista1!A1","v":"nro"},{"$f":"lista1!B1","v":"rubros o items"},{"$f":"lista1!C1","v":"Unid."},null,"$vjo","$nvo",{"$f":"lista1!G1","v":"Cantid."},"Parc."]
[{"$f":"lista1!A2","v":0},"origen desconocido pero acordes a precios mat. Y mano de obra año 2015 Argentina","¿quiere usar estos precios?",null,null,null,"si",null,{"$f":"MAX((I3:I4=G2)*(J3:J4))","v":1}]
[{"$f":"lista1!A3","v":1},{"$f":"lista1!B3","v":"Trabajos preliminares"},{"$f":"lista1!C3","v":0},null,null,null,{"$f":"lista1!G3","v":0},null,"si",1]
[{"$f":"lista1!A4","v":0},{"$f":"lista1!B4","v":"Limpieza y nivelación del terreno"},{"$f":"lista1!C4","v":"m2"},{"$f":"$N$27","v":1.1053452115812918},55,{"$f":"D4*E4","v":60.793986636971049},{"$f":"lista1!G4","v":162.5},{"$f":"+F4*G4","v":9879.0228285077956},"no",0]
[{"$f":"lista1!A5","v":0},{"$f":"lista1!B5","v":"Obrador, depósito y sanitarios"},{"$f":"lista1!C5","v":"m2"},{"$f":"$N$27","v":1.1053452115812918},1200,{"$f":"D5*E5","v":1326.4142538975502},{"$f":"lista1!G5","v":13},{"$f":"+F5*G5","v":17243.385300668153}]
[{"$f":"lista1!A6","v":0},{"$f":"lista1!B6","v":"desmonte en terreno comun (si en terr. C. roca disgregable con barreta se debera mult. Prec. X 2,3)"},{"$f":"lista1!C6","v":"m3"},null,null,null,{"$f":"lista1!G6","v":0}]
[{"$f":"lista1!A7","v":2},{"$f":"lista1!B7","v":"Procedimientos y cumplimientos"},{"$f":"lista1!C7","v":0},null,null,null,{"$f":"lista1!G7","v":0}]
[{"$f":"lista1!A8","v":0},{"$f":"lista1!B8","v":"Replanteo"},{"$f":"lista1!C8","v":"m2"},{"$f":"$N$27","v":1.1053452115812918},23,{"$f":"D8*E8","v":25.422939866369713},{"$f":"lista1!G8","v":104.05},{"$f":"+F8*G8","v":2645.2568930957686}]
[{"$f":"lista1!A9","v":0},{"$f":"lista1!B9","v":"Cartel de obra"},{"$f":"lista1!C9","v":"m2"},{"$f":"$N$27","v":1.1053452115812918},700,{"$f":"D9*E9","v":773.74164810690434},{"$f":"lista1!G9","v":0},{"$f":"+F9*G9","v":0}]
[{"$f":"lista1!A10","v":0},{"$f":"lista1!B10","v":"Cerco de obra"},{"$f":"lista1!C10","v":"ml"},{"$f":"$N$27","v":1.1053452115812918},365,{"$f":"D10*E10","v":403.4510022271715},{"$f":"lista1!G10","v":0},{"$f":"+F10*G10","v":0}]
[{"$f":"lista1!A11","v":0},{"$f":"lista1!B11","v":"Defensa de protección para trabajo en obra"},{"$f":"lista1!C11","v":"ml"},{"$f":"$N$27","v":1.1053452115812918},750,{"$f":"D11*E11","v":829.00890868596889},{"$f":"lista1!G11","v":0},{"$f":"+F11*G11","v":0}]
[{"$f":"lista1!A12","v":0},{"$f":"lista1!B12","v":0},{"$f":"lista1!C12","v":0},null,null,null,{"$f":"lista1!G12","v":0}]
[{"$f":"lista1!A13","v":3},{"$f":"lista1!B13","v":"Demoliciones"},{"$f":"lista1!C13","v":0},null,null,null,{"$f":"lista1!G13","v":0}]
[{"$f":"lista1!A14","v":0},{"$f":"lista1!B14","v":"En los siguientes items, se incluye el retiro de los escombros de la obra hasta coloc.dentro del contenedor "},{"$f":"lista1!C14","v":0},null,null,null,{"$f":"lista1!G14","v":0}]
[{"$f":"lista1!A15","v":0},{"$f":"lista1!B15","v":"De estructura de hormigón, losas de HºAº, dados, camaras de HºAº (incluye cargarlo)"},{"$f":"lista1!C15","v":"m3"},{"$f":"$N$27","v":1.1053452115812918},1850,{"$f":"D15*E15","v":2044.88864142539},{"$f":"lista1!G15","v":0},{"$f":"+F15*G15","v":0}]
[{"$f":"lista1!A16","v":0},{"$f":"lista1!B16","v":"De mamposteria (todos los items incluyen cargar escombros a un contenedor cercano, refiere a planta baja)"},{"$f":"lista1!C16","v":"m3"},1.1053452115812918,660,{"$f":"D16*E16","v":729.52783964365267},{"$f":"lista1!G16","v":0},{"$f":"+F16*G16","v":0}]
[{"$f":"lista1!A17","v":0},{"$f":"lista1!B17","v":"De pisos"},{"$f":"lista1!C17","v":"m2"},1.1053452115812918,184.2,203.60458797327394,{"$f":"lista1!G17","v":0},0]
[{"$f":"lista1!A18","v":0},{"$f":"lista1!B18","v":"De contrapisos"},{"$f":"lista1!C18","v":"m2"},1.1053452115812918,91.6,101.24962138084632,{"$f":"lista1!G18","v":0},0]
[{"$f":"lista1!A19","v":0},{"$f":"lista1!B19","v":"Picado de revoques, cielorrasos suspendidos ó demolcic. de cubiert d tejas coloniales (sin recuper. de tejas)"},{"$f":"lista1!C19","v":"m2"},1.1053452115812918,98.1,108.43436525612472,{"$f":"lista1!G19","v":0},0]
[{"$f":"lista1!A20","v":0},{"$f":"lista1!B20","v":"Picado de revestimientos"},{"$f":"lista1!C20","v":"m2"},1.1053452115812918,89.5,98.928396436525617,{"$f":"lista1!G20","v":0},0]
[{"$f":"lista1!A21","v":0},{"$f":"lista1!B21","v":"De estructura de madera con tejas francesa (o colonial)"},{"$f":"lista1!C21","v":"m2"},1.1053452115812918,0,0,{"$f":"lista1!G21","v":0},0]
[{"$f":"lista1!A22","v":0},{"$f":"lista1!B22","v":"Demolición de obra completa"},{"$f":"lista1!C22","v":"m2"},1.1053452115812918,1000,1105.3452115812918,{"$f":"lista1!G22","v":28},30949.665924276171]
[{"$f":"lista1!A23","v":0},{"$f":"lista1!B23","v":"Contenedor/Volquete, alquiler"},{"$f":"lista1!C23","v":"u"},1.1053452115812918,550,607.93986636971056,{"$f":"lista1!G23","v":16},9727.0378619153689]
[{"$f":"lista1!A24","v":0},{"$f":"lista1!B24","v":"Cargar Contenedor/Volquete"},{"$f":"lista1!C24","v":"u"},1.1053452115812918,500,552.67260579064589,{"$f":"lista1!G24","v":16},8842.7616926503342]
[{"$f":"lista1!A25","v":4},{"$f":"lista1!B25","v":"Movimientos de tierra"},{"$f":"lista1!C25","v":0},null,null,null,{"$f":"lista1!G25","v":0}]
[{"$f":"lista1!A26","v":0},{"$f":"lista1!B26","v":"Excavación manual p cimientos y bases column terreno común (si tosca mult.al prec.x 1,214 y x1,714 si es roca digregable)"},{"$f":"lista1!C26","v":"m3"},{"$f":"$N$27","v":1.1053452115812918},350,{"$f":"D26*E26","v":386.87082405345217},{"$f":"lista1!G26","v":6.001526717557252},{"$f":"+F26*G26","v":2321.8155868001841}]
[{"$f":"lista1!A27","v":0},{"$f":"lista1!B27","v":"Excavación manual de vigas de fundación hasta 1,20 m de prof."},{"$f":"lista1!C27","v":"m3"},1.1053452115812918,350,386.87082405345217,{"$f":"lista1!G27","v":9.9022500000000004},3830.8916174832971,null,null,null,"mult",null,{"$f":"I2*T28/T31","v":1.1053452115812918},null,null,null,null,null,"US$prom"]
[{"$f":"lista1!A28","v":0},{"$f":"lista1!B28","v":"Excavación de pozos para pilotín (diám. 23 cm - prof. 1,6 m)"},{"$f":"lista1!C28","v":"u"},1.1053452115812918,140,154.74832962138086,{"$f":"lista1!G28","v":24},3713.9599109131404,null,"#1precio dólar oficial vta",null,null,null,null,null,{"$f":"lista1!P28","v":9.3350000000000009},{"$f":"lista1!Q28","v":"$AR"},{"$f":"lista1!R28:S28","v":"2015-11-12"},null,{"$f":"AVERAGE(P28:P29)","v":12.407500000000001}]
[{"$f":"lista1!A29","v":0},{"$f":"lista1!B29","v":"Excavación p/ cisternas, cámaras sépt.,de inspec., sótanos a mano terr. Comun hast4m (tosca x1,351 y si fuese roc disgr x 1,89)"},{"$f":"lista1!C29","v":"m3"},1.1053452115812918,350,386.87082405345217,{"$f":"lista1!G29","v":12.076000000000001},4671.852071269489,null,"#2precio dólar blue vta",null,null,null,null,null,{"$f":"lista1!P29","v":15.48},{"$f":"lista1!Q29","v":"$AR"},{"$f":"lista1!R29:S29","v":"2015-11-12"}]
[{"$f":"lista1!A30","v":0},{"$f":"lista1!B30","v":"Excavación p/ pozo absorbt o Romano, a mano terr. Comun hast10mprof.(tosca x1,364 y si fuese roc disgr x 1,909)"},{"$f":"lista1!C30","v":"m3"},1.1053452115812918,0,{"$f":"D30*E30","v":0},{"$f":"lista1!G30","v":6},{"$f":"+F30*G30","v":0}]
[{"$f":"lista1!A31","v":0},{"$f":"lista1!B31","v":"Destape del terreno hasta 20/30 cm de profundidad con pala frontal o  Excavación de sótanos a maquina"},{"$f":"lista1!C31","v":"m3"},1.1053452115812918,120,{"$f":"D31*E31","v":132.64142538975503},{"$f":"lista1!G31","v":0},{"$f":"+F31*G31","v":0},null,"#1 dólar oficial vta",null,null,null,null,null,8.75,"$AR","2015-01-01",null,{"$f":"AVERAGE(P31:P32)","v":11.225}]
[{"$f":"lista1!A32","v":0},{"$f":"lista1!B32","v":"Carga y retiro de tierra con camión"},{"$f":"lista1!C32","v":"m3"},1.1053452115812918,180,198.96213808463253,{"$f":"lista1!G32","v":0},0,null,"#2 dólar blu vta",null,null,null,null,null,13.7,"$AR","2015-01-01"]
[{"$f":"lista1!A33","v":0},{"$f":"lista1!B33","v":"terraplenamiento"},{"$f":"lista1!C33","v":"m3"},null,null,null,{"$f":"lista1!G33","v":0}]
[{"$f":"lista1!A34","v":5},{"$f":"lista1!B34","v":"Estructuras de hormigón armado"},{"$f":"lista1!C34","v":"Unid."},null,"Prec.","Prec.",{"$f":"lista1!G34","v":"Cant."},"Parcial",null,"http://www.ambito.com/economia/mercados/monedas/dolar/info/?ric=ARSB=&desde=15/12/2014&hasta=15/01/2015"]
[{"$f":"lista1!A35","v":0},{"$f":"lista1!B35","v":"Incluye el material, mano de obra, armado y desarme de encofrados de madera tradicionales y equipos"},null,null,"vjo","nvo"]
[{"$f":"lista1!A36","v":0},{"$f":"lista1!B36","v":"hormigon sin armar para relleno de cimientos"},{"$f":"lista1!C36","v":"m3"},{"$f":"$N$27","v":1.1053452115812918},0,{"$f":"D36*E36","v":0},{"$f":"lista1!G36","v":0},{"$f":"+F36*G36","v":0}]
[{"$f":"lista1!A37","v":0},{"$f":"lista1!B37","v":"Bases céntricas cuantía 60 kg, HºAº p/ cabezal de pozos romanos (p/fuste pz rom dividir precio en 1,124)"},{"$f":"lista1!C37","v":"m3"},{"$f":"$N$27","v":1.1053452115812918},2656.2,{"$f":"D37*E37","v":2936.0179510022272},{"$f":"lista1!G37","v":6.001526717557252},{"$f":"+F37*G37","v":17620.590176167567}]
[{"$f":"lista1!A38","v":0},{"$f":"lista1!B38","v":"Vigas de fundación 60 kg/m3, arriostramiento y de equilibrio"},{"$f":"lista1!C38","v":"m3"},{"$f":"$N$27","v":1.1053452115812918},3141.4,{"$f":"D38*E38","v":3472.3314476614705},{"$f":"lista1!G38","v":9.9022500000000004},{"$f":"+F38*G38","v":34383.894077605801}]
[{"$f":"lista1!A39","v":0},{"$f":"lista1!B39","v":"Pilotín diametro 23 cm / profundidad 1,6 m"},{"$f":"lista1!C39","v":"ml"},1.1053452115812918,220.9,244.17075723830737,{"$f":"lista1!G39","v":38.400000000000006},9376.1570779510039]
[{"$f":"lista1!A40","v":0},{"$f":"lista1!B40","v":"Platea de fundación 35 kg/m3 de hierro o quiza con un poco mas de kg de cuantía, (bases de cañerías div./1,345)."},{"$f":"lista1!C40","v":"m3"},1.1053452115812918,2205.6,2437.9493986636971,{"$f":"lista1!G40","v":0},0]
[{"$f":"lista1!A41","v":0},{"$f":"lista1!B41","v":"Zapatas para tabique de hormigón para submuración 80 kg hierro, bases de columna y zapatas de columna"},{"$f":"lista1!C41","v":"m3"},1.1053452115812918,2274.9,2514.549821826281,{"$f":"lista1!G41","v":0},0]
[{"$f":"lista1!A42","v":0},{"$f":"lista1!B42","v":"Zapatas para muro de Mamposteria 30 cm de ladrillo común cuantía 35kg de hierro/m3"},{"$f":"lista1!C42","v":"m3"},1.1053452115812918,2358.1,2606.5145434298443,{"$f":"lista1!G42","v":0},0]
[{"$f":"lista1!A43","v":0},{"$f":"lista1!B43","v":"Tabiques de sótanos una cara vista 80 kg de hierro/m3"},{"$f":"lista1!C43","v":"m3"},1.1053452115812918,4656.7,5147.2610467706018,{"$f":"lista1!G43","v":0},0]
[{"$f":"lista1!A44","v":0},{"$f":"lista1!B44","v":"Losas espesor 10 cm"},{"$f":"lista1!C44","v":"m3"},1.1053452115812918,6606.6,7302.5736748329628,{"$f":"lista1!G44","v":0},0]
[{"$f":"lista1!A45","v":0},{"$f":"lista1!B45","v":"Losas de hormigón a la vista con encofrado fenólico"},{"$f":"lista1!C45","v":"m3"},1.1053452115812918,10667.9,11791.712182628064,{"$f":"lista1!G45","v":0},0]
[{"$f":"lista1!A46","v":0},{"$f":"lista1!B46","v":"Losas casetonada 70 kg/m3 de hierro (es precio mínimo.. p/ prec max mult. X 1,216)"},{"$f":"lista1!C46","v":"m3"},1.1053452115812918,7524.6,8317.2805790645889,{"$f":"lista1!G46","v":0},0]
[{"$f":"lista1!A47","v":0},{"$f":"lista1!B47","v":"Losa nervurada Aº en un sentid. bloqH 14*19*39 (o x 1,162 sii es Aºda en 2 sentid c bloq poliest exp. De 40*40*25)"},{"$f":"lista1!C47","v":"m2"},1.1053452115812918,null,0,{"$f":"lista1!G47","v":0},0]
[{"$f":"lista1!A48","v":0},{"$f":"lista1!B48","v":"Losa hueca pretensada 12 cm de espesor con tomado de juntas"},{"$f":"lista1!C48","v":"m2"},1.1053452115812918,632.79999999999995,699.46244988864146,{"$f":"lista1!G48","v":0},0]
[{"$f":"lista1!A49","v":0},{"$f":"lista1!B49","v":"Losa viguetas pretensadas de hormigón y ladrillos cerámicos espesor 17cm con capa de compresión."},{"$f":"lista1!C49","v":"m2"},1.1053452115812918,476.9,527.13913140311809,{"$f":"lista1!G49","v":104.05},54848.826622494438]
[{"$f":"lista1!A50","v":0},{"$f":"lista1!B50","v":"columnas estructurales de aprox. 30x30 (Si son a la vista al precio mult. X 1,08)"},{"$f":"lista1!C50","v":"m3"},1.1053452115812918,7000,7737.4164810690427,{"$f":"lista1!G50","v":0.32400000000000001},2506.9229398663697]
[{"$f":"lista1!A51","v":0},{"$f":"lista1!B51","v":"Encadenado verticales, horizontales, dinteles, dadosdapoyo, llaves,banquinas 7cm esp. de HºAº "},{"$f":"lista1!C51","v":"m3"},1.1053452115812918,7000,7737.4164810690427,{"$f":"lista1!G51","v":5.2939208087112721},40961.270114796949]
[{"$f":"lista1!A52","v":0},{"$f":"lista1!B52","v":"Vigas cuantía 180 kg/m3, vigas aprox. De 20x40 (Si son a la vista al precio mult. X 1,08)"},{"$f":"lista1!C52","v":"m3"},1.1053452115812918,9000,9948.1069042316267,{"$f":"lista1!G52","v":0.24},2387.5456570155902]
[{"$f":"lista1!A53","v":0},{"$f":"lista1!B53","v":"Tabiques vistos cuantía 80 kg"},{"$f":"lista1!C53","v":"m3"},1.1053452115812918,10136.1,11203.889599109132,{"$f":"lista1!G53","v":0},0]
[{"$f":"lista1!A54","v":0},{"$f":"lista1!B54","v":"Tabiques cuantía 80 kg/m3"},{"$f":"lista1!C54","v":"m3"},1.1053452115812918,6628.3,7326.5596659242765,{"$f":"lista1!G54","v":0},0]
[{"$f":"lista1!A55","v":0},{"$f":"lista1!B55","v":"Escaleras cuantía 75 kg/m3 (sii es HºAº p/LOSAS macizas de escaleras a este prec. Dividir por 1,887) "},{"$f":"lista1!C55","v":"m3"},1.1053452115812918,10819.8,11959.614120267261,{"$f":"lista1!G55","v":0},0]
[{"$f":"lista1!A56","v":0},{"$f":"lista1!B56","v":"Tanque de bombeo cuantía 105 kg/m3"},{"$f":"lista1!C56","v":"m3"},1.1053452115812918,7270.8,8036.7439643652569,{"$f":"lista1!G56","v":0},0]
[{"$f":"lista1!A57","v":0},{"$f":"lista1!B57","v":"Tanque de reserva cuantía 105 kg/m3 y cisternas de HAº"},{"$f":"lista1!C57","v":"m3"},1.1053452115812918,8368.5,9250.0814031180416,{"$f":"lista1!G57","v":0.29899999999999999},2765.7743395322946]
[{"$f":"lista1!A58","v":0},{"$f":"lista1!B58","v":"Junta de PVC para hormigón"},{"$f":"lista1!C58","v":"ml"},1.1053452115812918,160.1,176.96576837416481,{"$f":"lista1!G58","v":0},0]
[{"$f":"lista1!A59","v":0},{"$f":"lista1!B59","v":"Barrera de vapor (dos manos de pintura asfáltica + 10% nafta)"},{"$f":"lista1!C59","v":"m2"},1.1053452115812918,null,0,{"$f":"lista1!G59","v":104.05},0]
[{"$f":"lista1!A60","v":6},{"$f":"lista1!B60","v":"Estructuras metálicas"},{"$f":"lista1!C60","v":0},null,null,null,{"$f":"lista1!G60","v":0}]
[{"$f":"lista1!A61","v":0},{"$f":"lista1!B61","v":"En el caso de cubiertas no se consideran los cerramientos laterales ni superiores. Para los entrepisos no se incluye el solado. En ambos, tampoco la pintura. El armado es en taller. Incluye el montaje en obra y no se considera el flete"}]
[{"$f":"lista1!A62","v":0},{"$f":"lista1!B62","v":"Estructuras metálicas de perfiles normales"},{"$f":"lista1!C62","v":"kg"},{"$f":"$N$27","v":1.1053452115812918},38.6,{"$f":"D62*E62","v":42.666325167037868},{"$f":"lista1!G62","v":0},{"$f":"+F62*G62","v":0}]
[{"$f":"lista1!A63","v":0},{"$f":"lista1!B63","v":"Estructuras metálicas de perfiles ángulos"},{"$f":"lista1!C63","v":"kg"},{"$f":"$N$27","v":1.1053452115812918},77.900000000000006,{"$f":"D63*E63","v":86.106391982182643},{"$f":"lista1!G63","v":0},{"$f":"+F63*G63","v":0}]
[{"$f":"lista1!A64","v":0},{"$f":"lista1!B64","v":"Estructuras metálicas de hierro redondo"},{"$f":"lista1!C64","v":"kg"},{"$f":"$N$27","v":1.1053452115812918},38.700000000000003,{"$f":"D64*E64","v":42.776859688195998},{"$f":"lista1!G64","v":0},{"$f":"+F64*G64","v":0}]
[{"$f":"lista1!A65","v":0},{"$f":"lista1!B65","v":0},{"$f":"lista1!C65","v":0},null,null,null,{"$f":"lista1!G65","v":0},{"$f":"+F65*G65","v":0}]
[{"$f":"lista1!A66","v":0},{"$f":"lista1!B66","v":0},{"$f":"lista1!C66","v":0},null,null,null,{"$f":"lista1!G66","v":0},{"$f":"+F66*G66","v":0}]
[{"$f":"lista1!A67","v":0},{"$f":"lista1!B67","v":0},{"$f":"lista1!C67","v":0},null,null,null,{"$f":"lista1!G67","v":0}]
[{"$f":"lista1!A68","v":7},{"$f":"lista1!B68","v":"Mampostería"},{"$f":"lista1!C68","v":"Unid."},null,"Precio",null,{"$f":"lista1!G68","v":"Cantid."},"Parcial"]
[{"$f":"lista1!A69","v":0},{"$f":"lista1!B69","v":"Bloques de hormigón estandar 19 x 19 x 39  ; idem cribada = D x 0,9365"},{"$f":"lista1!C69","v":"m2"},{"$f":"$N$27","v":1.1053452115812918},242,{"$f":"D69*E69","v":267.49354120267265},{"$f":"lista1!G69","v":0},{"$f":"+F69*G69","v":0}]
[{"$f":"lista1!A70","v":0},{"$f":"lista1!B70","v":"Bloques de hormigón estandar 9,2 x 19 x 39 ;  ladrillos comunes de pandere 30 ud/m2 = corregir D x 0,88"},{"$f":"lista1!C70","v":"m2"},{"$f":"$N$27","v":1.1053452115812918},217.8,{"$f":"D70*E70","v":240.74418708240538},{"$f":"lista1!G70","v":0},{"$f":"+F70*G70","v":0}]
[{"$f":"lista1!A71","v":0},{"$f":"lista1!B71","v":"Junta de dilatación bloque \"\"u\"\"de hormigón"},{"$f":"lista1!C71","v":"ml"},1.1053452115812918,57,63.004677060133638,{"$f":"lista1!G71","v":0},0]
[{"$f":"lista1!A72","v":0},{"$f":"lista1!B72","v":"Encadenado pared bloques de hormigón"},{"$f":"lista1!C72","v":"ml"},1.1053452115812918,146.4,161.82253897550112,{"$f":"lista1!G72","v":0},0]
[{"$f":"lista1!A73","v":0},{"$f":"lista1!B73","v":"Ladrillos comunes elevación espesor 30 cm (si es de cimiento =D/1,03) si es p/ 1er piso =D*1,08"},{"$f":"lista1!C73","v":"m3"},1.1053452115812918,2753.7,3043.7891091314032,{"$f":"lista1!G73","v":0},0]
[{"$f":"lista1!A74","v":0},{"$f":"lista1!B74","v":"Ladrillos de máquina para vista espesor 30 cm sin tomado de juntas (con tomado junt =D x 1,094)"},{"$f":"lista1!C74","v":"m3"},1.1053452115812918,{"$f":"4016.5/1.0939","v":3671.7250205686073},4058.5236697287305,{"$f":"lista1!G74","v":0},0]
[{"$f":"lista1!A75","v":0},{"$f":"lista1!B75","v":"Ladrillo común en elevación espesor 15 cm  (si es de cimiento =D/1,03) si es p/ 1er piso =D*1,08 , cribadas"},{"$f":"lista1!C75","v":"m3"},1.1053452115812918,2065.6,2283.2010690423162,{"$f":"lista1!G75","v":0},0]
[{"$f":"lista1!A76","v":0},{"$f":"lista1!B76","v":"Ladrillo de máquina para vista espesor 15 cm con tomado de junta"},{"$f":"lista1!C76","v":"m3"},1.1053452115812918,4603.2,5088.1250779510028,{"$f":"lista1!G76","v":0},0]
[{"$f":"lista1!A77","v":0},{"$f":"lista1!B77","v":"Refuerzos horizontales o encadenado para mampostería (vigas o dintel) en ladrillo común"},{"$f":"lista1!C77","v":"ml"},1.1053452115812918,294.5,325.52416481069042,{"$f":"lista1!G77","v":0},0]
[{"$f":"lista1!A78","v":0},{"$f":"lista1!B78","v":"Ladrillo cerámico hueco de 8 x 18 x 33 pared de 8 cm de espesor"},{"$f":"lista1!C78","v":"m2"},1.1053452115812918,143.9,159.0591759465479,{"$f":"lista1!G78","v":0},0]
[{"$f":"lista1!A79","v":0},{"$f":"lista1!B79","v":"Ladrillo cerámico hueco de 12 x 18 x 33 pared de 12 cm de espesor"},{"$f":"lista1!C79","v":"m2"},1.1053452115812918,184.3,203.71512249443211,{"$f":"lista1!G79","v":0},0]
[{"$f":"lista1!A80","v":0},{"$f":"lista1!B80","v":"Ladrillo cerámico hueco de 18 x 18 x 33 pared de 18 cm de espesor"},{"$f":"lista1!C80","v":"m2"},1.1053452115812918,248,274.12561247216036,{"$f":"lista1!G80","v":0},0]
[{"$f":"lista1!A81","v":0},{"$f":"lista1!B81","v":"Ladrillo cerámico portante de 13 x 19 x 33"},{"$f":"lista1!C81","v":"m2"},1.1053452115812918,271.7,300.32229398663696,{"$f":"lista1!G81","v":360.43260000000009},108245.94525956796]
[{"$f":"lista1!A82","v":0},{"$f":"lista1!B82","v":"Ladrillo cerámico portante de 18 x 19 x 33"},{"$f":"lista1!C82","v":"m2"},1.1053452115812918,310.60000000000002,343.32022271714925,{"$f":"lista1!G82","v":0},0]
[{"$f":"lista1!A83","v":0},{"$f":"lista1!B83","v":"Viga de encadenado superior con peine cerámico, armadura y hormigonado"},{"$f":"lista1!C83","v":"ml"},1.1053452115812918,183,202.27817371937641,{"$f":"lista1!G83","v":0},0]
[{"$f":"lista1!A84","v":0},{"$f":"lista1!B84","v":"Columna con bloque cerámico armadura y hormigón"},{"$f":"lista1!C84","v":"ml"},1.1053452115812918,170.4,188.35082405345213,{"$f":"lista1!G84","v":0},0]
[{"$f":"lista1!A85","v":0},{"$f":"lista1!B85","v":"Muro portante en elevación de HCCA tipo Retak"},{"$f":"lista1!C85","v":"m3"},1.1053452115812918,2500.4,2763.8051670378622,{"$f":"lista1!G85","v":0},0]
[{"$f":"lista1!A86","v":0},{"$f":"lista1!B86","v":"Colocación de carpinterías (incluye amurado, marcos y premarcos)"},{"$f":"lista1!C86","v":"m2"},1.1053452115812918,188.9,208.79971046770603,{"$f":"lista1!G86","v":0},0]
[{"$f":"lista1!A87","v":0},{"$f":"lista1!B87","v":"Colocación de barandas"},{"$f":"lista1!C87","v":"ml"},1.1053452115812918,165.2,182.6030289532294,{"$f":"lista1!G87","v":0},0]
[{"$f":"lista1!A88","v":0},{"$f":"lista1!B88","v":"Muro portante en elevación de HCCA de 15x25x50 tipo Retak"},{"$f":"lista1!C88","v":"m2"},1.1053452115812918,397.8,439.7063251670379,{"$f":"lista1!G88","v":0},0]
[{"$f":"lista1!A89","v":0},{"$f":"lista1!B89","v":"murete de mesada de cocina hasta 95 cm de alto (incl mat y m.o: muro 0,15+ revoq gr y fno ambas caras) sin revestim."},{"$f":"lista1!C89","v":"u"},1.1053452115812918,{"$f":"(0.15*E75+2*E156)","v":632.5},699.13084632516711,{"$f":"lista1!G89","v":0},0]
[{"$f":"lista1!A90","v":0},{"$f":"lista1!B90","v":"murete de mesada de cocina hasta 95 cm de alto (incl mat y m.o: muro 0,15+ revoq gr y revest. ambas caras) sin fino"},{"$f":"lista1!C90","v":"u"},1.1053452115812918,{"$f":"(0.15*E75+2*E172)","v":926.44},1024.0360178173721,{"$f":"lista1!G90","v":0},0]
[{"$f":"lista1!A91","v":0},{"$f":"lista1!B91","v":"Conducto de ventilación"},{"$f":"lista1!C91","v":"ml"},1.1053452115812918,348.5,385.21280623608021,{"$f":"lista1!G91","v":0},0]
[{"$f":"lista1!A92","v":0},{"$f":"lista1!B92","v":"Sombrete conducto ventilación"},{"$f":"lista1!C92","v":"u"},1.1053452115812918,327.9,362.44269487750557,{"$f":"lista1!G92","v":0},0]
[{"$f":"lista1!A93","v":0},{"$f":"lista1!B93","v":"Rejilla para conducto"},{"$f":"lista1!C93","v":"ml"},1.1053452115812918,201,222.17438752783966,{"$f":"lista1!G93","v":0},0]
[{"$f":"lista1!A94","v":0},{"$f":"lista1!B94","v":"Conducto de presurización"},{"$f":"lista1!C94","v":"ml"},1.1053452115812918,378.7,418.59423162583522,{"$f":"lista1!G94","v":0},0]
[{"$f":"lista1!A95","v":0},{"$f":"lista1!B95","v":"Sombrete conducto presuriz."},{"$f":"lista1!C95","v":"u"},1.1053452115812918,577.1,637.89472160356354,{"$f":"lista1!G95","v":0},0]
[{"$f":"lista1!A96","v":0},{"$f":"lista1!B96","v":"Reja conducto ventilación"},{"$f":"lista1!C96","v":"u"},1.1053452115812918,238.9,264.06697104677062,{"$f":"lista1!G96","v":0},0]
[{"$f":"lista1!A97","v":0},{"$f":"lista1!B97","v":"banquinas de mesada (contrapiso + carpeta + revest. Ceramico)"},{"$f":"lista1!C97","v":"ml"},1.1053452115812918,{"$f":"E144+E150+E172","v":523},578.09554565701558,{"$f":"lista1!G97","v":6.3},3642.0019376391979]
[{"$f":"lista1!A98","v":0},{"$f":"lista1!B98","v":"tomado de juntas en ladrillos visto rehundidas (al ras es 0,841*D)"},{"$f":"lista1!C98","v":"m2"},null,null,null,{"$f":"lista1!G98","v":0}]
[{"$f":"lista1!A99","v":0},{"$f":"lista1!B99","v":"Muros de ladrillo de vidrio 20x20x10 cm"},{"$f":"lista1!C99","v":"m2"},null,null,null,{"$f":"lista1!G99","v":0}]
[{"$f":"lista1!A100","v":0},{"$f":"lista1!B100","v":"Tabique de placas de yeso, tipo durlock 12,5 mm esp."},{"$f":"lista1!C100","v":"m2"},null,null,null,{"$f":"lista1!G100","v":0}]
[{"$f":"lista1!A101","v":0},{"$f":"lista1!B101","v":0},{"$f":"lista1!C101","v":0},null,null,null,{"$f":"lista1!G101","v":0}]
[{"$f":"lista1!A102","v":8},{"$f":"lista1!B102","v":"Construcción con placas de roca de yeso"},{"$f":"lista1!C102","v":"Unid."},null,"Precio",null,{"$f":"lista1!G102","v":"Cantid."},"Parcial"]
[{"$f":"lista1!A103","v":0},{"$f":"lista1!B103","v":"En todos los casos las terminaciones quedan listas para pintar. Junta tomada con cinta tramada y mansilla"}]
[{"$f":"lista1!A104","v":0},{"$f":"lista1!B104","v":"Tabique simple espesor 9,5 cm. Estructura de chapa galvanizada con montantes cada 48 cm. Solera inferior y superior de 70mm. Placa normal 15mm"},{"$f":"lista1!C104","v":"m2"},{"$f":"$N$27","v":1.1053452115812918},236.4,{"$f":"D104*E104","v":261.3036080178174},{"$f":"lista1!G104","v":0},{"$f":"+F104*G104","v":0}]
[{"$f":"lista1!A105","v":0},{"$f":"lista1!B105","v":"Idem con aislación de lana de vidrio"},{"$f":"lista1!C105","v":"m2"},{"$f":"$N$27","v":1.1053452115812918},265,{"$f":"D105*E105","v":292.91648106904233},{"$f":"lista1!G105","v":0},{"$f":"+F105*G105","v":0}]
[{"$f":"lista1!A106","v":0},{"$f":"lista1!B106","v":"Medio tabique espesor total 8,5 cm"},{"$f":"lista1!C106","v":"m2"},1.1053452115812918,214.7,237.31761692650335,{"$f":"lista1!G106","v":0},0]
[{"$f":"lista1!A107","v":0},{"$f":"lista1!B107","v":"Pared divisoria de unidades funcionales espesor total 12 cm. Doble placa de 15mm en ambas caras. Montantes cada 40cm. Solera 70mm interior y super."},{"$f":"lista1!C107","v":"m2"},1.1053452115812918,337.5,373.054008908686,{"$f":"lista1!G107","v":0},0]
[{"$f":"lista1!A108","v":0},{"$f":"lista1!B108","v":"Cielorraso suspendido, junta tomada con placas de 12,5mm, Estructura soleras y montantes de chapa galvanizada"},{"$f":"lista1!C108","v":"m2"},1.1053452115812918,168.5,186.25066815144768,{"$f":"lista1!G108","v":0},0]
[{"$f":"lista1!A109","v":0},{"$f":"lista1!B109","v":"Idem con placa verde."},{"$f":"lista1!C109","v":"m2"},1.1053452115812918,192.2,212.44734966592429,{"$f":"lista1!G109","v":0},0]
[{"$f":"lista1!A110","v":0},{"$f":"lista1!B110","v":"Cielorraso suspendido desmontable. Estructura con bastidor de aluminio. Placas texturadas 60 x 1,20"},{"$f":"lista1!C110","v":"m2"},1.1053452115812918,380.5,420.58385300668152,{"$f":"lista1!G110","v":0},0]
[{"$f":"lista1!A111","v":0},{"$f":"lista1!B111","v":0},{"$f":"lista1!C111","v":0},null,null,null,{"$f":"lista1!G111","v":0}]
[{"$f":"lista1!A112","v":9},{"$f":"lista1!B112","v":"Aislaciones"},{"$f":"lista1!C112","v":0},null,null,null,{"$f":"lista1!G112","v":0}]
[{"$f":"lista1!A113","v":0},{"$f":"lista1!B113","v":"De sótanos cementicia para cerramientos horizontal y vertical"},{"$f":"lista1!C113","v":"m2"},{"$f":"$N$27","v":1.1053452115812918},280.39999999999998,{"$f":"D113*E113","v":309.93879732739418},{"$f":"lista1!G113","v":0},{"$f":"+F113*G113","v":0}]
[{"$f":"lista1!A114","v":0},{"$f":"lista1!B114","v":"Capa aisladora con tabique panderete"},{"$f":"lista1!C114","v":"m2"},{"$f":"$N$27","v":1.1053452115812918},236.7,{"$f":"D114*E114","v":261.63521158129174},{"$f":"lista1!G114","v":0},0]
[{"$f":"lista1!A115","v":0},{"$f":"lista1!B115","v":"Horizontal espesor 2 cm sobre muro"},{"$f":"lista1!C115","v":"m2"},1.1053452115812918,181,200.06748329621382,{"$f":"lista1!G115","v":14.36947058823529},2874.8638168871994]
[{"$f":"lista1!A116","v":0},{"$f":"lista1!B116","v":"Film de polietileno bajo plateas o contrapisos"},{"$f":"lista1!C116","v":"m2"},1.1053452115812918,35.700000000000003,39.460824053452122,{"$f":"lista1!G116","v":0},0]
[{"$f":"lista1!A117","v":0},{"$f":"lista1!B117","v":"Horizontal cementicia en contrapiso sobre terreno natural"},{"$f":"lista1!C117","v":"m2"},1.1053452115812918,74.599999999999994,82.458752783964371,{"$f":"lista1!G117","v":0},0]
[{"$f":"lista1!A118","v":0},{"$f":"lista1!B118","v":"Horizontal sobre losa para locales húmedos"},{"$f":"lista1!C118","v":"m2"},1.1053452115812918,106.1,117.27712694877506,{"$f":"lista1!G118","v":0},0]
[{"$f":"lista1!A119","v":0},{"$f":"lista1!B119","v":"Azotado hidrófugo bajo revestimientos "},{"$f":"lista1!C119","v":"m2"},1.1053452115812918,29.2,32.276080178173721,{"$f":"lista1!G119","v":0},0]
[{"$f":"lista1!A120","v":0},{"$f":"lista1!B120","v":"Vertical de 1,5 de esp. sobre muros"},{"$f":"lista1!C120","v":"m2"},1.1053452115812918,62.7,69.305144766146995,{"$f":"lista1!G120","v":21.6},1496.9911269487752]
[{"$f":"lista1!A121","v":0},{"$f":"lista1!B121","v":"Horizontal y vertical cementicia para interior tanques de agua"},{"$f":"lista1!C121","v":"m2"},1.1053452115812918,204.1,225.60095768374165,{"$f":"lista1!G121","v":0},0]
[{"$f":"lista1!A122","v":0},{"$f":"lista1!B122","v":"inyeccion de líquidos químicos SIKA inertol infiltración, c perf c/15 cm a tres bolillos, rev.,rev fino (220MO+300mat)"},{"$f":"lista1!C122","v":"ml"},1.1053452115812918,520,574.77951002227178,{"$f":"lista1!G122","v":22},12645.149220489979]
[{"$f":"lista1!A123","v":10},{"$f":"lista1!B123","v":"Cubiertas "},{"$f":"lista1!C123","v":0},null,null,null,{"$f":"lista1!G123","v":0}]
[{"$f":"lista1!A124","v":0},{"$f":"lista1!B124","v":"No se incluye la losa de hormigón"},{"$f":"lista1!C124","v":0},null,null,null,{"$f":"lista1!G124","v":0}]
[{"$f":"lista1!A125","v":0},{"$f":"lista1!B125","v":"Planas"},{"$f":"lista1!C125","v":0},null,null,null,{"$f":"lista1!G125","v":0}]
[{"$f":"lista1!A126","v":0},{"$f":"lista1!B126","v":"Sobre losa con barrera de vapor, contrapiso con pendiente. Carpeta para recibir, y proteger, aislación térmica e hidráulica con membrana con aluminio"},{"$f":"lista1!C126","v":"m2"},{"$f":"$N$27","v":1.1053452115812918},930.9,{"$f":"D126*E126","v":1028.9658574610246},{"$f":"lista1!G126","v":104.05},{"$f":"+F126*G126","v":107063.8974688196}]
[{"$f":"lista1!A127","v":0},{"$f":"lista1!B127","v":"Idem anterior. Cubierta transitable terminación baldosas 20 x 20 para terraza"},{"$f":"lista1!C127","v":"m2"},{"$f":"$N$27","v":1.1053452115812918},1211.0999999999999,{"$f":"D127*E127","v":1338.6835857461024},{"$f":"lista1!G127","v":0},{"$f":"+F127*G127","v":0}]
[{"$f":"lista1!A128","v":0},{"$f":"lista1!B128","v":0},{"$f":"lista1!C128","v":0},null,null,null,{"$f":"lista1!G128","v":0}]
[{"$f":"lista1!A129","v":0},{"$f":"lista1!B129","v":"Con pendiente"},{"$f":"lista1!C129","v":0},null,null,null,{"$f":"lista1!G129","v":0}]
[{"$f":"lista1!A130","v":0},{"$f":"lista1!B130","v":"No incluye la pintura. Para las de madera se consideró la aplicación de preservador. No incluye correas"},{"$f":"lista1!C130","v":0},null,null,null,{"$f":"lista1!G130","v":0}]
[{"$f":"lista1!A131","v":0},{"$f":"lista1!B131","v":"Tejas francesa estructura de madera vista con aislación térmica  "},{"$f":"lista1!C131","v":"m2"},{"$f":"$N$27","v":1.1053452115812918},822.8,{"$f":"D131*E131","v":909.4780400890869},{"$f":"lista1!G131","v":0},{"$f":"+F131*G131","v":0}]
[{"$f":"lista1!A132","v":0},{"$f":"lista1!B132","v":"Idem, con madera sin cepillar"},{"$f":"lista1!C132","v":"m2"},{"$f":"$N$27","v":1.1053452115812918},796.3,{"$f":"D132*E132","v":880.18639198218261},{"$f":"lista1!G132","v":0},{"$f":"+F132*G132","v":0}]
[{"$f":"lista1!A133","v":0},{"$f":"lista1!B133","v":"Chapa ondulada N24 estructura de madera vista. No se considera con aislación térmica"},{"$f":"lista1!C133","v":"m2"},1.1053452115812918,552,610.15055679287309,{"$f":"lista1!G133","v":0},0]
[{"$f":"lista1!A134","v":0},{"$f":"lista1!B134","v":"Idem, chapa prepintada"},{"$f":"lista1!C134","v":"m2"},1.1053452115812918,590,652.15367483296222,{"$f":"lista1!G134","v":0},0]
[{"$f":"lista1!A135","v":0},{"$f":"lista1!B135","v":"Chapa ambas caras con aislación térmica"},{"$f":"lista1!C135","v":"m2"},1.1053452115812918,628.29999999999995,694.48839643652559,{"$f":"lista1!G135","v":0},0]
[{"$f":"lista1!A136","v":0},{"$f":"lista1!B136","v":"Teja colonial madera vista"},{"$f":"lista1!C136","v":"m2"},1.1053452115812918,861.4,952.14436525612473,{"$f":"lista1!G136","v":0},0]
[{"$f":"lista1!A137","v":0},{"$f":"lista1!B137","v":"Teja colonial madera sin cepillar"},{"$f":"lista1!C137","v":"m2"},1.1053452115812918,850.3,939.87503340757246,{"$f":"lista1!G137","v":0},0]
[{"$f":"lista1!A138","v":0},{"$f":"lista1!B138","v":"Chapa imitación tejas"},{"$f":"lista1!C138","v":"m2"},1.1053452115812918,850.6,940.20663697104692,{"$f":"lista1!G138","v":0},0]
[{"$f":"lista1!A139","v":0},{"$f":"lista1!B139","v":"Junta de dilatación membrana asfáltica"},{"$f":"lista1!C139","v":"m2"},1.1053452115812918,198.3,219.18995545657017,{"$f":"lista1!G139","v":0},0]
[{"$f":"lista1!A140","v":0},{"$f":"lista1!B140","v":"Tinglado chapa galvanizada sobre vigaa spagueti"},{"$f":"lista1!C140","v":"m2"},1.1053452115812918,340.1,375.92790645879739,{"$f":"lista1!G140","v":0},0]
[{"$f":"lista1!A141","v":0},{"$f":"lista1!B141","v":0},{"$f":"lista1!C141","v":0},null,null,null,{"$f":"lista1!G141","v":0}]
[{"$f":"lista1!A142","v":11},{"$f":"lista1!B142","v":"Contrapiso"},{"$f":"lista1!C142","v":0},null,null,null,{"$f":"lista1!G142","v":0}]
[{"$f":"lista1!A143","v":0},{"$f":"lista1!B143","v":"Hormigón de cascotes armado de espesor 15 cm sobre terreno natural"},{"$f":"lista1!C143","v":"m2"},{"$f":"$N$27","v":1.1053452115812918},270.10000000000002,{"$f":"D143*E143","v":298.55374164810695},{"$f":"lista1!G143","v":158.66},{"$f":"+F143*G143","v":47368.536649888651}]
[{"$f":"lista1!A144","v":0},{"$f":"lista1!B144","v":"Hormigón de cascotes sobre losa espesor 7 cm"},{"$f":"lista1!C144","v":"m2"},{"$f":"$N$27","v":1.1053452115812918},114.5,{"$f":"D144*E144","v":126.56202672605792},{"$f":"lista1!G144","v":0},{"$f":"+F144*G144","v":0}]
[{"$f":"lista1!A145","v":0},{"$f":"lista1!B145","v":"Hormigón de cascotes sobre losa local sanitario espesor 25 cm"},{"$f":"lista1!C145","v":"m2"},{"$f":"$N$27","v":1.1053452115812918},396.9,{"$f":"D145*E145","v":438.7115144766147},{"$f":"lista1!G145","v":0},{"$f":"+F145*G145","v":0}]
[{"$f":"lista1!A146","v":0},{"$f":"lista1!B146","v":"Hormigón de arcilla expandida 10 cm de espesor"},{"$f":"lista1!C146","v":"m2"},{"$f":"$N$27","v":1.1053452115812918},253.7,{"$f":"D146*E146","v":280.42608017817372},{"$f":"lista1!G146","v":0},{"$f":"+F146*G146","v":0}]
[{"$f":"lista1!A147","v":0},{"$f":"lista1!B147","v":"Mortero celular de 7 cm espesor"},{"$f":"lista1!C147","v":"m2"},{"$f":"$N$27","v":1.1053452115812918},78.900000000000006,{"$f":"D147*E147","v":87.211737193763938},{"$f":"lista1!G147","v":0},{"$f":"+F147*G147","v":0}]
[{"$f":"lista1!A148","v":0},{"$f":"lista1!B148","v":0},{"$f":"lista1!C148","v":0},null,null,null,{"$f":"lista1!G148","v":0}]
[{"$f":"lista1!A149","v":12},{"$f":"lista1!B149","v":"Carpetas"},{"$f":"lista1!C149","v":0},null,null,null,{"$f":"lista1!G149","v":0}]
[{"$f":"lista1!A150","v":0},{"$f":"lista1!B150","v":"De concreto bajo solado"},{"$f":"lista1!C150","v":"m2"},{"$f":"$N$27","v":1.1053452115812918},100.2,{"$f":"D150*E150","v":110.75559020044544},{"$f":"lista1!G150","v":158.66},{"$f":"+F150*G150","v":17572.481941202674}]
[{"$f":"lista1!A151","v":0},{"$f":"lista1!B151","v":"Carpeta de mortero celular 2 cm espesor"},{"$f":"lista1!C151","v":"m2"},{"$f":"$N$27","v":1.1053452115812918},88.1,{"$f":"D151*E151","v":97.380913140311804},{"$f":"lista1!G151","v":0},{"$f":"+F151*G151","v":0}]
[{"$f":"lista1!A152","v":0},{"$f":"lista1!B152","v":"Carpeta clavadora para parquet"},{"$f":"lista1!C152","v":"m2"},{"$f":"$N$27","v":1.1053452115812918},124.8,{"$f":"D152*E152","v":137.94708240534521},{"$f":"lista1!G152","v":0},{"$f":"+F152*G152","v":0}]
[{"$f":"lista1!A153","v":0},{"$f":"lista1!B153","v":0},{"$f":"lista1!C153","v":0},null,null,null,{"$f":"lista1!G153","v":0}]
[{"$f":"lista1!A154","v":13},{"$f":"lista1!B154","v":"Revoques"},{"$f":"lista1!C154","v":0},null,null,null,{"$f":"lista1!G154","v":0}]
[{"$f":"lista1!A155","v":0},{"$f":"lista1!B155","v":"No se considera el trabajo de andamio"},{"$f":"lista1!C155","v":0},null,null,null,{"$f":"lista1!G155","v":0}]
[{"$f":"lista1!A156","v":0},{"$f":"lista1!B156","v":"Grueso y fino a la cal al fieltro"},{"$f":"lista1!C156","v":"m2"},{"$f":"$N$27","v":1.1053452115812918},{"$f":"AVERAGE((130+30),162.66)","v":161.32999999999998},{"$f":"D156*E156","v":178.32534298440979},{"$f":"lista1!G156","v":342.03623999999996},{"$f":"+F156*G156","v":60993.729811097895}]
[{"$f":"lista1!A157","v":0},{"$f":"lista1!B157","v":"Grueso a la cal impermeable para exterior completo"},{"$f":"lista1!C157","v":"m2"},{"$f":"$N$27","v":1.1053452115812918},251.2,{"$f":"D157*E157","v":277.6627171492205},{"$f":"lista1!G157","v":146.58696},{"$f":"+F157*G157","v":40701.733612244097}]
[{"$f":"lista1!A158","v":0},{"$f":"lista1!B158","v":"Grueso bajo revestimientos"},{"$f":"lista1!C158","v":"m2"},1.1053452115812918,137,151.43229398663698,{"$f":"lista1!G158","v":0},0]
[{"$f":"lista1!A159","v":0},{"$f":"lista1!B159","v":"Revoque proyectado exterior con hidrófugo"},{"$f":"lista1!C159","v":"m2"},1.1053452115812918,71.599999999999994,79.142717149220488,{"$f":"lista1!G159","v":0},0]
[{"$f":"lista1!A160","v":0},{"$f":"lista1!B160","v":"Revoque proyectable grueso a la cal para interior"},{"$f":"lista1!C160","v":"m2"},1.1053452115812918,59.5,65.768040089086867,{"$f":"lista1!G160","v":0},0]
[{"$f":"lista1!A161","v":0},{"$f":"lista1!B161","v":"Revoque proyectable fino a la cal para interior"},{"$f":"lista1!C161","v":"m2"},1.1053452115812918,44.2,48.856258351893104,{"$f":"lista1!G161","v":0},0]
[{"$f":"lista1!A162","v":0},{"$f":"lista1!B162","v":"Revoque proyectable de yeso para interior, con engrosado"},{"$f":"lista1!C162","v":"m2"},1.1053452115812918,78.099999999999994,86.327461024498888,{"$f":"lista1!G162","v":0},0]
[{"$f":"lista1!A163","v":0},{"$f":"lista1!B163","v":"Salpicado con molinete"},{"$f":"lista1!C163","v":"m2"},1.1053452115812918,68.400000000000006,75.605612472160374,{"$f":"lista1!G163","v":0},0]
[{"$f":"lista1!A164","v":0},{"$f":"lista1!B164","v":"Salpicado con molinete exterior planchado"},{"$f":"lista1!C164","v":"m2"},1.1053452115812918,79.3,87.653875278396441,{"$f":"lista1!G164","v":0},0]
[{"$f":"lista1!A165","v":0},{"$f":"lista1!B165","v":"Revoque especial super Iggam"},{"$f":"lista1!C165","v":"ml"},1.1053452115812918,263.60000000000002,291.36899777282855,{"$f":"lista1!G165","v":0},0]
[{"$f":"lista1!A166","v":0},{"$f":"lista1!B166","v":"Buñas super Iggam"},{"$f":"lista1!C166","v":"ml"},1.1053452115812918,65.400000000000006,72.28957683741649,{"$f":"lista1!G166","v":0},0]
[{"$f":"lista1!A167","v":0},{"$f":"lista1!B167","v":"http://www.construircordoba.com/precios-de-tareas/revoques/"},{"$f":"lista1!C167","v":0},null,null,null,{"$f":"lista1!G167","v":0}]
[{"$f":"lista1!A168","v":14},{"$f":"lista1!B168","v":"Revestimientos"},{"$f":"lista1!C168","v":"Unid."},null,"Precio",null,{"$f":"lista1!G168","v":"Cantid."},"Parcial"]
[{"$f":"lista1!A169","v":0},{"$f":"lista1!B169","v":"Incluye la mano de obra completa, adhesivo y tomado de juntas"}]
[{"$f":"lista1!A170","v":0},{"$f":"lista1!B170","v":"Cerámico tipo San Lorenzo 20 x 20 "},{"$f":"lista1!C170","v":"m2"},{"$f":"$N$27","v":1.1053452115812918},213.5,{"$f":"D170*E170","v":235.99120267260579},{"$f":"lista1!G170","v":0},{"$f":"+F170*G170","v":0}]
[{"$f":"lista1!A171","v":0},{"$f":"lista1!B171","v":"De venecita"},{"$f":"lista1!C171","v":"m2"},{"$f":"$N$27","v":1.1053452115812918},548.29999999999995,{"$f":"D171*E171","v":606.06077951002226},{"$f":"lista1!G171","v":0},{"$f":"+F171*G171","v":0}]
[{"$f":"lista1!A172","v":0},{"$f":"lista1!B172","v":"Cerámico esmaltado 30 x 30 cm"},{"$f":"lista1!C172","v":"m2"},1.1053452115812918,308.3,340.77792873051231,{"$f":"lista1!G172","v":29.93},10199.483406904234]
[{"$f":"lista1!A173","v":0},{"$f":"lista1!B173","v":"Revestimientos secos"},{"$f":"lista1!C173","v":0},1.1053452115812918,null,0,{"$f":"lista1!G173","v":0},0]
[{"$f":"lista1!A174","v":0},{"$f":"lista1!B174","v":"De muros con machiembrado de pino 1/2\". Incluye la estructura sobre muro"},{"$f":"lista1!C174","v":"m2"},1.1053452115812918,312,344.86770601336303,{"$f":"lista1!G174","v":0},0]
[{"$f":"lista1!A175","v":0},{"$f":"lista1!B175","v":"Cerámica esmaltada 30x30 con guardas"},{"$f":"lista1!C175","v":"m2"},1.1053452115812918,414,457.61291759465485,{"$f":"lista1!G175","v":0},0]
[{"$f":"lista1!A176","v":0},{"$f":"lista1!B176","v":"Porcellanato 30x30 rústico"},{"$f":"lista1!C176","v":"m2"},1.1053452115812918,347.2,383.77585746102454,{"$f":"lista1!G176","v":0},0]
[{"$f":"lista1!A177","v":0},{"$f":"lista1!B177","v":"Tejuelas de ladrillo"},{"$f":"lista1!C177","v":"m2"},1.1053452115812918,312.39999999999998,345.30984409799555,{"$f":"lista1!G177","v":0},0]
[{"$f":"lista1!A178","v":0},{"$f":"lista1!B178","v":0},{"$f":"lista1!C178","v":0},null,null,null,{"$f":"lista1!G178","v":0}]
[{"$f":"lista1!A179","v":15},{"$f":"lista1!B179","v":"Cielorrasos"},{"$f":"lista1!C179","v":0},null,null,null,{"$f":"lista1!G179","v":0}]
[{"$f":"lista1!A180","v":0},{"$f":"lista1!B180","v":"Aplicado a la cal fina fratasada"},{"$f":"lista1!C180","v":"m2"},{"$f":"$N$27","v":1.1053452115812918},183,{"$f":"D180*E180","v":202.27817371937641},{"$f":"lista1!G180","v":0},{"$f":"+F180*G180","v":0}]
[{"$f":"lista1!A181","v":0},{"$f":"lista1!B181","v":"Aplicado grueso y fino a la cal al fieltro"},{"$f":"lista1!C181","v":"m2"},{"$f":"$N$27","v":1.1053452115812918},212,{"$f":"D181*E181","v":234.33318485523387},{"$f":"lista1!G181","v":104.05},{"$f":"+F181*G181","v":24382.367884187082}]
[{"$f":"lista1!A182","v":0},{"$f":"lista1!B182","v":"Suspendido a la cal armado en madera "},{"$f":"lista1!C182","v":"m2"},1.1053452115812918,536.20000000000005,592.68610244988872,{"$f":"lista1!G182","v":0},0]
[{"$f":"lista1!A183","v":0},{"$f":"lista1!B183","v":"Suspendido a la cal armado en hierro"},{"$f":"lista1!C183","v":"m2"},1.1053452115812918,624.70000000000005,690.5091536748331,{"$f":"lista1!G183","v":0},0]
[{"$f":"lista1!A184","v":0},{"$f":"lista1!B184","v":"Taparrollo armado a la cal"},{"$f":"lista1!C184","v":"ml"},1.1053452115812918,389,429.97928730512251,{"$f":"lista1!G184","v":0},0]
[{"$f":"lista1!A185","v":0},{"$f":"lista1!B185","v":"Suspendido termoacústico"},{"$f":"lista1!C185","v":"m2"},1.1053452115812918,415.2,458.93933184855234,{"$f":"lista1!G185","v":0},0]
[{"$f":"lista1!A186","v":0},{"$f":"lista1!B186","v":"Suspendido con dorso de aluminio"},{"$f":"lista1!C186","v":"m2"},1.1053452115812918,458.3,506.57971046770604,{"$f":"lista1!G186","v":0},0]
[{"$f":"lista1!A187","v":0},{"$f":"lista1!B187","v":"Paneles de aluminio microperforado"},{"$f":"lista1!C187","v":"m2"},1.1053452115812918,371.8,410.9673496659243,{"$f":"lista1!G187","v":0},0]
[{"$f":"lista1!A188","v":0},{"$f":"lista1!B188","v":0},{"$f":"lista1!C188","v":0},null,null,null,{"$f":"lista1!G188","v":0}]
[{"$f":"lista1!A189","v":16},{"$f":"lista1!B189","v":"Yeseria"},{"$f":"lista1!C189","v":0},null,null,null,{"$f":"lista1!G189","v":0}]
[{"$f":"lista1!A190","v":0},{"$f":"lista1!B190","v":"Enlucido de yeso"},{"$f":"lista1!C190","v":"m2"},{"$f":"$N$27","v":1.1053452115812918},145.80000000000001,{"$f":"D190*E190","v":161.15933184855237},{"$f":"lista1!G190","v":0},{"$f":"+F190*G190","v":0}]
[{"$f":"lista1!A191","v":0},{"$f":"lista1!B191","v":"Enlucido de yeso reforzado con cemento"},{"$f":"lista1!C191","v":"m2"},{"$f":"$N$27","v":1.1053452115812918},157.30000000000001,{"$f":"D191*E191","v":173.87080178173721},{"$f":"lista1!G191","v":0},{"$f":"+F191*G191","v":0}]
[{"$f":"lista1!A192","v":0},{"$f":"lista1!B192","v":"Enlucido de yeso y engrosado con yeso gris"},{"$f":"lista1!C192","v":"m2"},1.1053452115812918,205.8,227.48004454342987,{"$f":"lista1!G192","v":0},0]
[{"$f":"lista1!A193","v":0},{"$f":"lista1!B193","v":"Guardacanto de yesero. Incluye el recubrimiento de yeso"},{"$f":"lista1!C193","v":"ml"},1.1053452115812918,105.7,116.83498886414255,{"$f":"lista1!G193","v":0},0]
[{"$f":"lista1!A194","v":0},{"$f":"lista1!B194","v":"Fajas sobre revestimiento"},{"$f":"lista1!C194","v":"ml"},1.1053452115812918,236.7,261.63521158129174,{"$f":"lista1!G194","v":0},0]
[{"$f":"lista1!A195","v":0},{"$f":"lista1!B195","v":"Agujeros circulares hasta 40 cm de diámetro"},{"$f":"lista1!C195","v":"u"},1.1053452115812918,76.5,84.558908685968831,{"$f":"lista1!G195","v":0},0]
[{"$f":"lista1!A196","v":0},{"$f":"lista1!B196","v":"Cielorraso aplicado al yeso"},{"$f":"lista1!C196","v":"m2"},1.1053452115812918,139.69999999999999,154.41672605790646,{"$f":"lista1!G196","v":0},0]
[{"$f":"lista1!A197","v":0},{"$f":"lista1!B197","v":"Cielorraso de yeso armado estructura de madera"},{"$f":"lista1!C197","v":"m2"},1.1053452115812918,360,397.92427616926506,{"$f":"lista1!G197","v":0},0]
[{"$f":"lista1!A198","v":0},{"$f":"lista1!B198","v":"Cielorraso de yeso armado estructura de hierro"},{"$f":"lista1!C198","v":"m2"},1.1053452115812918,452.5,500.16870824053456,{"$f":"lista1!G198","v":0},0]
[{"$f":"lista1!A199","v":0},{"$f":"lista1!B199","v":"Taparrollo de yeso armado"},{"$f":"lista1!C199","v":"ml"},1.1053452115812918,349.9,386.760289532294,{"$f":"lista1!G199","v":0},0]
[{"$f":"lista1!A200","v":0},{"$f":"lista1!B200","v":0},{"$f":"lista1!C200","v":0},null,null,null,{"$f":"lista1!G200","v":0}]
[{"$f":"lista1!A201","v":17},{"$f":"lista1!B201","v":"Solados"},{"$f":"lista1!C201","v":"Unid."},null,"Precio",null,{"$f":"lista1!G201","v":"Cantid."},"Parcial"]
[{"$f":"lista1!A202","v":0},{"$f":"lista1!B202","v":"Incluye la mano de obra completa, adhesivos y/o mezcla de asiento y/o tomado de juntas. No incluye el pulido"}]
[{"$f":"lista1!A203","v":0},{"$f":"lista1!B203","v":"Alisado de cemento ferrocemento 6 cm"},{"$f":"lista1!C203","v":"m2"},{"$f":"$N$27","v":1.1053452115812918},338.5,{"$f":"D203*E203","v":374.15935412026727},{"$f":"lista1!G203","v":0},{"$f":"+F203*G203","v":0}]
[{"$f":"lista1!A204","v":0},{"$f":"lista1!B204","v":"Alisado de cemento ferrocemento 25 cm"},{"$f":"lista1!C204","v":"m2"},{"$f":"$N$27","v":1.1053452115812918},565.5,{"$f":"D204*E204","v":625.07271714922058},{"$f":"lista1!G204","v":0},{"$f":"+F204*G204","v":0}]
[{"$f":"lista1!A205","v":0},{"$f":"lista1!B205","v":"Cemento alisado rodillado"},{"$f":"lista1!C205","v":"m2"},1.1053452115812918,159,175.7498886414254,{"$f":"lista1!G205","v":0},0]
[{"$f":"lista1!A206","v":0},{"$f":"lista1!B206","v":"Porcelanato opaco 30 x 30 cm"},{"$f":"lista1!C206","v":"m2"},1.1053452115812918,353.9,391.18167037861917,{"$f":"lista1!G206","v":0},0]
[{"$f":"lista1!A207","v":0},{"$f":"lista1!B207","v":"Cerámico esmaltado 40 x 40 cm"},{"$f":"lista1!C207","v":"m2"},1.1053452115812918,{"$f":"(308.3+621.13)/2","v":464.71500000000003},513.67050000000006,{"$f":"lista1!G207","v":104.05},53447.415525000004]
[{"$f":"lista1!A208","v":0},{"$f":"lista1!B208","v":"Baldosa de azotea 30 x 30 cm junta ancha"},{"$f":"lista1!C208","v":"m2"},1.1053452115812918,381,421.13652561247221,{"$f":"lista1!G208","v":0},0]
[{"$f":"lista1!A209","v":0},{"$f":"lista1!B209","v":"Baldosón para vereda 60 x 40 cm"},{"$f":"lista1!C209","v":"m2"},1.1053452115812918,210.1,232.23302895322942,{"$f":"lista1!G209","v":0},0]
[{"$f":"lista1!A210","v":0},{"$f":"lista1!B210","v":"Mosaico granitico 30 x 30 cm colocado a la cal (No incluye pulido)"},{"$f":"lista1!C210","v":"m2"},1.1053452115812918,363.3,401.57191536748331,{"$f":"lista1!G210","v":0},0]
[{"$f":"lista1!A211","v":0},{"$f":"lista1!B211","v":"Pulido de mosaico granito"},{"$f":"lista1!C211","v":"m2"},1.1053452115812918,119.1,131.64661469933185,{"$f":"lista1!G211","v":0},0]
[{"$f":"lista1!A212","v":0},{"$f":"lista1!B212","v":"Porcelanato 30 x 30 rústico"},{"$f":"lista1!C212","v":"m2"},1.1053452115812918,303,334.91959910913141,{"$f":"lista1!G212","v":0},0]
[{"$f":"lista1!A213","v":0},{"$f":"lista1!B213","v":"Hormigón estampado"},{"$f":"lista1!C213","v":"m2"},1.1053452115812918,227.2,251.13443207126949,{"$f":"lista1!G213","v":0},0]
[{"$f":"lista1!A214","v":0},{"$f":"lista1!B214","v":"Cerámico azotea 20x20"},{"$f":"lista1!C214","v":"m2"},1.1053452115812918,253,279.65233853006686,{"$f":"lista1!G214","v":0},0]
[{"$f":"lista1!A215","v":0},{"$f":"lista1!B215","v":"Baldosón de cemento sobre discos plásticos"},{"$f":"lista1!C215","v":"m2"},1.1053452115812918,274.7,303.63832962138088,{"$f":"lista1!G215","v":0},0]
[{"$f":"lista1!A216","v":0},{"$f":"lista1!B216","v":0},{"$f":"lista1!C216","v":0},null,null,null,{"$f":"lista1!G216","v":0}]
[{"$f":"lista1!A217","v":18},{"$f":"lista1!B217","v":"Pisos especiales"},{"$f":"lista1!C217","v":0},null,null,null,{"$f":"lista1!G217","v":0}]
[{"$f":"lista1!A218","v":0},{"$f":"lista1!B218","v":"Parquet Eucaliptus con cola adhesiva"},{"$f":"lista1!C218","v":"m2"},{"$f":"$N$27","v":1.1053452115812918},546,{"$f":"D218*E218","v":603.51848552338538},{"$f":"lista1!G218","v":0},{"$f":"+F218*G218","v":0}]
[{"$f":"lista1!A219","v":0},{"$f":"lista1!B219","v":"Parquet con adhesivo epoxi bi-componentes"},{"$f":"lista1!C219","v":"m2"},{"$f":"$N$27","v":1.1053452115812918},557.29999999999995,{"$f":"D219*E219","v":616.00888641425388},{"$f":"lista1!G219","v":0},{"$f":"+F219*G219","v":0}]
[{"$f":"lista1!A220","v":0},{"$f":"lista1!B220","v":"Entablonado tarugado Viraró sobre alfajías"},{"$f":"lista1!C220","v":"m2"},1.1053452115812918,917.4,1014.0436971046771,{"$f":"lista1!G220","v":0},0]
[{"$f":"lista1!A221","v":0},{"$f":"lista1!B221","v":"Pulido y plastificado de pisos de madera"},{"$f":"lista1!C221","v":"m2"},1.1053452115812918,108.8,120.26155902004454,{"$f":"lista1!G221","v":0},0]
[{"$f":"lista1!A222","v":0},{"$f":"lista1!B222","v":"Piso de goma con aplicación de masa niveladora y adhesivo"},{"$f":"lista1!C222","v":"m2"},1.1053452115812918,566.5,626.17806236080185,{"$f":"lista1!G222","v":0},0]
[{"$f":"lista1!A223","v":0},{"$f":"lista1!B223","v":"Alfombra de Nylon pelo cortado aplicada con adhesivo"},{"$f":"lista1!C223","v":"m2"},1.1053452115812918,380.4,420.47331848552341,{"$f":"lista1!G223","v":0},0]
[{"$f":"lista1!A224","v":0},{"$f":"lista1!B224","v":"Adoquines graniticos 9 x 9 x 9 sobre manto de arena"},{"$f":"lista1!C224","v":"m2"},1.1053452115812918,497.1,549.46710467706021,{"$f":"lista1!G224","v":0},0]
[{"$f":"lista1!A225","v":0},{"$f":"lista1!B225","v":"Bloques intertrabados colocado sobre manto de arena"},{"$f":"lista1!C225","v":"m2"},1.1053452115812918,289,319.44476614699335,{"$f":"lista1!G225","v":0},0]
[{"$f":"lista1!A226","v":0},{"$f":"lista1!B226","v":"Piso flotante de madera"},{"$f":"lista1!C226","v":"m2"},1.1053452115812918,1030.7,1139.2793095768375,{"$f":"lista1!G226","v":0},0]
[{"$f":"lista1!A227","v":0},{"$f":"lista1!B227","v":"Piso térmico elevado (sin terminación)"},{"$f":"lista1!C227","v":"m2"},1.1053452115812918,929.1,1026.9762360801783,{"$f":"lista1!G227","v":0},0]
[{"$f":"lista1!A228","v":0},{"$f":"lista1!B228","v":"Alfombra modular para piso técnico"},{"$f":"lista1!C228","v":"m2"},1.1053452115812918,213,235.43853006681516,{"$f":"lista1!G228","v":0},0]
[{"$f":"lista1!A229","v":0},{"$f":"lista1!B229","v":0},{"$f":"lista1!C229","v":0},null,null,null,{"$f":"lista1!G229","v":0}]
[{"$f":"lista1!A230","v":19},{"$f":"lista1!B230","v":"Escaleras"},{"$f":"lista1!C230","v":0},null,null,null,{"$f":"lista1!G230","v":0}]
[{"$f":"lista1!A231","v":0},{"$f":"lista1!B231","v":"Carpeta de nivelación"},{"$f":"lista1!C231","v":"m2"},{"$f":"$N$27","v":1.1053452115812918},146.5,{"$f":"D231*E231","v":161.93307349665926},{"$f":"lista1!G231","v":0},{"$f":"+F231*G231","v":0}]
[{"$f":"lista1!A232","v":0},{"$f":"lista1!B232","v":"Alzada y pedada de cemento alisado "},{"$f":"lista1!C232","v":"m2"},1.1053452115812918,206,227.70111358574613,{"$f":"lista1!G232","v":0},0]
[{"$f":"lista1!A233","v":0},{"$f":"lista1!B233","v":"Naríz metálica"},{"$f":"lista1!C233","v":"ml"},1.1053452115812918,118.3,130.76233853006681,{"$f":"lista1!G233","v":0},0]
[{"$f":"lista1!A234","v":0},{"$f":"lista1!B234","v":"Zócalo de cemento alisado rampante"},{"$f":"lista1!C234","v":"ml"},1.1053452115812918,74.7,82.569287305122501,{"$f":"lista1!G234","v":0},0]
[{"$f":"lista1!A235","v":0},{"$f":"lista1!B235","v":"Alzada y pedada de cerámica 20 x 20 ( Incluye cortes ) "},{"$f":"lista1!C235","v":"m2"},1.1053452115812918,484.4,535.42922048997775,{"$f":"lista1!G235","v":0},0]
[{"$f":"lista1!A236","v":0},{"$f":"lista1!B236","v":"Alzada y pedada granítica reconstituida "},{"$f":"lista1!C236","v":"m2"},1.1053452115812918,2094.6999999999998,2315.3666146993319,{"$f":"lista1!G236","v":0},0]
[{"$f":"lista1!A237","v":0},{"$f":"lista1!B237","v":0},{"$f":"lista1!C237","v":0},null,null,null,{"$f":"lista1!G237","v":0}]
[{"$f":"lista1!A238","v":20},{"$f":"lista1!B238","v":"Zócalos"},{"$f":"lista1!C238","v":"Unid."},null,"Precio",null,{"$f":"lista1!G238","v":"Cantid."},"Parcial"]
[{"$f":"lista1!A239","v":0},{"$f":"lista1!B239","v":"Cemento alisado"},{"$f":"lista1!C239","v":"ml"},{"$f":"$N$27","v":1.1053452115812918},59.8,{"$f":"D239*E239","v":66.099643652561255},{"$f":"lista1!G239","v":0},{"$f":"+F239*G239","v":0}]
[{"$f":"lista1!A240","v":0},{"$f":"lista1!B240","v":"Zócalo de madera 1/2\" x 2\" liso"},{"$f":"lista1!C240","v":"ml"},{"$f":"$N$27","v":1.1053452115812918},122.3,{"$f":"D240*E240","v":135.18371937639199},{"$f":"lista1!G240","v":0},{"$f":"+F240*G240","v":0}]
[{"$f":"lista1!A241","v":0},{"$f":"lista1!B241","v":"Zócalo de cerámica"},{"$f":"lista1!C241","v":"ml"},{"$f":"$N$27","v":1.1053452115812918},94.7,{"$f":"D241*E241","v":104.67619153674833},{"$f":"lista1!G241","v":173.55999999999997},{"$f":"+F241*G241","v":18167.599803118039}]
[{"$f":"lista1!A242","v":0},{"$f":"lista1!B242","v":"Zócalo granítico"},{"$f":"lista1!C242","v":"ml"},{"$f":"$N$27","v":1.1053452115812918},194.8,{"$f":"D242*E242","v":215.32124721603566},{"$f":"lista1!G242","v":0},{"$f":"+F242*G242","v":0}]
[{"$f":"lista1!A243","v":0},{"$f":"lista1!B243","v":0},{"$f":"lista1!C243","v":0},null,null,null,{"$f":"lista1!G243","v":0}]
[{"$f":"lista1!A244","v":21},{"$f":"lista1!B244","v":"Marmoleria"},{"$f":"lista1!C244","v":0},null,null,null,{"$f":"lista1!G244","v":0}]
[{"$f":"lista1!A245","v":0},{"$f":"lista1!B245","v":"Mesada de granito gris mara ancho 60 cm ( incluye trasforo, pileta y griferías )"},{"$f":"lista1!C245","v":"ml"},{"$f":"$N$27","v":1.1053452115812918},1543.1,{"$f":"D245*E245","v":1705.6581959910914},{"$f":"lista1!G245","v":6.3},{"$f":"+F245*G245","v":10745.646634743875}]
[{"$f":"lista1!A246","v":0},{"$f":"lista1!B246","v":"Frentín de mesada de granito gris 20 cm"},{"$f":"lista1!C246","v":"ml"},{"$f":"$N$27","v":1.1053452115812918},469.3,{"$f":"D246*E246","v":518.7385077951003},{"$f":"lista1!G246","v":0},{"$f":"+F246*G246","v":0}]
[{"$f":"lista1!A247","v":0},{"$f":"lista1!B247","v":"Respaldo de granito gris 60 cm"},{"$f":"lista1!C247","v":"ml"},1.1053452115812918,1305.3,1442.8071046770601,{"$f":"lista1!G247","v":0},0]
[{"$f":"lista1!A248","v":0},{"$f":"lista1!B248","v":"Piso de marmetas de granito gris mara "},{"$f":"lista1!C248","v":"m2"},1.1053452115812918,848.5,937.88541202672616,{"$f":"lista1!G248","v":0},0]
[{"$f":"lista1!A249","v":0},{"$f":"lista1!B249","v":"Revestimiento de marmetas de granito gris"},{"$f":"lista1!C249","v":"m2"},1.1053452115812918,874.5,966.62438752783976,{"$f":"lista1!G249","v":0},0]
[{"$f":"lista1!A250","v":0},{"$f":"lista1!B250","v":0},{"$f":"lista1!C250","v":0},null,null,null,{"$f":"lista1!G250","v":0}]
[{"$f":"lista1!A251","v":0},{"$f":"lista1!B251","v":"Colocaciones "},{"$f":"lista1!C251","v":0},null,null,null,{"$f":"lista1!G251","v":0}]
[{"$f":"lista1!A252","v":0},{"$f":"lista1!B252","v":"zocalos de Mesadas (corte transv hasta 10cm/m longitudinal, fijar con claucol o silicona, tomar juntas)"},{"$f":"lista1!C252","v":"ml"},1.1053452115812918,168.3,186.02959910913142,{"$f":"lista1!G252","v":6.3},1171.986474387528]
[{"$f":"lista1!A253","v":0},{"$f":"lista1!B253","v":"Revestimiento de mármol o grantio sobre pared"},{"$f":"lista1!C253","v":"m2"},1.1053452115812918,398.1,440.03792873051231,{"$f":"lista1!G253","v":0},0]
[{"$f":"lista1!A254","v":0},{"$f":"lista1!B254","v":"Piso de mármol o granito"},{"$f":"lista1!C254","v":"m2"},1.1053452115812918,503.7,556.76238307349672,{"$f":"lista1!G254","v":0},0]
[{"$f":"lista1!A255","v":0},{"$f":"lista1!B255","v":"Marmetas piso"},{"$f":"lista1!C255","v":"m2"},1.1053452115812918,109.3,120.81423162583519,{"$f":"lista1!G255","v":0},0]
[{"$f":"lista1!A256","v":0},{"$f":"lista1!B256","v":"Marmetas revestimiento"},{"$f":"lista1!C256","v":"m2"},1.1053452115812918,124.7,137.8365478841871,{"$f":"lista1!G256","v":0},0]
[{"$f":"lista1!A257","v":0},{"$f":"lista1!B257","v":0},{"$f":"lista1!C257","v":0},null,null,null,{"$f":"lista1!G257","v":0}]
[{"$f":"lista1!A258","v":22},{"$f":"lista1!B258","v":"Pinturas"},{"$f":"lista1!C258","v":0},null,null,null,{"$f":"lista1!G258","v":0}]
[{"$f":"lista1!A259","v":0},{"$f":"lista1!B259","v":"Se consideran en todos los casos el enduído parcial. Aplicación de fijador y 3 manos de pintura"},{"$f":"lista1!C259","v":0},null,null,null,{"$f":"lista1!G259","v":0}]
[{"$f":"lista1!A260","v":0},{"$f":"lista1!B260","v":"Latex sobre muros interiores"},{"$f":"lista1!C260","v":"m2"},{"$f":"$N$27","v":1.1053452115812918},75.8,{"$f":"D260*E260","v":83.785167037861925},{"$f":"lista1!G260","v":342.03623999999996},{"$f":"+F260*G260","v":28657.563501402226}]
[{"$f":"lista1!A261","v":0},{"$f":"lista1!B261","v":"Latex sobre cielo rasos"},{"$f":"lista1!C261","v":"m2"},{"$f":"$N$27","v":1.1053452115812918},69.400000000000006,{"$f":"D261*E261","v":76.710957683741654},{"$f":"lista1!G261","v":104.05},{"$f":"+F261*G261","v":7981.7751469933191}]
[{"$f":"lista1!A262","v":0},{"$f":"lista1!B262","v":"Latex acrílico sobre muros exteriores"},{"$f":"lista1!C262","v":"m2"},1.1053452115812918,189.3,209.24184855233855,{"$f":"lista1!G262","v":146.58696},30672.12648406771]
[{"$f":"lista1!A263","v":0},{"$f":"lista1!B263","v":"Silicona s/ladrillo visto (m2)"},{"$f":"lista1!C263","v":"m2"},1.1053452115812918,95.5,105.56046770601337,{"$f":"lista1!G263","v":0},0]
[{"$f":"lista1!A264","v":0},{"$f":"lista1!B264","v":"Esmalte sintético s/carpinterías"},{"$f":"lista1!C264","v":"m2"},1.1053452115812918,183,202.27817371937641,{"$f":"lista1!G264","v":0},0]
[{"$f":"lista1!A265","v":0},{"$f":"lista1!B265","v":"Esmalte sintético s/carp metál"},{"$f":"lista1!C265","v":"m2"},1.1053452115812918,115.8,127.99897550111359,{"$f":"lista1!G265","v":0},0]
[{"$f":"lista1!A266","v":0},{"$f":"lista1!B266","v":"Esmalte sintético sobre estructuras metáilcas"},{"$f":"lista1!C266","v":"tn"},1.1053452115812918,5350.9,5914.5916926503342,{"$f":"lista1!G266","v":0},0]
[{"$f":"lista1!A267","v":0},{"$f":"lista1!B267","v":"Barniz marino. 1º mano con barniceta y 2º de barniz (este item tmb sirve para impregnantes)"},{"$f":"lista1!C267","v":"m2"},1.1053452115812918,125.7,138.94189309576839,{"$f":"lista1!G267","v":12.8},1778.4562316258355]
[{"$f":"lista1!A268","v":0},{"$f":"lista1!B268","v":"Impermeabilizante fibrado para techos ( 2 manos )"},{"$f":"lista1!C268","v":"m2"},1.1053452115812918,36.299999999999997,40.124031180400891,{"$f":"lista1!G268","v":0},0]
[{"$f":"lista1!A269","v":0},{"$f":"lista1!B269","v":"Empapelado de paredes con papel base"},{"$f":"lista1!C269","v":"m2"},1.1053452115812918,118.7,131.20447661469933,{"$f":"lista1!G269","v":0},0]
[{"$f":"lista1!A270","v":0},{"$f":"lista1!B270","v":0},{"$f":"lista1!C270","v":0},null,null,null,{"$f":"lista1!G270","v":0}]
[{"$f":"lista1!A271","v":23},{"$f":"lista1!B271","v":"Artefactos Sanitarios - Accesorios Griferías"},{"$f":"lista1!C271","v":"Unid."},null,"Precio",null,{"$f":"lista1!G271","v":"Cantid."},"Parcial"]
[{"$f":"lista1!A272","v":0},{"$f":"lista1!B272","v":"Colocación de artefactos sanitarios"},{"$f":"lista1!C272","v":"u"},{"$f":"$N$27","v":1.1053452115812918},581.9,{"$f":"D272*E272","v":643.20037861915375},{"$f":"lista1!G272","v":2},{"$f":"+F272*G272","v":1286.4007572383075}]
[{"$f":"lista1!A273","v":0},{"$f":"lista1!B273","v":"Colocación de accesorios sanitarios"},{"$f":"lista1!C273","v":"u"},{"$f":"$N$27","v":1.1053452115812918},67.2,{"$f":"D273*E273","v":74.27919821826282},{"$f":"lista1!G273","v":4},{"$f":"+F273*G273","v":297.11679287305128}]
[{"$f":"lista1!A274","v":0},{"$f":"lista1!B274","v":"Colocación de griferías"},{"$f":"lista1!C274","v":"u"},{"$f":"$N$27","v":1.1053452115812918},627.20000000000005,{"$f":"D274*E274","v":693.27251670378632},{"$f":"lista1!G274","v":2},{"$f":"+F274*G274","v":1386.5450334075726}]
[{"$f":"lista1!A275","v":0},{"$f":"lista1!B275","v":0},{"$f":"lista1!C275","v":0},null,null,null,{"$f":"lista1!G275","v":0}]
[{"$f":"lista1!A276","v":24},{"$f":"lista1!B276","v":"Carpinterías Metálicas"},{"$f":"lista1!C276","v":0},"cf","prec","prec",{"$f":"lista1!G276","v":0}]
[{"$f":"lista1!A277","v":0},{"$f":"lista1!B277","v":"No incluyen los vidrios"},{"$f":"lista1!C277","v":0},null,"vjo","act.",{"$f":"lista1!G277","v":0}]
[{"$f":"lista1!A278","v":0},{"$f":"lista1!B278","v":"Marco de chapa y puerta doble chapa muro 15cm de espesor. Incluye herraje"},{"$f":"lista1!C278","v":"u"},{"$f":"$N$27","v":1.1053452115812918},2650.8,{"$f":"D278*E278","v":2930.0490868596885},{"$f":"lista1!G278","v":1},{"$f":"+F278*G278","v":2930.0490868596885}]
[{"$f":"lista1!A279","v":0},{"$f":"lista1!B279","v":"Marco de chapa muro 15cm espesor. Incluye juego de pomelas"},{"$f":"lista1!C279","v":"u"},{"$f":"$N$27","v":1.1053452115812918},460,{"$f":"D279*E279","v":508.45879732739422},{"$f":"lista1!G279","v":0},{"$f":"+F279*G279","v":0}]
[{"$f":"lista1!A280","v":0},{"$f":"lista1!B280","v":"Marco chapa y puerta simple chapa muro 15cm de espesor. Incluye herrajes"},{"$f":"lista1!C280","v":"u"},1.1053452115812918,1926.9,2129.8896881959913,{"$f":"lista1!G280","v":0},0]
[{"$f":"lista1!A281","v":0},{"$f":"lista1!B281","v":"Marco placard con baulera 2x2 m p/muro 10cm espesor hojas corredizas o de abrir. Incluye herrajes."},{"$f":"lista1!C281","v":"u"},1.1053452115812918,1235.5999999999999,1365.764543429844,{"$f":"lista1!G281","v":0},0]
[{"$f":"lista1!A282","v":0},{"$f":"lista1!B282","v":"Baranda pasamanos, dos travesaños, parantes planchuela"},{"$f":"lista1!C282","v":"ml"},1.1053452115812918,2193,2424.0220489977728,{"$f":"lista1!G282","v":0},0]
[{"$f":"lista1!A283","v":0},{"$f":"lista1!B283","v":"Baranda pasamanos, travesaños y malla artística"},{"$f":"lista1!C283","v":"ml"},1.1053452115812918,1773.4,1960.219198218263,{"$f":"lista1!G283","v":0},0]
[{"$f":"lista1!A284","v":0},{"$f":"lista1!B284","v":"Baranda pasamanos, travesaños y vidrio laminado"},{"$f":"lista1!C284","v":"ml"},1.1053452115812918,1882.6,2080.9228953229399,{"$f":"lista1!G284","v":0},0]
[{"$f":"lista1!A285","v":0},{"$f":"lista1!B285","v":"Reja de hierro redondo y planchuela"},{"$f":"lista1!C285","v":"m2"},1.1053452115812918,2134.1,2358.9172160356347,{"$f":"lista1!G285","v":0},0]
[{"$f":"lista1!A286","v":0},{"$f":"lista1!B286","v":"Puerta doble chapa F60 DDN 16"},{"$f":"lista1!C286","v":"u"},1.1053452115812918,11932.5,13189.531737193765,{"$f":"lista1!G286","v":0},0]
[{"$f":"lista1!A287","v":0},{"$f":"lista1!B287","v":"Puerta doble chapa DDN 16"},{"$f":"lista1!C287","v":"u"},1.1053452115812918,7979.6,8820.2126503340769,{"$f":"lista1!G287","v":0},0]
[{"$f":"lista1!A288","v":0},{"$f":"lista1!B288","v":"Escalera caracol diámetro 1,4 (por piso)"},{"$f":"lista1!C288","v":"u"},1.1053452115812918,9275.9,10253.071648106905,{"$f":"lista1!G288","v":0},0]
[{"$f":"lista1!A289","v":0},{"$f":"lista1!B289","v":"Escalera gato sin guarda hombre"},{"$f":"lista1!C289","v":"ml"},1.1053452115812918,440,486.35189309576839,{"$f":"lista1!G289","v":0},0]
[{"$f":"lista1!A290","v":0},{"$f":"lista1!B290","v":"Escalera metálica con peldaños de madera"},{"$f":"lista1!C290","v":"ml"},1.1053452115812918,1859.7,2055.6104899777283,{"$f":"lista1!G290","v":0},0]
[{"$f":"lista1!A291","v":0},{"$f":"lista1!B291","v":"Pasamanos de hierro"},{"$f":"lista1!C291","v":"ml"},1.1053452115812918,263.39999999999998,291.14792873051226,{"$f":"lista1!G291","v":0},0]
[{"$f":"lista1!A292","v":0},{"$f":"lista1!B292","v":0},{"$f":"lista1!C292","v":0},null,null,null,{"$f":"lista1!G292","v":0}]
[{"$f":"lista1!A293","v":25},{"$f":"lista1!B293","v":"Carpinterías de madera"},{"$f":"lista1!C293","v":0},null,null,null,{"$f":"lista1!G293","v":0}]
[{"$f":"lista1!A294","v":0},{"$f":"lista1!B294","v":"No incluyen los vidrios"},{"$f":"lista1!C294","v":0},null,null,null,{"$f":"lista1!G294","v":0}]
[{"$f":"lista1!A295","v":0},{"$f":"lista1!B295","v":"Ventana 1.50x1.50 incluyen herrajes. No incluye vidrios ni pintura"},{"$f":"lista1!C295","v":"m2"},{"$f":"$N$27","v":1.1053452115812918},1051.8,{"$f":"D295*E295","v":1162.6020935412027},{"$f":"lista1!G295","v":0},{"$f":"+F295*G295","v":0}]
[{"$f":"lista1!A296","v":0},{"$f":"lista1!B296","v":"Ventana vidrio repartido 1.50x1.50 incluye herrajes. No incluye vidrios ni pintura"},{"$f":"lista1!C296","v":"m2"},{"$f":"$N$27","v":1.1053452115812918},1170.9000000000001,{"$f":"D296*E296","v":1294.2487082405348},{"$f":"lista1!G296","v":0},{"$f":"+F296*G296","v":0}]
[{"$f":"lista1!A297","v":0},{"$f":"lista1!B297","v":"Mueble de cocina bajomesada. Incluye herrajes"},{"$f":"lista1!C297","v":"ml"},1.1053452115812918,2491.1999999999998,2753.6359910913138,{"$f":"lista1!G297","v":0},0]
[{"$f":"lista1!A298","v":0},{"$f":"lista1!B298","v":"Alacena. Incluye herrajes"},{"$f":"lista1!C298","v":"ml"},1.1053452115812918,2522,2787.6806236080179,{"$f":"lista1!G298","v":0},0]
[{"$f":"lista1!A299","v":0},{"$f":"lista1!B299","v":"Escobero (ml de alzada) Incluye herrajes"},{"$f":"lista1!C299","v":"ml"},1.1053452115812918,2298.4,2540.5254342984413,{"$f":"lista1!G299","v":0},0]
[{"$f":"lista1!A300","v":0},{"$f":"lista1!B300","v":"Colocación muebles de cocina"},{"$f":"lista1!C300","v":"ml"},1.1053452115812918,258.60000000000002,285.84227171492211,{"$f":"lista1!G300","v":0},0]
[{"$f":"lista1!A301","v":0},{"$f":"lista1!B301","v":"Puerta de acceso (entablonado ambas caras) en cedro nacional. Incluye herrajes"},{"$f":"lista1!C301","v":"m2"},1.1053452115812918,2271.6999999999998,2511.0127171492204,{"$f":"lista1!G301","v":0},0]
[{"$f":"lista1!A302","v":0},{"$f":"lista1!B302","v":"Baranda pasamanos y malla artística"},{"$f":"lista1!C302","v":"ml"},1.1053452115812918,789.6,872.7805790645881,{"$f":"lista1!G302","v":0},0]
[{"$f":"lista1!A303","v":0},{"$f":"lista1!B303","v":"Baranda pasamanos y travesaños"},{"$f":"lista1!C303","v":"ml"},1.1053452115812918,631.79999999999995,698.35710467706008,{"$f":"lista1!G303","v":0},0]
[{"$f":"lista1!A304","v":0},{"$f":"lista1!B304","v":"Pasamanos"},{"$f":"lista1!C304","v":"ml"},1.1053452115812918,297.39999999999998,328.72966592427616,{"$f":"lista1!G304","v":0},0]
[{"$f":"lista1!A305","v":0},{"$f":"lista1!B305","v":"Escalera de madera con baranda"},{"$f":"lista1!C305","v":"u"},1.1053452115812918,1922.4,2124.9156347438757,{"$f":"lista1!G305","v":0},0]
[{"$f":"lista1!A306","v":0},{"$f":"lista1!B306","v":"Puerta placa"},{"$f":"lista1!C306","v":"u"},1.1053452115812918,1572.9,1738.597483296214,{"$f":"lista1!G306","v":0},0]
[{"$f":"lista1!A307","v":0},{"$f":"lista1!B307","v":0},{"$f":"lista1!C307","v":0},null,null,null,{"$f":"lista1!G307","v":0}]
[{"$f":"lista1!A308","v":26},{"$f":"lista1!B308","v":"Carpinterías de Aluminio y accesorios de fachadas"},{"$f":"lista1!C308","v":"Unid."},null,"Precio",null,{"$f":"lista1!G308","v":"Cantid."},"Parcial"]
[{"$f":"lista1!A309","v":0},{"$f":"lista1!B309","v":"Incluyen los vidrios"}]
[{"$f":"lista1!A310","v":0},{"$f":"lista1!B310","v":"Premarco"},{"$f":"lista1!C310","v":"m2"},{"$f":"$N$27","v":1.1053452115812918},671.3,{"$f":"D310*E310","v":742.01824053452117},{"$f":"lista1!G310","v":4},{"$f":"+F310*G310","v":2968.0729621380847}]
[{"$f":"lista1!A311","v":0},{"$f":"lista1!B311","v":"Aluminio 1.50x1.50m hojas de abrir. Incluye herrajes"},{"$f":"lista1!C311","v":"m2"},{"$f":"$N$27","v":1.1053452115812918},1626.6,{"$f":"D311*E311","v":1797.9545211581292},{"$f":"lista1!G311","v":4},{"$f":"+F311*G311","v":7191.8180846325167}]
[{"$f":"lista1!A312","v":0},{"$f":"lista1!B312","v":"Baranda"},{"$f":"lista1!C312","v":"ml"},{"$f":"$N$27","v":1.1053452115812918},2462.5,{"$f":"D312*E312","v":2721.9125835189311},{"$f":"lista1!G312","v":0},{"$f":"+F312*G312","v":0}]
[{"$f":"lista1!A313","v":0},{"$f":"lista1!B313","v":"Baranda vidrio laminado"},{"$f":"lista1!C313","v":"ml"},{"$f":"$N$27","v":1.1053452115812918},3077.1,{"$f":"D313*E313","v":3401.2577505567929},{"$f":"lista1!G313","v":0},{"$f":"+F313*G313","v":0}]
[{"$f":"lista1!A314","v":0},{"$f":"lista1!B314","v":"puerta de aluminio de 0,80*2,00 de abrir comun, izquierdo, con marco y herrajes"},{"$f":"lista1!C314","v":"u"},null,null,null,{"$f":"lista1!G314","v":2}]
[{"$f":"lista1!A315","v":27},{"$f":"lista1!B315","v":"Cristales"},{"$f":"lista1!C315","v":0},null,null,null,{"$f":"lista1!G315","v":0}]
[{"$f":"lista1!A316","v":0},{"$f":"lista1!B316","v":"Se considera la mano de obra y materiales"},{"$f":"lista1!C316","v":0},null,null,null,{"$f":"lista1!G316","v":0}]
[{"$f":"lista1!A317","v":0},{"$f":"lista1!B317","v":"Espejo float 6 mm"},{"$f":"lista1!C317","v":"m2"},{"$f":"$N$27","v":1.1053452115812918},649,{"$f":"D317*E317","v":717.3690423162584},{"$f":"lista1!G317","v":0},{"$f":"+F317*G317","v":0}]
[{"$f":"lista1!A318","v":0},{"$f":"lista1!B318","v":"Vidrio de 4 mm"},{"$f":"lista1!C318","v":"m2"},{"$f":"$N$27","v":1.1053452115812918},346.7,{"$f":"D318*E318","v":383.22318485523385},{"$f":"lista1!G318","v":0},{"$f":"+F318*G318","v":0}]
[{"$f":"lista1!A319","v":0},{"$f":"lista1!B319","v":"Vidrio de 6 mm"},{"$f":"lista1!C319","v":"m2"},{"$f":"$N$27","v":1.1053452115812918},490.3,{"$f":"D319*E319","v":541.95075723830735},{"$f":"lista1!G319","v":0},{"$f":"+F319*G319","v":0}]
[{"$f":"lista1!A320","v":0},{"$f":"lista1!B320","v":"Laminado de seguridad 3 + 3 mm"},{"$f":"lista1!C320","v":"m2"},{"$f":"$N$27","v":1.1053452115812918},924.6,{"$f":"D320*E320","v":1022.0021826280624},{"$f":"lista1!G320","v":0},{"$f":"+F320*G320","v":0}]
[{"$f":"lista1!A321","v":0},{"$f":"lista1!B321","v":0},{"$f":"lista1!C321","v":0},null,null,null,{"$f":"lista1!G321","v":0}]
[{"$f":"lista1!A322","v":28},{"$f":"lista1!B322","v":"Limpieza y ayuda de gremios"},{"$f":"lista1!C322","v":0},null,null,null,{"$f":"lista1!G322","v":0}]
[{"$f":"lista1!A323","v":0},{"$f":"lista1!B323","v":"Limpieza periódica"},{"$f":"lista1!C323","v":"mes"},{"$f":"$N$27","v":1.1053452115812918},5828.8,{"$f":"D323*E323","v":6442.8361692650342},{"$f":"lista1!G323","v":0},{"$f":"+F323*G323","v":0}]
[{"$f":"lista1!A324","v":0},{"$f":"lista1!B324","v":"Limpieza final"},{"$f":"lista1!C324","v":"m2"},{"$f":"$N$27","v":1.1053452115812918},24.4,{"$f":"D324*E324","v":26.970423162583518},{"$f":"lista1!G324","v":0},{"$f":"+F324*G324","v":0}]
[{"$f":"lista1!A325","v":0},{"$f":"lista1!B325","v":"Ayuda de gremios"},{"$f":"lista1!C325","v":"m2"},{"$f":"$N$27","v":1.1053452115812918},141,{"$f":"D325*E325","v":155.85367483296216},{"$f":"lista1!G325","v":0},{"$f":"+F325*G325","v":0}]
[{"$f":"lista1!A326","v":0},{"$f":"lista1!B326","v":0},{"$f":"lista1!C326","v":0},null,null,null,{"$f":"lista1!G326","v":0}]
[{"$f":"lista1!A327","v":29},{"$f":"lista1!B327","v":"Instalación sanitaria"},{"$f":"lista1!C327","v":0},null,null,null,{"$f":"lista1!G327","v":0}]
[{"$f":"lista1!A328","v":0},{"$f":"lista1!B328","v":"Distribución de agua fría y caliente de polipropileno, desagües en PVC aprobado cloacal. Núcleo baño/cocina/lavadero propiedad horizontal incluye la parte proporcional de la montante, bajada, tanque e instalación general"},{"$f":"lista1!C328","v":0},null,null,null,{"$f":"lista1!G328","v":0}]
[{"$f":"lista1!A329","v":0},{"$f":"lista1!B329","v":"Baño principal (bañera-bidet-lavaratorio-inodoro) cloaca agua fría y caliente, ventilaciones, colocación de artefactos y griferías"},{"$f":"lista1!C329","v":"gl"},{"$f":"$N$27","v":1.1053452115812918},50997,{"$f":"D329*E329","v":56369.289755011137},{"$f":"lista1!G329","v":0.7},{"$f":"+F329*G329","v":39458.502828507793}]
[{"$f":"lista1!A330","v":0},{"$f":"lista1!B330","v":"Cocina y lavadero (pileta de cocina y de lavar) Cloaca. Incluye la instalación de artefactos y broncería. Artefactos no incluídos"},{"$f":"lista1!C330","v":"gl"},{"$f":"$N$27","v":1.1053452115812918},15001.2,{"$f":"D330*E330","v":16581.504587973275},{"$f":"lista1!G330","v":0.7},{"$f":"+F330*G330","v":11607.053211581291}]
[{"$f":"lista1!A331","v":0},{"$f":"lista1!B331","v":"Construcción de cámara de inspección 60*60 con tapas y marcos prefabricados"},{"$f":"lista1!C331","v":"gl"},{"$f":"$N$27","v":1.1053452115812918},1500,{"$f":"D331*E331","v":1658.0178173719378},{"$f":"lista1!G331","v":1},{"$f":"+F331*G331","v":1658.0178173719378}]
[{"$f":"lista1!A332","v":30},{"$f":"lista1!B332","v":"Instalación de Gas "},{"$f":"lista1!C332","v":"Unid."},null,"Precio",null,{"$f":"lista1!G332","v":"Cantid."},"Parcial"]
[{"$f":"lista1!A333","v":0},{"$f":"lista1!B333","v":0}]
[{"$f":"lista1!A334","v":0},{"$f":"lista1!B334","v":"Cocina y calefon completa (cañería conexiones llaves medidor) (artefactos no incluidos)"},{"$f":"lista1!C334","v":"gl"},{"$f":"$N$27","v":1.1053452115812918},26739.4,{"$f":"D334*E334","v":29556.267750556795},{"$f":"lista1!G334","v":1},{"$f":"+F334*G334","v":29556.267750556795}]
[{"$f":"lista1!A335","v":0},{"$f":"lista1!B335","v":"calefactores (precios aprox. Que incluya: artefacto,3 m cañ de gas y total cañ ventil. Sombrer., llav paso,gramp, etc. )"},{"$f":"lista1!C335","v":"ud"},1.1053452115812918,8000,8842.7616926503342,{"$f":"lista1!G335","v":2},17685.523385300668]
[{"$f":"lista1!A336","v":0},{"$f":"lista1!B336","v":"cocina (precios aprox. Que incluya artefacto, total cañ ventil., Sombrer., sell., grampas, etc.)"},{"$f":"lista1!C336","v":"ud"},1.1053452115812918,6000,6632.0712694877511,{"$f":"lista1!G336","v":1},6632.0712694877511]
[{"$f":"lista1!A337","v":0},{"$f":"lista1!B337","v":"calefon (precios aprox. Que incluya artefacto, total cañ ventil., Sombrer., sell., grampas, etc.)"},{"$f":"lista1!C337","v":"ud"},1.1053452115812918,6000,6632.0712694877511,{"$f":"lista1!G337","v":1},6632.0712694877511]
[{"$f":"lista1!A338","v":0},{"$f":"lista1!B338","v":"planos de gas y cálculos varios todo referido a consumo de gas viv. Unifamiliar"},{"$f":"lista1!C338","v":"gl"},1.1053452115812918,4500,4974.0534521158133,{"$f":"lista1!G338","v":1},4974.0534521158133]
[{"$f":"lista1!A339","v":0},{"$f":"lista1!B339","v":"tramit(etap parc. cañ.$2700 + aranceles por soldadura de servicio $1700 + etap fnal tasa mun3500 + apro final 2600"},{"$f":"lista1!C339","v":"gl"},1.1053452115812918,10500,11606.124721603564,{"$f":"lista1!G339","v":1},11606.124721603564]
[{"$f":"lista1!A340","v":0},{"$f":"lista1!B340","v":0},{"$f":"lista1!C340","v":0},null,null,null,{"$f":"lista1!G340","v":0}]
[{"$f":"lista1!A341","v":31},{"$f":"lista1!B341","v":"Instalación termomecánica "},{"$f":"lista1!C341","v":0},null,null,null,{"$f":"lista1!G341","v":0}]
[{"$f":"lista1!A342","v":0},{"$f":"lista1!B342","v":"Materiales: caño de polietileno reticulado. Recordar aislación térmica y tapado de caños con concreto"},{"$f":"lista1!C342","v":0},null,null,null,{"$f":"lista1!G342","v":0}]
[{"$f":"lista1!A343","v":0},{"$f":"lista1!B343","v":"Piso radiante conexiones a provisión de calor"},{"$f":"lista1!C343","v":"m2"},{"$f":"$N$27","v":1.1053452115812918},324.39999999999998,{"$f":"D343*E343","v":358.57398663697103},{"$f":"lista1!G343","v":0},{"$f":"+F343*G343","v":0}]
[{"$f":"lista1!A344","v":0},{"$f":"lista1!B344","v":"Cañería y radiadores con conexiones a provisión de calor. No incluye caldera"},{"$f":"lista1!C344","v":"m2"},{"$f":"$N$27","v":1.1053452115812918},285.39999999999998,{"$f":"D344*E344","v":315.46552338530068},{"$f":"lista1!G344","v":0},{"$f":"+F344*G344","v":0}]
[{"$f":"lista1!A345","v":0},{"$f":"lista1!B345","v":0},{"$f":"lista1!C345","v":0},null,null,null,{"$f":"lista1!G345","v":0}]
[{"$f":"lista1!A346","v":32},{"$f":"lista1!B346","v":"Instalación eléctrica"},{"$f":"lista1!C346","v":0},null,null,null,{"$f":"lista1!G346","v":0}]
[{"$f":"lista1!A347","v":0},{"$f":"lista1!B347","v":"Boca de aluminio y toma - Nota: se considera boca a cada centro y brazo, y a caja de toma. Para una cantidad aproximada de 40 bocas. Incluye incidencia de tablero general y tablero seccional"},{"$f":"lista1!C347","v":"u"},{"$f":"$N$27","v":1.1053452115812918},811.4,{"$f":"D347*E347","v":896.87710467706017},{"$f":"lista1!G347","v":50},{"$f":"+F347*G347","v":44843.855233853006}]
[{"$f":"lista1!A348","v":0},{"$f":"lista1!B348","v":"Pilar completo (caja de medición, toma Jabalina, cruceta y pipeta"},{"$f":"lista1!C348","v":"gl"},{"$f":"$N$27","v":1.1053452115812918},2515.1999999999998,{"$f":"D348*E348","v":2780.1642761692651},{"$f":"lista1!G348","v":1},{"$f":"+F348*G348","v":2780.1642761692651}]
[{"$f":"lista1!A349","v":0},{"$f":"lista1!B349","v":"Boca timbre. Campanillas, caja, cables y 2 pulsadores"},{"$f":"lista1!C349","v":"u"},1.1053452115812918,1563.9,1728.6493763919825,{"$f":"lista1!G349","v":1},1728.6493763919825]
[{"$f":"lista1!A350","v":0},{"$f":"lista1!B350","v":"Boca TE"},{"$f":"lista1!C350","v":"u"},1.1053452115812918,614.9,679.67677060133633,{"$f":"lista1!G350","v":2},1359.3535412026727]
[{"$f":"lista1!A351","v":0},{"$f":"lista1!B351","v":"Boca TV o cable TV (vacía) Cañería de 1\""},{"$f":"lista1!C351","v":"u"},1.1053452115812918,443.7,490.44167037861916,{"$f":"lista1!G351","v":3},1471.3250111358575]
[{"$f":"lista1!A352","v":0},{"$f":"lista1!B352","v":"Boca de teléfono. Considera la insidencia de la caja de pase, sin bornera ni cables de montante"},{"$f":"lista1!C352","v":"u"},1.1053452115812918,602.20000000000005,665.63888641425399,{"$f":"lista1!G352","v":0},0]
[{"$f":"lista1!A353","v":0},{"$f":"lista1!B353","v":"Tablero fuerza motriz ascensor"},{"$f":"lista1!C353","v":"u"},1.1053452115812918,10388.9,11483.320868596882,{"$f":"lista1!G353","v":0},0]
[{"$f":"lista1!A354","v":0},{"$f":"lista1!B354","v":"Tablero de bombas"},{"$f":"lista1!C354","v":"u"},1.1053452115812918,6624.6,7322.4698886414262,{"$f":"lista1!G354","v":0},0]
[{"$f":"lista1!A355","v":0},{"$f":"lista1!B355","v":"Instalación de pararrayos altura 40 mts."},{"$f":"lista1!C355","v":"u"},1.1053452115812918,5184.3,5730.4411804008914,{"$f":"lista1!G355","v":0},0]
[{"$f":"lista1!A356","v":0},{"$f":"lista1!B356","v":"Colocación de artefactos"},{"$f":"lista1!C356","v":"u"},1.1053452115812918,147.4,162.92788418708241,{"$f":"lista1!G356","v":0},0]
[{"$f":"lista1!A357","v":0},{"$f":"lista1!B357","v":0},{"$f":"lista1!C357","v":0},null,null,null,{"$f":"lista1!G357","v":0}]
[{"$f":"lista1!A358","v":33},{"$f":"lista1!B358","v":"Instalación contra incendio"},{"$f":"lista1!C358","v":0},null,null,null,{"$f":"lista1!G358","v":0}]
[{"$f":"lista1!A359","v":0},{"$f":"lista1!B359","v":"Boca de incendio completa. Incluye nicho, válvula, manguera, lanza, llave de ajuste y cañería"},{"$f":"lista1!C359","v":"u"},{"$f":"$N$27","v":1.1053452115812918},7578.1,{"$f":"D359*E359","v":8376.4165478841878},{"$f":"lista1!G359","v":0},{"$f":"+F359*G359","v":0}]
[{"$f":"lista1!A360","v":0},{"$f":"lista1!B360","v":0},{"$f":"lista1!C360","v":0},null,null,null,{"$f":"lista1!G360","v":0}]
[{"$f":"lista1!A361","v":0},{"$f":"lista1!B361","v":0},{"$f":"lista1!C361","v":"Total"},null,"$",null,{"$f":"lista1!G361","v":3115.8489448320615},{"$f":"SUM(H4:H359)","v":1046539.4184921412}]
[{"$f":"lista1!A362","v":0},{"$f":"lista1!B362","v":0},{"$f":"lista1!C362","v":0},null,null,null,{"$f":"lista1!G362","v":0}]
[{"$f":"lista1!A363","v":0},{"$f":"lista1!B363","v":0},{"$f":"lista1!C363","v":0},null,null,null,{"$f":"lista1!G363","v":0}]
[{"$f":"lista1!A364","v":0},{"$f":"lista1!B364","v":0},{"$f":"lista1!C364","v":0},null,null,null,{"$f":"lista1!G364","v":0}]
[{"$f":"lista1!A365","v":0},{"$f":"lista1!B365","v":0},{"$f":"lista1!C365","v":0},null,null,null,{"$f":"lista1!G365","v":0}]
[{"$f":"lista1!A366","v":0},{"$f":"lista1!B366","v":0},{"$f":"lista1!C366","v":0},null,null,null,{"$f":"lista1!G366","v":0}]
[{"$f":"lista1!A367","v":0},{"$f":"lista1!B367","v":0},{"$f":"lista1!C367","v":0},null,null,null,{"$f":"lista1!G367","v":0}]
[{"$f":"lista1!A368","v":0},{"$f":"lista1!B368","v":0},{"$f":"lista1!C368","v":0},null,null,null,{"$f":"lista1!G368","v":0}]
[{"$f":"lista1!A369","v":0},{"$f":"lista1!B369","v":0},{"$f":"lista1!C369","v":0},null,null,null,{"$f":"lista1!G369","v":0}]
[{"$f":"lista1!A370","v":0},{"$f":"lista1!B370","v":0},{"$f":"lista1!C370","v":0},null,null,null,{"$f":"lista1!G370","v":0}]
[{"$f":"lista1!A371","v":0},{"$f":"lista1!B371","v":0},{"$f":"lista1!C371","v":0},null,"Unidad de medida",null,{"$f":"lista1!G371","v":0}]
[{"$f":"lista1!A372","v":0},{"$f":"lista1!B372","v":0},{"$f":"lista1!C372","v":0},null,"meses",null,{"$f":"lista1!G372","v":0}]
[{"$f":"lista1!A373","v":0},{"$f":"lista1!B373","v":0},{"$f":"lista1!C373","v":0},null,"20 % de precio final de la obra",null,{"$f":"lista1!G373","v":0}]
[{"$f":"lista1!A374","v":0},{"$f":"lista1!B374","v":0},{"$f":"lista1!C374","v":0},null,60,null,{"$f":"lista1!G374","v":0}]
[{"$f":"lista1!A375","v":0},{"$f":"lista1!B375","v":0},{"$f":"lista1!C375","v":0},null,2,null,{"$f":"lista1!G375","v":0}]
[{"$f":"lista1!A376","v":0},{"$f":"lista1!B376","v":0},{"$f":"lista1!C376","v":0},null,0.15,null,{"$f":"lista1!G376","v":0}]
[{"$f":"lista1!A377","v":0},{"$f":"lista1!B377","v":0},{"$f":"lista1!C377","v":0},null,0.04,null,{"$f":"lista1!G377","v":0}]
[{"$f":"lista1!A378","v":0},{"$f":"lista1!B378","v":0},{"$f":"lista1!C378","v":0},null,0.02,null,{"$f":"lista1!G378","v":0}]
[{"$f":"lista1!A379","v":0},{"$f":"lista1!B379","v":0},{"$f":"lista1!C379","v":0},null,null,null,{"$f":"lista1!G379","v":0}]
[{"$f":"lista1!A380","v":0},{"$f":"lista1!B380","v":0},{"$f":"lista1!C380","v":0},null,null,null,{"$f":"lista1!G380","v":0}]
[{"$f":"lista1!A381","v":0},{"$f":"lista1!B381","v":0},{"$f":"lista1!C381","v":0},null,null,null,{"$f":"lista1!G381","v":0}]
[{"$f":"lista1!A382","v":0},{"$f":"lista1!B382","v":0},{"$f":"lista1!C382","v":0},null,null,null,{"$f":"lista1!G382","v":0}]
[{"$f":"lista1!A383","v":0},{"$f":"lista1!B383","v":0},{"$f":"lista1!C383","v":0},null,null,null,{"$f":"lista1!G383","v":0}]
[{"$f":"lista1!A384","v":0},{"$f":"lista1!B384","v":0},{"$f":"lista1!C384","v":0},null,null,null,{"$f":"lista1!G384","v":0}]
[{"$f":"lista1!A385","v":0},{"$f":"lista1!B385","v":0},{"$f":"lista1!C385","v":0},null,null,null,{"$f":"lista1!G385","v":0}]
[{"$f":"lista1!A386","v":0},{"$f":"lista1!B386","v":0},{"$f":"lista1!C386","v":0},null,null,null,{"$f":"lista1!G386","v":0}]
[{"$f":"lista1!A387","v":0}]
[{"$f":"lista1!A388","v":0}]
[{"$f":"lista1!A389","v":0}]
[{"$f":"lista1!A390","v":0}]
[{"$f":"lista1!A391","v":0}]
[{"$f":"lista1!A392","v":0}]
[{"$f":"lista1!A393","v":0}]
[{"$f":"lista1!A394","v":0}]
[{"$f":"lista1!A395","v":0}]
[{"$f":"lista1!A396","v":0}]
[{"$f":"lista1!A397","v":0}]
[{"$f":"lista1!A398","v":0}]
[{"$f":"lista1!A399","v":0}]
[{"$f":"lista1!A400","v":0}]
[{"$f":"lista1!A401","v":0}]
[{"$f":"lista1!A402","v":0}]
[{"$f":"lista1!A403","v":0}]
[{"$f":"lista1!A404","v":0}]
[{"$f":"lista1!A405","v":0}]
[{"$f":"lista1!A406","v":0}]
[{"$f":"lista1!A407","v":0}]
[{"$f":"lista1!A408","v":0}]
[{"$f":"lista1!A409","v":0}]
[{"$f":"lista1!A410","v":0}]
[{"$f":"lista1!A411","v":0}]
[{"$f":"lista1!A412","v":0}]
[{"$f":"lista1!A413","v":0}]
[{"$f":"lista1!A414","v":0}]
[{"$f":"lista1!A415","v":0}]
[{"$f":"lista1!A416","v":0}]
[{"$f":"lista1!A417","v":0}]
[{"$f":"lista1!A418","v":0}]
[{"$f":"lista1!A419","v":0}]
[{"$f":"lista1!A420","v":0}]
[{"$f":"lista1!A421","v":0}]
[{"$f":"lista1!A422","v":0}]
[{"$f":"lista1!A423","v":0}]
[{"$f":"lista1!A424","v":0}]
[{"$f":"lista1!A425","v":0}]
[{"$f":"lista1!A426","v":0}]
[{"$f":"lista1!A427","v":0}]
[{"$f":"lista1!A428","v":0}]
[{"$f":"lista1!A429","v":0}]
[{"$f":"lista1!A430","v":0}]
[{"$f":"lista1!A431","v":0}]
[{"$f":"lista1!A432","v":0}]
[{"$f":"lista1!A433","v":0}]
[{"$f":"lista1!A434","v":0}]
[{"$f":"lista1!A435","v":0}]
[{"$f":"lista1!A436","v":0}]
[{"$f":"lista1!A437","v":0}]
[{"$f":"lista1!A438","v":0}]
[{"$f":"lista1!A439","v":0}]
[{"$f":"lista1!A440","v":0}]
[{"$f":"lista1!A441","v":0}]
[{"$f":"lista1!A442","v":0}]
[{"$f":"lista1!A443","v":0}]
[{"$f":"lista1!A444","v":0}]
[{"$f":"lista1!A445","v":0}]
[{"$f":"lista1!A446","v":0}]
[{"$f":"lista1!A447","v":0}]
[{"$f":"lista1!A448","v":0}]
[{"$f":"lista1!A449","v":0}]
[{"$f":"lista1!A450","v":0}]
[{"$f":"lista1!A451","v":0}]
[{"$f":"lista1!A452","v":0}]
[{"$f":"lista1!A453","v":0}]
[{"$f":"lista1!A454","v":0}]
[{"$f":"lista1!A455","v":0}]
[{"$f":"lista1!A456","v":0}]
[{"$f":"lista1!A457","v":0}]
[{"$f":"lista1!A458","v":0}]
[{"$f":"lista1!A459","v":0}]
[{"$f":"lista1!A460","v":0}]
[{"$f":"lista1!A461","v":0}]
[{"$f":"lista1!A462","v":0}]
[{"$f":"lista1!A463","v":0}]
[{"$f":"lista1!A464","v":0}]
[{"$f":"lista1!A465","v":0}]
[{"$f":"lista1!A466","v":0}]
[{"$f":"lista1!A467","v":0}]
[{"$f":"lista1!A468","v":0}]
[{"$f":"lista1!A469","v":0}]
[{"$f":"lista1!A470","v":0}]
[{"$f":"lista1!A471","v":0}]
[{"$f":"lista1!A472","v":0}]
[{"$f":"lista1!A473","v":0}]
[{"$f":"lista1!A474","v":0}]
[{"$f":"lista1!A475","v":0}]
[{"$f":"lista1!A476","v":0}]
[{"$f":"lista1!A477","v":0}]
[{"$f":"lista1!A478","v":0}]
[{"$f":"lista1!A479","v":0}]
[{"$f":"lista1!A480","v":0}]
[{"$f":"lista1!A481","v":0}]
[{"$f":"lista1!A482","v":0}]
[{"$f":"lista1!A483","v":0}]
[{"$f":"lista1!A484","v":0}]
[{"$f":"lista1!A485","v":0}]
[{"$f":"lista1!A486","v":0}]
[{"$f":"lista1!A487","v":0}]
[{"$f":"lista1!A488","v":0}]
[{"$f":"lista1!A489","v":0}]
[{"$f":"lista1!A490","v":0}]
[{"$f":"lista1!A491","v":0}]
[{"$f":"lista1!A492","v":0}]
[{"$f":"lista1!A493","v":0}]
[{"$f":"lista1!A494","v":0}]
[{"$f":"lista1!A495","v":0}]
[{"$f":"lista1!A496","v":0}]
[{"$f":"lista1!A497","v":0}]
[{"$f":"lista1!A498","v":0}]
[{"$f":"lista1!A499","v":0}]
[{"$f":"lista1!A500","v":0}]
[{"$f":"lista1!A501","v":0}]
[{"$f":"lista1!A502","v":0}]
[{"$f":"lista1!A503","v":0}]
[{"$f":"lista1!A504","v":0}]
[{"$f":"lista1!A505","v":0}]
[{"$f":"lista1!A506","v":0}]
[{"$f":"lista1!A507","v":0}]
[{"$f":"lista1!A508","v":0}]
[{"$f":"lista1!A509","v":0}]
[{"$f":"lista1!A510","v":0}]
[{"$f":"lista1!A511","v":0}]
[{"$f":"lista1!A512","v":0}]
[{"$f":"lista1!A513","v":0}]
[{"$f":"lista1!A514","v":0}]
[{"$f":"lista1!A515","v":0}]
[{"$f":"lista1!A516","v":0}]
[{"$f":"lista1!A517","v":0}]
[{"$f":"lista1!A518","v":0}]
[{"$f":"lista1!A519","v":0}]
[{"$f":"lista1!A520","v":0}]
[{"$f":"lista1!A521","v":0}]
[{"$f":"lista1!A522","v":0}]
[{"$f":"lista1!A523","v":0}]
[{"$f":"lista1!A524","v":0}]
[{"$f":"lista1!A525","v":0}]
[{"$f":"lista1!A526","v":0}]
[{"$f":"lista1!A527","v":0}]
[{"$f":"lista1!A528","v":0}]
[{"$f":"lista1!A529","v":0}]
[{"$f":"lista1!A530","v":0}]
[{"$f":"lista1!A531","v":0}]
[{"$f":"lista1!A532","v":0}]
[{"$f":"lista1!A533","v":0}]
[{"$f":"lista1!A534","v":0}]
[{"$f":"lista1!A535","v":0}]
[{"$f":"lista1!A536","v":0}]
[{"$f":"lista1!A537","v":0}]
[{"$f":"lista1!A538","v":0}]
[{"$f":"lista1!A539","v":0}]
[{"$f":"lista1!A540","v":0}]
[{"$f":"lista1!A541","v":0}]
[{"$f":"lista1!A542","v":0}]
[{"$f":"lista1!A543","v":0}]
[{"$f":"lista1!A544","v":0}]
[{"$f":"lista1!A545","v":0}]
[{"$f":"lista1!A546","v":0}]
[{"$f":"lista1!A547","v":0}]
[{"$f":"lista1!A548","v":0}]
[{"$f":"lista1!A549","v":0}]
[{"$f":"lista1!A550","v":0}]
[{"$f":"lista1!A551","v":0}]
[{"$f":"lista1!A552","v":0}]
[{"$f":"lista1!A553","v":0}]
[{"$f":"lista1!A554","v":0}]
[{"$f":"lista1!A555","v":0}]
[{"$f":"lista1!A556","v":0}]
[{"$f":"lista1!A557","v":0}]
[{"$f":"lista1!A558","v":0}]
[{"$f":"lista1!A559","v":0}]
[{"$f":"lista1!A560","v":0}]
[{"$f":"lista1!A561","v":0}]
[{"$f":"lista1!A562","v":0}]
[{"$f":"lista1!A563","v":0}]
[{"$f":"lista1!A564","v":0}]
[{"$f":"lista1!A565","v":0}]
[{"$f":"lista1!A566","v":0}]
[{"$f":"lista1!A567","v":0}]
[{"$f":"lista1!A568","v":0}]
[{"$f":"lista1!A569","v":0}]
[{"$f":"lista1!A570","v":0}]
[{"$f":"lista1!A571","v":0}]
[{"$f":"lista1!A572","v":0}]
[{"$f":"lista1!A573","v":0}]
[{"$f":"lista1!A574","v":0}]
[{"$f":"lista1!A575","v":0}]
[{"$f":"lista1!A576","v":0}]
[{"$f":"lista1!A577","v":0}]
[{"$f":"lista1!A578","v":0}]
[{"$f":"lista1!A579","v":0}]
[{"$f":"lista1!A580","v":0}]
[{"$f":"lista1!A581","v":0}]
[{"$f":"lista1!A582","v":0}]
[{"$f":"lista1!A583","v":0}]
[{"$f":"lista1!A584","v":0}]
[{"$f":"lista1!A585","v":0}]
[{"$f":"lista1!A586","v":0}]
[{"$f":"lista1!A587","v":0}]
[{"$f":"lista1!A588","v":0}]
[{"$f":"lista1!A589","v":0}]
[{"$f":"lista1!A590","v":0}]
[{"$f":"lista1!A591","v":0}]
[{"$f":"lista1!A592","v":0}]
[{"$f":"lista1!A593","v":0}]
[{"$f":"lista1!A594","v":0}]
[{"$f":"lista1!A595","v":0}]
[{"$f":"lista1!A596","v":0}]
[{"$f":"lista1!A597","v":0}]
[{"$f":"lista1!A598","v":0}]
[{"$f":"lista1!A599","v":0}]
[{"$f":"lista1!A600","v":0}]
[{"$f":"lista1!A601","v":0}]
[{"$f":"lista1!A602","v":0}]
[{"$f":"lista1!A603","v":0}]
[{"$f":"lista1!A604","v":0}]
[{"$f":"lista1!A605","v":0}]
[{"$f":"lista1!A606","v":0}]
[{"$f":"lista1!A607","v":0}]
[{"$f":"lista1!A608","v":0}]
[{"$f":"lista1!A609","v":0}]
[{"$f":"lista1!A610","v":0}]
[{"$f":"lista1!A611","v":0}]
[{"$f":"lista1!A612","v":0}]
[{"$f":"lista1!A613","v":0}]
[{"$f":"lista1!A614","v":0}]
[{"$f":"lista1!A615","v":0}]
[{"$f":"lista1!A616","v":0}]
[{"$f":"lista1!A617","v":0}]
[{"$f":"lista1!A618","v":0}]
[{"$f":"lista1!A619","v":0}]
[{"$f":"lista1!A620","v":0}]
[{"$f":"lista1!A621","v":0}]
[{"$f":"lista1!A622","v":0}]
[{"$f":"lista1!A623","v":0}]
[{"$f":"lista1!A624","v":0}]
[{"$f":"lista1!A625","v":0}]
[{"$f":"lista1!A626","v":0}]
[{"$f":"lista1!A627","v":0}]
[{"$f":"lista1!A628","v":0}]
[{"$f":"lista1!A629","v":0}]
[{"$f":"lista1!A630","v":0}]
[{"$f":"lista1!A631","v":0}]
[{"$f":"lista1!A632","v":0}]
[{"$f":"lista1!A633","v":0}]
[{"$f":"lista1!A634","v":0}]
[{"$f":"lista1!A635","v":0}]
[{"$f":"lista1!A636","v":0}]
[{"$f":"lista1!A637","v":0}]
[{"$f":"lista1!A638","v":0}]
[{"$f":"lista1!A639","v":0}]
[{"$f":"lista1!A640","v":0}]
[{"$f":"lista1!A641","v":0}]
[{"$f":"lista1!A642","v":0}]
[{"$f":"lista1!A643","v":0}]
[{"$f":"lista1!A644","v":0}]
[{"$f":"lista1!A645","v":0}]
[{"$f":"lista1!A646","v":0}]
[{"$f":"lista1!A647","v":0}]
[{"$f":"lista1!A648","v":0}]
[{"$f":"lista1!A649","v":0}]
[{"$f":"lista1!A650","v":0}]
[{"$f":"lista1!A651","v":0}]
[{"$f":"lista1!A652","v":0}]
[{"$f":"lista1!A653","v":0}]
[{"$f":"lista1!A654","v":0}]
[{"$f":"lista1!A655","v":0}]
[{"$f":"lista1!A656","v":0}]
[{"$f":"lista1!A657","v":0}]
[{"$f":"lista1!A658","v":0}]
[{"$f":"lista1!A659","v":0}]
[{"$f":"lista1!A660","v":0}]
[{"$f":"lista1!A661","v":0}]
[{"$f":"lista1!A662","v":0}]
[{"$f":"lista1!A663","v":0}]
[{"$f":"lista1!A664","v":0}]
[{"$f":"lista1!A665","v":0}]
[{"$f":"lista1!A666","v":0}]
[{"$f":"lista1!A667","v":0}]
[{"$f":"lista1!A668","v":0}]
[{"$f":"lista1!A669","v":0}]
[{"$f":"lista1!A670","v":0}]
[{"$f":"lista1!A671","v":0}]
[{"$f":"lista1!A672","v":0}]
[{"$f":"lista1!A673","v":0}]
[{"$f":"lista1!A674","v":0}]
[{"$f":"lista1!A675","v":0}]
[{"$f":"lista1!A676","v":0}]
[{"$f":"lista1!A677","v":0}]
[{"$f":"lista1!A678","v":0}]
[{"$f":"lista1!A679","v":0}]
[{"$f":"lista1!A680","v":0}]
[{"$f":"lista1!A681","v":0}]
[{"$f":"lista1!A682","v":0}]
[{"$f":"lista1!A683","v":0}]
[{"$f":"lista1!A684","v":0}]
[{"$f":"lista1!A685","v":0}]
[{"$f":"lista1!A686","v":0}]
[{"$f":"lista1!A687","v":0}]
[{"$f":"lista1!A688","v":0}]
[{"$f":"lista1!A689","v":0}]
[{"$f":"lista1!A690","v":0}]
[{"$f":"lista1!A691","v":0}]
[{"$f":"lista1!A692","v":0}]
[{"$f":"lista1!A693","v":0}]
[{"$f":"lista1!A694","v":0}]
[{"$f":"lista1!A695","v":0}]
[{"$f":"lista1!A696","v":0}]
[{"$f":"lista1!A697","v":0}]
[{"$f":"lista1!A698","v":0}]
[{"$f":"lista1!A699","v":0}]
[{"$f":"lista1!A700","v":0}]
[{"$f":"lista1!A701","v":0}]
[{"$f":"lista1!A702","v":0}]
[{"$f":"lista1!A703","v":0}]
[{"$f":"lista1!A704","v":0}]
[{"$f":"lista1!A705","v":0}]
[{"$f":"lista1!A706","v":0}]
[{"$f":"lista1!A707","v":0}]
[{"$f":"lista1!A708","v":0}]
[{"$f":"lista1!A709","v":0}]
[{"$f":"lista1!A710","v":0}]
[{"$f":"lista1!A711","v":0}]
[{"$f":"lista1!A712","v":0}]
[{"$f":"lista1!A713","v":0}]
[{"$f":"lista1!A714","v":0}]
[{"$f":"lista1!A715","v":0}]
[{"$f":"lista1!A716","v":0}]
[{"$f":"lista1!A717","v":0}]
[{"$f":"lista1!A718","v":0}]
[{"$f":"lista1!A719","v":0}]
[{"$f":"lista1!A720","v":0}]
[{"$f":"lista1!A721","v":0}]
[{"$f":"lista1!A722","v":0}]
[{"$f":"lista1!A723","v":0}]
[{"$f":"lista1!A724","v":0}]
[{"$f":"lista1!A725","v":0}]
[{"$f":"lista1!A726","v":0}]
[{"$f":"lista1!A727","v":0}]
[{"$f":"lista1!A728","v":0}]
[{"$f":"lista1!A729","v":0}]
[{"$f":"lista1!A730","v":0}]
[{"$f":"lista1!A731","v":0}]
[{"$f":"lista1!A732","v":0}]
[{"$f":"lista1!A733","v":0}]
[{"$f":"lista1!A734","v":0}]
[{"$f":"lista1!A735","v":0}]
[{"$f":"lista1!A736","v":0}]
[{"$f":"lista1!A737","v":0}]
[{"$f":"lista1!A738","v":0}]
[{"$f":"lista1!A739","v":0}]
[{"$f":"lista1!A740","v":0}]
[{"$f":"lista1!A741","v":0}]
[{"$f":"lista1!A742","v":0}]
[{"$f":"lista1!A743","v":0}]
[{"$f":"lista1!A744","v":0}]
[{"$f":"lista1!A745","v":0}]
[{"$f":"lista1!A746","v":0}]
[{"$f":"lista1!A747","v":0}]
[{"$f":"lista1!A748","v":0}]
[{"$f":"lista1!A749","v":0}]
[{"$f":"lista1!A750","v":0}]
[{"$f":"lista1!A751","v":0}]
[{"$f":"lista1!A752","v":0}]
[{"$f":"lista1!A753","v":0}]
[{"$f":"lista1!A754","v":0}]
[{"$f":"lista1!A755","v":0}]
[{"$f":"lista1!A756","v":0}]
[{"$f":"lista1!A757","v":0}]
[{"$f":"lista1!A758","v":0}]
[{"$f":"lista1!A759","v":0}]
[{"$f":"lista1!A760","v":0}]
[{"$f":"lista1!A761","v":0}]
[{"$f":"lista1!A762","v":0}]
[{"$f":"lista1!A763","v":0}]
[{"$f":"lista1!A764","v":0}]
[{"$f":"lista1!A765","v":0}]
[{"$f":"lista1!A766","v":0}]
[{"$f":"lista1!A767","v":0}]
[{"$f":"lista1!A768","v":0}]
[{"$f":"lista1!A769","v":0}]
[{"$f":"lista1!A770","v":0}]
[{"$f":"lista1!A771","v":0}]
[{"$f":"lista1!A772","v":0}]
[{"$f":"lista1!A773","v":0}]
[{"$f":"lista1!A774","v":0}]
[{"$f":"lista1!A775","v":0}]
[{"$f":"lista1!A776","v":0}]
[{"$f":"lista1!A777","v":0}]
[{"$f":"lista1!A778","v":0}]
[{"$f":"lista1!A779","v":0}]
[{"$f":"lista1!A780","v":0}]
[{"$f":"lista1!A781","v":0}]
[{"$f":"lista1!A782","v":0}]
[{"$f":"lista1!A783","v":0}]
[{"$f":"lista1!A784","v":0}]
[{"$f":"lista1!A785","v":0}]
[{"$f":"lista1!A786","v":0}]
[{"$f":"lista1!A787","v":0}]
[{"$f":"lista1!A788","v":0}]
[{"$f":"lista1!A789","v":0}]
[{"$f":"lista1!A790","v":0}]
[{"$f":"lista1!A791","v":0}]
[{"$f":"lista1!A792","v":0}]
[{"$f":"lista1!A793","v":0}]
[{"$f":"lista1!A794","v":0}]
[{"$f":"lista1!A795","v":0}]
[{"$f":"lista1!A796","v":0}]
[{"$f":"lista1!A797","v":0}]
[{"$f":"lista1!A798","v":0}]
[{"$f":"lista1!A799","v":0}]
[{"$f":"lista1!A800","v":0}]
[{"$f":"lista1!A801","v":0}]
[{"$f":"lista1!A802","v":0}]
[{"$f":"lista1!A803","v":0}]
[{"$f":"lista1!A804","v":0}]
[{"$f":"lista1!A805","v":0}]
[{"$f":"lista1!A806","v":0}]
[{"$f":"lista1!A807","v":0}]
[{"$f":"lista1!A808","v":0}]
[{"$f":"lista1!A809","v":0}]
[{"$f":"lista1!A810","v":0}]
[{"$f":"lista1!A811","v":0}]
[{"$f":"lista1!A812","v":0}]
[{"$f":"lista1!A813","v":0}]
[{"$f":"lista1!A814","v":0}]
[{"$f":"lista1!A815","v":0}]
[{"$f":"lista1!A816","v":0}]
[{"$f":"lista1!A817","v":0}]
[{"$f":"lista1!A818","v":0}]
[{"$f":"lista1!A819","v":0}]
[{"$f":"lista1!A820","v":0}]
[{"$f":"lista1!A821","v":0}]
[{"$f":"lista1!A822","v":0}]
[{"$f":"lista1!A823","v":0}]
[{"$f":"lista1!A824","v":0}]
[{"$f":"lista1!A825","v":0}]
[{"$f":"lista1!A826","v":0}]
[{"$f":"lista1!A827","v":0}]
[{"$f":"lista1!A828","v":0}]
[{"$f":"lista1!A829","v":0}]
[{"$f":"lista1!A830","v":0}]
[{"$f":"lista1!A831","v":0}]
[{"$f":"lista1!A832","v":0}]
[{"$f":"lista1!A833","v":0}]
[{"$f":"lista1!A834","v":0}]
[{"$f":"lista1!A835","v":0}]
[{"$f":"lista1!A836","v":0}]
[{"$f":"lista1!A837","v":0}]
[{"$f":"lista1!A838","v":0}]
[{"$f":"lista1!A839","v":0}]
[{"$f":"lista1!A840","v":0}]
[{"$f":"lista1!A841","v":0}]
[{"$f":"lista1!A842","v":0}]
[{"$f":"lista1!A843","v":0}]
[{"$f":"lista1!A844","v":0}]
[{"$f":"lista1!A845","v":0}]
[{"$f":"lista1!A846","v":0}]
[{"$f":"lista1!A847","v":0}]
[{"$f":"lista1!A848","v":0}]
[{"$f":"lista1!A849","v":0}]
[{"$f":"lista1!A850","v":0}]
[{"$f":"lista1!A851","v":0}]
[{"$f":"lista1!A852","v":0}]
[{"$f":"lista1!A853","v":0}]
[{"$f":"lista1!A854","v":0}]
[{"$f":"lista1!A855","v":0}]
[{"$f":"lista1!A856","v":0}]
[{"$f":"lista1!A857","v":0}]
[{"$f":"lista1!A858","v":0}]
[{"$f":"lista1!A859","v":0}]
[{"$f":"lista1!A860","v":0}]
[{"$f":"lista1!A861","v":0}]
[{"$f":"lista1!A862","v":0}]
[{"$f":"lista1!A863","v":0}]
[{"$f":"lista1!A864","v":0}]
[{"$f":"lista1!A865","v":0}]
[{"$f":"lista1!A866","v":0}]
[{"$f":"lista1!A867","v":0}]
[{"$f":"lista1!A868","v":0}]
[{"$f":"lista1!A869","v":0}]
[{"$f":"lista1!A870","v":0}]
[{"$f":"lista1!A871","v":0}]
[{"$f":"lista1!A872","v":0}]
[{"$f":"lista1!A873","v":0}]
[{"$f":"lista1!A874","v":0}]
[{"$f":"lista1!A875","v":0}]
[{"$f":"lista1!A876","v":0}]
[{"$f":"lista1!A877","v":0}]
[{"$f":"lista1!A878","v":0}]
[{"$f":"lista1!A879","v":0}]
[{"$f":"lista1!A880","v":0}]
[{"$f":"lista1!A881","v":0}]
[{"$f":"lista1!A882","v":0}]
[{"$f":"lista1!A883","v":0}]
[{"$f":"lista1!A884","v":0}]
[{"$f":"lista1!A885","v":0}]
[{"$f":"lista1!A886","v":0}]
[{"$f":"lista1!A887","v":0}]
[{"$f":"lista1!A888","v":0}]
[{"$f":"lista1!A889","v":0}]
[{"$f":"lista1!A890","v":0}]
[{"$f":"lista1!A891","v":0}]
[{"$f":"lista1!A892","v":0}]
[{"$f":"lista1!A893","v":0}]
[{"$f":"lista1!A894","v":0}]
[{"$f":"lista1!A895","v":0}]
[{"$f":"lista1!A896","v":0}]
[{"$f":"lista1!A897","v":0}]
[{"$f":"lista1!A898","v":0}]
[{"$f":"lista1!A899","v":0}]
[{"$f":"lista1!A900","v":0}]
[{"$f":"lista1!A901","v":0}]
[{"$f":"lista1!A902","v":0}]
[{"$f":"lista1!A903","v":0}]
[{"$f":"lista1!A904","v":0}]
[{"$f":"lista1!A905","v":0}]
[{"$f":"lista1!A906","v":0}]
[{"$f":"lista1!A907","v":0}]
[{"$f":"lista1!A908","v":0}]
[{"$f":"lista1!A909","v":0}]
[{"$f":"lista1!A910","v":0}]
[{"$f":"lista1!A911","v":0}]
[{"$f":"lista1!A912","v":0}]
[{"$f":"lista1!A913","v":0}]
[{"$f":"lista1!A914","v":0}]
[{"$f":"lista1!A915","v":0}]
[{"$f":"lista1!A916","v":0}]
[{"$f":"lista1!A917","v":0}]
[{"$f":"lista1!A918","v":0}]
[{"$f":"lista1!A919","v":0}]
[{"$f":"lista1!A920","v":0}]
[{"$f":"lista1!A921","v":0}]
[{"$f":"lista1!A922","v":0}]
[{"$f":"lista1!A923","v":0}]
[{"$f":"lista1!A924","v":0}]
[{"$f":"lista1!A925","v":0}]
[{"$f":"lista1!A926","v":0}]
[{"$f":"lista1!A927","v":0}]
[{"$f":"lista1!A928","v":0}]
[{"$f":"lista1!A929","v":0}]
[{"$f":"lista1!A930","v":0}]
[{"$f":"lista1!A931","v":0}]
[{"$f":"lista1!A932","v":0}]
[{"$f":"lista1!A933","v":0}]
[{"$f":"lista1!A934","v":0}]
[{"$f":"lista1!A935","v":0}]
[{"$f":"lista1!A936","v":0}]
[{"$f":"lista1!A937","v":0}]
[{"$f":"lista1!A938","v":0}]
[{"$f":"lista1!A939","v":0}]
[{"$f":"lista1!A940","v":0}]
[{"$f":"lista1!A941","v":0}]
[{"$f":"lista1!A942","v":0}]
[{"$f":"lista1!A943","v":0}]
[{"$f":"lista1!A944","v":0}]
[{"$f":"lista1!A945","v":0}]
[{"$f":"lista1!A946","v":0}]
[{"$f":"lista1!A947","v":0}]
[{"$f":"lista1!A948","v":0}]
[{"$f":"lista1!A949","v":0}]
[{"$f":"lista1!A950","v":0}]
[{"$f":"lista1!A951","v":0}]
[{"$f":"lista1!A952","v":0}]
[{"$f":"lista1!A953","v":0}]
[{"$f":"lista1!A954","v":0}]
[{"$f":"lista1!A955","v":0}]
[{"$f":"lista1!A956","v":0}]
[{"$f":"lista1!A957","v":0}]
[{"$f":"lista1!A958","v":0}]
[{"$f":"lista1!A959","v":0}]
[{"$f":"lista1!A960","v":0}]
[{"$f":"lista1!A961","v":0}]
[{"$f":"lista1!A962","v":0}]
[{"$f":"lista1!A963","v":0}]
[{"$f":"lista1!A964","v":0}]
[{"$f":"lista1!A965","v":0}]
[{"$f":"lista1!A966","v":0}]
[{"$f":"lista1!A967","v":0}]
[{"$f":"lista1!A968","v":0}]
[{"$f":"lista1!A969","v":0}]
[{"$f":"lista1!A970","v":0}]
[{"$f":"lista1!A971","v":0}]
[{"$f":"lista1!A972","v":0}]
[{"$f":"lista1!A973","v":0}]
[{"$f":"lista1!A974","v":0}]
[{"$f":"lista1!A975","v":0}]
[{"$f":"lista1!A976","v":0}]
[{"$f":"lista1!A977","v":0}]
[{"$f":"lista1!A978","v":0}]
[{"$f":"lista1!A979","v":0}]
[{"$f":"lista1!A980","v":0}]
[{"$f":"lista1!A981","v":0}]
[{"$f":"lista1!A982","v":0}]
[{"$f":"lista1!A983","v":0}]
[{"$f":"lista1!A984","v":0}]
[{"$f":"lista1!A985","v":0}]
[{"$f":"lista1!A986","v":0}]
[{"$f":"lista1!A987","v":0}]
[{"$f":"lista1!A988","v":0}]
[{"$f":"lista1!A989","v":0}]
[{"$f":"lista1!A990","v":0}]
[{"$f":"lista1!A991","v":0}]
[{"$f":"lista1!A992","v":0}]
[{"$f":"lista1!A993","v":0}]
[{"$f":"lista1!A994","v":0}]
[{"$f":"lista1!A995","v":0}]
[{"$f":"lista1!A996","v":0}]
[{"$f":"lista1!A997","v":0}]
[{"$f":"lista1!A998","v":0}]
[{"$f":"lista1!A999","v":0}]
[{"$f":"lista1!A1000","v":0}]
[{"$f":"lista1!A1001","v":0}]
[{"$f":"lista1!A1002","v":0}]
[{"$f":"lista1!A1003","v":0}]
[{"$f":"lista1!A1004","v":0}]
[{"$f":"lista1!A1005","v":0}]
[{"$f":"lista1!A1006","v":0}]
[{"$f":"lista1!A1007","v":0}]
[{"$f":"lista1!A1008","v":0}]
[{"$f":"lista1!A1009","v":0}]
[{"$f":"lista1!A1010","v":0}]
[{"$f":"lista1!A1011","v":0}]
[{"$f":"lista1!A1012","v":0}]
[{"$f":"lista1!A1013","v":0}]
[{"$f":"lista1!A1014","v":0}]
[{"$f":"lista1!A1015","v":0}]
[{"$f":"lista1!A1016","v":0}]
[{"$f":"lista1!A1017","v":0}]
[{"$f":"lista1!A1018","v":0}]
[{"$f":"lista1!A1019","v":0}]
[{"$f":"lista1!A1020","v":0}]
[{"$f":"lista1!A1021","v":0}]
[{"$f":"lista1!A1022","v":0}]
[{"$f":"lista1!A1023","v":0}]
[{"$f":"lista1!A1024","v":0}]
[{"$f":"lista1!A1025","v":0}]
[{"$f":"lista1!A1026","v":0}]
[{"$f":"lista1!A1027","v":0}]
[{"$f":"lista1!A1028","v":0}]
[{"$f":"lista1!A1029","v":0}]
[{"$f":"lista1!A1030","v":0}]
[{"$f":"lista1!A1031","v":0}]
[{"$f":"lista1!A1032","v":0}]
[{"$f":"lista1!A1033","v":0}]
[{"$f":"lista1!A1034","v":0}]
[{"$f":"lista1!A1035","v":0}]
[{"$f":"lista1!A1036","v":0}]
[{"$f":"lista1!A1037","v":0}]
[{"$f":"lista1!A1038","v":0}]
[{"$f":"lista1!A1039","v":0}]
[{"$f":"lista1!A1040","v":0}]
[{"$f":"lista1!A1041","v":0}]
[{"$f":"lista1!A1042","v":0}]
[{"$f":"lista1!A1043","v":0}]
[{"$f":"lista1!A1044","v":0}]
[{"$f":"lista1!A1045","v":0}]
[{"$f":"lista1!A1046","v":0}]
[{"$f":"lista1!A1047","v":0}]
[{"$f":"lista1!A1048","v":0}]
[{"$f":"lista1!A1049","v":0}]
[{"$f":"lista1!A1050","v":0}]
[{"$f":"lista1!A1051","v":0}]
[{"$f":"lista1!A1052","v":0}]
[{"$f":"lista1!A1053","v":0}]
[{"$f":"lista1!A1054","v":0}]
[{"$f":"lista1!A1055","v":0}]
[{"$f":"lista1!A1056","v":0}]
[{"$f":"lista1!A1057","v":0}]
[{"$f":"lista1!A1058","v":0}]
[{"$f":"lista1!A1059","v":0}]
[{"$f":"lista1!A1060","v":0}]
[{"$f":"lista1!A1061","v":0}]
[{"$f":"lista1!A1062","v":0}]
[{"$f":"lista1!A1063","v":0}]
[{"$f":"lista1!A1064","v":0}]
[{"$f":"lista1!A1065","v":0}]
[{"$f":"lista1!A1066","v":0}]
[{"$f":"lista1!A1067","v":0}]
[{"$f":"lista1!A1068","v":0}]
[{"$f":"lista1!A1069","v":0}]
[{"$f":"lista1!A1070","v":0}]
[{"$f":"lista1!A1071","v":0}]
[{"$f":"lista1!A1072","v":0}]
[{"$f":"lista1!A1073","v":0}]
[{"$f":"lista1!A1074","v":0}]
[{"$f":"lista1!A1075","v":0}]
[{"$f":"lista1!A1076","v":0}]
[{"$f":"lista1!A1077","v":0}]
[{"$f":"lista1!A1078","v":0}]
[{"$f":"lista1!A1079","v":0}]
[{"$f":"lista1!A1080","v":0}]
[{"$f":"lista1!A1081","v":0}]
[{"$f":"lista1!A1082","v":0}]
[{"$f":"lista1!A1083","v":0}]
[{"$f":"lista1!A1084","v":0}]
[{"$f":"lista1!A1085","v":0}]
[{"$f":"lista1!A1086","v":0}]
[{"$f":"lista1!A1087","v":0}]
[{"$f":"lista1!A1088","v":0}]
[{"$f":"lista1!A1089","v":0}]
[{"$f":"lista1!A1090","v":0}]
[{"$f":"lista1!A1091","v":0}]
[{"$f":"lista1!A1092","v":0}]
[{"$f":"lista1!A1093","v":0}]
[{"$f":"lista1!A1094","v":0}]
[{"$f":"lista1!A1095","v":0}]
[{"$f":"lista1!A1096","v":0}]
[{"$f":"lista1!A1097","v":0}]
[{"$f":"lista1!A1098","v":0}]
[{"$f":"lista1!A1099","v":0}]
[{"$f":"lista1!A1100","v":0}]
[{"$f":"lista1!A1101","v":0}]
[{"$f":"lista1!A1102","v":0}]
[{"$f":"lista1!A1103","v":0}]
[{"$f":"lista1!A1104","v":0}]
[{"$f":"lista1!A1105","v":0}]
[{"$f":"lista1!A1106","v":0}]
[{"$f":"lista1!A1107","v":0}]
[{"$f":"lista1!A1108","v":0}]
[{"$f":"lista1!A1109","v":0}]
[{"$f":"lista1!A1110","v":0}]
[{"$f":"lista1!A1111","v":0}]
[{"$f":"lista1!A1112","v":0}]
[{"$f":"lista1!A1113","v":0}]
[{"$f":"lista1!A1114","v":0}]
[{"$f":"lista1!A1115","v":0}]
[{"$f":"lista1!A1116","v":0}]
[{"$f":"lista1!A1117","v":0}]
[{"$f":"lista1!A1118","v":0}]
[{"$f":"lista1!A1119","v":0}]
[{"$f":"lista1!A1120","v":0}]
[{"$f":"lista1!A1121","v":0}]
[{"$f":"lista1!A1122","v":0}]
[{"$f":"lista1!A1123","v":0}]
[{"$f":"lista1!A1124","v":0}]
[{"$f":"lista1!A1125","v":0}]
[{"$f":"lista1!A1126","v":0}]
[{"$f":"lista1!A1127","v":0}]
[{"$f":"lista1!A1128","v":0}]
[{"$f":"lista1!A1129","v":0}]
[{"$f":"lista1!A1130","v":0}]
[{"$f":"lista1!A1131","v":0}]
[{"$f":"lista1!A1132","v":0}]
[{"$f":"lista1!A1133","v":0}]
[{"$f":"lista1!A1134","v":0}]
[{"$f":"lista1!A1135","v":0}]
[{"$f":"lista1!A1136","v":0}]
[{"$f":"lista1!A1137","v":0}]
[{"$f":"lista1!A1138","v":0}]
[{"$f":"lista1!A1139","v":0}]
[{"$f":"lista1!A1140","v":0}]
[{"$f":"lista1!A1141","v":0}]
[{"$f":"lista1!A1142","v":0}]
[{"$f":"lista1!A1143","v":0}]
[{"$f":"lista1!A1144","v":0}]
[{"$f":"lista1!A1145","v":0}]
[{"$f":"lista1!A1146","v":0}]
[{"$f":"lista1!A1147","v":0}]
[{"$f":"lista1!A1148","v":0}]
[{"$f":"lista1!A1149","v":0}]
[{"$f":"lista1!A1150","v":0}]
[{"$f":"lista1!A1151","v":0}]
[{"$f":"lista1!A1152","v":0}]
[{"$f":"lista1!A1153","v":0}]
[{"$f":"lista1!A1154","v":0}]
[{"$f":"lista1!A1155","v":0}]
[{"$f":"lista1!A1156","v":0}]
[{"$f":"lista1!A1157","v":0}]
[{"$f":"lista1!A1158","v":0}]
[{"$f":"lista1!A1159","v":0}]
[{"$f":"lista1!A1160","v":0}]
[{"$f":"lista1!A1161","v":0}]
[{"$f":"lista1!A1162","v":0}]
[{"$f":"lista1!A1163","v":0}]
[{"$f":"lista1!A1164","v":0}]
[{"$f":"lista1!A1165","v":0}]
[{"$f":"lista1!A1166","v":0}]
[{"$f":"lista1!A1167","v":0}]
[{"$f":"lista1!A1168","v":0}]
[{"$f":"lista1!A1169","v":0}]
[{"$f":"lista1!A1170","v":0}]
[{"$f":"lista1!A1171","v":0}]
[{"$f":"lista1!A1172","v":0}]
[{"$f":"lista1!A1173","v":0}]
[{"$f":"lista1!A1174","v":0}]
[{"$f":"lista1!A1175","v":0}]
[{"$f":"lista1!A1176","v":0}]
[{"$f":"lista1!A1177","v":0}]
[{"$f":"lista1!A1178","v":0}]
[{"$f":"lista1!A1179","v":0}]
[{"$f":"lista1!A1180","v":0}]
[{"$f":"lista1!A1181","v":0}]
[{"$f":"lista1!A1182","v":0}]
[{"$f":"lista1!A1183","v":0}]
[{"$f":"lista1!A1184","v":0}]
[{"$f":"lista1!A1185","v":0}]
[{"$f":"lista1!A1186","v":0}]
[{"$f":"lista1!A1187","v":0}]
[{"$f":"lista1!A1188","v":0}]
[{"$f":"lista1!A1189","v":0}]
[{"$f":"lista1!A1190","v":0}]
[{"$f":"lista1!A1191","v":0}]
[{"$f":"lista1!A1192","v":0}]
[{"$f":"lista1!A1193","v":0}]
[{"$f":"lista1!A1194","v":0}]
[{"$f":"lista1!A1195","v":0}]
[{"$f":"lista1!A1196","v":0}]
[{"$f":"lista1!A1197","v":0}]
[{"$f":"lista1!A1198","v":0}]
[{"$f":"lista1!A1199","v":0}]
[{"$f":"lista1!A1200","v":0}]
[{"$f":"lista1!A1201","v":0}]
[{"$f":"lista1!A1202","v":0}]
[{"$f":"lista1!A1203","v":0}]
[{"$f":"lista1!A1204","v":0}]
[{"$f":"lista1!A1205","v":0}]
[{"$f":"lista1!A1206","v":0}]
[{"$f":"lista1!A1207","v":0}]
[{"$f":"lista1!A1208","v":0}]
[{"$f":"lista1!A1209","v":0}]
[{"$f":"lista1!A1210","v":0}]
[{"$f":"lista1!A1211","v":0}]
[{"$f":"lista1!A1212","v":0}]
[{"$f":"lista1!A1213","v":0}]
[{"$f":"lista1!A1214","v":0}]
[{"$f":"lista1!A1215","v":0}]
[{"$f":"lista1!A1216","v":0}]
[{"$f":"lista1!A1217","v":0}]
[{"$f":"lista1!A1218","v":0}]
[{"$f":"lista1!A1219","v":0}]
[{"$f":"lista1!A1220","v":0}]
[{"$f":"lista1!A1221","v":0}]
[{"$f":"lista1!A1222","v":0}]
[{"$f":"lista1!A1223","v":0}]
[{"$f":"lista1!A1224","v":0}]
[{"$f":"lista1!A1225","v":0}]
[{"$f":"lista1!A1226","v":0}]
[{"$f":"lista1!A1227","v":0}]
[{"$f":"lista1!A1228","v":0}]
[{"$f":"lista1!A1229","v":0}]
[{"$f":"lista1!A1230","v":0}]
[{"$f":"lista1!A1231","v":0}]
[{"$f":"lista1!A1232","v":0}]
[{"$f":"lista1!A1233","v":0}]
[{"$f":"lista1!A1234","v":0}]
[{"$f":"lista1!A1235","v":0}]
[{"$f":"lista1!A1236","v":0}]
[{"$f":"lista1!A1237","v":0}]
[{"$f":"lista1!A1238","v":0}]
[{"$f":"lista1!A1239","v":0}]
[{"$f":"lista1!A1240","v":0}]
[{"$f":"lista1!A1241","v":0}]
[{"$f":"lista1!A1242","v":0}]
[{"$f":"lista1!A1243","v":0}]
[{"$f":"lista1!A1244","v":0}]
[{"$f":"lista1!A1245","v":0}]
[{"$f":"lista1!A1246","v":0}]
[{"$f":"lista1!A1247","v":0}]
[{"$f":"lista1!A1248","v":0}]
[{"$f":"lista1!A1249","v":0}]
[{"$f":"lista1!A1250","v":0}]
[{"$f":"lista1!A1251","v":0}]
[{"$f":"lista1!A1252","v":0}]
[{"$f":"lista1!A1253","v":0}]
[{"$f":"lista1!A1254","v":0}]
[{"$f":"lista1!A1255","v":0}]
[{"$f":"lista1!A1256","v":0}]
[{"$f":"lista1!A1257","v":0}]
[{"$f":"lista1!A1258","v":0}]
[{"$f":"lista1!A1259","v":0}]
[{"$f":"lista1!A1260","v":0}]
[{"$f":"lista1!A1261","v":0}]
[{"$f":"lista1!A1262","v":0}]
[{"$f":"lista1!A1263","v":0}]
[{"$f":"lista1!A1264","v":0}]
[{"$f":"lista1!A1265","v":0}]
[{"$f":"lista1!A1266","v":0}]
[{"$f":"lista1!A1267","v":0}]
[{"$f":"lista1!A1268","v":0}]
[{"$f":"lista1!A1269","v":0}]
[{"$f":"lista1!A1270","v":0}]
[{"$f":"lista1!A1271","v":0}]
[{"$f":"lista1!A1272","v":0}]
[{"$f":"lista1!A1273","v":0}]
[{"$f":"lista1!A1274","v":0}]
[{"$f":"lista1!A1275","v":0}]
[{"$f":"lista1!A1276","v":0}]
[{"$f":"lista1!A1277","v":0}]
[{"$f":"lista1!A1278","v":0}]
[{"$f":"lista1!A1279","v":0}]
[{"$f":"lista1!A1280","v":0}]
[{"$f":"lista1!A1281","v":0}]
[{"$f":"lista1!A1282","v":0}]
[{"$f":"lista1!A1283","v":0}]
[{"$f":"lista1!A1284","v":0}]
[{"$f":"lista1!A1285","v":0}]
[{"$f":"lista1!A1286","v":0}]
[{"$f":"lista1!A1287","v":0}]
[{"$f":"lista1!A1288","v":0}]
[{"$f":"lista1!A1289","v":0}]
[{"$f":"lista1!A1290","v":0}]
[{"$f":"lista1!A1291","v":0}]
[{"$f":"lista1!A1292","v":0}]
[{"$f":"lista1!A1293","v":0}]
[{"$f":"lista1!A1294","v":0}]
[{"$f":"lista1!A1295","v":0}]
[{"$f":"lista1!A1296","v":0}]
[{"$f":"lista1!A1297","v":0}]
[{"$f":"lista1!A1298","v":0}]
[{"$f":"lista1!A1299","v":0}]
[{"$f":"lista1!A1300","v":0}]
[{"$f":"lista1!A1301","v":0}]
[{"$f":"lista1!A1302","v":0}]
[{"$f":"lista1!A1303","v":0}]
[{"$f":"lista1!A1304","v":0}]
[{"$f":"lista1!A1305","v":0}]
[{"$f":"lista1!A1306","v":0}]
[{"$f":"lista1!A1307","v":0}]
[{"$f":"lista1!A1308","v":0}]
[{"$f":"lista1!A1309","v":0}]
[{"$f":"lista1!A1310","v":0}]
[{"$f":"lista1!A1311","v":0}]
[{"$f":"lista1!A1312","v":0}]
[{"$f":"lista1!A1313","v":0}]
[{"$f":"lista1!A1314","v":0}]
[{"$f":"lista1!A1315","v":0}]
[{"$f":"lista1!A1316","v":0}]
[{"$f":"lista1!A1317","v":0}]
[{"$f":"lista1!A1318","v":0}]
[{"$f":"lista1!A1319","v":0}]
[{"$f":"lista1!A1320","v":0}]
[{"$f":"lista1!A1321","v":0}]
[{"$f":"lista1!A1322","v":0}]
[{"$f":"lista1!A1323","v":0}]
[{"$f":"lista1!A1324","v":0}]
[{"$f":"lista1!A1325","v":0}]
[{"$f":"lista1!A1326","v":0}]
[{"$f":"lista1!A1327","v":0}]
[{"$f":"lista1!A1328","v":0}]
[{"$f":"lista1!A1329","v":0}]
[{"$f":"lista1!A1330","v":0}]
[{"$f":"lista1!A1331","v":0}]
[{"$f":"lista1!A1332","v":0}]
[{"$f":"lista1!A1333","v":0}]
[{"$f":"lista1!A1334","v":0}]
[{"$f":"lista1!A1335","v":0}]
[{"$f":"lista1!A1336","v":0}]
[{"$f":"lista1!A1337","v":0}]
[{"$f":"lista1!A1338","v":0}]
[{"$f":"lista1!A1339","v":0}]
[{"$f":"lista1!A1340","v":0}]
[{"$f":"lista1!A1341","v":0}]
[{"$f":"lista1!A1342","v":0}]
[{"$f":"lista1!A1343","v":0}]
[{"$f":"lista1!A1344","v":0}]
[{"$f":"lista1!A1345","v":0}]
[{"$f":"lista1!A1346","v":0}]
[{"$f":"lista1!A1347","v":0}]
[{"$f":"lista1!A1348","v":0}]
[{"$f":"lista1!A1349","v":0}]
[{"$f":"lista1!A1350","v":0}]
[{"$f":"lista1!A1351","v":0}]
[{"$f":"lista1!A1352","v":0}]
[{"$f":"lista1!A1353","v":0}]
[{"$f":"lista1!A1354","v":0}]
[{"$f":"lista1!A1355","v":0}]
[{"$f":"lista1!A1356","v":0}]
[{"$f":"lista1!A1357","v":0}]
[{"$f":"lista1!A1358","v":0}]
[{"$f":"lista1!A1359","v":0}]
[{"$f":"lista1!A1360","v":0}]
[{"$f":"lista1!A1361","v":0}]
[{"$f":"lista1!A1362","v":0}]
[{"$f":"lista1!A1363","v":0}]
[{"$f":"lista1!A1364","v":0}]
[{"$f":"lista1!A1365","v":0}]
[{"$f":"lista1!A1366","v":0}]
[{"$f":"lista1!A1367","v":0}]
[{"$f":"lista1!A1368","v":0}]
[{"$f":"lista1!A1369","v":0}]
[{"$f":"lista1!A1370","v":0}]
[{"$f":"lista1!A1371","v":0}]
[{"$f":"lista1!A1372","v":0}]
[{"$f":"lista1!A1373","v":0}]
[{"$f":"lista1!A1374","v":0}]
[{"$f":"lista1!A1375","v":0}]
[{"$f":"lista1!A1376","v":0}]
[{"$f":"lista1!A1377","v":0}]
[{"$f":"lista1!A1378","v":0}]
[{"$f":"lista1!A1379","v":0}]
[{"$f":"lista1!A1380","v":0}]
[{"$f":"lista1!A1381","v":0}]
[{"$f":"lista1!A1382","v":0}]
[{"$f":"lista1!A1383","v":0}]
[{"$f":"lista1!A1384","v":0}]
[{"$f":"lista1!A1385","v":0}]
[{"$f":"lista1!A1386","v":0}]
[{"$f":"lista1!A1387","v":0}]
[{"$f":"lista1!A1388","v":0}]
[{"$f":"lista1!A1389","v":0}]
[{"$f":"lista1!A1390","v":0}]
[{"$f":"lista1!A1391","v":0}]
[{"$f":"lista1!A1392","v":0}]
[{"$f":"lista1!A1393","v":0}]
[{"$f":"lista1!A1394","v":0}]
[{"$f":"lista1!A1395","v":0}]
[{"$f":"lista1!A1396","v":0}]
[{"$f":"lista1!A1397","v":0}]
[{"$f":"lista1!A1398","v":0}]
[{"$f":"lista1!A1399","v":0}]
[{"$f":"lista1!A1400","v":0}]
[{"$f":"lista1!A1401","v":0}]
[{"$f":"lista1!A1402","v":0}]
[{"$f":"lista1!A1403","v":0}]
[{"$f":"lista1!A1404","v":0}]
[{"$f":"lista1!A1405","v":0}]
[{"$f":"lista1!A1406","v":0}]
[{"$f":"lista1!A1407","v":0}]
[{"$f":"lista1!A1408","v":0}]
[{"$f":"lista1!A1409","v":0}]
[{"$f":"lista1!A1410","v":0}]
[{"$f":"lista1!A1411","v":0}]
[{"$f":"lista1!A1412","v":0}]
[{"$f":"lista1!A1413","v":0}]
[{"$f":"lista1!A1414","v":0}]
[{"$f":"lista1!A1415","v":0}]
[{"$f":"lista1!A1416","v":0}]
[{"$f":"lista1!A1417","v":0}]
[{"$f":"lista1!A1418","v":0}]
[{"$f":"lista1!A1419","v":0}]
[{"$f":"lista1!A1420","v":0}]
[{"$f":"lista1!A1421","v":0}]
[{"$f":"lista1!A1422","v":0}]
[{"$f":"lista1!A1423","v":0}]
[{"$f":"lista1!A1424","v":0}]
[{"$f":"lista1!A1425","v":0}]
[{"$f":"lista1!A1426","v":0}]
[{"$f":"lista1!A1427","v":0}]
[{"$f":"lista1!A1428","v":0}]
[{"$f":"lista1!A1429","v":0}]
[{"$f":"lista1!A1430","v":0}]
[{"$f":"lista1!A1431","v":0}]
[{"$f":"lista1!A1432","v":0}]
[{"$f":"lista1!A1433","v":0}]
[{"$f":"lista1!A1434","v":0}]
[{"$f":"lista1!A1435","v":0}]
[{"$f":"lista1!A1436","v":0}]
[{"$f":"lista1!A1437","v":0}]
[{"$f":"lista1!A1438","v":0}]
[{"$f":"lista1!A1439","v":0}]
[{"$f":"lista1!A1440","v":0}]
[{"$f":"lista1!A1441","v":0}]
[{"$f":"lista1!A1442","v":0}]
[{"$f":"lista1!A1443","v":0}]
[{"$f":"lista1!A1444","v":0}]
[{"$f":"lista1!A1445","v":0}]
[{"$f":"lista1!A1446","v":0}]
[{"$f":"lista1!A1447","v":0}]
[{"$f":"lista1!A1448","v":0}]
[{"$f":"lista1!A1449","v":0}]
[{"$f":"lista1!A1450","v":0}]
[{"$f":"lista1!A1451","v":0}]
[{"$f":"lista1!A1452","v":0}]
[{"$f":"lista1!A1453","v":0}]
[{"$f":"lista1!A1454","v":0}]
[{"$f":"lista1!A1455","v":0}]
[{"$f":"lista1!A1456","v":0}]
[{"$f":"lista1!A1457","v":0}]
[{"$f":"lista1!A1458","v":0}]
[{"$f":"lista1!A1459","v":0}]
[{"$f":"lista1!A1460","v":0}]
[{"$f":"lista1!A1461","v":0}]
[{"$f":"lista1!A1462","v":0}]
[{"$f":"lista1!A1463","v":0}]
[{"$f":"lista1!A1464","v":0}]
[{"$f":"lista1!A1465","v":0}]
[{"$f":"lista1!A1466","v":0}]
[{"$f":"lista1!A1467","v":0}]
[{"$f":"lista1!A1468","v":0}]
[{"$f":"lista1!A1469","v":0}]
[{"$f":"lista1!A1470","v":0}]
[{"$f":"lista1!A1471","v":0}]
[{"$f":"lista1!A1472","v":0}]
[{"$f":"lista1!A1473","v":0}]
[{"$f":"lista1!A1474","v":0}]
[{"$f":"lista1!A1475","v":0}]
[{"$f":"lista1!A1476","v":0}]
[{"$f":"lista1!A1477","v":0}]
[{"$f":"lista1!A1478","v":0}]
[{"$f":"lista1!A1479","v":0}]
[{"$f":"lista1!A1480","v":0}]
[{"$f":"lista1!A1481","v":0}]
[{"$f":"lista1!A1482","v":0}]
[{"$f":"lista1!A1483","v":0}]
[{"$f":"lista1!A1484","v":0}]
[{"$f":"lista1!A1485","v":0}]
[{"$f":"lista1!A1486","v":0}]
[{"$f":"lista1!A1487","v":0}]
[{"$f":"lista1!A1488","v":0}]
[{"$f":"lista1!A1489","v":0}]
[{"$f":"lista1!A1490","v":0}]
[{"$f":"lista1!A1491","v":0}]
[{"$f":"lista1!A1492","v":0}]
[{"$f":"lista1!A1493","v":0}]
[{"$f":"lista1!A1494","v":0}]
[{"$f":"lista1!A1495","v":0}]
[{"$f":"lista1!A1496","v":0}]
[{"$f":"lista1!A1497","v":0}]
[{"$f":"lista1!A1498","v":0}]
[{"$f":"lista1!A1499","v":0}]
[{"$f":"lista1!A1500","v":0}]
[{"$f":"lista1!A1501","v":0}]
[{"$f":"lista1!A1502","v":0}]
[{"$f":"lista1!A1503","v":0}]
[{"$f":"lista1!A1504","v":0}]
[{"$f":"lista1!A1505","v":0}]
[{"$f":"lista1!A1506","v":0}]
[{"$f":"lista1!A1507","v":0}]
[{"$f":"lista1!A1508","v":0}]
[{"$f":"lista1!A1509","v":0}]
[{"$f":"lista1!A1510","v":0}]
[{"$f":"lista1!A1511","v":0}]
[{"$f":"lista1!A1512","v":0}]
[{"$f":"lista1!A1513","v":0}]
[{"$f":"lista1!A1514","v":0}]
[{"$f":"lista1!A1515","v":0}]
[{"$f":"lista1!A1516","v":0}]
[{"$f":"lista1!A1517","v":0}]
[{"$f":"lista1!A1518","v":0}]
[{"$f":"lista1!A1519","v":0}]
[{"$f":"lista1!A1520","v":0}]
[{"$f":"lista1!A1521","v":0}]
[{"$f":"lista1!A1522","v":0}]
[{"$f":"lista1!A1523","v":0}]
[{"$f":"lista1!A1524","v":0}]
[{"$f":"lista1!A1525","v":0}]
[{"$f":"lista1!A1526","v":0}]
[{"$f":"lista1!A1527","v":0}]
[{"$f":"lista1!A1528","v":0}]
[{"$f":"lista1!A1529","v":0}]
[{"$f":"lista1!A1530","v":0}]
[{"$f":"lista1!A1531","v":0}]
[{"$f":"lista1!A1532","v":0}]
[{"$f":"lista1!A1533","v":0}]
[{"$f":"lista1!A1534","v":0}]
[{"$f":"lista1!A1535","v":0}]
[{"$f":"lista1!A1536","v":0}]
[{"$f":"lista1!A1537","v":0}]
[{"$f":"lista1!A1538","v":0}]
[{"$f":"lista1!A1539","v":0}]
[{"$f":"lista1!A1540","v":0}]
[{"$f":"lista1!A1541","v":0}]
[{"$f":"lista1!A1542","v":0}]
[{"$f":"lista1!A1543","v":0}]
[{"$f":"lista1!A1544","v":0}]
[{"$f":"lista1!A1545","v":0}]
[{"$f":"lista1!A1546","v":0}]
[{"$f":"lista1!A1547","v":0}]
[{"$f":"lista1!A1548","v":0}]
[{"$f":"lista1!A1549","v":0}]
[{"$f":"lista1!A1550","v":0}]
[{"$f":"lista1!A1551","v":0}]
[{"$f":"lista1!A1552","v":0}]
[{"$f":"lista1!A1553","v":0}]
[{"$f":"lista1!A1554","v":0}]
[{"$f":"lista1!A1555","v":0}]
[{"$f":"lista1!A1556","v":0}]
[{"$f":"lista1!A1557","v":0}]
[{"$f":"lista1!A1558","v":0}]
[{"$f":"lista1!A1559","v":0}]
[{"$f":"lista1!A1560","v":0}]
[{"$f":"lista1!A1561","v":0}]
[{"$f":"lista1!A1562","v":0}]
[{"$f":"lista1!A1563","v":0}]
[{"$f":"lista1!A1564","v":0}]
[{"$f":"lista1!A1565","v":0}]
[{"$f":"lista1!A1566","v":0}]
[{"$f":"lista1!A1567","v":0}]
[{"$f":"lista1!A1568","v":0}]
[{"$f":"lista1!A1569","v":0}]
[{"$f":"lista1!A1570","v":0}]
[{"$f":"lista1!A1571","v":0}]
[{"$f":"lista1!A1572","v":0}]
[{"$f":"lista1!A1573","v":0}]
[{"$f":"lista1!A1574","v":0}]
[{"$f":"lista1!A1575","v":0}]
[{"$f":"lista1!A1576","v":0}]
[{"$f":"lista1!A1577","v":0}]
[{"$f":"lista1!A1578","v":0}]
[{"$f":"lista1!A1579","v":0}]
[{"$f":"lista1!A1580","v":0}]
[{"$f":"lista1!A1581","v":0}]
[{"$f":"lista1!A1582","v":0}]
[{"$f":"lista1!A1583","v":0}]
[{"$f":"lista1!A1584","v":0}]
[{"$f":"lista1!A1585","v":0}]
[{"$f":"lista1!A1586","v":0}]
[{"$f":"lista1!A1587","v":0}]
[{"$f":"lista1!A1588","v":0}]
[{"$f":"lista1!A1589","v":0}]
[{"$f":"lista1!A1590","v":0}]
[{"$f":"lista1!A1591","v":0}]
[{"$f":"lista1!A1592","v":0}]
[{"$f":"lista1!A1593","v":0}]
[{"$f":"lista1!A1594","v":0}]
[{"$f":"lista1!A1595","v":0}]
[{"$f":"lista1!A1596","v":0}]
[{"$f":"lista1!A1597","v":0}]
[{"$f":"lista1!A1598","v":0}]
[{"$f":"lista1!A1599","v":0}]
[{"$f":"lista1!A1600","v":0}]
[{"$f":"lista1!A1601","v":0}]
[{"$f":"lista1!A1602","v":0}]
[{"$f":"lista1!A1603","v":0}]
[{"$f":"lista1!A1604","v":0}]
[{"$f":"lista1!A1605","v":0}]
[{"$f":"lista1!A1606","v":0}]
[{"$f":"lista1!A1607","v":0}]
[{"$f":"lista1!A1608","v":0}]
[{"$f":"lista1!A1609","v":0}]
[{"$f":"lista1!A1610","v":0}]
[{"$f":"lista1!A1611","v":0}]
[{"$f":"lista1!A1612","v":0}]
[{"$f":"lista1!A1613","v":0}]
[{"$f":"lista1!A1614","v":0}]
[{"$f":"lista1!A1615","v":0}]
[{"$f":"lista1!A1616","v":0}]
[{"$f":"lista1!A1617","v":0}]
[{"$f":"lista1!A1618","v":0}]
[{"$f":"lista1!A1619","v":0}]
[{"$f":"lista1!A1620","v":0}]
[{"$f":"lista1!A1621","v":0}]
[{"$f":"lista1!A1622","v":0}]
[{"$f":"lista1!A1623","v":0}]
[{"$f":"lista1!A1624","v":0}]
[{"$f":"lista1!A1625","v":0}]
[{"$f":"lista1!A1626","v":0}]
[{"$f":"lista1!A1627","v":0}]
[{"$f":"lista1!A1628","v":0}]
[{"$f":"lista1!A1629","v":0}]
[{"$f":"lista1!A1630","v":0}]
[{"$f":"lista1!A1631","v":0}]
[{"$f":"lista1!A1632","v":0}]
[{"$f":"lista1!A1633","v":0}]
[{"$f":"lista1!A1634","v":0}]
[{"$f":"lista1!A1635","v":0}]
[{"$f":"lista1!A1636","v":0}]
[{"$f":"lista1!A1637","v":0}]
[{"$f":"lista1!A1638","v":0}]
[{"$f":"lista1!A1639","v":0}]
[{"$f":"lista1!A1640","v":0}]
[{"$f":"lista1!A1641","v":0}]
[{"$f":"lista1!A1642","v":0}]
[{"$f":"lista1!A1643","v":0}]
[{"$f":"lista1!A1644","v":0}]
[{"$f":"lista1!A1645","v":0}]
[{"$f":"lista1!A1646","v":0}]
[{"$f":"lista1!A1647","v":0}]
[{"$f":"lista1!A1648","v":0}]
[{"$f":"lista1!A1649","v":0}]
[{"$f":"lista1!A1650","v":0}]
[{"$f":"lista1!A1651","v":0}]
[{"$f":"lista1!A1652","v":0}]
[{"$f":"lista1!A1653","v":0}]
[{"$f":"lista1!A1654","v":0}]
[{"$f":"lista1!A1655","v":0}]
[{"$f":"lista1!A1656","v":0}]
[{"$f":"lista1!A1657","v":0}]
[{"$f":"lista1!A1658","v":0}]
[{"$f":"lista1!A1659","v":0}]
[{"$f":"lista1!A1660","v":0}]
[{"$f":"lista1!A1661","v":0}]
[{"$f":"lista1!A1662","v":0}]
[{"$f":"lista1!A1663","v":0}]
[{"$f":"lista1!A1664","v":0}]
[{"$f":"lista1!A1665","v":0}]
[{"$f":"lista1!A1666","v":0}]
[{"$f":"lista1!A1667","v":0}]
[{"$f":"lista1!A1668","v":0}]
[{"$f":"lista1!A1669","v":0}]
[{"$f":"lista1!A1670","v":0}]
[{"$f":"lista1!A1671","v":0}]
[{"$f":"lista1!A1672","v":0}]
[{"$f":"lista1!A1673","v":0}]
[{"$f":"lista1!A1674","v":0}]
[{"$f":"lista1!A1675","v":0}]
[{"$f":"lista1!A1676","v":0}]
[{"$f":"lista1!A1677","v":0}]
[{"$f":"lista1!A1678","v":0}]
[{"$f":"lista1!A1679","v":0}]
[{"$f":"lista1!A1680","v":0}]
[{"$f":"lista1!A1681","v":0}]
[{"$f":"lista1!A1682","v":0}]
[{"$f":"lista1!A1683","v":0}]
[{"$f":"lista1!A1684","v":0}]
[{"$f":"lista1!A1685","v":0}]
[{"$f":"lista1!A1686","v":0}]
[{"$f":"lista1!A1687","v":0}]
[{"$f":"lista1!A1688","v":0}]
[{"$f":"lista1!A1689","v":0}]
[{"$f":"lista1!A1690","v":0}]
[{"$f":"lista1!A1691","v":0}]
[{"$f":"lista1!A1692","v":0}]
[{"$f":"lista1!A1693","v":0}]
[{"$f":"lista1!A1694","v":0}]
[{"$f":"lista1!A1695","v":0}]
[{"$f":"lista1!A1696","v":0}]
[{"$f":"lista1!A1697","v":0}]
[{"$f":"lista1!A1698","v":0}]
[{"$f":"lista1!A1699","v":0}]
[{"$f":"lista1!A1700","v":0}]
[{"$f":"lista1!A1701","v":0}]
[{"$f":"lista1!A1702","v":0}]
[{"$f":"lista1!A1703","v":0}]
[{"$f":"lista1!A1704","v":0}]
[{"$f":"lista1!A1705","v":0}]
[{"$f":"lista1!A1706","v":0}]
[{"$f":"lista1!A1707","v":0}]
[{"$f":"lista1!A1708","v":0}]
[{"$f":"lista1!A1709","v":0}]
[{"$f":"lista1!A1710","v":0}]
[{"$f":"lista1!A1711","v":0}]
[{"$f":"lista1!A1712","v":0}]
[{"$f":"lista1!A1713","v":0}]
[{"$f":"lista1!A1714","v":0}]
[{"$f":"lista1!A1715","v":0}]
[{"$f":"lista1!A1716","v":0}]
[{"$f":"lista1!A1717","v":0}]
[{"$f":"lista1!A1718","v":0}]
[{"$f":"lista1!A1719","v":0}]
[{"$f":"lista1!A1720","v":0}]
[{"$f":"lista1!A1721","v":0}]
[{"$f":"lista1!A1722","v":0}]
[{"$f":"lista1!A1723","v":0}]
[{"$f":"lista1!A1724","v":0}]
[{"$f":"lista1!A1725","v":0}]
[{"$f":"lista1!A1726","v":0}]
[{"$f":"lista1!A1727","v":0}]
[{"$f":"lista1!A1728","v":0}]
[{"$f":"lista1!A1729","v":0}]
[{"$f":"lista1!A1730","v":0}]
[{"$f":"lista1!A1731","v":0}]
[{"$f":"lista1!A1732","v":0}]
[{"$f":"lista1!A1733","v":0}]
[{"$f":"lista1!A1734","v":0}]
[{"$f":"lista1!A1735","v":0}]
[{"$f":"lista1!A1736","v":0}]
[{"$f":"lista1!A1737","v":0}]
[{"$f":"lista1!A1738","v":0}]
[{"$f":"lista1!A1739","v":0}]
[{"$f":"lista1!A1740","v":0}]
[{"$f":"lista1!A1741","v":0}]
[{"$f":"lista1!A1742","v":0}]
[{"$f":"lista1!A1743","v":0}]
[{"$f":"lista1!A1744","v":0}]
[{"$f":"lista1!A1745","v":0}]
[{"$f":"lista1!A1746","v":0}]
[{"$f":"lista1!A1747","v":0}]
[{"$f":"lista1!A1748","v":0}]
[{"$f":"lista1!A1749","v":0}]
[{"$f":"lista1!A1750","v":0}]
[{"$f":"lista1!A1751","v":0}]
[{"$f":"lista1!A1752","v":0}]
[{"$f":"lista1!A1753","v":0}]
[{"$f":"lista1!A1754","v":0}]
[{"$f":"lista1!A1755","v":0}]
[{"$f":"lista1!A1756","v":0}]
[{"$f":"lista1!A1757","v":0}]
[{"$f":"lista1!A1758","v":0}]
[{"$f":"lista1!A1759","v":0}]
[{"$f":"lista1!A1760","v":0}]
[{"$f":"lista1!A1761","v":0}]
[{"$f":"lista1!A1762","v":0}]
[{"$f":"lista1!A1763","v":0}]
[{"$f":"lista1!A1764","v":0}]
[{"$f":"lista1!A1765","v":0}]
[{"$f":"lista1!A1766","v":0}]
[{"$f":"lista1!A1767","v":0}]
[{"$f":"lista1!A1768","v":0}]
[{"$f":"lista1!A1769","v":0}]
[{"$f":"lista1!A1770","v":0}]
[{"$f":"lista1!A1771","v":0}]
[{"$f":"lista1!A1772","v":0}]
[{"$f":"lista1!A1773","v":0}]
[{"$f":"lista1!A1774","v":0}]
[{"$f":"lista1!A1775","v":0}]
[{"$f":"lista1!A1776","v":0}]
[{"$f":"lista1!A1777","v":0}]
[{"$f":"lista1!A1778","v":0}]
[{"$f":"lista1!A1779","v":0}]
[{"$f":"lista1!A1780","v":0}]
[{"$f":"lista1!A1781","v":0}]
[{"$f":"lista1!A1782","v":0}]
[{"$f":"lista1!A1783","v":0}]
[{"$f":"lista1!A1784","v":0}]
[{"$f":"lista1!A1785","v":0}]
[{"$f":"lista1!A1786","v":0}]
[{"$f":"lista1!A1787","v":0}]
[{"$f":"lista1!A1788","v":0}]
[{"$f":"lista1!A1789","v":0}]
[{"$f":"lista1!A1790","v":0}]
[{"$f":"lista1!A1791","v":0}]
[{"$f":"lista1!A1792","v":0}]
[{"$f":"lista1!A1793","v":0}]
[{"$f":"lista1!A1794","v":0}]
[{"$f":"lista1!A1795","v":0}]
[{"$f":"lista1!A1796","v":0}]
[{"$f":"lista1!A1797","v":0}]
[{"$f":"lista1!A1798","v":0}]
[{"$f":"lista1!A1799","v":0}]
[{"$f":"lista1!A1800","v":0}]
[{"$f":"lista1!A1801","v":0}]
[{"$f":"lista1!A1802","v":0}]
[{"$f":"lista1!A1803","v":0}]
[{"$f":"lista1!A1804","v":0}]
[{"$f":"lista1!A1805","v":0}]
[{"$f":"lista1!A1806","v":0}]
[{"$f":"lista1!A1807","v":0}]
[{"$f":"lista1!A1808","v":0}]
[{"$f":"lista1!A1809","v":0}]
[{"$f":"lista1!A1810","v":0}]
[{"$f":"lista1!A1811","v":0}]
[{"$f":"lista1!A1812","v":0}]
[{"$f":"lista1!A1813","v":0}]
[{"$f":"lista1!A1814","v":0}]
[{"$f":"lista1!A1815","v":0}]
[{"$f":"lista1!A1816","v":0}]
[{"$f":"lista1!A1817","v":0}]
[{"$f":"lista1!A1818","v":0}]
[{"$f":"lista1!A1819","v":0}]
[{"$f":"lista1!A1820","v":0}]
[{"$f":"lista1!A1821","v":0}]
[{"$f":"lista1!A1822","v":0}]
[{"$f":"lista1!A1823","v":0}]
[{"$f":"lista1!A1824","v":0}]
[{"$f":"lista1!A1825","v":0}]
[{"$f":"lista1!A1826","v":0}]
[{"$f":"lista1!A1827","v":0}]
[{"$f":"lista1!A1828","v":0}]
[{"$f":"lista1!A1829","v":0}]
[{"$f":"lista1!A1830","v":0}]
[{"$f":"lista1!A1831","v":0}]
[{"$f":"lista1!A1832","v":0}]
[{"$f":"lista1!A1833","v":0}]
[{"$f":"lista1!A1834","v":0}]
[{"$f":"lista1!A1835","v":0}]
[{"$f":"lista1!A1836","v":0}]
[{"$f":"lista1!A1837","v":0}]
[{"$f":"lista1!A1838","v":0}]
[{"$f":"lista1!A1839","v":0}]
[{"$f":"lista1!A1840","v":0}]
[{"$f":"lista1!A1841","v":0}]
[{"$f":"lista1!A1842","v":0}]
[{"$f":"lista1!A1843","v":0}]
[{"$f":"lista1!A1844","v":0}]
[{"$f":"lista1!A1845","v":0}]
[{"$f":"lista1!A1846","v":0}]
[{"$f":"lista1!A1847","v":0}]
[{"$f":"lista1!A1848","v":0}]
[{"$f":"lista1!A1849","v":0}]
[{"$f":"lista1!A1850","v":0}]
[{"$f":"lista1!A1851","v":0}]
[{"$f":"lista1!A1852","v":0}]
[{"$f":"lista1!A1853","v":0}]
[{"$f":"lista1!A1854","v":0}]
[{"$f":"lista1!A1855","v":0}]
[{"$f":"lista1!A1856","v":0}]
[{"$f":"lista1!A1857","v":0}]
[{"$f":"lista1!A1858","v":0}]
[{"$f":"lista1!A1859","v":0}]
[{"$f":"lista1!A1860","v":0}]
[{"$f":"lista1!A1861","v":0}]
[{"$f":"lista1!A1862","v":0}]
[{"$f":"lista1!A1863","v":0}]
[{"$f":"lista1!A1864","v":0}]
[{"$f":"lista1!A1865","v":0}]
[{"$f":"lista1!A1866","v":0}]
[{"$f":"lista1!A1867","v":0}]
[{"$f":"lista1!A1868","v":0}]
[{"$f":"lista1!A1869","v":0}]
[{"$f":"lista1!A1870","v":0}]
[{"$f":"lista1!A1871","v":0}]
[{"$f":"lista1!A1872","v":0}]
[{"$f":"lista1!A1873","v":0}]
[{"$f":"lista1!A1874","v":0}]
[{"$f":"lista1!A1875","v":0}]
[{"$f":"lista1!A1876","v":0}]
[{"$f":"lista1!A1877","v":0}]
[{"$f":"lista1!A1878","v":0}]
[{"$f":"lista1!A1879","v":0}]
[{"$f":"lista1!A1880","v":0}]
[{"$f":"lista1!A1881","v":0}]
[{"$f":"lista1!A1882","v":0}]
[{"$f":"lista1!A1883","v":0}]
[{"$f":"lista1!A1884","v":0}]
[{"$f":"lista1!A1885","v":0}]
[{"$f":"lista1!A1886","v":0}]
[{"$f":"lista1!A1887","v":0}]
[{"$f":"lista1!A1888","v":0}]
[{"$f":"lista1!A1889","v":0}]
[{"$f":"lista1!A1890","v":0}]
[{"$f":"lista1!A1891","v":0}]
[{"$f":"lista1!A1892","v":0}]
[{"$f":"lista1!A1893","v":0}]
[{"$f":"lista1!A1894","v":0}]
[{"$f":"lista1!A1895","v":0}]
[{"$f":"lista1!A1896","v":0}]
[{"$f":"lista1!A1897","v":0}]
[{"$f":"lista1!A1898","v":0}]
[{"$f":"lista1!A1899","v":0}]
[{"$f":"lista1!A1900","v":0}]
[{"$f":"lista1!A1901","v":0}]
[{"$f":"lista1!A1902","v":0}]
[{"$f":"lista1!A1903","v":0}]
[{"$f":"lista1!A1904","v":0}]
[{"$f":"lista1!A1905","v":0}]
[{"$f":"lista1!A1906","v":0}]
[{"$f":"lista1!A1907","v":0}]
[{"$f":"lista1!A1908","v":0}]
[{"$f":"lista1!A1909","v":0}]
[{"$f":"lista1!A1910","v":0}]
[{"$f":"lista1!A1911","v":0}]
[{"$f":"lista1!A1912","v":0}]
[{"$f":"lista1!A1913","v":0}]
[{"$f":"lista1!A1914","v":0}]
[{"$f":"lista1!A1915","v":0}]
[{"$f":"lista1!A1916","v":0}]
[{"$f":"lista1!A1917","v":0}]
[{"$f":"lista1!A1918","v":0}]
[{"$f":"lista1!A1919","v":0}]
[{"$f":"lista1!A1920","v":0}]
[{"$f":"lista1!A1921","v":0}]
[{"$f":"lista1!A1922","v":0}]
[{"$f":"lista1!A1923","v":0}]
[{"$f":"lista1!A1924","v":0}]
[{"$f":"lista1!A1925","v":0}]
[{"$f":"lista1!A1926","v":0}]
[{"$f":"lista1!A1927","v":0}]
[{"$f":"lista1!A1928","v":0}]
[{"$f":"lista1!A1929","v":0}]
[{"$f":"lista1!A1930","v":0}]
[{"$f":"lista1!A1931","v":0}]
[{"$f":"lista1!A1932","v":0}]
[{"$f":"lista1!A1933","v":0}]
[{"$f":"lista1!A1934","v":0}]
[{"$f":"lista1!A1935","v":0}]
[{"$f":"lista1!A1936","v":0}]
[{"$f":"lista1!A1937","v":0}]
[{"$f":"lista1!A1938","v":0}]
[{"$f":"lista1!A1939","v":0}]
[{"$f":"lista1!A1940","v":0}]
[{"$f":"lista1!A1941","v":0}]
[{"$f":"lista1!A1942","v":0}]
[{"$f":"lista1!A1943","v":0}]
[{"$f":"lista1!A1944","v":0}]
[{"$f":"lista1!A1945","v":0}]
[{"$f":"lista1!A1946","v":0}]
[{"$f":"lista1!A1947","v":0}]
[{"$f":"lista1!A1948","v":0}]
[{"$f":"lista1!A1949","v":0}]
[{"$f":"lista1!A1950","v":0}]
[{"$f":"lista1!A1951","v":0}]
[{"$f":"lista1!A1952","v":0}]
[{"$f":"lista1!A1953","v":0}]
[{"$f":"lista1!A1954","v":0}]
[{"$f":"lista1!A1955","v":0}]
[{"$f":"lista1!A1956","v":0}]
[{"$f":"lista1!A1957","v":0}]
[{"$f":"lista1!A1958","v":0}]
[{"$f":"lista1!A1959","v":0}]
[{"$f":"lista1!A1960","v":0}]
[{"$f":"lista1!A1961","v":0}]
[{"$f":"lista1!A1962","v":0}]
[{"$f":"lista1!A1963","v":0}]
[{"$f":"lista1!A1964","v":0}]
[{"$f":"lista1!A1965","v":0}]
[{"$f":"lista1!A1966","v":0}]
[{"$f":"lista1!A1967","v":0}]
[{"$f":"lista1!A1968","v":0}]
[{"$f":"lista1!A1969","v":0}]
[{"$f":"lista1!A1970","v":0}]
[{"$f":"lista1!A1971","v":0}]
[{"$f":"lista1!A1972","v":0}]
[{"$f":"lista1!A1973","v":0}]
[{"$f":"lista1!A1974","v":0}]
[{"$f":"lista1!A1975","v":0}]
[{"$f":"lista1!A1976","v":0}]
[{"$f":"lista1!A1977","v":0}]
[{"$f":"lista1!A1978","v":0}]
[{"$f":"lista1!A1979","v":0}]
[{"$f":"lista1!A1980","v":0}]
[{"$f":"lista1!A1981","v":0}]
[{"$f":"lista1!A1982","v":0}]
[{"$f":"lista1!A1983","v":0}]
[{"$f":"lista1!A1984","v":0}]
[{"$f":"lista1!A1985","v":0}]
[{"$f":"lista1!A1986","v":0}]
[{"$f":"lista1!A1987","v":0}]
[{"$f":"lista1!A1988","v":0}]
[{"$f":"lista1!A1989","v":0}]
[{"$f":"lista1!A1990","v":0}]
[{"$f":"lista1!A1991","v":0}]
[{"$f":"lista1!A1992","v":0}]
[{"$f":"lista1!A1993","v":0}]
[{"$f":"lista1!A1994","v":0}]
[{"$f":"lista1!A1995","v":0}]
[{"$f":"lista1!A1996","v":0}]
[{"$f":"lista1!A1997","v":0}]
[{"$f":"lista1!A1998","v":0}]
[{"$f":"lista1!A1999","v":0}]
[{"$f":"lista1!A2000","v":0}]
[{"$f":"lista1!A2317","v":0}]
[{"$f":"lista1!A2832","v":0}]
[{"$f":"lista1!A3053","v":0}]
[{"$f":"lista1!A4091","v":0}]
[{"$f":"lista1!A4312","v":0}]
[{"$f":"lista1!A5056","v":0}]
[{"$f":"lista1!A5571","v":0}]
[{"$f":"lista1!A5792","v":0}]
[{"$f":"lista1!A6307","v":0}]
[{"$f":"lista1!A7051","v":0}]
[{"$f":"lista1!A7272","v":0}]
[{"$f":"lista1!A7787","v":0}]
[{"$f":"lista1!A8531","v":0}]
[{"$f":"lista1!A9275","v":0}]
[{"$f":"lista1!A9790","v":0}]
[{"$f":"lista1!A10011","v":0}]
[{"$f":"lista1!A10526","v":0}]
[{"$f":"lista1!A11270","v":0}]
[{"$f":"lista1!A11491","v":0}]
[{"$f":"lista1!A12006","v":0}]
[{"$f":"lista1!A12750","v":0}]
[{"$f":"lista1!A13265","v":0}]
[{"$f":"lista1!A14009","v":0}]
[{"$f":"lista1!A14230","v":0}]
[{"$f":"lista1!A14745","v":0}]
[{"$f":"lista1!A15489","v":0}]
[{"$f":"lista1!A15922","v":0}]
[{"$f":"lista1!A16226","v":0}]
[{"$f":"lista1!A16970","v":0}]
[{"$f":"lista1!A17485","v":0}]
[{"$f":"lista1!A17706","v":0}]
[{"$f":"lista1!A18450","v":0}]
[{"$f":"lista1!A18965","v":0}]
[{"$f":"lista1!A19709","v":0}]
[{"$f":"lista1!A19930","v":0}]
[{"$f":"lista1!A20445","v":0}]
[{"$f":"lista1!A21189","v":0}]
[{"$f":"lista1!A21704","v":0}]
[{"$f":"lista1!A21925","v":0}]
[{"$f":"lista1!A22669","v":0}]
[{"$f":"lista1!A23184","v":0}]
[{"$f":"lista1!A23928","v":0}]
[{"$f":"lista1!A24443","v":0}]
[{"$f":"lista1!A24664","v":0}]
[{"$f":"lista1!A25408","v":0}]
[{"$f":"lista1!A25923","v":0}]
[{"$f":"lista1!A26144","v":0}]
[{"$f":"lista1!A26888","v":0}]
[{"$f":"lista1!A27403","v":0}]
[{"$f":"lista1!A28147","v":0}]
[{"$f":"lista1!A28662","v":0}]
[{"$f":"lista1!A28883","v":0}]
[{"$f":"lista1!A29551","v":0}]
[{"$f":"lista1!A30143","v":0}]
[{"$f":"lista1!A30364","v":0}]
[{"$f":"lista1!A30879","v":0}]
[{"$f":"lista1!A31623","v":0}]
[{"$f":"lista1!A31844","v":0}]
[{"$f":"lista1!A32359","v":0}]
[{"$f":"lista1!A33103","v":0}]
[{"$f":"lista1!A33847","v":0}]
[{"$f":"lista1!A34362","v":0}]
[{"$f":"lista1!A34583","v":0}]
[{"$f":"lista1!A35098","v":0}]
[{"$f":"lista1!A35842","v":0}]
[{"$f":"lista1!A36063","v":0}]
[{"$f":"lista1!A36578","v":0}]
[{"$f":"lista1!A37322","v":0}]
[{"$f":"lista1!A38066","v":0}]
[{"$f":"lista1!A38581","v":0}]
[{"$f":"lista1!A38802","v":0}]
[{"$f":"lista1!A39317","v":0}]
[{"$f":"lista1!A40061","v":0}]
[{"$f":"lista1!A40282","v":0}]
[{"$f":"lista1!A40797","v":0}]
[{"$f":"lista1!A41541","v":0}]
[{"$f":"lista1!A42056","v":0}]
[{"$f":"lista1!A42277","v":0}]
[{"$f":"lista1!A43180","v":0}]
[{"$f":"lista1!A43537","v":0}]
[{"$f":"lista1!A44281","v":0}]
[{"$f":"lista1!A44502","v":0}]
[{"$f":"lista1!A45017","v":0}]
[{"$f":"lista1!A45761","v":0}]
[{"$f":"lista1!A46276","v":0}]
[{"$f":"lista1!A46497","v":0}]
[{"$f":"lista1!A47241","v":0}]
[{"$f":"lista1!A47756","v":0}]
[{"$f":"lista1!A48500","v":0}]
[{"$f":"lista1!A48721","v":0}]
[{"$f":"lista1!A49236","v":0}]
[{"$f":"lista1!A49980","v":0}]
[{"$f":"lista1!A50495","v":0}]
[{"$f":"lista1!A50716","v":0}]
[{"$f":"lista1!A51460","v":0}]
[{"$f":"lista1!A51975","v":0}]
[{"$f":"lista1!A52719","v":0}]
[{"$f":"lista1!A53234","v":0}]
[{"$f":"lista1!A53455","v":0}]
[{"$f":"lista1!A54199","v":0}]
[{"$f":"lista1!A54714","v":0}]
[{"$f":"lista1!A54935","v":0}]
[{"$f":"lista1!A55679","v":0}]
[{"$f":"lista1!A56194","v":0}]
[{"$f":"lista1!A56415","v":0}]
[{"$f":"lista1!A57385","v":0}]
[{"$f":"lista1!A57675","v":0}]
[{"$f":"lista1!A58419","v":0}]
[{"$f":"lista1!A58934","v":0}]
[{"$f":"lista1!A59155","v":0}]
[{"$f":"lista1!A59670","v":0}]
[{"$f":"lista1!A60414","v":0}]
[{"$f":"lista1!A60635","v":0}]
[{"$f":"lista1!A61150","v":0}]
[{"$f":"lista1!A61894","v":0}]
[{"$f":"lista1!A62638","v":0}]
[{"$f":"lista1!A63153","v":0}]
[{"$f":"lista1!A63374","v":0}]
[{"$f":"lista1!A63889","v":0}]
[{"$f":"lista1!A64633","v":0}]
[{"$f":"lista1!A64854","v":0}]
[{"$f":"lista1!A65369","v":0}]
[{"$f":"lista1!A66113","v":0}]
[{"$f":"lista1!A66334","v":0}]
[{"$f":"lista1!A67372","v":0}]
[{"$f":"lista1!A67593","v":0}]
[{"$f":"lista1!A68108","v":0}]
[{"$f":"lista1!A68852","v":0}]
[{"$f":"lista1!A69073","v":0}]
[{"$f":"lista1!A69588","v":0}]
[{"$f":"lista1!A70332","v":0}]
[{"$f":"lista1!A71014","v":0}]
[{"$f":"lista1!A71069","v":0}]
[{"$f":"lista1!A71813","v":0}]
[{"$f":"lista1!A72328","v":0}]
[{"$f":"lista1!A73072","v":0}]
[{"$f":"lista1!A73293","v":0}]
[{"$f":"lista1!A73808","v":0}]
[{"$f":"lista1!A74552","v":0}]
[{"$f":"lista1!A75067","v":0}]
[{"$f":"lista1!A75288","v":0}]
[{"$f":"lista1!A76032","v":0}]
[{"$f":"lista1!A76547","v":0}]
[{"$f":"lista1!A77291","v":0}]
[{"$f":"lista1!A77806","v":0}]
[{"$f":"lista1!A78027","v":0}]
[{"$f":"lista1!A78771","v":0}]
[{"$f":"lista1!A79286","v":0}]
[{"$f":"lista1!A79507","v":0}]
[{"$f":"lista1!A80251","v":0}]
[{"$f":"lista1!A80766","v":0}]
[{"$f":"lista1!A80987","v":0}]
[{"$f":"lista1!A81502","v":0}]
[{"$f":"lista1!A82246","v":0}]
[{"$f":"lista1!A82990","v":0}]
[{"$f":"lista1!A83505","v":0}]
[{"$f":"lista1!A83726","v":0}]
[{"$f":"lista1!A84395","v":0}]
[{"$f":"lista1!A84986","v":0}]
[{"$f":"lista1!A85207","v":0}]
[{"$f":"lista1!A85722","v":0}]
[{"$f":"lista1!A86466","v":0}]
[{"$f":"lista1!A87210","v":0}]
[{"$f":"lista1!A87725","v":0}]
[{"$f":"lista1!A87946","v":0}]
[{"$f":"lista1!A88461","v":0}]
[{"$f":"lista1!A89205","v":0}]
[{"$f":"lista1!A89426","v":0}]
[{"$f":"lista1!A89941","v":0}]
[{"$f":"lista1!A90685","v":0}]
[{"$f":"lista1!A91429","v":0}]
[{"$f":"lista1!A91944","v":0}]
[{"$f":"lista1!A92165","v":0}]
[{"$f":"lista1!A92680","v":0}]
[{"$f":"lista1!A93424","v":0}]
[{"$f":"lista1!A93645","v":0}]
[{"$f":"lista1!A94160","v":0}]
[{"$f":"lista1!A94904","v":0}]
[{"$f":"lista1!A95125","v":0}]
[{"$f":"lista1!A95640","v":0}]
[{"$f":"lista1!A96384","v":0}]
[{"$f":"lista1!A96899","v":0}]
[{"$f":"lista1!A97643","v":0}]
[{"$f":"lista1!A97864","v":0}]
[{"$f":"lista1!A98600","v":0}]
[{"$f":"lista1!A99124","v":0}]
[{"$f":"lista1!A99639","v":0}]
[{"$f":"lista1!A99860","v":0}]
[{"$f":"lista1!A100604","v":0}]
[{"$f":"lista1!A101119","v":0}]
[{"$f":"lista1!A101863","v":0}]
[{"$f":"lista1!A102084","v":0}]
[{"$f":"lista1!A102599","v":0}]
[{"$f":"lista1!A103343","v":0}]
[{"$f":"lista1!A103858","v":0}]
[{"$f":"lista1!A104079","v":0}]
[{"$f":"lista1!A104823","v":0}]
[{"$f":"lista1!A105338","v":0}]
[{"$f":"lista1!A106082","v":0}]
[{"$f":"lista1!A106597","v":0}]
[{"$f":"lista1!A106818","v":0}]
[{"$f":"lista1!A107562","v":0}]
[{"$f":"lista1!A108077","v":0}]
[{"$f":"lista1!A108298","v":0}]
[{"$f":"lista1!A109042","v":0}]
[{"$f":"lista1!A109557","v":0}]
[{"$f":"lista1!A109778","v":0}]
[{"$f":"lista1!A110293","v":0}]
[{"$f":"lista1!A111037","v":0}]
[{"$f":"lista1!A111781","v":0}]
[{"$f":"lista1!A112229","v":0}]
[{"$f":"lista1!A112518","v":0}]
[{"$f":"lista1!A113262","v":0}]
[{"$f":"lista1!A113777","v":0}]
[{"$f":"lista1!A113998","v":0}]
[{"$f":"lista1!A114513","v":0}]
[{"$f":"lista1!A115257","v":0}]
[{"$f":"lista1!A116001","v":0}]
[{"$f":"lista1!A116516","v":0}]
[{"$f":"lista1!A116737","v":0}]
[{"$f":"lista1!A117252","v":0}]
[{"$f":"lista1!A117996","v":0}]
[{"$f":"lista1!A118217","v":0}]
[{"$f":"lista1!A118732","v":0}]
[{"$f":"lista1!A119476","v":0}]
[{"$f":"lista1!A119697","v":0}]
[{"$f":"lista1!A120212","v":0}]
[{"$f":"lista1!A120956","v":0}]
[{"$f":"lista1!A121471","v":0}]
[{"$f":"lista1!A122215","v":0}]
[{"$f":"lista1!A122436","v":0}]
[{"$f":"lista1!A122951","v":0}]
[{"$f":"lista1!A123695","v":0}]
[{"$f":"lista1!A123916","v":0}]
[{"$f":"lista1!A124431","v":0}]
[{"$f":"lista1!A125175","v":0}]
[{"$f":"lista1!A125858","v":0}]
[{"$f":"lista1!A126435","v":0}]
[{"$f":"lista1!A126656","v":0}]
[{"$f":"lista1!A127171","v":0}]
[{"$f":"lista1!A127915","v":0}]
[{"$f":"lista1!A128430","v":0}]
[{"$f":"lista1!A128651","v":0}]
[{"$f":"lista1!A129395","v":0}]
[{"$f":"lista1!A129910","v":0}]
[{"$f":"lista1!A130654","v":0}]
[{"$f":"lista1!A130875","v":0}]
[{"$f":"lista1!A131390","v":0}]
[{"$f":"lista1!A132134","v":0}]
[{"$f":"lista1!A132649","v":0}]
[{"$f":"lista1!A132870","v":0}]
[{"$f":"lista1!A133614","v":0}]
[{"$f":"lista1!A134129","v":0}]
[{"$f":"lista1!A134350","v":0}]
[{"$f":"lista1!A134865","v":0}]
[{"$f":"lista1!A135609","v":0}]
[{"$f":"lista1!A136353","v":0}]
[{"$f":"lista1!A136868","v":0}]
[{"$f":"lista1!A137089","v":0}]
[{"$f":"lista1!A137833","v":0}]
[{"$f":"lista1!A138348","v":0}]
[{"$f":"lista1!A138569","v":0}]
[{"$f":"lista1!A139084","v":0}]
[{"$f":"lista1!A139815","v":0}]
[{"$f":"lista1!A140573","v":0}]
[{"$f":"lista1!A141088","v":0}]
[{"$f":"lista1!A141309","v":0}]
[{"$f":"lista1!A142053","v":0}]
[{"$f":"lista1!A142568","v":0}]
[{"$f":"lista1!A142789","v":0}]
[{"$f":"lista1!A143304","v":0}]
[{"$f":"lista1!A144048","v":0}]
[{"$f":"lista1!A144269","v":0}]
[{"$f":"lista1!A145307","v":0}]
[{"$f":"lista1!A145528","v":0}]
[{"$f":"lista1!A146043","v":0}]
[{"$f":"lista1!A146787","v":0}]
[{"$f":"lista1!A147008","v":0}]
[{"$f":"lista1!A147523","v":0}]
[{"$f":"lista1!A148267","v":0}]
[{"$f":"lista1!A148488","v":0}]
[{"$f":"lista1!A149003","v":0}]
[{"$f":"lista1!A149747","v":0}]
[{"$f":"lista1!A150262","v":0}]
[{"$f":"lista1!A151006","v":0}]
[{"$f":"lista1!A151227","v":0}]
[{"$f":"lista1!A151742","v":0}]
[{"$f":"lista1!A152486","v":0}]
[{"$f":"lista1!A153001","v":0}]
[{"$f":"lista1!A153444","v":0}]
[{"$f":"lista1!A153967","v":0}]
[{"$f":"lista1!A154482","v":0}]
[{"$f":"lista1!A155226","v":0}]
[{"$f":"lista1!A155447","v":0}]
[{"$f":"lista1!A155962","v":0}]
[{"$f":"lista1!A156706","v":0}]
[{"$f":"lista1!A157221","v":0}]
[{"$f":"lista1!A157442","v":0}]
[{"$f":"lista1!A158186","v":0}]
[{"$f":"lista1!A158701","v":0}]
[{"$f":"lista1!A158922","v":0}]
[{"$f":"lista1!A159666","v":0}]
[{"$f":"lista1!A160181","v":0}]
[{"$f":"lista1!A160925","v":0}]
[{"$f":"lista1!A161440","v":0}]
[{"$f":"lista1!A161661","v":0}]
[{"$f":"lista1!A162405","v":0}]
[{"$f":"lista1!A162920","v":0}]
[{"$f":"lista1!A163141","v":0}]
[{"$f":"lista1!A163656","v":0}]
[{"$f":"lista1!A164400","v":0}]
[{"$f":"lista1!A165144","v":0}]
[{"$f":"lista1!A165659","v":0}]
[{"$f":"lista1!A165880","v":0}]
[{"$f":"lista1!A166624","v":0}]
[{"$f":"lista1!A167073","v":0}]
[{"$f":"lista1!A167361","v":0}]
[{"$f":"lista1!A167876","v":0}]
[{"$f":"lista1!A168620","v":0}]
[{"$f":"lista1!A169364","v":0}]
[{"$f":"lista1!A169879","v":0}]
[{"$f":"lista1!A170100","v":0}]
[{"$f":"lista1!A170844","v":0}]
[{"$f":"lista1!A171359","v":0}]
[{"$f":"lista1!A171580","v":0}]
[{"$f":"lista1!A172095","v":0}]
[{"$f":"lista1!A172839","v":0}]
[{"$f":"lista1!A173060","v":0}]
[{"$f":"lista1!A173575","v":0}]
[{"$f":"lista1!A174319","v":0}]
[{"$f":"lista1!A174834","v":0}]
[{"$f":"lista1!A175578","v":0}]
[{"$f":"lista1!A175799","v":0}]
[{"$f":"lista1!A176314","v":0}]
[{"$f":"lista1!A177058","v":0}]
[{"$f":"lista1!A177279","v":0}]
[{"$f":"lista1!A177794","v":0}]
[{"$f":"lista1!A178538","v":0}]
[{"$f":"lista1!A179053","v":0}]
[{"$f":"lista1!A179797","v":0}]
[{"$f":"lista1!A180018","v":0}]
[{"$f":"lista1!A180533","v":0}]
[{"$f":"lista1!A181030","v":0}]
[{"$f":"lista1!A181793","v":0}]
[{"$f":"lista1!A182014","v":0}]
[{"$f":"lista1!A182758","v":0}]
[{"$f":"lista1!A183273","v":0}]
[{"$f":"lista1!A184017","v":0}]
[{"$f":"lista1!A184238","v":0}]
[{"$f":"lista1!A184753","v":0}]
[{"$f":"lista1!A185497","v":0}]
[{"$f":"lista1!A186012","v":0}]
[{"$f":"lista1!A186233","v":0}]
[{"$f":"lista1!A186977","v":0}]
[{"$f":"lista1!A187492","v":0}]
[{"$f":"lista1!A187713","v":0}]
[{"$f":"lista1!A188457","v":0}]
[{"$f":"lista1!A188972","v":0}]
[{"$f":"lista1!A189716","v":0}]
[{"$f":"lista1!A190231","v":0}]
[{"$f":"lista1!A190452","v":0}]
[{"$f":"lista1!A191196","v":0}]
[{"$f":"lista1!A191711","v":0}]
[{"$f":"lista1!A191932","v":0}]
[{"$f":"lista1!A192447","v":0}]
[{"$f":"lista1!A193191","v":0}]
[{"$f":"lista1!A193935","v":0}]
[{"$f":"lista1!A194450","v":0}]
[{"$f":"lista1!A194659","v":0}]
[{"$f":"lista1!A195416","v":0}]
[{"$f":"lista1!A195931","v":0}]
[{"$f":"lista1!A196152","v":0}]
[{"$f":"lista1!A196667","v":0}]
[{"$f":"lista1!A197411","v":0}]
[{"$f":"lista1!A197632","v":0}]
[{"$f":"lista1!A198147","v":0}]
[{"$f":"lista1!A198891","v":0}]
[{"$f":"lista1!A199406","v":0}]
[{"$f":"lista1!A200150","v":0}]
[{"$f":"lista1!A200371","v":0}]
[{"$f":"lista1!A200886","v":0}]
[{"$f":"lista1!A201630","v":0}]
[{"$f":"lista1!A201851","v":0}]
[{"$f":"lista1!A202366","v":0}]
[{"$f":"lista1!A203110","v":0}]
[{"$f":"lista1!A203625","v":0}]
[{"$f":"lista1!A204369","v":0}]
[{"$f":"lista1!A204590","v":0}]
[{"$f":"lista1!A205105","v":0}]
[{"$f":"lista1!A205849","v":0}]
[{"$f":"lista1!A206070","v":0}]
[{"$f":"lista1!A206585","v":0}]
[{"$f":"lista1!A207329","v":0}]
[{"$f":"lista1!A207844","v":0}]
[{"$f":"lista1!A208288","v":0}]
[{"$f":"lista1!A208810","v":0}]
[{"$f":"lista1!A209325","v":0}]
[{"$f":"lista1!A210069","v":0}]
[{"$f":"lista1!A210584","v":0}]
[{"$f":"lista1!A210805","v":0}]
[{"$f":"lista1!A211549","v":0}]
[{"$f":"lista1!A212064","v":0}]
[{"$f":"lista1!A212285","v":0}]
[{"$f":"lista1!A213029","v":0}]
[{"$f":"lista1!A213544","v":0}]
[{"$f":"lista1!A214288","v":0}]
[{"$f":"lista1!A214803","v":0}]
[{"$f":"lista1!A215024","v":0}]
[{"$f":"lista1!A215768","v":0}]
[{"$f":"lista1!A216283","v":0}]
[{"$f":"lista1!A216504","v":0}]
[{"$f":"lista1!A217248","v":0}]
[{"$f":"lista1!A217763","v":0}]
[{"$f":"lista1!A218507","v":0}]
[{"$f":"lista1!A219022","v":0}]
[{"$f":"lista1!A219243","v":0}]
[{"$f":"lista1!A219987","v":0}]
[{"$f":"lista1!A220502","v":0}]
[{"$f":"lista1!A220723","v":0}]
[{"$f":"lista1!A221238","v":0}]
[{"$f":"lista1!A221982","v":0}]
[{"$f":"lista1!A222245","v":0}]
[{"$f":"lista1!A223242","v":0}]
[{"$f":"lista1!A223463","v":0}]
[{"$f":"lista1!A224207","v":0}]
[{"$f":"lista1!A224722","v":0}]
[{"$f":"lista1!A224943","v":0}]
[{"$f":"lista1!A225458","v":0}]
[{"$f":"lista1!A226202","v":0}]
[{"$f":"lista1!A226423","v":0}]
[{"$f":"lista1!A226938","v":0}]
[{"$f":"lista1!A227682","v":0}]
[{"$f":"lista1!A228197","v":0}]
[{"$f":"lista1!A228941","v":0}]
[{"$f":"lista1!A229162","v":0}]
[{"$f":"lista1!A229677","v":0}]
[{"$f":"lista1!A230421","v":0}]
[{"$f":"lista1!A230642","v":0}]
[{"$f":"lista1!A231157","v":0}]
[{"$f":"lista1!A231901","v":0}]
[{"$f":"lista1!A232416","v":0}]
[{"$f":"lista1!A233160","v":0}]
[{"$f":"lista1!A233381","v":0}]
[{"$f":"lista1!A233896","v":0}]
[{"$f":"lista1!A234640","v":0}]
[{"$f":"lista1!A234861","v":0}]
[{"$f":"lista1!A235376","v":0}]
[{"$f":"lista1!A235874","v":0}]
[{"$f":"lista1!A236636","v":0}]
[{"$f":"lista1!A236857","v":0}]
[{"$f":"lista1!A237601","v":0}]
[{"$f":"lista1!A238116","v":0}]
[{"$f":"lista1!A238860","v":0}]
[{"$f":"lista1!A239375","v":0}]
[{"$f":"lista1!A239596","v":0}]
[{"$f":"lista1!A240340","v":0}]
[{"$f":"lista1!A240855","v":0}]
[{"$f":"lista1!A241076","v":0}]
[{"$f":"lista1!A241820","v":0}]
[{"$f":"lista1!A242335","v":0}]
[{"$f":"lista1!A243079","v":0}]
[{"$f":"lista1!A243594","v":0}]
[{"$f":"lista1!A243815","v":0}]
[{"$f":"lista1!A244559","v":0}]
[{"$f":"lista1!A245074","v":0}]
[{"$f":"lista1!A245295","v":0}]
[{"$f":"lista1!A246039","v":0}]
[{"$f":"lista1!A246554","v":0}]
[{"$f":"lista1!A247298","v":0}]
[{"$f":"lista1!A247813","v":0}]
[{"$f":"lista1!A248034","v":0}]
[{"$f":"lista1!A248778","v":0}]
[{"$f":"lista1!A249293","v":0}]
[{"$f":"lista1!A249503","v":0}]
[{"$f":"lista1!A250030","v":0}]
[{"$f":"lista1!A250774","v":0}]
[{"$f":"lista1!A250995","v":0}]
[{"$f":"lista1!A251510","v":0}]
[{"$f":"lista1!A252254","v":0}]
[{"$f":"lista1!A252998","v":0}]
[{"$f":"lista1!A253513","v":0}]
[{"$f":"lista1!A253734","v":0}]
[{"$f":"lista1!A254249","v":0}]
[{"$f":"lista1!A254993","v":0}]
[{"$f":"lista1!A255214","v":0}]
[{"$f":"lista1!A255729","v":0}]
[{"$f":"lista1!A256473","v":0}]
[{"$f":"lista1!A256988","v":0}]
[{"$f":"lista1!A257732","v":0}]
[{"$f":"lista1!A257953","v":0}]
[{"$f":"lista1!A258468","v":0}]
[{"$f":"lista1!A259212","v":0}]
[{"$f":"lista1!A259433","v":0}]
[{"$f":"lista1!A259948","v":0}]
[{"$f":"lista1!A260692","v":0}]
[{"$f":"lista1!A261207","v":0}]
[{"$f":"lista1!A261428","v":0}]
[{"$f":"lista1!A262172","v":0}]
[{"$f":"lista1!A262687","v":0}]
[{"$f":"lista1!A263132","v":0}]
[{"$f":"lista1!A263653","v":0}]
[{"$f":"lista1!A264168","v":0}]
[{"$f":"lista1!A264912","v":0}]
[{"$f":"lista1!A265427","v":0}]
[{"$f":"lista1!A265648","v":0}]
[{"$f":"lista1!A266392","v":0}]
[{"$f":"lista1!A266907","v":0}]
[{"$f":"lista1!A267651","v":0}]
[{"$f":"lista1!A268166","v":0}]
[{"$f":"lista1!A268387","v":0}]
[{"$f":"lista1!A269131","v":0}]
[{"$f":"lista1!A269646","v":0}]
[{"$f":"lista1!A269867","v":0}]
[{"$f":"lista1!A270611","v":0}]
[{"$f":"lista1!A271126","v":0}]
[{"$f":"lista1!A271870","v":0}]
[{"$f":"lista1!A272385","v":0}]
[{"$f":"lista1!A272606","v":0}]
[{"$f":"lista1!A273350","v":0}]
[{"$f":"lista1!A273865","v":0}]
[{"$f":"lista1!A274086","v":0}]
[{"$f":"lista1!A274601","v":0}]
[{"$f":"lista1!A275345","v":0}]
[{"$f":"lista1!A275566","v":0}]
[{"$f":"lista1!A276081","v":0}]
[{"$f":"lista1!A276825","v":0}]
[{"$f":"lista1!A277613","v":0}]
[{"$f":"lista1!A278085","v":0}]
[{"$f":"lista1!A278306","v":0}]
[{"$f":"lista1!A278821","v":0}]
[{"$f":"lista1!A279565","v":0}]
[{"$f":"lista1!A279786","v":0}]
[{"$f":"lista1!A280301","v":0}]
[{"$f":"lista1!A281045","v":0}]
[{"$f":"lista1!A281789","v":0}]
[{"$f":"lista1!A282304","v":0}]
[{"$f":"lista1!A282525","v":0}]
[{"$f":"lista1!A283040","v":0}]
[{"$f":"lista1!A283784","v":0}]
[{"$f":"lista1!A284005","v":0}]
[{"$f":"lista1!A284520","v":0}]
[{"$f":"lista1!A285264","v":0}]
[{"$f":"lista1!A285779","v":0}]
[{"$f":"lista1!A286523","v":0}]
[{"$f":"lista1!A286744","v":0}]
[{"$f":"lista1!A287259","v":0}]
[{"$f":"lista1!A288003","v":0}]
[{"$f":"lista1!A288224","v":0}]
[{"$f":"lista1!A288739","v":0}]
[{"$f":"lista1!A289483","v":0}]
[{"$f":"lista1!A289998","v":0}]
[{"$f":"lista1!A290219","v":0}]
[{"$f":"lista1!A290718","v":0}]
[{"$f":"lista1!A291479","v":0}]
[{"$f":"lista1!A292223","v":0}]
[{"$f":"lista1!A292444","v":0}]
[{"$f":"lista1!A292959","v":0}]
[{"$f":"lista1!A293703","v":0}]
[{"$f":"lista1!A294218","v":0}]
[{"$f":"lista1!A294439","v":0}]
[{"$f":"lista1!A295183","v":0}]
[{"$f":"lista1!A295698","v":0}]
[{"$f":"lista1!A296442","v":0}]
[{"$f":"lista1!A296957","v":0}]
[{"$f":"lista1!A297178","v":0}]
[{"$f":"lista1!A297922","v":0}]
[{"$f":"lista1!A298437","v":0}]
[{"$f":"lista1!A298658","v":0}]
[{"$f":"lista1!A299402","v":0}]
[{"$f":"lista1!A299917","v":0}]
[{"$f":"lista1!A300138","v":0}]
[{"$f":"lista1!A301176","v":0}]
[{"$f":"lista1!A301397","v":0}]
[{"$f":"lista1!A302141","v":0}]
[{"$f":"lista1!A302656","v":0}]
[{"$f":"lista1!A302877","v":0}]
[{"$f":"lista1!A303392","v":0}]
[{"$f":"lista1!A304136","v":0}]
[{"$f":"lista1!A304347","v":0}]
[{"$f":"lista1!A304873","v":0}]
[{"$f":"lista1!A305617","v":0}]
[{"$f":"lista1!A306361","v":0}]
[{"$f":"lista1!A306876","v":0}]
[{"$f":"lista1!A307097","v":0}]
[{"$f":"lista1!A307612","v":0}]
[{"$f":"lista1!A308356","v":0}]
[{"$f":"lista1!A308577","v":0}]
[{"$f":"lista1!A309092","v":0}]
[{"$f":"lista1!A309836","v":0}]
[{"$f":"lista1!A310580","v":0}]
[{"$f":"lista1!A311095","v":0}]
[{"$f":"lista1!A311316","v":0}]
[{"$f":"lista1!A311831","v":0}]
[{"$f":"lista1!A312575","v":0}]
[{"$f":"lista1!A312796","v":0}]
[{"$f":"lista1!A313311","v":0}]
[{"$f":"lista1!A314055","v":0}]
[{"$f":"lista1!A314570","v":0}]
[{"$f":"lista1!A314791","v":0}]
[{"$f":"lista1!A315535","v":0}]
[{"$f":"lista1!A316050","v":0}]
[{"$f":"lista1!A316794","v":0}]
[{"$f":"lista1!A317015","v":0}]
[{"$f":"lista1!A317530","v":0}]
[{"$f":"lista1!A318274","v":0}]
[{"$f":"lista1!A318552","v":0}]
[{"$f":"lista1!A319011","v":0}]
[{"$f":"lista1!A319755","v":0}]
[{"$f":"lista1!A320270","v":0}]
[{"$f":"lista1!A321014","v":0}]
[{"$f":"lista1!A321235","v":0}]
[{"$f":"lista1!A321750","v":0}]
[{"$f":"lista1!A322494","v":0}]
[{"$f":"lista1!A323009","v":0}]
[{"$f":"lista1!A323230","v":0}]
[{"$f":"lista1!A323974","v":0}]
[{"$f":"lista1!A324489","v":0}]
[{"$f":"lista1!A325233","v":0}]
[{"$f":"lista1!A325748","v":0}]
[{"$f":"lista1!A325969","v":0}]
[{"$f":"lista1!A326713","v":0}]
[{"$f":"lista1!A327228","v":0}]
[{"$f":"lista1!A327449","v":0}]
[{"$f":"lista1!A328193","v":0}]
[{"$f":"lista1!A328708","v":0}]
[{"$f":"lista1!A328929","v":0}]
[{"$f":"lista1!A329444","v":0}]
[{"$f":"lista1!A330188","v":0}]
[{"$f":"lista1!A330932","v":0}]
[{"$f":"lista1!A331447","v":0}]
[{"$f":"lista1!A331668","v":0}]
[{"$f":"lista1!A332181","v":0}]
[{"$f":"lista1!A332928","v":0}]
[{"$f":"lista1!A333149","v":0}]
[{"$f":"lista1!A333664","v":0}]
[{"$f":"lista1!A334408","v":0}]
[{"$f":"lista1!A335152","v":0}]
[{"$f":"lista1!A335667","v":0}]
[{"$f":"lista1!A335888","v":0}]
[{"$f":"lista1!A336403","v":0}]
[{"$f":"lista1!A337147","v":0}]
[{"$f":"lista1!A337368","v":0}]
[{"$f":"lista1!A337883","v":0}]
[{"$f":"lista1!A338627","v":0}]
[{"$f":"lista1!A338848","v":0}]
[{"$f":"lista1!A339363","v":0}]
[{"$f":"lista1!A340107","v":0}]
[{"$f":"lista1!A340622","v":0}]
[{"$f":"lista1!A341366","v":0}]
[{"$f":"lista1!A341587","v":0}]
[{"$f":"lista1!A342102","v":0}]
[{"$f":"lista1!A342846","v":0}]
[{"$f":"lista1!A343361","v":0}]
[{"$f":"lista1!A343582","v":0}]
[{"$f":"lista1!A344326","v":0}]
[{"$f":"lista1!A344841","v":0}]
[{"$f":"lista1!A345585","v":0}]
[{"$f":"lista1!A346086","v":0}]
[{"$f":"lista1!A346322","v":0}]
[{"$f":"lista1!A347066","v":0}]
[{"$f":"lista1!A347581","v":0}]
[{"$f":"lista1!A347802","v":0}]
[{"$f":"lista1!A348546","v":0}]
[{"$f":"lista1!A349061","v":0}]
[{"$f":"lista1!A349805","v":0}]
[{"$f":"lista1!A350320","v":0}]
[{"$f":"lista1!A350541","v":0}]
[{"$f":"lista1!A351285","v":0}]
[{"$f":"lista1!A351800","v":0}]
[{"$f":"lista1!A352021","v":0}]
[{"$f":"lista1!A352765","v":0}]
[{"$f":"lista1!A353280","v":0}]
[{"$f":"lista1!A353501","v":0}]
[{"$f":"lista1!A354016","v":0}]
[{"$f":"lista1!A354760","v":0}]
[{"$f":"lista1!A355504","v":0}]
[{"$f":"lista1!A356019","v":0}]
[{"$f":"lista1!A356240","v":0}]
[{"$f":"lista1!A356984","v":0}]
[{"$f":"lista1!A357499","v":0}]
[{"$f":"lista1!A357720","v":0}]
[{"$f":"lista1!A358235","v":0}]
[{"$f":"lista1!A358979","v":0}]
[{"$f":"lista1!A359723","v":0}]
[{"$f":"lista1!A359767","v":0}]
[{"$f":"lista1!A360460","v":0}]
[{"$f":"lista1!A360975","v":0}]
[{"$f":"lista1!A361719","v":0}]
[{"$f":"lista1!A361940","v":0}]
[{"$f":"lista1!A362455","v":0}]
[{"$f":"lista1!A363199","v":0}]
[{"$f":"lista1!A363420","v":0}]
[{"$f":"lista1!A364458","v":0}]
[{"$f":"lista1!A364679","v":0}]
[{"$f":"lista1!A365194","v":0}]
[{"$f":"lista1!A365938","v":0}]
[{"$f":"lista1!A366159","v":0}]
[{"$f":"lista1!A366674","v":0}]
[{"$f":"lista1!A367418","v":0}]
[{"$f":"lista1!A367639","v":0}]
[{"$f":"lista1!A368154","v":0}]
[{"$f":"lista1!A368898","v":0}]
[{"$f":"lista1!A369413","v":0}]
[{"$f":"lista1!A370157","v":0}]
[{"$f":"lista1!A370378","v":0}]
[{"$f":"lista1!A370893","v":0}]
[{"$f":"lista1!A371637","v":0}]
[{"$f":"lista1!A372152","v":0}]
[{"$f":"lista1!A372373","v":0}]
[{"$f":"lista1!A373117","v":0}]
[{"$f":"lista1!A373396","v":0}]
[{"$f":"lista1!A374377","v":0}]
[{"$f":"lista1!A374598","v":0}]
[{"$f":"lista1!A375113","v":0}]
[{"$f":"lista1!A375857","v":0}]
[{"$f":"lista1!A376372","v":0}]
[{"$f":"lista1!A376593","v":0}]
[{"$f":"lista1!A377337","v":0}]
[{"$f":"lista1!A377852","v":0}]
[{"$f":"lista1!A378073","v":0}]
[{"$f":"lista1!A378588","v":0}]
[{"$f":"lista1!A379332","v":0}]
[{"$f":"lista1!A380076","v":0}]
[{"$f":"lista1!A380591","v":0}]
[{"$f":"lista1!A380812","v":0}]
[{"$f":"lista1!A381556","v":0}]
[{"$f":"lista1!A382071","v":0}]
[{"$f":"lista1!A382292","v":0}]
[{"$f":"lista1!A382807","v":0}]
[{"$f":"lista1!A383551","v":0}]
[{"$f":"lista1!A384295","v":0}]
[{"$f":"lista1!A384810","v":0}]
[{"$f":"lista1!A385031","v":0}]
[{"$f":"lista1!A385775","v":0}]
[{"$f":"lista1!A386290","v":0}]
[{"$f":"lista1!A386511","v":0}]
[{"$f":"lista1!A387025","v":0}]
[{"$f":"lista1!A387771","v":0}]
[{"$f":"lista1!A388515","v":0}]
[{"$f":"lista1!A389030","v":0}]
[{"$f":"lista1!A389251","v":0}]
[{"$f":"lista1!A389766","v":0}]
[{"$f":"lista1!A390510","v":0}]
[{"$f":"lista1!A390731","v":0}]
[{"$f":"lista1!A391246","v":0}]
[{"$f":"lista1!A391990","v":0}]
[{"$f":"lista1!A392211","v":0}]
[{"$f":"lista1!A392726","v":0}]
[{"$f":"lista1!A393470","v":0}]
[{"$f":"lista1!A393985","v":0}]
[{"$f":"lista1!A394729","v":0}]
[{"$f":"lista1!A394950","v":0}]
[{"$f":"lista1!A395465","v":0}]
[{"$f":"lista1!A396209","v":0}]
[{"$f":"lista1!A396724","v":0}]
[{"$f":"lista1!A396945","v":0}]
[{"$f":"lista1!A397689","v":0}]
[{"$f":"lista1!A398204","v":0}]
[{"$f":"lista1!A398948","v":0}]
[{"$f":"lista1!A399169","v":0}]
[{"$f":"lista1!A399684","v":0}]
[{"$f":"lista1!A400428","v":0}]
[{"$f":"lista1!A400943","v":0}]
[{"$f":"lista1!A401506","v":0}]
[{"$f":"lista1!A401909","v":0}]
[{"$f":"lista1!A402424","v":0}]
[{"$f":"lista1!A403168","v":0}]
[{"$f":"lista1!A403389","v":0}]
[{"$f":"lista1!A403904","v":0}]
[{"$f":"lista1!A404648","v":0}]
[{"$f":"lista1!A405163","v":0}]
[{"$f":"lista1!A405384","v":0}]
[{"$f":"lista1!A406128","v":0}]
[{"$f":"lista1!A406643","v":0}]
[{"$f":"lista1!A406864","v":0}]
[{"$f":"lista1!A407379","v":0}]
[{"$f":"lista1!A408123","v":0}]
[{"$f":"lista1!A408867","v":0}]
[{"$f":"lista1!A409382","v":0}]
[{"$f":"lista1!A409603","v":0}]
[{"$f":"lista1!A410347","v":0}]
[{"$f":"lista1!A410862","v":0}]
[{"$f":"lista1!A411083","v":0}]
[{"$f":"lista1!A411598","v":0}]
[{"$f":"lista1!A412342","v":0}]
[{"$f":"lista1!A413086","v":0}]
[{"$f":"lista1!A413601","v":0}]
[{"$f":"lista1!A413822","v":0}]
[{"$f":"lista1!A414566","v":0}]
[{"$f":"lista1!A415135","v":0}]
[{"$f":"lista1!A415303","v":0}]
[{"$f":"lista1!A415818","v":0}]
[{"$f":"lista1!A416562","v":0}]
[{"$f":"lista1!A416783","v":0}]
[{"$f":"lista1!A417298","v":0}]
[{"$f":"lista1!A418042","v":0}]
[{"$f":"lista1!A418557","v":0}]
[{"$f":"lista1!A419301","v":0}]
[{"$f":"lista1!A419522","v":0}]
[{"$f":"lista1!A420037","v":0}]
[{"$f":"lista1!A420781","v":0}]
[{"$f":"lista1!A421002","v":0}]
[{"$f":"lista1!A421517","v":0}]
[{"$f":"lista1!A422261","v":0}]
[{"$f":"lista1!A422776","v":0}]
[{"$f":"lista1!A423520","v":0}]
[{"$f":"lista1!A423741","v":0}]
[{"$f":"lista1!A424256","v":0}]
[{"$f":"lista1!A425000","v":0}]
[{"$f":"lista1!A425515","v":0}]
[{"$f":"lista1!A425736","v":0}]
[{"$f":"lista1!A426480","v":0}]
[{"$f":"lista1!A426995","v":0}]
[{"$f":"lista1!A427739","v":0}]
[{"$f":"lista1!A427960","v":0}]
[{"$f":"lista1!A428764","v":0}]
[{"$f":"lista1!A429220","v":0}]
[{"$f":"lista1!A429735","v":0}]
[{"$f":"lista1!A429956","v":0}]
[{"$f":"lista1!A430700","v":0}]
[{"$f":"lista1!A431215","v":0}]
[{"$f":"lista1!A431436","v":0}]
[{"$f":"lista1!A432180","v":0}]
[{"$f":"lista1!A432695","v":0}]
[{"$f":"lista1!A433439","v":0}]
[{"$f":"lista1!A433954","v":0}]
[{"$f":"lista1!A434175","v":0}]
[{"$f":"lista1!A434919","v":0}]
[{"$f":"lista1!A435434","v":0}]
[{"$f":"lista1!A435655","v":0}]
[{"$f":"lista1!A436170","v":0}]
[{"$f":"lista1!A436914","v":0}]
[{"$f":"lista1!A437658","v":0}]
[{"$f":"lista1!A438173","v":0}]
[{"$f":"lista1!A438394","v":0}]
[{"$f":"lista1!A439138","v":0}]
[{"$f":"lista1!A439653","v":0}]
[{"$f":"lista1!A439874","v":0}]
[{"$f":"lista1!A440389","v":0}]
[{"$f":"lista1!A441133","v":0}]
[{"$f":"lista1!A441354","v":0}]
[{"$f":"lista1!A442392","v":0}]
[{"$f":"lista1!A442721","v":0}]
[{"$f":"lista1!A443358","v":0}]
[{"$f":"lista1!A443873","v":0}]
[{"$f":"lista1!A444094","v":0}]
[{"$f":"lista1!A444609","v":0}]
[{"$f":"lista1!A445353","v":0}]
[{"$f":"lista1!A445574","v":0}]
[{"$f":"lista1!A446089","v":0}]
[{"$f":"lista1!A446833","v":0}]
[{"$f":"lista1!A447348","v":0}]
[{"$f":"lista1!A448092","v":0}]
[{"$f":"lista1!A448313","v":0}]
[{"$f":"lista1!A448828","v":0}]
[{"$f":"lista1!A449572","v":0}]
[{"$f":"lista1!A449793","v":0}]
[{"$f":"lista1!A450308","v":0}]
[{"$f":"lista1!A451052","v":0}]
[{"$f":"lista1!A451567","v":0}]
[{"$f":"lista1!A452311","v":0}]
[{"$f":"lista1!A452532","v":0}]
[{"$f":"lista1!A453047","v":0}]
[{"$f":"lista1!A453791","v":0}]
[{"$f":"lista1!A454306","v":0}]
[{"$f":"lista1!A454527","v":0}]
[{"$f":"lista1!A455271","v":0}]
[{"$f":"lista1!A455786","v":0}]
[{"$f":"lista1!A456350","v":0}]
[{"$f":"lista1!A456752","v":0}]
[{"$f":"lista1!A457267","v":0}]
[{"$f":"lista1!A458011","v":0}]
[{"$f":"lista1!A458526","v":0}]
[{"$f":"lista1!A458747","v":0}]
[{"$f":"lista1!A459491","v":0}]
[{"$f":"lista1!A460006","v":0}]
[{"$f":"lista1!A460227","v":0}]
[{"$f":"lista1!A460971","v":0}]
[{"$f":"lista1!A461486","v":0}]
[{"$f":"lista1!A462230","v":0}]
[{"$f":"lista1!A462745","v":0}]
[{"$f":"lista1!A462966","v":0}]
[{"$f":"lista1!A463710","v":0}]
[{"$f":"lista1!A464225","v":0}]
[{"$f":"lista1!A464446","v":0}]
[{"$f":"lista1!A464961","v":0}]
[{"$f":"lista1!A465705","v":0}]
[{"$f":"lista1!A466449","v":0}]
[{"$f":"lista1!A466964","v":0}]
[{"$f":"lista1!A467185","v":0}]
[{"$f":"lista1!A467929","v":0}]
[{"$f":"lista1!A468444","v":0}]
[{"$f":"lista1!A468665","v":0}]
[{"$f":"lista1!A469180","v":0}]
[{"$f":"lista1!A469979","v":0}]
[{"$f":"lista1!A470146","v":0}]
[{"$f":"lista1!A470661","v":0}]
[{"$f":"lista1!A471405","v":0}]
[{"$f":"lista1!A471920","v":0}]
[{"$f":"lista1!A472664","v":0}]
[{"$f":"lista1!A472885","v":0}]
[{"$f":"lista1!A473400","v":0}]
[{"$f":"lista1!A474144","v":0}]
[{"$f":"lista1!A474365","v":0}]
[{"$f":"lista1!A474880","v":0}]
[{"$f":"lista1!A475624","v":0}]
[{"$f":"lista1!A476139","v":0}]
[{"$f":"lista1!A476883","v":0}]
[{"$f":"lista1!A477104","v":0}]
[{"$f":"lista1!A477619","v":0}]
[{"$f":"lista1!A478363","v":0}]
[{"$f":"lista1!A478584","v":0}]
[{"$f":"lista1!A479099","v":0}]
[{"$f":"lista1!A479843","v":0}]
[{"$f":"lista1!A480358","v":0}]
[{"$f":"lista1!A481102","v":0}]
[{"$f":"lista1!A481323","v":0}]
[{"$f":"lista1!A481838","v":0}]
[{"$f":"lista1!A482582","v":0}]
[{"$f":"lista1!A483097","v":0}]
[{"$f":"lista1!A483318","v":0}]
[{"$f":"lista1!A483936","v":0}]
[{"$f":"lista1!A484578","v":0}]
[{"$f":"lista1!A484799","v":0}]
[{"$f":"lista1!A485543","v":0}]
[{"$f":"lista1!A486058","v":0}]
[{"$f":"lista1!A486802","v":0}]
[{"$f":"lista1!A487317","v":0}]
[{"$f":"lista1!A487538","v":0}]
[{"$f":"lista1!A488282","v":0}]
[{"$f":"lista1!A488797","v":0}]
[{"$f":"lista1!A489018","v":0}]
[{"$f":"lista1!A489762","v":0}]
[{"$f":"lista1!A490277","v":0}]
[{"$f":"lista1!A491021","v":0}]
[{"$f":"lista1!A491536","v":0}]
[{"$f":"lista1!A491757","v":0}]
[{"$f":"lista1!A492501","v":0}]
[{"$f":"lista1!A493016","v":0}]
[{"$f":"lista1!A493237","v":0}]
[{"$f":"lista1!A493752","v":0}]
[{"$f":"lista1!A494496","v":0}]
[{"$f":"lista1!A494717","v":0}]
[{"$f":"lista1!A495232","v":0}]
[{"$f":"lista1!A495976","v":0}]
[{"$f":"lista1!A496720","v":0}]
[{"$f":"lista1!A497235","v":0}]
[{"$f":"lista1!A497565","v":0}]
[{"$f":"lista1!A497972","v":0}]
[{"$f":"lista1!A498716","v":0}]
[{"$f":"lista1!A498937","v":0}]
[{"$f":"lista1!A499452","v":0}]
[{"$f":"lista1!A500196","v":0}]
[{"$f":"lista1!A500711","v":0}]
[{"$f":"lista1!A501455","v":0}]
[{"$f":"lista1!A501676","v":0}]
[{"$f":"lista1!A502191","v":0}]
[{"$f":"lista1!A502935","v":0}]
[{"$f":"lista1!A503156","v":0}]
[{"$f":"lista1!A503671","v":0}]
[{"$f":"lista1!A504415","v":0}]
[{"$f":"lista1!A504930","v":0}]
[{"$f":"lista1!A505674","v":0}]
[{"$f":"lista1!A505895","v":0}]
[{"$f":"lista1!A506410","v":0}]
[{"$f":"lista1!A507154","v":0}]
[{"$f":"lista1!A507375","v":0}]
[{"$f":"lista1!A507890","v":0}]
[{"$f":"lista1!A508634","v":0}]
[{"$f":"lista1!A509149","v":0}]
[{"$f":"lista1!A509370","v":0}]
[{"$f":"lista1!A510114","v":0}]
[{"$f":"lista1!A510629","v":0}]
[{"$f":"lista1!A511194","v":0}]
[{"$f":"lista1!A511889","v":0}]
[{"$f":"lista1!A512110","v":0}]
[{"$f":"lista1!A512854","v":0}]
[{"$f":"lista1!A513369","v":0}]
[{"$f":"lista1!A513590","v":0}]
[{"$f":"lista1!A514334","v":0}]
[{"$f":"lista1!A514849","v":0}]
[{"$f":"lista1!A515593","v":0}]
[{"$f":"lista1!A516108","v":0}]
[{"$f":"lista1!A516329","v":0}]
[{"$f":"lista1!A517073","v":0}]
[{"$f":"lista1!A517588","v":0}]
[{"$f":"lista1!A517809","v":0}]
[{"$f":"lista1!A518324","v":0}]
[{"$f":"lista1!A519068","v":0}]
[{"$f":"lista1!A519289","v":0}]
[{"$f":"lista1!A520327","v":0}]
[{"$f":"lista1!A520548","v":0}]
[{"$f":"lista1!A521292","v":0}]
[{"$f":"lista1!A521807","v":0}]
[{"$f":"lista1!A522028","v":0}]
[{"$f":"lista1!A522543","v":0}]
[{"$f":"lista1!A523287","v":0}]
[{"$f":"lista1!A523508","v":0}]
[{"$f":"lista1!A524023","v":0}]
[{"$f":"lista1!A524823","v":0}]
[{"$f":"lista1!A525512","v":0}]
[{"$f":"lista1!A526027","v":0}]
[{"$f":"lista1!A526248","v":0}]
[{"$f":"lista1!A526763","v":0}]
[{"$f":"lista1!A527507","v":0}]
[{"$f":"lista1!A527728","v":0}]
[{"$f":"lista1!A528243","v":0}]
[{"$f":"lista1!A528987","v":0}]
[{"$f":"lista1!A529502","v":0}]
[{"$f":"lista1!A530246","v":0}]
[{"$f":"lista1!A530467","v":0}]
[{"$f":"lista1!A530982","v":0}]
[{"$f":"lista1!A531726","v":0}]
[{"$f":"lista1!A531947","v":0}]
[{"$f":"lista1!A532462","v":0}]
[{"$f":"lista1!A533206","v":0}]
[{"$f":"lista1!A533721","v":0}]
[{"$f":"lista1!A533942","v":0}]
[{"$f":"lista1!A534686","v":0}]
[{"$f":"lista1!A535201","v":0}]
[{"$f":"lista1!A535945","v":0}]
[{"$f":"lista1!A536166","v":0}]
[{"$f":"lista1!A536681","v":0}]
[{"$f":"lista1!A537425","v":0}]
[{"$f":"lista1!A537940","v":0}]
[{"$f":"lista1!A538161","v":0}]
[{"$f":"lista1!A538780","v":0}]
[{"$f":"lista1!A539421","v":0}]
[{"$f":"lista1!A540165","v":0}]
[{"$f":"lista1!A540680","v":0}]
[{"$f":"lista1!A540901","v":0}]
[{"$f":"lista1!A541645","v":0}]
[{"$f":"lista1!A542160","v":0}]
[{"$f":"lista1!A542381","v":0}]
[{"$f":"lista1!A543125","v":0}]
[{"$f":"lista1!A543640","v":0}]
[{"$f":"lista1!A544384","v":0}]
[{"$f":"lista1!A544899","v":0}]
[{"$f":"lista1!A545120","v":0}]
[{"$f":"lista1!A545864","v":0}]
[{"$f":"lista1!A546379","v":0}]
[{"$f":"lista1!A546600","v":0}]
[{"$f":"lista1!A547115","v":0}]
[{"$f":"lista1!A547859","v":0}]
[{"$f":"lista1!A548080","v":0}]
[{"$f":"lista1!A548595","v":0}]
[{"$f":"lista1!A549339","v":0}]
[{"$f":"lista1!A550083","v":0}]
[{"$f":"lista1!A550598","v":0}]
[{"$f":"lista1!A550819","v":0}]
[{"$f":"lista1!A551334","v":0}]
[{"$f":"lista1!A552078","v":0}]
[{"$f":"lista1!A552409","v":0}]
[{"$f":"lista1!A552815","v":0}]
[{"$f":"lista1!A553559","v":0}]
[{"$f":"lista1!A554303","v":0}]
[{"$f":"lista1!A554818","v":0}]
[{"$f":"lista1!A555039","v":0}]
[{"$f":"lista1!A555554","v":0}]
[{"$f":"lista1!A556298","v":0}]
[{"$f":"lista1!A556519","v":0}]
[{"$f":"lista1!A557034","v":0}]
[{"$f":"lista1!A557778","v":0}]
[{"$f":"lista1!A558293","v":0}]
[{"$f":"lista1!A558514","v":0}]
[{"$f":"lista1!A559258","v":0}]
[{"$f":"lista1!A559773","v":0}]
[{"$f":"lista1!A560517","v":0}]
[{"$f":"lista1!A560738","v":0}]
[{"$f":"lista1!A561253","v":0}]
[{"$f":"lista1!A561997","v":0}]
[{"$f":"lista1!A562512","v":0}]
[{"$f":"lista1!A562733","v":0}]
[{"$f":"lista1!A563477","v":0}]
[{"$f":"lista1!A563992","v":0}]
[{"$f":"lista1!A564736","v":0}]
[{"$f":"lista1!A564957","v":0}]
[{"$f":"lista1!A565472","v":0}]
[{"$f":"lista1!A566038","v":0}]
[{"$f":"lista1!A566732","v":0}]
[{"$f":"lista1!A566953","v":0}]
[{"$f":"lista1!A567697","v":0}]
[{"$f":"lista1!A568212","v":0}]
[{"$f":"lista1!A568956","v":0}]
[{"$f":"lista1!A569471","v":0}]
[{"$f":"lista1!A569692","v":0}]
[{"$f":"lista1!A570436","v":0}]
[{"$f":"lista1!A570951","v":0}]
[{"$f":"lista1!A571172","v":0}]
[{"$f":"lista1!A571916","v":0}]
[{"$f":"lista1!A572431","v":0}]
[{"$f":"lista1!A572652","v":0}]
[{"$f":"lista1!A573167","v":0}]
[{"$f":"lista1!A573911","v":0}]
[{"$f":"lista1!A574655","v":0}]
[{"$f":"lista1!A575170","v":0}]
[{"$f":"lista1!A575391","v":0}]
[{"$f":"lista1!A575906","v":0}]
[{"$f":"lista1!A576650","v":0}]
[{"$f":"lista1!A576871","v":0}]
[{"$f":"lista1!A577386","v":0}]
[{"$f":"lista1!A578130","v":0}]
[{"$f":"lista1!A578874","v":0}]
[{"$f":"lista1!A579389","v":0}]
[{"$f":"lista1!A579610","v":0}]
[{"$f":"lista1!A580243","v":0}]
[{"$f":"lista1!A580870","v":0}]
[{"$f":"lista1!A581091","v":0}]
[{"$f":"lista1!A581606","v":0}]
[{"$f":"lista1!A582350","v":0}]
[{"$f":"lista1!A583094","v":0}]
[{"$f":"lista1!A583609","v":0}]
[{"$f":"lista1!A583830","v":0}]
[{"$f":"lista1!A584345","v":0}]
[{"$f":"lista1!A585089","v":0}]
[{"$f":"lista1!A585310","v":0}]
[{"$f":"lista1!A585825","v":0}]
[{"$f":"lista1!A586569","v":0}]
[{"$f":"lista1!A587084","v":0}]
[{"$f":"lista1!A587305","v":0}]
[{"$f":"lista1!A588049","v":0}]
[{"$f":"lista1!A588564","v":0}]
[{"$f":"lista1!A589308","v":0}]
[{"$f":"lista1!A589529","v":0}]
[{"$f":"lista1!A590044","v":0}]
[{"$f":"lista1!A590788","v":0}]
[{"$f":"lista1!A591303","v":0}]
[{"$f":"lista1!A591524","v":0}]
[{"$f":"lista1!A592268","v":0}]
[{"$f":"lista1!A592783","v":0}]
[{"$f":"lista1!A593527","v":0}]
[{"$f":"lista1!A593872","v":0}]
[{"$f":"lista1!A594264","v":0}]
[{"$f":"lista1!A595008","v":0}]
[{"$f":"lista1!A595523","v":0}]
[{"$f":"lista1!A595744","v":0}]
[{"$f":"lista1!A596488","v":0}]
[{"$f":"lista1!A597003","v":0}]
[{"$f":"lista1!A597224","v":0}]
[{"$f":"lista1!A598262","v":0}]
[{"$f":"lista1!A598483","v":0}]
[{"$f":"lista1!A599227","v":0}]
[{"$f":"lista1!A599742","v":0}]
[{"$f":"lista1!A599963","v":0}]
[{"$f":"lista1!A600707","v":0}]
[{"$f":"lista1!A601222","v":0}]
[{"$f":"lista1!A601443","v":0}]
[{"$f":"lista1!A601958","v":0}]
[{"$f":"lista1!A602702","v":0}]
[{"$f":"lista1!A603446","v":0}]
[{"$f":"lista1!A603961","v":0}]
[{"$f":"lista1!A604182","v":0}]
[{"$f":"lista1!A604697","v":0}]
[{"$f":"lista1!A605441","v":0}]
[{"$f":"lista1!A605662","v":0}]
[{"$f":"lista1!A606177","v":0}]
[{"$f":"lista1!A606921","v":0}]
[{"$f":"lista1!A607253","v":0}]
[{"$f":"lista1!A608181","v":0}]
[{"$f":"lista1!A608402","v":0}]
[{"$f":"lista1!A608917","v":0}]
[{"$f":"lista1!A609661","v":0}]
[{"$f":"lista1!A609882","v":0}]
[{"$f":"lista1!A610397","v":0}]
[{"$f":"lista1!A611141","v":0}]
[{"$f":"lista1!A611362","v":0}]
[{"$f":"lista1!A611877","v":0}]
[{"$f":"lista1!A612621","v":0}]
[{"$f":"lista1!A613136","v":0}]
[{"$f":"lista1!A613880","v":0}]
[{"$f":"lista1!A614101","v":0}]
[{"$f":"lista1!A614616","v":0}]
[{"$f":"lista1!A615360","v":0}]
[{"$f":"lista1!A615875","v":0}]
[{"$f":"lista1!A616096","v":0}]
[{"$f":"lista1!A616840","v":0}]
[{"$f":"lista1!A617355","v":0}]
[{"$f":"lista1!A618099","v":0}]
[{"$f":"lista1!A618320","v":0}]
[{"$f":"lista1!A618835","v":0}]
[{"$f":"lista1!A619579","v":0}]
[{"$f":"lista1!A620094","v":0}]
[{"$f":"lista1!A620315","v":0}]
[{"$f":"lista1!A621059","v":0}]
[{"$f":"lista1!A621458","v":0}]
[{"$f":"lista1!A622319","v":0}]
[{"$f":"lista1!A622834","v":0}]
[{"$f":"lista1!A623055","v":0}]
[{"$f":"lista1!A623799","v":0}]
[{"$f":"lista1!A624314","v":0}]
[{"$f":"lista1!A624535","v":0}]
[{"$f":"lista1!A625279","v":0}]
[{"$f":"lista1!A625794","v":0}]
[{"$f":"lista1!A626015","v":0}]
[{"$f":"lista1!A626530","v":0}]
[{"$f":"lista1!A627274","v":0}]
[{"$f":"lista1!A628018","v":0}]
[{"$f":"lista1!A628533","v":0}]
[{"$f":"lista1!A628754","v":0}]
[{"$f":"lista1!A629498","v":0}]
[{"$f":"lista1!A630013","v":0}]
[{"$f":"lista1!A630234","v":0}]
[{"$f":"lista1!A630749","v":0}]
[{"$f":"lista1!A631493","v":0}]
[{"$f":"lista1!A632237","v":0}]
[{"$f":"lista1!A632752","v":0}]
[{"$f":"lista1!A632973","v":0}]
[{"$f":"lista1!A633488","v":0}]
[{"$f":"lista1!A634232","v":0}]
[{"$f":"lista1!A634453","v":0}]
[{"$f":"lista1!A635087","v":0}]
[{"$f":"lista1!A635713","v":0}]
[{"$f":"lista1!A635934","v":0}]
[{"$f":"lista1!A636449","v":0}]
[{"$f":"lista1!A637193","v":0}]
[{"$f":"lista1!A637708","v":0}]
[{"$f":"lista1!A638452","v":0}]
[{"$f":"lista1!A638673","v":0}]
[{"$f":"lista1!A639188","v":0}]
[{"$f":"lista1!A639932","v":0}]
[{"$f":"lista1!A640153","v":0}]
[{"$f":"lista1!A640668","v":0}]
[{"$f":"lista1!A641412","v":0}]
[{"$f":"lista1!A641927","v":0}]
[{"$f":"lista1!A642671","v":0}]
[{"$f":"lista1!A642892","v":0}]
[{"$f":"lista1!A643407","v":0}]
[{"$f":"lista1!A644151","v":0}]
[{"$f":"lista1!A644666","v":0}]
[{"$f":"lista1!A644887","v":0}]
[{"$f":"lista1!A645631","v":0}]
[{"$f":"lista1!A646146","v":0}]
[{"$f":"lista1!A646890","v":0}]
[{"$f":"lista1!A647111","v":0}]
[{"$f":"lista1!A647626","v":0}]
[{"$f":"lista1!A648370","v":0}]
[{"$f":"lista1!A648716","v":0}]
[{"$f":"lista1!A649107","v":0}]
[{"$f":"lista1!A649851","v":0}]
[{"$f":"lista1!A650366","v":0}]
[{"$f":"lista1!A650587","v":0}]
[{"$f":"lista1!A651102","v":0}]
[{"$f":"lista1!A651846","v":0}]
[{"$f":"lista1!A652590","v":0}]
[{"$f":"lista1!A653105","v":0}]
[{"$f":"lista1!A653326","v":0}]
[{"$f":"lista1!A654070","v":0}]
[{"$f":"lista1!A654585","v":0}]
[{"$f":"lista1!A654806","v":0}]
[{"$f":"lista1!A655321","v":0}]
[{"$f":"lista1!A656065","v":0}]
[{"$f":"lista1!A656809","v":0}]
[{"$f":"lista1!A657324","v":0}]
[{"$f":"lista1!A657545","v":0}]
[{"$f":"lista1!A658289","v":0}]
[{"$f":"lista1!A658804","v":0}]
[{"$f":"lista1!A659025","v":0}]
[{"$f":"lista1!A659540","v":0}]
[{"$f":"lista1!A660284","v":0}]
[{"$f":"lista1!A660505","v":0}]
[{"$f":"lista1!A661543","v":0}]
[{"$f":"lista1!A661764","v":0}]
[{"$f":"lista1!A662279","v":0}]
[{"$f":"lista1!A662673","v":0}]
[{"$f":"lista1!A663245","v":0}]
[{"$f":"lista1!A663760","v":0}]
[{"$f":"lista1!A664504","v":0}]
[{"$f":"lista1!A664725","v":0}]
[{"$f":"lista1!A665240","v":0}]
[{"$f":"lista1!A665984","v":0}]
[{"$f":"lista1!A666499","v":0}]
[{"$f":"lista1!A667243","v":0}]
[{"$f":"lista1!A667464","v":0}]
[{"$f":"lista1!A667979","v":0}]
[{"$f":"lista1!A668723","v":0}]
[{"$f":"lista1!A669238","v":0}]
[{"$f":"lista1!A669459","v":0}]
[{"$f":"lista1!A670203","v":0}]
[{"$f":"lista1!A670718","v":0}]
[{"$f":"lista1!A671462","v":0}]
[{"$f":"lista1!A671683","v":0}]
[{"$f":"lista1!A672198","v":0}]
[{"$f":"lista1!A672942","v":0}]
[{"$f":"lista1!A673457","v":0}]
[{"$f":"lista1!A673678","v":0}]
[{"$f":"lista1!A674422","v":0}]
[{"$f":"lista1!A674937","v":0}]
[{"$f":"lista1!A675158","v":0}]
[{"$f":"lista1!A675902","v":0}]
[{"$f":"lista1!A676302","v":0}]
[{"$f":"lista1!A677162","v":0}]
[{"$f":"lista1!A677677","v":0}]
[{"$f":"lista1!A677898","v":0}]
[{"$f":"lista1!A678642","v":0}]
[{"$f":"lista1!A679157","v":0}]
[{"$f":"lista1!A679378","v":0}]
[{"$f":"lista1!A679893","v":0}]
[{"$f":"lista1!A680637","v":0}]
[{"$f":"lista1!A681381","v":0}]
[{"$f":"lista1!A681896","v":0}]
[{"$f":"lista1!A682117","v":0}]
[{"$f":"lista1!A682861","v":0}]
[{"$f":"lista1!A683376","v":0}]
[{"$f":"lista1!A683597","v":0}]
[{"$f":"lista1!A684112","v":0}]
[{"$f":"lista1!A684856","v":0}]
[{"$f":"lista1!A685600","v":0}]
[{"$f":"lista1!A686115","v":0}]
[{"$f":"lista1!A686336","v":0}]
[{"$f":"lista1!A687080","v":0}]
[{"$f":"lista1!A687595","v":0}]
[{"$f":"lista1!A687816","v":0}]
[{"$f":"lista1!A688331","v":0}]
[{"$f":"lista1!A689075","v":0}]
[{"$f":"lista1!A689296","v":0}]
[{"$f":"lista1!A689931","v":0}]
[{"$f":"lista1!A690556","v":0}]
[{"$f":"lista1!A691071","v":0}]
[{"$f":"lista1!A691815","v":0}]
[{"$f":"lista1!A692036","v":0}]
[{"$f":"lista1!A692551","v":0}]
[{"$f":"lista1!A693295","v":0}]
[{"$f":"lista1!A693516","v":0}]
[{"$f":"lista1!A694031","v":0}]
[{"$f":"lista1!A694775","v":0}]
[{"$f":"lista1!A695290","v":0}]
[{"$f":"lista1!A696034","v":0}]
[{"$f":"lista1!A696255","v":0}]
[{"$f":"lista1!A696770","v":0}]
[{"$f":"lista1!A697514","v":0}]
[{"$f":"lista1!A698029","v":0}]
[{"$f":"lista1!A698250","v":0}]
[{"$f":"lista1!A698994","v":0}]
[{"$f":"lista1!A699509","v":0}]
[{"$f":"lista1!A700253","v":0}]
[{"$f":"lista1!A700474","v":0}]
[{"$f":"lista1!A700989","v":0}]
[{"$f":"lista1!A701733","v":0}]
[{"$f":"lista1!A702248","v":0}]
[{"$f":"lista1!A702469","v":0}]
[{"$f":"lista1!A703213","v":0}]
[{"$f":"lista1!A703728","v":0}]
[{"$f":"lista1!A704412","v":0}]
[{"$f":"lista1!A704694","v":0}]
[{"$f":"lista1!A705209","v":0}]
[{"$f":"lista1!A705953","v":0}]
[{"$f":"lista1!A706468","v":0}]
[{"$f":"lista1!A706689","v":0}]
[{"$f":"lista1!A707433","v":0}]
[{"$f":"lista1!A707948","v":0}]
[{"$f":"lista1!A708169","v":0}]
[{"$f":"lista1!A708684","v":0}]
[{"$f":"lista1!A709428","v":0}]
[{"$f":"lista1!A710172","v":0}]
[{"$f":"lista1!A710687","v":0}]
[{"$f":"lista1!A710908","v":0}]
[{"$f":"lista1!A711652","v":0}]
[{"$f":"lista1!A712167","v":0}]
[{"$f":"lista1!A712388","v":0}]
[{"$f":"lista1!A712903","v":0}]
[{"$f":"lista1!A713647","v":0}]
[{"$f":"lista1!A713868","v":0}]
[{"$f":"lista1!A714383","v":0}]
[{"$f":"lista1!A715127","v":0}]
[{"$f":"lista1!A715642","v":0}]
[{"$f":"lista1!A716386","v":0}]
[{"$f":"lista1!A716607","v":0}]
[{"$f":"lista1!A717122","v":0}]
[{"$f":"lista1!A717517","v":0}]
[{"$f":"lista1!A718088","v":0}]
[{"$f":"lista1!A718603","v":0}]
[{"$f":"lista1!A719347","v":0}]
[{"$f":"lista1!A719862","v":0}]
[{"$f":"lista1!A720606","v":0}]
[{"$f":"lista1!A720827","v":0}]
[{"$f":"lista1!A721342","v":0}]
[{"$f":"lista1!A722086","v":0}]
[{"$f":"lista1!A722307","v":0}]
[{"$f":"lista1!A722822","v":0}]
[{"$f":"lista1!A723566","v":0}]
[{"$f":"lista1!A724081","v":0}]
[{"$f":"lista1!A724825","v":0}]
[{"$f":"lista1!A725046","v":0}]
[{"$f":"lista1!A725561","v":0}]
[{"$f":"lista1!A726305","v":0}]
[{"$f":"lista1!A726820","v":0}]
[{"$f":"lista1!A727041","v":0}]
[{"$f":"lista1!A727785","v":0}]
[{"$f":"lista1!A728300","v":0}]
[{"$f":"lista1!A728521","v":0}]
[{"$f":"lista1!A729265","v":0}]
[{"$f":"lista1!A729780","v":0}]
[{"$f":"lista1!A730524","v":0}]
[{"$f":"lista1!A731039","v":0}]
[{"$f":"lista1!A731146","v":0}]
[{"$f":"lista1!A732005","v":0}]
[{"$f":"lista1!A732520","v":0}]
[{"$f":"lista1!A732741","v":0}]
[{"$f":"lista1!A733485","v":0}]
[{"$f":"lista1!A734000","v":0}]
[{"$f":"lista1!A734744","v":0}]
[{"$f":"lista1!A735259","v":0}]
[{"$f":"lista1!A735480","v":0}]
[{"$f":"lista1!A736224","v":0}]
[{"$f":"lista1!A736739","v":0}]
[{"$f":"lista1!A736960","v":0}]
[{"$f":"lista1!A737475","v":0}]
[{"$f":"lista1!A738219","v":0}]
[{"$f":"lista1!A738440","v":0}]
[{"$f":"lista1!A739478","v":0}]
[{"$f":"lista1!A739699","v":0}]
[{"$f":"lista1!A740443","v":0}]
[{"$f":"lista1!A740958","v":0}]
[{"$f":"lista1!A741179","v":0}]
[{"$f":"lista1!A741694","v":0}]
[{"$f":"lista1!A742438","v":0}]
[{"$f":"lista1!A742659","v":0}]
[{"$f":"lista1!A743174","v":0}]
[{"$f":"lista1!A743918","v":0}]
[{"$f":"lista1!A744433","v":0}]
[{"$f":"lista1!A745177","v":0}]
[{"$f":"lista1!A745627","v":0}]
[{"$f":"lista1!A745914","v":0}]
[{"$f":"lista1!A746658","v":0}]
[{"$f":"lista1!A746879","v":0}]
[{"$f":"lista1!A747394","v":0}]
[{"$f":"lista1!A748138","v":0}]
[{"$f":"lista1!A748653","v":0}]
[{"$f":"lista1!A749397","v":0}]
[{"$f":"lista1!A749618","v":0}]
[{"$f":"lista1!A750133","v":0}]
[{"$f":"lista1!A750877","v":0}]
[{"$f":"lista1!A751098","v":0}]
[{"$f":"lista1!A751613","v":0}]
[{"$f":"lista1!A752357","v":0}]
[{"$f":"lista1!A752872","v":0}]
[{"$f":"lista1!A753093","v":0}]
[{"$f":"lista1!A753837","v":0}]
[{"$f":"lista1!A754352","v":0}]
[{"$f":"lista1!A755096","v":0}]
[{"$f":"lista1!A755611","v":0}]
[{"$f":"lista1!A755832","v":0}]
[{"$f":"lista1!A756576","v":0}]
[{"$f":"lista1!A757091","v":0}]
[{"$f":"lista1!A757312","v":0}]
[{"$f":"lista1!A758056","v":0}]
[{"$f":"lista1!A758571","v":0}]
[{"$f":"lista1!A759256","v":0}]
[{"$f":"lista1!A759831","v":0}]
[{"$f":"lista1!A760052","v":0}]
[{"$f":"lista1!A760796","v":0}]
[{"$f":"lista1!A761311","v":0}]
[{"$f":"lista1!A761532","v":0}]
[{"$f":"lista1!A762276","v":0}]
[{"$f":"lista1!A762791","v":0}]
[{"$f":"lista1!A763535","v":0}]
[{"$f":"lista1!A764050","v":0}]
[{"$f":"lista1!A764271","v":0}]
[{"$f":"lista1!A765015","v":0}]
[{"$f":"lista1!A765530","v":0}]
[{"$f":"lista1!A765751","v":0}]
[{"$f":"lista1!A766266","v":0}]
[{"$f":"lista1!A767010","v":0}]
[{"$f":"lista1!A767231","v":0}]
[{"$f":"lista1!A767746","v":0}]
[{"$f":"lista1!A768490","v":0}]
[{"$f":"lista1!A769234","v":0}]
[{"$f":"lista1!A769749","v":0}]
[{"$f":"lista1!A769970","v":0}]
[{"$f":"lista1!A770485","v":0}]
[{"$f":"lista1!A771229","v":0}]
[{"$f":"lista1!A771450","v":0}]
[{"$f":"lista1!A771965","v":0}]
[{"$f":"lista1!A772885","v":0}]
[{"$f":"lista1!A773225","v":0}]
[{"$f":"lista1!A773969","v":0}]
[{"$f":"lista1!A774190","v":0}]
[{"$f":"lista1!A774705","v":0}]
[{"$f":"lista1!A775449","v":0}]
[{"$f":"lista1!A775670","v":0}]
[{"$f":"lista1!A776185","v":0}]
[{"$f":"lista1!A776929","v":0}]
[{"$f":"lista1!A777444","v":0}]
[{"$f":"lista1!A778188","v":0}]
[{"$f":"lista1!A778409","v":0}]
[{"$f":"lista1!A778924","v":0}]
[{"$f":"lista1!A779668","v":0}]
[{"$f":"lista1!A779889","v":0}]
[{"$f":"lista1!A780404","v":0}]
[{"$f":"lista1!A781148","v":0}]
[{"$f":"lista1!A781663","v":0}]
[{"$f":"lista1!A781884","v":0}]
[{"$f":"lista1!A782628","v":0}]
[{"$f":"lista1!A783143","v":0}]
[{"$f":"lista1!A783887","v":0}]
[{"$f":"lista1!A784402","v":0}]
[{"$f":"lista1!A784623","v":0}]
[{"$f":"lista1!A785367","v":0}]
[{"$f":"lista1!A785882","v":0}]
[{"$f":"lista1!A786514","v":0}]
[{"$f":"lista1!A786848","v":0}]
[{"$f":"lista1!A787363","v":0}]
[{"$f":"lista1!A788107","v":0}]
[{"$f":"lista1!A788622","v":0}]
[{"$f":"lista1!A788843","v":0}]
[{"$f":"lista1!A789587","v":0}]
[{"$f":"lista1!A790102","v":0}]
[{"$f":"lista1!A790323","v":0}]
[{"$f":"lista1!A790838","v":0}]
[{"$f":"lista1!A791582","v":0}]
[{"$f":"lista1!A791803","v":0}]
[{"$f":"lista1!A792318","v":0}]
[{"$f":"lista1!A793062","v":0}]
[{"$f":"lista1!A793806","v":0}]
[{"$f":"lista1!A794321","v":0}]
[{"$f":"lista1!A794542","v":0}]
[{"$f":"lista1!A795057","v":0}]
[{"$f":"lista1!A795801","v":0}]
[{"$f":"lista1!A796022","v":0}]
[{"$f":"lista1!A796537","v":0}]
[{"$f":"lista1!A797281","v":0}]
[{"$f":"lista1!A798025","v":0}]
[{"$f":"lista1!A798540","v":0}]
[{"$f":"lista1!A798761","v":0}]
[{"$f":"lista1!A799276","v":0}]
[{"$f":"lista1!A800020","v":0}]
[{"$f":"lista1!A800471","v":0}]
[{"$f":"lista1!A800757","v":0}]
[{"$f":"lista1!A801501","v":0}]
[{"$f":"lista1!A802016","v":0}]
[{"$f":"lista1!A802760","v":0}]
[{"$f":"lista1!A802981","v":0}]
[{"$f":"lista1!A803496","v":0}]
[{"$f":"lista1!A804240","v":0}]
[{"$f":"lista1!A804461","v":0}]
[{"$f":"lista1!A804976","v":0}]
[{"$f":"lista1!A805720","v":0}]
[{"$f":"lista1!A806235","v":0}]
[{"$f":"lista1!A806456","v":0}]
[{"$f":"lista1!A807200","v":0}]
[{"$f":"lista1!A807715","v":0}]
[{"$f":"lista1!A808459","v":0}]
[{"$f":"lista1!A808680","v":0}]
[{"$f":"lista1!A809195","v":0}]
[{"$f":"lista1!A809939","v":0}]
[{"$f":"lista1!A810454","v":0}]
[{"$f":"lista1!A810675","v":0}]
[{"$f":"lista1!A811419","v":0}]
[{"$f":"lista1!A811934","v":0}]
[{"$f":"lista1!A812678","v":0}]
[{"$f":"lista1!A813193","v":0}]
[{"$f":"lista1!A813414","v":0}]
[{"$f":"lista1!A814100","v":0}]
[{"$f":"lista1!A814674","v":0}]
[{"$f":"lista1!A814895","v":0}]
[{"$f":"lista1!A815639","v":0}]
[{"$f":"lista1!A816154","v":0}]
[{"$f":"lista1!A816375","v":0}]
[{"$f":"lista1!A817413","v":0}]
[{"$f":"lista1!A817634","v":0}]
[{"$f":"lista1!A818378","v":0}]
[{"$f":"lista1!A818893","v":0}]
[{"$f":"lista1!A819114","v":0}]
[{"$f":"lista1!A819629","v":0}]
[{"$f":"lista1!A820373","v":0}]
[{"$f":"lista1!A820594","v":0}]
[{"$f":"lista1!A821109","v":0}]
[{"$f":"lista1!A821853","v":0}]
[{"$f":"lista1!A822597","v":0}]
[{"$f":"lista1!A823112","v":0}]
[{"$f":"lista1!A823333","v":0}]
[{"$f":"lista1!A823848","v":0}]
[{"$f":"lista1!A824592","v":0}]
[{"$f":"lista1!A824813","v":0}]
[{"$f":"lista1!A825328","v":0}]
[{"$f":"lista1!A826072","v":0}]
[{"$f":"lista1!A826816","v":0}]
[{"$f":"lista1!A827331","v":0}]
[{"$f":"lista1!A827729","v":0}]
[{"$f":"lista1!A828068","v":0}]
[{"$f":"lista1!A828812","v":0}]
[{"$f":"lista1!A829033","v":0}]
[{"$f":"lista1!A829548","v":0}]
[{"$f":"lista1!A830292","v":0}]
[{"$f":"lista1!A830807","v":0}]
[{"$f":"lista1!A831028","v":0}]
[{"$f":"lista1!A831772","v":0}]
[{"$f":"lista1!A832287","v":0}]
[{"$f":"lista1!A833031","v":0}]
[{"$f":"lista1!A833252","v":0}]
[{"$f":"lista1!A833767","v":0}]
[{"$f":"lista1!A834511","v":0}]
[{"$f":"lista1!A835026","v":0}]
[{"$f":"lista1!A835247","v":0}]
[{"$f":"lista1!A835991","v":0}]
[{"$f":"lista1!A836506","v":0}]
[{"$f":"lista1!A837250","v":0}]
[{"$f":"lista1!A837471","v":0}]
[{"$f":"lista1!A837986","v":0}]
[{"$f":"lista1!A838730","v":0}]
[{"$f":"lista1!A839245","v":0}]
[{"$f":"lista1!A839466","v":0}]
[{"$f":"lista1!A840210","v":0}]
[{"$f":"lista1!A840725","v":0}]
[{"$f":"lista1!A841469","v":0}]
[{"$f":"lista1!A841934","v":0}]
[{"$f":"lista1!A842206","v":0}]
[{"$f":"lista1!A842950","v":0}]
[{"$f":"lista1!A843465","v":0}]
[{"$f":"lista1!A843686","v":0}]
[{"$f":"lista1!A844430","v":0}]
[{"$f":"lista1!A844945","v":0}]
[{"$f":"lista1!A845166","v":0}]
[{"$f":"lista1!A845681","v":0}]
[{"$f":"lista1!A846425","v":0}]
[{"$f":"lista1!A847169","v":0}]
[{"$f":"lista1!A847684","v":0}]
[{"$f":"lista1!A847905","v":0}]
[{"$f":"lista1!A848420","v":0}]
[{"$f":"lista1!A849164","v":0}]
[{"$f":"lista1!A849385","v":0}]
[{"$f":"lista1!A849900","v":0}]
[{"$f":"lista1!A850644","v":0}]
[{"$f":"lista1!A851388","v":0}]
[{"$f":"lista1!A851903","v":0}]
[{"$f":"lista1!A852124","v":0}]
[{"$f":"lista1!A852639","v":0}]
[{"$f":"lista1!A853383","v":0}]
[{"$f":"lista1!A853604","v":0}]
[{"$f":"lista1!A854119","v":0}]
[{"$f":"lista1!A854863","v":0}]
[{"$f":"lista1!A855315","v":0}]
[{"$f":"lista1!A855600","v":0}]
[{"$f":"lista1!A856344","v":0}]
[{"$f":"lista1!A856859","v":0}]
[{"$f":"lista1!A857603","v":0}]
[{"$f":"lista1!A857824","v":0}]
[{"$f":"lista1!A858339","v":0}]
[{"$f":"lista1!A859083","v":0}]
[{"$f":"lista1!A859598","v":0}]
[{"$f":"lista1!A859819","v":0}]
[{"$f":"lista1!A860563","v":0}]
[{"$f":"lista1!A861078","v":0}]
[{"$f":"lista1!A861822","v":0}]
[{"$f":"lista1!A862043","v":0}]
[{"$f":"lista1!A862558","v":0}]
[{"$f":"lista1!A863302","v":0}]
[{"$f":"lista1!A863817","v":0}]
[{"$f":"lista1!A864038","v":0}]
[{"$f":"lista1!A864782","v":0}]
[{"$f":"lista1!A865297","v":0}]
[{"$f":"lista1!A866041","v":0}]
[{"$f":"lista1!A866556","v":0}]
[{"$f":"lista1!A866777","v":0}]
[{"$f":"lista1!A867521","v":0}]
[{"$f":"lista1!A868036","v":0}]
[{"$f":"lista1!A868257","v":0}]
[{"$f":"lista1!A868944","v":0}]
[{"$f":"lista1!A869517","v":0}]
[{"$f":"lista1!A869738","v":0}]
[{"$f":"lista1!A870253","v":0}]
[{"$f":"lista1!A870997","v":0}]
[{"$f":"lista1!A871741","v":0}]
[{"$f":"lista1!A872256","v":0}]
[{"$f":"lista1!A872477","v":0}]
[{"$f":"lista1!A873221","v":0}]
[{"$f":"lista1!A873736","v":0}]
[{"$f":"lista1!A873957","v":0}]
[{"$f":"lista1!A874472","v":0}]
[{"$f":"lista1!A875216","v":0}]
[{"$f":"lista1!A875960","v":0}]
[{"$f":"lista1!A876475","v":0}]
[{"$f":"lista1!A876696","v":0}]
[{"$f":"lista1!A877211","v":0}]
[{"$f":"lista1!A877955","v":0}]
[{"$f":"lista1!A878176","v":0}]
[{"$f":"lista1!A878691","v":0}]
[{"$f":"lista1!A879435","v":0}]
[{"$f":"lista1!A880179","v":0}]
[{"$f":"lista1!A880694","v":0}]
[{"$f":"lista1!A880915","v":0}]
[{"$f":"lista1!A881430","v":0}]
[{"$f":"lista1!A882174","v":0}]
[{"$f":"lista1!A882395","v":0}]
[{"$f":"lista1!A883149","v":0}]
[{"$f":"lista1!A883655","v":0}]
[{"$f":"lista1!A883876","v":0}]
[{"$f":"lista1!A884391","v":0}]
[{"$f":"lista1!A885135","v":0}]
[{"$f":"lista1!A885650","v":0}]
[{"$f":"lista1!A886394","v":0}]
[{"$f":"lista1!A886615","v":0}]
[{"$f":"lista1!A887130","v":0}]
[{"$f":"lista1!A887874","v":0}]
[{"$f":"lista1!A888389","v":0}]
[{"$f":"lista1!A888610","v":0}]
[{"$f":"lista1!A889354","v":0}]
[{"$f":"lista1!A889869","v":0}]
[{"$f":"lista1!A890613","v":0}]
[{"$f":"lista1!A890834","v":0}]
[{"$f":"lista1!A891349","v":0}]
[{"$f":"lista1!A892093","v":0}]
[{"$f":"lista1!A892608","v":0}]
[{"$f":"lista1!A892829","v":0}]
[{"$f":"lista1!A893573","v":0}]
[{"$f":"lista1!A894088","v":0}]
[{"$f":"lista1!A894309","v":0}]
[{"$f":"lista1!A895347","v":0}]
[{"$f":"lista1!A895568","v":0}]
[{"$f":"lista1!A896312","v":0}]
[{"$f":"lista1!A896778","v":0}]
[{"$f":"lista1!A897049","v":0}]
[{"$f":"lista1!A897793","v":0}]
[{"$f":"lista1!A898308","v":0}]
[{"$f":"lista1!A898529","v":0}]
[{"$f":"lista1!A899044","v":0}]
[{"$f":"lista1!A899788","v":0}]
[{"$f":"lista1!A900532","v":0}]
[{"$f":"lista1!A901047","v":0}]
[{"$f":"lista1!A901268","v":0}]
[{"$f":"lista1!A902012","v":0}]
[{"$f":"lista1!A902527","v":0}]
[{"$f":"lista1!A902748","v":0}]
[{"$f":"lista1!A903263","v":0}]
[{"$f":"lista1!A904007","v":0}]
[{"$f":"lista1!A904751","v":0}]
[{"$f":"lista1!A905266","v":0}]
[{"$f":"lista1!A905487","v":0}]
[{"$f":"lista1!A906002","v":0}]
[{"$f":"lista1!A906746","v":0}]
[{"$f":"lista1!A906967","v":0}]
[{"$f":"lista1!A907482","v":0}]
[{"$f":"lista1!A908226","v":0}]
[{"$f":"lista1!A908447","v":0}]
[{"$f":"lista1!A908962","v":0}]
[{"$f":"lista1!A909706","v":0}]
[{"$f":"lista1!A910407","v":0}]
[{"$f":"lista1!A910966","v":0}]
[{"$f":"lista1!A911187","v":0}]
[{"$f":"lista1!A911702","v":0}]
[{"$f":"lista1!A912446","v":0}]
[{"$f":"lista1!A912961","v":0}]
[{"$f":"lista1!A913182","v":0}]
[{"$f":"lista1!A913926","v":0}]
[{"$f":"lista1!A914441","v":0}]
[{"$f":"lista1!A915185","v":0}]
[{"$f":"lista1!A915406","v":0}]
[{"$f":"lista1!A915921","v":0}]
[{"$f":"lista1!A916665","v":0}]
[{"$f":"lista1!A917180","v":0}]
[{"$f":"lista1!A917401","v":0}]
[{"$f":"lista1!A918145","v":0}]
[{"$f":"lista1!A918660","v":0}]
[{"$f":"lista1!A919404","v":0}]
[{"$f":"lista1!A919625","v":0}]
[{"$f":"lista1!A920140","v":0}]
[{"$f":"lista1!A920884","v":0}]
[{"$f":"lista1!A921399","v":0}]
[{"$f":"lista1!A921620","v":0}]
[{"$f":"lista1!A922364","v":0}]
[{"$f":"lista1!A922879","v":0}]
[{"$f":"lista1!A923100","v":0}]
[{"$f":"lista1!A923615","v":0}]
[{"$f":"lista1!A924364","v":0}]
[{"$f":"lista1!A925104","v":0}]
[{"$f":"lista1!A925619","v":0}]
[{"$f":"lista1!A925840","v":0}]
[{"$f":"lista1!A926584","v":0}]
[{"$f":"lista1!A927099","v":0}]
[{"$f":"lista1!A927320","v":0}]
[{"$f":"lista1!A927835","v":0}]
[{"$f":"lista1!A928579","v":0}]
[{"$f":"lista1!A929323","v":0}]
[{"$f":"lista1!A929838","v":0}]
[{"$f":"lista1!A930059","v":0}]
[{"$f":"lista1!A930803","v":0}]
[{"$f":"lista1!A931318","v":0}]
[{"$f":"lista1!A931539","v":0}]
[{"$f":"lista1!A932054","v":0}]
[{"$f":"lista1!A932798","v":0}]
[{"$f":"lista1!A933019","v":0}]
[{"$f":"lista1!A933534","v":0}]
[{"$f":"lista1!A934278","v":0}]
[{"$f":"lista1!A934793","v":0}]
[{"$f":"lista1!A935537","v":0}]
[{"$f":"lista1!A935758","v":0}]
[{"$f":"lista1!A936273","v":0}]
[{"$f":"lista1!A937017","v":0}]
[{"$f":"lista1!A937238","v":0}]
[{"$f":"lista1!A937993","v":0}]
[{"$f":"lista1!A938498","v":0}]
[{"$f":"lista1!A939013","v":0}]
[{"$f":"lista1!A939757","v":0}]
[{"$f":"lista1!A939978","v":0}]
[{"$f":"lista1!A940493","v":0}]
[{"$f":"lista1!A941237","v":0}]
[{"$f":"lista1!A941752","v":0}]
[{"$f":"lista1!A941973","v":0}]
[{"$f":"lista1!A942717","v":0}]
[{"$f":"lista1!A943232","v":0}]
[{"$f":"lista1!A943976","v":0}]
[{"$f":"lista1!A944197","v":0}]
[{"$f":"lista1!A944712","v":0}]
[{"$f":"lista1!A945456","v":0}]
[{"$f":"lista1!A945971","v":0}]
[{"$f":"lista1!A946192","v":0}]
[{"$f":"lista1!A946936","v":0}]
[{"$f":"lista1!A947451","v":0}]
[{"$f":"lista1!A947672","v":0}]
[{"$f":"lista1!A948416","v":0}]
[{"$f":"lista1!A948931","v":0}]
[{"$f":"lista1!A949675","v":0}]
[{"$f":"lista1!A950190","v":0}]
[{"$f":"lista1!A950411","v":0}]
[{"$f":"lista1!A951155","v":0}]
[{"$f":"lista1!A951622","v":0}]
[{"$f":"lista1!A951892","v":0}]
[{"$f":"lista1!A952407","v":0}]
[{"$f":"lista1!A953151","v":0}]
[{"$f":"lista1!A953895","v":0}]
[{"$f":"lista1!A954410","v":0}]
[{"$f":"lista1!A954631","v":0}]
[{"$f":"lista1!A955375","v":0}]
[{"$f":"lista1!A955890","v":0}]
[{"$f":"lista1!A956111","v":0}]
[{"$f":"lista1!A956626","v":0}]
[{"$f":"lista1!A957370","v":0}]
[{"$f":"lista1!A957591","v":0}]
[{"$f":"lista1!A958629","v":0}]
[{"$f":"lista1!A958850","v":0}]
[{"$f":"lista1!A959594","v":0}]
[{"$f":"lista1!A960109","v":0}]
[{"$f":"lista1!A960330","v":0}]
[{"$f":"lista1!A960845","v":0}]
[{"$f":"lista1!A961589","v":0}]
[{"$f":"lista1!A961810","v":0}]
[{"$f":"lista1!A962325","v":0}]
[{"$f":"lista1!A963069","v":0}]
[{"$f":"lista1!A963584","v":0}]
[{"$f":"lista1!A964328","v":0}]
[{"$f":"lista1!A964549","v":0}]
[{"$f":"lista1!A965064","v":0}]
[{"$f":"lista1!A965579","v":0}]
[{"$f":"lista1!A966030","v":0}]
[{"$f":"lista1!A966545","v":0}]
[{"$f":"lista1!A967289","v":0}]
[{"$f":"lista1!A967804","v":0}]
[{"$f":"lista1!A968548","v":0}]
[{"$f":"lista1!A968769","v":0}]
[{"$f":"lista1!A969284","v":0}]
[{"$f":"lista1!A970028","v":0}]
[{"$f":"lista1!A970543","v":0}]
[{"$f":"lista1!A970764","v":0}]
[{"$f":"lista1!A971508","v":0}]
[{"$f":"lista1!A972023","v":0}]
[{"$f":"lista1!A972244","v":0}]
[{"$f":"lista1!A972988","v":0}]
[{"$f":"lista1!A973503","v":0}]
[{"$f":"lista1!A974247","v":0}]
[{"$f":"lista1!A974762","v":0}]
[{"$f":"lista1!A974983","v":0}]
[{"$f":"lista1!A975727","v":0}]
[{"$f":"lista1!A976242","v":0}]
[{"$f":"lista1!A976463","v":0}]
[{"$f":"lista1!A977207","v":0}]
[{"$f":"lista1!A977722","v":0}]
[{"$f":"lista1!A978466","v":0}]
[{"$f":"lista1!A978981","v":0}]
[{"$f":"lista1!A979208","v":0}]
[{"$f":"lista1!A979947","v":0}]
[{"$f":"lista1!A980462","v":0}]
[{"$f":"lista1!A980683","v":0}]
[{"$f":"lista1!A981198","v":0}]
[{"$f":"lista1!A981942","v":0}]
[{"$f":"lista1!A982686","v":0}]
[{"$f":"lista1!A983201","v":0}]
[{"$f":"lista1!A983422","v":0}]
[{"$f":"lista1!A984166","v":0}]
[{"$f":"lista1!A984681","v":0}]
[{"$f":"lista1!A984902","v":0}]
[{"$f":"lista1!A985417","v":0}]
[{"$f":"lista1!A986161","v":0}]
[{"$f":"lista1!A986382","v":0}]
[{"$f":"lista1!A986897","v":0}]
[{"$f":"lista1!A987641","v":0}]
[{"$f":"lista1!A988156","v":0}]
[{"$f":"lista1!A988900","v":0}]
[{"$f":"lista1!A989121","v":0}]
[{"$f":"lista1!A989636","v":0}]
[{"$f":"lista1!A990380","v":0}]
[{"$f":"lista1!A990601","v":0}]
[{"$f":"lista1!A991116","v":0}]
[{"$f":"lista1!A991860","v":0}]
[{"$f":"lista1!A992375","v":0}]
[{"$f":"lista1!A992837","v":0}]
[{"$f":"lista1!A993341","v":0}]
[{"$f":"lista1!A993856","v":0}]
[{"$f":"lista1!A994600","v":0}]
[{"$f":"lista1!A994821","v":0}]
[{"$f":"lista1!A995336","v":0}]
[{"$f":"lista1!A996080","v":0}]
[{"$f":"lista1!A996595","v":0}]
[{"$f":"lista1!A997339","v":0}]
[{"$f":"lista1!A997560","v":0}]
[{"$f":"lista1!A998075","v":0}]
[{"$f":"lista1!A998819","v":0}]
[{"$f":"lista1!A999334","v":0}]
[{"$f":"lista1!A999555","v":0}]
[{"$f":"lista1!A1000299","v":0}]
[{"$f":"lista1!A1000814","v":0}]
[{"$f":"lista1!A1001035","v":0}]
[{"$f":"lista1!A1001779","v":0}]
[{"$f":"lista1!A1002294","v":0}]
[{"$f":"lista1!A1003038","v":0}]
[{"$f":"lista1!A1003553","v":0}]
[{"$f":"lista1!A1003774","v":0}]
[{"$f":"lista1!A1004518","v":0}]
[{"$f":"lista1!A1005033","v":0}]
[{"$f":"lista1!A1005254","v":0}]
[{"$f":"lista1!A1005998","v":0}]
[{"$f":"lista1!A1006513","v":0}]
[{"$f":"lista1!A1006794","v":0}]
[{"$f":"lista1!A1007773","v":0}]
[{"$f":"lista1!A1007994","v":0}]
[{"$f":"lista1!A1008738","v":0}]
[{"$f":"lista1!A1009253","v":0}]
[{"$f":"lista1!A1009474","v":0}]
[{"$f":"lista1!A1009989","v":0}]
[{"$f":"lista1!A1010733","v":0}]
[{"$f":"lista1!A1010954","v":0}]
[{"$f":"lista1!A1011469","v":0}]
[{"$f":"lista1!A1012213","v":0}]
[{"$f":"lista1!A1012957","v":0}]
[{"$f":"lista1!A1013472","v":0}]
[{"$f":"lista1!A1013693","v":0}]
[{"$f":"lista1!A1014208","v":0}]
[{"$f":"lista1!A1014952","v":0}]
[{"$f":"lista1!A1015173","v":0}]
[{"$f":"lista1!A1015688","v":0}]
[{"$f":"lista1!A1016432","v":0}]
[{"$f":"lista1!A1016947","v":0}]
[{"$f":"lista1!A1017691","v":0}]
[{"$f":"lista1!A1017912","v":0}]
[{"$f":"lista1!A1018427","v":0}]
[{"$f":"lista1!A1019171","v":0}]
[{"$f":"lista1!A1019392","v":0}]
[{"$f":"lista1!A1019907","v":0}]
[{"$f":"lista1!A1020423","v":0}]
[{"$f":"lista1!A1021167","v":0}]
[{"$f":"lista1!A1021911","v":0}]
[{"$f":"lista1!A1022132","v":0}]
[{"$f":"lista1!A1022647","v":0}]
[{"$f":"lista1!A1023391","v":0}]
[{"$f":"lista1!A1023612","v":0}]
[{"$f":"lista1!A1024127","v":0}]
[{"$f":"lista1!A1024871","v":0}]
[{"$f":"lista1!A1025386","v":0}]
[{"$f":"lista1!A1025607","v":0}]
[{"$f":"lista1!A1026351","v":0}]
[{"$f":"lista1!A1026866","v":0}]
[{"$f":"lista1!A1027610","v":0}]
[{"$f":"lista1!A1028125","v":0}]
[{"$f":"lista1!A1028346","v":0}]
[{"$f":"lista1!A1029090","v":0}]
[{"$f":"lista1!A1029605","v":0}]
[{"$f":"lista1!A1029826","v":0}]
[{"$f":"lista1!A1030570","v":0}]
[{"$f":"lista1!A1031085","v":0}]
[{"$f":"lista1!A1031829","v":0}]
[{"$f":"lista1!A1032344","v":0}]
[{"$f":"lista1!A1032565","v":0}]
[{"$f":"lista1!A1033309","v":0}]
[{"$f":"lista1!A1033824","v":0}]
[{"$f":"lista1!A1034052","v":0}]
[{"$f":"lista1!A1034561","v":0}]
[{"$f":"lista1!A1035305","v":0}]
[{"$f":"lista1!A1035526","v":0}]
[{"$f":"lista1!A1036564","v":0}]
[{"$f":"lista1!A1036785","v":0}]
[{"$f":"lista1!A1037529","v":0}]
[{"$f":"lista1!A1038044","v":0}]
[{"$f":"lista1!A1038265","v":0}]
[{"$f":"lista1!A1038780","v":0}]
[{"$f":"lista1!A1039524","v":0}]
[{"$f":"lista1!A1039745","v":0}]
[{"$f":"lista1!A1040260","v":0}]
[{"$f":"lista1!A1041004","v":0}]
[{"$f":"lista1!A1041748","v":0}]
[{"$f":"lista1!A1042263","v":0}]
[{"$f":"lista1!A1042484","v":0}]
[{"$f":"lista1!A1042999","v":0}]
[{"$f":"lista1!A1043743","v":0}]
[{"$f":"lista1!A1043964","v":0}]
[{"$f":"lista1!A1044479","v":0}]
[{"$f":"lista1!A1045223","v":0}]
[{"$f":"lista1!A1045738","v":0}]
[{"$f":"lista1!A1046482","v":0}]
[{"$f":"lista1!A1046703","v":0}]
[{"$f":"lista1!A1047218","v":0}]
[{"$f":"lista1!A1047681","v":0}]
[{"$f":"lista1!A1048077","v":0}]
[{"$f":"lista1!A1048078","v":0}]
[{"$f":"lista1!A1048079","v":0}]
[{"$f":"lista1!A1048080","v":0}]
[{"$f":"lista1!A1048081","v":0}]
[{"$f":"lista1!A1048082","v":0}]
[{"$f":"lista1!A1048083","v":0}]
[{"$f":"lista1!A1048084","v":0}]
[{"$f":"lista1!A1048085","v":0}]
[{"$f":"lista1!A1048086","v":0}]
[{"$f":"lista1!A1048087","v":0}]
[{"$f":"lista1!A1048088","v":0}]
[{"$f":"lista1!A1048089","v":0}]
[{"$f":"lista1!A1048090","v":0}]
[{"$f":"lista1!A1048091","v":0}]
[{"$f":"lista1!A1048092","v":0}]
[{"$f":"lista1!A1048093","v":0}]
[{"$f":"lista1!A1048094","v":0}]
[{"$f":"lista1!A1048095","v":0}]
[{"$f":"lista1!A1048096","v":0}]
[{"$f":"lista1!A1048097","v":0}]
[{"$f":"lista1!A1048098","v":0}]
[{"$f":"lista1!A1048099","v":0}]
[{"$f":"lista1!A1048100","v":0}]
[{"$f":"lista1!A1048101","v":0}]
[{"$f":"lista1!A1048102","v":0}]
[{"$f":"lista1!A1048103","v":0}]
[{"$f":"lista1!A1048104","v":0}]
[{"$f":"lista1!A1048105","v":0}]
[{"$f":"lista1!A1048106","v":0}]
[{"$f":"lista1!A1048107","v":0}]
[{"$f":"lista1!A1048108","v":0}]
[{"$f":"lista1!A1048109","v":0}]
[{"$f":"lista1!A1048110","v":0}]
[{"$f":"lista1!A1048111","v":0}]
[{"$f":"lista1!A1048112","v":0}]
[{"$f":"lista1!A1048113","v":0}]
[{"$f":"lista1!A1048114","v":0}]
[{"$f":"lista1!A1048115","v":0}]
[{"$f":"lista1!A1048116","v":0}]
[{"$f":"lista1!A1048117","v":0}]
[{"$f":"lista1!A1048118","v":0}]
[{"$f":"lista1!A1048119","v":0}]
[{"$f":"lista1!A1048120","v":0}]
[{"$f":"lista1!A1048121","v":0}]
[{"$f":"lista1!A1048122","v":0}]
[{"$f":"lista1!A1048123","v":0}]
[{"$f":"lista1!A1048124","v":0}]
[{"$f":"lista1!A1048125","v":0}]
[{"$f":"lista1!A1048126","v":0}]
[{"$f":"lista1!A1048127","v":0}]
[{"$f":"lista1!A1048128","v":0}]
[{"$f":"lista1!A1048129","v":0}]
[{"$f":"lista1!A1048130","v":0}]
[{"$f":"lista1!A1048131","v":0}]
[{"$f":"lista1!A1048132","v":0}]
[{"$f":"lista1!A1048133","v":0}]
[{"$f":"lista1!A1048134","v":0}]
[{"$f":"lista1!A1048135","v":0}]
[{"$f":"lista1!A1048136","v":0}]
[{"$f":"lista1!A1048137","v":0}]
[{"$f":"lista1!A1048138","v":0}]
[{"$f":"lista1!A1048139","v":0}]
[{"$f":"lista1!A1048140","v":0}]
[{"$f":"lista1!A1048141","v":0}]
[{"$f":"lista1!A1048142","v":0}]
[{"$f":"lista1!A1048143","v":0}]
[{"$f":"lista1!A1048144","v":0}]
[{"$f":"lista1!A1048145","v":0}]
[{"$f":"lista1!A1048146","v":0}]
[{"$f":"lista1!A1048147","v":0}]
[{"$f":"lista1!A1048148","v":0}]
[{"$f":"lista1!A1048149","v":0}]
[{"$f":"lista1!A1048150","v":0}]
[{"$f":"lista1!A1048151","v":0}]
[{"$f":"lista1!A1048152","v":0}]
[{"$f":"lista1!A1048153","v":0}]
[{"$f":"lista1!A1048154","v":0}]
[{"$f":"lista1!A1048155","v":0}]
[{"$f":"lista1!A1048156","v":0}]
[{"$f":"lista1!A1048157","v":0}]
[{"$f":"lista1!A1048158","v":0}]
[{"$f":"lista1!A1048159","v":0}]
[{"$f":"lista1!A1048160","v":0}]
[{"$f":"lista1!A1048161","v":0}]
[{"$f":"lista1!A1048162","v":0}]
[{"$f":"lista1!A1048163","v":0}]
[{"$f":"lista1!A1048164","v":0}]
[{"$f":"lista1!A1048165","v":0}]
[{"$f":"lista1!A1048166","v":0}]
[{"$f":"lista1!A1048167","v":0}]
[{"$f":"lista1!A1048168","v":0}]
[{"$f":"lista1!A1048169","v":0}]
[{"$f":"lista1!A1048170","v":0}]
[{"$f":"lista1!A1048171","v":0}]
[{"$f":"lista1!A1048172","v":0}]
[{"$f":"lista1!A1048173","v":0}]
[{"$f":"lista1!A1048174","v":0}]
[{"$f":"lista1!A1048175","v":0}]
[{"$f":"lista1!A1048176","v":0}]
[{"$f":"lista1!A1048177","v":0}]
[{"$f":"lista1!A1048178","v":0}]
[{"$f":"lista1!A1048179","v":0}]
[{"$f":"lista1!A1048180","v":0}]
[{"$f":"lista1!A1048181","v":0}]
[{"$f":"lista1!A1048182","v":0}]
[{"$f":"lista1!A1048183","v":0}]
[{"$f":"lista1!A1048184","v":0}]
[{"$f":"lista1!A1048185","v":0}]
[{"$f":"lista1!A1048186","v":0}]
[{"$f":"lista1!A1048187","v":0}]
[{"$f":"lista1!A1048188","v":0}]
[{"$f":"lista1!A1048189","v":0}]
[{"$f":"lista1!A1048190","v":0}]
[{"$f":"lista1!A1048191","v":0}]
[{"$f":"lista1!A1048192","v":0}]
[{"$f":"lista1!A1048193","v":0}]
[{"$f":"lista1!A1048194","v":0}]
[{"$f":"lista1!A1048195","v":0}]
[{"$f":"lista1!A1048196","v":0}]
[{"$f":"lista1!A1048197","v":0}]
[{"$f":"lista1!A1048198","v":0}]
[{"$f":"lista1!A1048199","v":0}]
[{"$f":"lista1!A1048200","v":0}]
[{"$f":"lista1!A1048201","v":0}]
[{"$f":"lista1!A1048202","v":0}]
[{"$f":"lista1!A1048203","v":0}]
[{"$f":"lista1!A1048204","v":0}]
[{"$f":"lista1!A1048205","v":0}]
[{"$f":"lista1!A1048206","v":0}]
[{"$f":"lista1!A1048207","v":0}]
[{"$f":"lista1!A1048208","v":0}]
[{"$f":"lista1!A1048209","v":0}]
[{"$f":"lista1!A1048210","v":0}]
[{"$f":"lista1!A1048211","v":0}]
[{"$f":"lista1!A1048212","v":0}]
[{"$f":"lista1!A1048213","v":0}]
[{"$f":"lista1!A1048214","v":0}]
[{"$f":"lista1!A1048215","v":0}]
[{"$f":"lista1!A1048216","v":0}]
[{"$f":"lista1!A1048217","v":0}]
[{"$f":"lista1!A1048218","v":0}]
[{"$f":"lista1!A1048219","v":0}]
[{"$f":"lista1!A1048220","v":0}]
[{"$f":"lista1!A1048221","v":0}]
[{"$f":"lista1!A1048222","v":0}]
[{"$f":"lista1!A1048223","v":0}]
[{"$f":"lista1!A1048224","v":0}]
[{"$f":"lista1!A1048225","v":0}]
[{"$f":"lista1!A1048226","v":0}]
[{"$f":"lista1!A1048227","v":0}]
[{"$f":"lista1!A1048228","v":0}]
[{"$f":"lista1!A1048229","v":0}]
[{"$f":"lista1!A1048230","v":0}]
[{"$f":"lista1!A1048231","v":0}]
[{"$f":"lista1!A1048232","v":0}]
[{"$f":"lista1!A1048233","v":0}]
[{"$f":"lista1!A1048234","v":0}]
[{"$f":"lista1!A1048235","v":0}]
[{"$f":"lista1!A1048236","v":0}]
[{"$f":"lista1!A1048237","v":0}]
[{"$f":"lista1!A1048238","v":0}]
[{"$f":"lista1!A1048239","v":0}]
[{"$f":"lista1!A1048240","v":0}]
[{"$f":"lista1!A1048241","v":0}]
[{"$f":"lista1!A1048242","v":0}]
[{"$f":"lista1!A1048243","v":0}]
[{"$f":"lista1!A1048244","v":0}]
[{"$f":"lista1!A1048245","v":0}]
[{"$f":"lista1!A1048246","v":0}]
[{"$f":"lista1!A1048247","v":0}]
[{"$f":"lista1!A1048248","v":0}]
[{"$f":"lista1!A1048249","v":0}]
[{"$f":"lista1!A1048250","v":0}]
[{"$f":"lista1!A1048251","v":0}]
[{"$f":"lista1!A1048252","v":0}]
[{"$f":"lista1!A1048253","v":0}]
[{"$f":"lista1!A1048254","v":0}]
[{"$f":"lista1!A1048255","v":0}]
[{"$f":"lista1!A1048256","v":0}]
[{"$f":"lista1!A1048257","v":0}]
[{"$f":"lista1!A1048258","v":0}]
[{"$f":"lista1!A1048259","v":0}]
[{"$f":"lista1!A1048260","v":0}]
[{"$f":"lista1!A1048261","v":0}]
[{"$f":"lista1!A1048262","v":0}]
[{"$f":"lista1!A1048263","v":0}]
[{"$f":"lista1!A1048264","v":0}]
[{"$f":"lista1!A1048265","v":0}]
[{"$f":"lista1!A1048266","v":0}]
[{"$f":"lista1!A1048267","v":0}]
[{"$f":"lista1!A1048268","v":0}]
[{"$f":"lista1!A1048269","v":0}]
[{"$f":"lista1!A1048270","v":0}]
[{"$f":"lista1!A1048271","v":0}]
[{"$f":"lista1!A1048272","v":0}]
[{"$f":"lista1!A1048273","v":0}]
[{"$f":"lista1!A1048274","v":0}]
[{"$f":"lista1!A1048275","v":0}]
[{"$f":"lista1!A1048276","v":0}]
[{"$f":"lista1!A1048277","v":0}]
[{"$f":"lista1!A1048278","v":0}]
[{"$f":"lista1!A1048279","v":0}]
[{"$f":"lista1!A1048280","v":0}]
[{"$f":"lista1!A1048281","v":0}]
[{"$f":"lista1!A1048282","v":0}]
[{"$f":"lista1!A1048283","v":0}]
[{"$f":"lista1!A1048284","v":0}]
[{"$f":"lista1!A1048285","v":0}]
[{"$f":"lista1!A1048286","v":0}]
[{"$f":"lista1!A1048287","v":0}]
[{"$f":"lista1!A1048288","v":0}]
[{"$f":"lista1!A1048289","v":0}]
[{"$f":"lista1!A1048290","v":0}]
[{"$f":"lista1!A1048291","v":0}]
[{"$f":"lista1!A1048292","v":0}]
[{"$f":"lista1!A1048293","v":0}]
[{"$f":"lista1!A1048294","v":0}]
[{"$f":"lista1!A1048295","v":0}]
[{"$f":"lista1!A1048296","v":0}]
[{"$f":"lista1!A1048297","v":0}]
[{"$f":"lista1!A1048298","v":0}]
[{"$f":"lista1!A1048299","v":0}]
[{"$f":"lista1!A1048300","v":0}]
[{"$f":"lista1!A1048301","v":0}]
[{"$f":"lista1!A1048302","v":0}]
[{"$f":"lista1!A1048303","v":0}]
[{"$f":"lista1!A1048304","v":0}]
[{"$f":"lista1!A1048305","v":0}]
[{"$f":"lista1!A1048306","v":0}]
[{"$f":"lista1!A1048307","v":0}]
[{"$f":"lista1!A1048308","v":0}]
[{"$f":"lista1!A1048309","v":0}]
[{"$f":"lista1!A1048310","v":0}]
[{"$f":"lista1!A1048311","v":0}]
[{"$f":"lista1!A1048312","v":0}]
[{"$f":"lista1!A1048313","v":0}]
[{"$f":"lista1!A1048314","v":0}]
[{"$f":"lista1!A1048315","v":0}]
[{"$f":"lista1!A1048316","v":0}]
[{"$f":"lista1!A1048317","v":0}]
[{"$f":"lista1!A1048318","v":0}]
[{"$f":"lista1!A1048319","v":0}]
[{"$f":"lista1!A1048320","v":0}]
[{"$f":"lista1!A1048321","v":0}]
[{"$f":"lista1!A1048322","v":0}]
[{"$f":"lista1!A1048323","v":0}]
[{"$f":"lista1!A1048324","v":0}]
[{"$f":"lista1!A1048325","v":0}]
[{"$f":"lista1!A1048326","v":0}]
[{"$f":"lista1!A1048327","v":0}]
[{"$f":"lista1!A1048328","v":0}]
[{"$f":"lista1!A1048329","v":0}]
[{"$f":"lista1!A1048330","v":0}]
[{"$f":"lista1!A1048331","v":0}]
[{"$f":"lista1!A1048332","v":0}]
[{"$f":"lista1!A1048333","v":0}]
[{"$f":"lista1!A1048334","v":0}]
[{"$f":"lista1!A1048335","v":0}]
[{"$f":"lista1!A1048336","v":0}]
[{"$f":"lista1!A1048337","v":0}]
[{"$f":"lista1!A1048338","v":0}]
[{"$f":"lista1!A1048339","v":0}]
[{"$f":"lista1!A1048340","v":0}]
[{"$f":"lista1!A1048341","v":0}]
[{"$f":"lista1!A1048342","v":0}]
[{"$f":"lista1!A1048343","v":0}]
[{"$f":"lista1!A1048344","v":0}]
[{"$f":"lista1!A1048345","v":0}]
[{"$f":"lista1!A1048346","v":0}]
[{"$f":"lista1!A1048347","v":0}]
[{"$f":"lista1!A1048348","v":0}]
[{"$f":"lista1!A1048349","v":0}]
[{"$f":"lista1!A1048350","v":0}]
[{"$f":"lista1!A1048351","v":0}]
[{"$f":"lista1!A1048352","v":0}]
[{"$f":"lista1!A1048353","v":0}]
[{"$f":"lista1!A1048354","v":0}]
[{"$f":"lista1!A1048355","v":0}]
[{"$f":"lista1!A1048356","v":0}]
[{"$f":"lista1!A1048357","v":0}]
[{"$f":"lista1!A1048358","v":0}]
[{"$f":"lista1!A1048359","v":0}]
[{"$f":"lista1!A1048360","v":0}]
[{"$f":"lista1!A1048361","v":0}]
[{"$f":"lista1!A1048362","v":0}]
[{"$f":"lista1!A1048363","v":0}]
[{"$f":"lista1!A1048364","v":0}]
[{"$f":"lista1!A1048365","v":0}]
[{"$f":"lista1!A1048366","v":0}]
[{"$f":"lista1!A1048367","v":0}]
[{"$f":"lista1!A1048368","v":0}]
[{"$f":"lista1!A1048369","v":0}]
[{"$f":"lista1!A1048370","v":0}]
[{"$f":"lista1!A1048371","v":0}]
[{"$f":"lista1!A1048372","v":0}]
[{"$f":"lista1!A1048373","v":0}]
[{"$f":"lista1!A1048374","v":0}]
[{"$f":"lista1!A1048375","v":0}]
[{"$f":"lista1!A1048376","v":0}]
[{"$f":"lista1!A1048377","v":0}]
[{"$f":"lista1!A1048378","v":0}]
[{"$f":"lista1!A1048379","v":0}]
[{"$f":"lista1!A1048380","v":0}]
[{"$f":"lista1!A1048381","v":0}]
[{"$f":"lista1!A1048382","v":0}]
[{"$f":"lista1!A1048383","v":0}]
[{"$f":"lista1!A1048384","v":0}]
[{"$f":"lista1!A1048385","v":0}]
[{"$f":"lista1!A1048386","v":0}]
[{"$f":"lista1!A1048387","v":0}]
[{"$f":"lista1!A1048388","v":0}]
[{"$f":"lista1!A1048389","v":0}]
[{"$f":"lista1!A1048390","v":0}]
[{"$f":"lista1!A1048391","v":0}]
[{"$f":"lista1!A1048392","v":0}]
[{"$f":"lista1!A1048393","v":0}]
[{"$f":"lista1!A1048394","v":0}]
[{"$f":"lista1!A1048395","v":0}]
[{"$f":"lista1!A1048396","v":0}]
[{"$f":"lista1!A1048397","v":0}]
[{"$f":"lista1!A1048398","v":0}]
[{"$f":"lista1!A1048399","v":0}]
[{"$f":"lista1!A1048400","v":0}]
[{"$f":"lista1!A1048401","v":0}]
[{"$f":"lista1!A1048402","v":0}]
[{"$f":"lista1!A1048403","v":0}]
[{"$f":"lista1!A1048404","v":0}]
[{"$f":"lista1!A1048405","v":0}]
[{"$f":"lista1!A1048406","v":0}]
[{"$f":"lista1!A1048407","v":0}]
[{"$f":"lista1!A1048408","v":0}]
[{"$f":"lista1!A1048409","v":0}]
[{"$f":"lista1!A1048410","v":0}]
[{"$f":"lista1!A1048411","v":0}]
[{"$f":"lista1!A1048412","v":0}]
[{"$f":"lista1!A1048413","v":0}]
[{"$f":"lista1!A1048414","v":0}]
[{"$f":"lista1!A1048415","v":0}]
[{"$f":"lista1!A1048416","v":0}]
[{"$f":"lista1!A1048417","v":0}]
[{"$f":"lista1!A1048418","v":0}]
[{"$f":"lista1!A1048419","v":0}]
[{"$f":"lista1!A1048420","v":0}]
[{"$f":"lista1!A1048421","v":0}]
[{"$f":"lista1!A1048422","v":0}]
[{"$f":"lista1!A1048423","v":0}]
[{"$f":"lista1!A1048424","v":0}]
[{"$f":"lista1!A1048425","v":0}]
[{"$f":"lista1!A1048426","v":0}]
[{"$f":"lista1!A1048427","v":0}]
[{"$f":"lista1!A1048428","v":0}]
[{"$f":"lista1!A1048429","v":0}]
[{"$f":"lista1!A1048430","v":0}]
[{"$f":"lista1!A1048431","v":0}]
[{"$f":"lista1!A1048432","v":0}]
[{"$f":"lista1!A1048433","v":0}]
[{"$f":"lista1!A1048434","v":0}]
[{"$f":"lista1!A1048435","v":0}]
[{"$f":"lista1!A1048436","v":0}]
[{"$f":"lista1!A1048437","v":0}]
[{"$f":"lista1!A1048438","v":0}]
[{"$f":"lista1!A1048439","v":0}]
[{"$f":"lista1!A1048440","v":0}]
[{"$f":"lista1!A1048441","v":0}]
[{"$f":"lista1!A1048442","v":0}]
[{"$f":"lista1!A1048443","v":0}]
[{"$f":"lista1!A1048444","v":0}]
[{"$f":"lista1!A1048445","v":0}]
[{"$f":"lista1!A1048446","v":0}]
[{"$f":"lista1!A1048447","v":0}]
[{"$f":"lista1!A1048448","v":0}]
[{"$f":"lista1!A1048449","v":0}]
[{"$f":"lista1!A1048450","v":0}]
[{"$f":"lista1!A1048451","v":0}]
[{"$f":"lista1!A1048452","v":0}]
[{"$f":"lista1!A1048453","v":0}]
[{"$f":"lista1!A1048454","v":0}]
[{"$f":"lista1!A1048455","v":0}]
[{"$f":"lista1!A1048456","v":0}]
[{"$f":"lista1!A1048457","v":0}]
[{"$f":"lista1!A1048458","v":0}]
[{"$f":"lista1!A1048459","v":0}]
[{"$f":"lista1!A1048460","v":0}]
[{"$f":"lista1!A1048461","v":0}]
[{"$f":"lista1!A1048462","v":0}]
[{"$f":"lista1!A1048463","v":0}]
[{"$f":"lista1!A1048464","v":0}]
[{"$f":"lista1!A1048465","v":0}]
[{"$f":"lista1!A1048466","v":0}]
[{"$f":"lista1!A1048467","v":0}]
[{"$f":"lista1!A1048468","v":0}]
[{"$f":"lista1!A1048469","v":0}]
[{"$f":"lista1!A1048470","v":0}]
[{"$f":"lista1!A1048471","v":0}]
[{"$f":"lista1!A1048472","v":0}]
[{"$f":"lista1!A1048473","v":0}]
[{"$f":"lista1!A1048474","v":0}]
[{"$f":"lista1!A1048475","v":0}]
[{"$f":"lista1!A1048476","v":0}]
[{"$f":"lista1!A1048477","v":0}]
[{"$f":"lista1!A1048478","v":0}]
[{"$f":"lista1!A1048479","v":0}]
[{"$f":"lista1!A1048480","v":0}]
[{"$f":"lista1!A1048481","v":0}]
[{"$f":"lista1!A1048482","v":0}]
[{"$f":"lista1!A1048483","v":0}]
[{"$f":"lista1!A1048484","v":0}]
[{"$f":"lista1!A1048485","v":0}]
[{"$f":"lista1!A1048486","v":0}]
[{"$f":"lista1!A1048487","v":0}]
[{"$f":"lista1!A1048488","v":0}]
[{"$f":"lista1!A1048489","v":0}]
[{"$f":"lista1!A1048490","v":0}]
[{"$f":"lista1!A1048491","v":0}]
[{"$f":"lista1!A1048492","v":0}]
[{"$f":"lista1!A1048493","v":0}]
[{"$f":"lista1!A1048494","v":0}]
[{"$f":"lista1!A1048495","v":0}]
[{"$f":"lista1!A1048496","v":0}]
[{"$f":"lista1!A1048497","v":0}]
[{"$f":"lista1!A1048498","v":0}]
[{"$f":"lista1!A1048499","v":0}]
[{"$f":"lista1!A1048500","v":0}]
[{"$f":"lista1!A1048501","v":0}]
[{"$f":"lista1!A1048502","v":0}]
[{"$f":"lista1!A1048503","v":0}]
[{"$f":"lista1!A1048504","v":0}]
[{"$f":"lista1!A1048505","v":0}]
[{"$f":"lista1!A1048506","v":0}]
[{"$f":"lista1!A1048507","v":0}]
[{"$f":"lista1!A1048508","v":0}]
[{"$f":"lista1!A1048509","v":0}]
[{"$f":"lista1!A1048510","v":0}]
[{"$f":"lista1!A1048511","v":0}]
[{"$f":"lista1!A1048512","v":0}]
[{"$f":"lista1!A1048513","v":0}]
[{"$f":"lista1!A1048514","v":0}]
[{"$f":"lista1!A1048515","v":0}]
[{"$f":"lista1!A1048516","v":0}]
[{"$f":"lista1!A1048517","v":0}]
[{"$f":"lista1!A1048518","v":0}]
[{"$f":"lista1!A1048519","v":0}]
[{"$f":"lista1!A1048520","v":0}]
[{"$f":"lista1!A1048521","v":0}]
[{"$f":"lista1!A1048522","v":0}]
[{"$f":"lista1!A1048523","v":0}]
[{"$f":"lista1!A1048524","v":0}]
[{"$f":"lista1!A1048525","v":0}]
[{"$f":"lista1!A1048526","v":0}]
[{"$f":"lista1!A1048527","v":0}]
[{"$f":"lista1!A1048528","v":0}]
[{"$f":"lista1!A1048529","v":0}]
[{"$f":"lista1!A1048530","v":0}]
[{"$f":"lista1!A1048531","v":0}]
[{"$f":"lista1!A1048532","v":0}]
[{"$f":"lista1!A1048533","v":0}]
[{"$f":"lista1!A1048534","v":0}]
[{"$f":"lista1!A1048535","v":0}]
[{"$f":"lista1!A1048536","v":0}]
[{"$f":"lista1!A1048537","v":0}]
[{"$f":"lista1!A1048538","v":0}]
[{"$f":"lista1!A1048539","v":0}]
[{"$f":"lista1!A1048540","v":0}]
[{"$f":"lista1!A1048541","v":0}]
[{"$f":"lista1!A1048542","v":0}]
[{"$f":"lista1!A1048543","v":0}]
[{"$f":"lista1!A1048544","v":0}]
[{"$f":"lista1!A1048545","v":0}]
[{"$f":"lista1!A1048546","v":0}]
[{"$f":"lista1!A1048547","v":0}]
[{"$f":"lista1!A1048548","v":0}]
[{"$f":"lista1!A1048549","v":0}]
[{"$f":"lista1!A1048550","v":0}]
[{"$f":"lista1!A1048551","v":0}]
[{"$f":"lista1!A1048552","v":0}]
[{"$f":"lista1!A1048553","v":0}]
[{"$f":"lista1!A1048554","v":0}]
[{"$f":"lista1!A1048555","v":0}]
[{"$f":"lista1!A1048556","v":0}]
[{"$f":"lista1!A1048557","v":0}]
[{"$f":"lista1!A1048558","v":0}]
[{"$f":"lista1!A1048559","v":0}]
[{"$f":"lista1!A1048560","v":0}]
[{"$f":"lista1!A1048561","v":0}]
[{"$f":"lista1!A1048562","v":0}]
[{"$f":"lista1!A1048563","v":0}]
[{"$f":"lista1!A1048564","v":0}]
[{"$f":"lista1!A1048565","v":0}]
[{"$f":"lista1!A1048566","v":0}]
[{"$f":"lista1!A1048567","v":0}]
[{"$f":"lista1!A1048568","v":0}]
[{"$f":"lista1!A1048569","v":0}]
[{"$f":"lista1!A1048570","v":0}]
[{"$f":"lista1!A1048571","v":0}]
[{"$f":"lista1!A1048572","v":0}]
[{"$f":"lista1!A1048573","v":0}]
[{"$f":"lista1!A1048574","v":0}]
[{"$f":"lista1!A1048575","v":0}]
[{"$f":"lista1!A1048576","v":0}]

{"sheet":"Cómp.(obra2)","index":5,"n_rows":355,"n_cols":17,"rows_kept":355,"cut":false,"hidden":false,"merged":[[7,10,10,10],[7,11,10,11],[7,12,10,12],[1,1,1,9],[2,1,2,9],[3,1,3,9],[5,3,5,5],[7,1,9,1],[7,2,9,2],[7,3,9,9],[4,10,4,11],[353,7,355,9],[353,10,355,11],[320,6,320,7],[325,6,325,7],[327,6,327,7]]}
[]
[null,"OBRA: ",null,null,null,null,null,null,null,null,"Superf. Cubierta total:",{"$f":"'Costos grales.'!R3","v":"obra2"},null,"m2"]
[null,"PROPIETARIO:  ",null,null,null,null,null,null,null,null,null,null,{"$f":"M2*M5","v":0},1]
[null,"UBICACION: ",null,null,null,null,null,null,null,null,"¿INCLUIRÁ ESTA HOJA EN CALC. DE ESTE LIBRO EXCEL?",null,null,0]
[null,null,null,null,null,null,null,null,null,null,"NO",null,{"$f":"MAX((L6:L7=K5)*(M6:M7))","v":0}]
[null,null,"FECHA:",{"$f":"TODAY()","v":"2015-11-12"},null,null,null,null,null,null,null,"SI",1]
[null,null,null,null,null,null,null,null,null,null,null,"NO",0]
[null,"Nº","RUBRO","Unidad",null,null,null,null,null,null,"COSTO UNITARIO $","TOTAL ITEM $","TOTAL RUBRO $"]
[]
[]
[null,0,"TRABAJOS PRELIMINARES","Largo [m]","Ancho [m]","Alto [m]","Área [m2]","Perímetro [m]","General","[m³]"]
[null,null,"limpieza y preparacion del terreno",null,null,null,567,null,null,null,32.75,{"$f":"+K12*G12*$M$5","v":0},{"$f":"+L12+L13","v":0},null,null,1,{"$f":"M12","v":0}]
[null,null,"replanteo",null,null,null,260,null,null,null,17.850000000000001,{"$f":"+K13*G13*$M$5","v":0},null,null,null,null,{"$f":"M13","v":0}]
[null,1,"MOVIMIENTO DE TIERRA",null,null,null,null,null,null,null,null,null,null,null,null,null,0]
[null,"1.1","Excavación para platea",13.16,5,0.25,null,null,null,{"$f":"D15*E15*F15","v":16.45},87.59,0,{"$f":"+L15+L16+L17","v":0},null,null,2,0]
[null,null,"Excavacion cimientos (Total)",null,null,0.35,{"$f":"2*14.58","v":29.16},null,null,{"$f":"+(G16*F16)","v":10.206},87.59,0,null,null,null,null,0]
[null,"1.2","Relleno",null,null,0.53,546.76,null,null,{"$f":"F17*G17","v":289.78280000000001},156,0,null,null,null,null,0]
[null,2,"FUNDACIONES","Largo [m]","Ancho [m]","Alto [m]","Área [m2]","Perímetro [m]","General","[m³]",null,null,null,null,null,null,0]
[null,2.1,"Platea de H° A°",13.16,5,0.18,null,null,null,{"$f":"D19*E19*F19","v":11.843999999999999},1077.3,0,{"$f":"+L19+L20","v":0},null,null,3,0]
[null,null,"VIGAS RIOSTRAS (TOTAL)",null,null,0.35,{"$f":"+G16","v":29.16},null,null,{"$f":"+F20*G20","v":10.206},1077.3,0,null,null,null,null,0]
[null,3,"ESTRUCTURAS RESISTENTES (por vivienda)","Largo [m]","Ancho [m]","Alto [m]","Área [m2]","Perímetro [m]","General","[m³]",null,null,null,null,null,null,0]
[null,3.1,"VIGAS DE ENCADENADO SUPERIOR",null,null,null,null,null,null,null,null,0,{"$f":"+L36+L41+L46+L68","v":0},null,null,4,0]
[null,null,"Nivel 2,60",null,null,null,null,null,null,null,null,0,null,null,null,null,0]
[null,null,"VE 18x30",10.78,0.18,0.3,null,null,null,{"$f":"D24*E24*F24","v":0.58211999999999997},1914.2,0,null,null,null,null,0]
[null,null,"VE 18x30",10.78,0.18,0.3,null,null,null,{"$f":"D25*E25*F25","v":0.58211999999999997},1914.2,0,null,null,null,null,0]
[null,null,"VE 18x30",3.05,0.18,0.3,null,null,null,0.16469999999999999,1914.2,0,null,null,null,null,0]
[null,null,"VE 18x30",3.05,0.18,0.3,null,null,null,0.16469999999999999,1914.2,0,null,null,null,null,0]
[null,null,"VE 18x30",3.05,0.18,0.3,null,null,null,0.16469999999999999,1914.2,0,null,null,null,null,0]
[null,null,"VE 18x30",3.05,0.18,0.3,null,null,null,0.16469999999999999,1914.2,0,null,null,null,null,0]
[null,null,"VE 18x30",3.05,0.18,0.3,null,null,null,0.16469999999999999,1914.2,0,null,null,null,null,0]
[null,null,"VE 18x30",1.55,0.18,0.3,null,null,null,8.3699999999999983E-2,1914.2,0,null,null,null,null,0]
[null,null,"VE 18x30",1.55,0.18,0.3,null,null,null,8.3699999999999983E-2,1914.2,0,null,null,null,null,0]
[null,null,"VE 18x30",1.79,0.2,0.3,null,null,null,0.10740000000000001,1914.2,0,null,null,null,null,0]
[null,null,"VE 18x30",4.5,0.2,0.3,null,null,null,0.27,1914.2,0,null,null,null,null,0]
[null,null,"VE 18x30 (apoyo intermedio escalera)",2.6,0.18,0.3,null,null,null,{"$f":"D35*E35*F35","v":0.1404},1914.2,0,null,null,null,null,0]
[null,null,"Nivel 5,20",null,null,null,null,null,null,null,null,0,null,null,null,null,0]
[null,null,"VE 18x30",7.47,0.18,0.3,null,null,null,{"$f":"D37*E37*F37","v":0.40337999999999991},1914.2,0,null,null,null,null,0]
[null,null,"VE 18x30",7.18,0.18,0.3,null,null,null,{"$f":"D38*E38*F38","v":0.38772000000000001},1914.2,0,null,null,null,null,0]
[null,null,"VE 18x30",3.04,0.18,0.3,null,null,null,{"$f":"D39*E39*F39","v":0.16416},1914.2,0,null,null,null,null,0]
[null,null,"VE 18x30",3.04,0.18,0.3,null,null,null,{"$f":"D40*E40*F40","v":0.16416},1914.2,0,null,null,null,null,0]
[null,null,"Apoyo tanque",null,null,null,null,null,null,null,null,0,null,null,null,null,0]
[null,null,"VE 18x20",1.98,0.18,0.2,null,null,null,{"$f":"D42*E42*F42","v":7.1279999999999996E-2},1914.2,0,null,null,null,null,0]
[null,null,"VE 18x20",1.98,0.18,0.2,null,null,null,{"$f":"D43*E43*F43","v":7.1279999999999996E-2},1914.2,0,null,null,null,null,0]
[null,null,"VE 18x20",2.1800000000000002,0.18,0.2,null,null,null,{"$f":"D44*E44*F44","v":7.8480000000000008E-2},1914.2,0,null,null,null,null,0]
[null,null,"Viga invertida 40x15",3.04,0.4,0.15,null,null,null,{"$f":"D45*E45*F45","v":0.18240000000000003},1914.2,0,null,null,null,null,0]
[null,null,null,null,null,null,null,null,null,{"$f":"SUM(J24:J45)","v":4.1958000000000002},null,0,null,null,null,null,0]
[null,3.2,"COLUMNAS ESTRUCTURALES",null,null,null,null,null,null,null,null,0,null,null,null,null,0]
[null,null,"C 20x20",null,null,2.6,{"$f":"0.2*0.2","v":4.0000000000000008E-2},null,null,{"$f":"F48*G48","v":0.10400000000000002},1896.3,0,null,null,null,null,0]
[null,null,"C 20x20",null,null,2.6,{"$f":"0.2*0.2","v":4.0000000000000008E-2},null,null,{"$f":"F49*G49","v":0.10400000000000002},1896.3,0,null,null,null,null,0]
[null,null,"C 20x20",null,null,2.6,4.0000000000000008E-2,null,null,0.10400000000000002,1896.3,0,null,null,null,null,0]
[null,null,"C 20x20",null,null,2.6,4.0000000000000008E-2,null,null,0.10400000000000002,1896.3,0,null,null,null,null,0]
[null,null,"C 20x20",null,null,2.6,4.0000000000000008E-2,null,null,0.10400000000000002,1896.3,0,null,null,null,null,0]
[null,null,"C 20x20",null,null,2.6,4.0000000000000008E-2,null,null,0.10400000000000002,1896.3,0,null,null,null,null,0]
[null,null,"C 20x20",null,null,2.6,4.0000000000000008E-2,null,null,0.10400000000000002,1896.3,0,null,null,null,null,0]
[null,null,"C 20x20",null,null,2.6,4.0000000000000008E-2,null,null,0.10400000000000002,1896.3,0,null,null,null,null,0]
[null,null,"C 20x20",null,null,2.6,4.0000000000000008E-2,null,null,0.10400000000000002,1896.3,0,null,null,null,null,0]
[null,null,"C 20x20",null,null,2.6,4.0000000000000008E-2,null,null,0.10400000000000002,1896.3,0,null,null,null,null,0]
[null,null,"C 20x20",null,null,2.6,4.0000000000000008E-2,null,null,0.10400000000000002,1896.3,0,null,null,null,null,0]
[null,null,"C 20x20",null,null,2.6,4.0000000000000008E-2,null,null,0.10400000000000002,1896.3,0,null,null,null,null,0]
[null,null,"C 20x20",null,null,2.6,4.0000000000000008E-2,null,null,0.10400000000000002,1896.3,0,null,null,null,null,0]
[null,null,"C 20x20",null,null,2.6,4.0000000000000008E-2,null,null,0.10400000000000002,1896.3,0,null,null,null,null,0]
[null,null,"C 20x20",null,null,2.6,4.0000000000000008E-2,null,null,0.10400000000000002,1896.3,0,null,null,null,null,0]
[null,null,"C 20x20",null,null,2.6,4.0000000000000008E-2,null,null,0.10400000000000002,1896.3,0,null,null,null,null,0]
[null,null,"C 20x20",null,null,2.6,4.0000000000000008E-2,null,null,0.10400000000000002,1896.3,0,null,null,null,null,0]
[null,null,"C 20x20",null,null,2.6,4.0000000000000008E-2,null,null,0.10400000000000002,1896.3,0,null,null,null,null,0]
[null,null,"C 20x20",null,null,2.6,4.0000000000000008E-2,null,null,0.10400000000000002,1896.3,0,null,null,null,null,0]
[null,null,"C 20x20",null,null,2.6,4.0000000000000008E-2,null,null,0.10400000000000002,1896.3,0,null,null,null,null,0]
[null,null,null,null,null,null,null,null,null,{"$f":"SUM(J48:J67)","v":2.080000000000001},null,0,null,null,null,null,0]
[null,null,null,null,null,null,null,null,null,null,null,0,null,null,null,null,0]
[null,4,"MAMPOSTERÍA","Largo [m]","Ancho [m]","Alto [m]","Área [m2]","Perímetro [m]","General","[m²]",null,null,null,null,null,null,0]
[null,null,null,null,null,null,null,null,null,null,null,0,{"$f":"+L103+L117+L124+L133+L142","v":0},null,null,5,0]
[null,4.0999999999999996,"DE LADRILLOS cerámicos huecos no portante (18x18x33)",null,null,null,null,null,null,null,null,0,null,null,null,null,0]
[null,null,"Planta baja",null,null,null,null,null,null,null,null,0,null,null,null,null,0]
[null,null,"Muro",0.7,null,2.6,null,null,null,{"$f":"D74*F74","v":1.8199999999999998},173.3,0,null,null,null,null,0]
[null,null,"Muro",0.7,null,2.6,null,null,null,{"$f":"D75*F75","v":1.8199999999999998},173.3,0,null,null,null,null,0]
[null,null,"Muro",3.65,null,2.6,null,null,null,{"$f":"D76*F76","v":9.49},173.3,0,null,null,null,null,0]
[null,null,"Muro",3.65,null,2.6,null,null,null,{"$f":"D77*F77","v":9.49},173.3,{"$f":"+K77*G77*$M$5","v":0},null,null,null,null,{"$f":"M77","v":0}]
[null,null,"Muro",0.75,null,2.6,null,null,null,1.9500000000000002,173.3,0,null,null,null,null,0]
[null,null,"Muro",0.75,null,2.6,null,null,null,{"$f":"D79*F79","v":1.9500000000000002},173.3,0,null,null,null,null,0]
[null,null,"Muro",4.5999999999999996,null,2.6,null,null,null,11.959999999999999,173.3,0,null,null,null,null,0]
[null,null,"Muro",4.5999999999999996,null,2.6,null,null,null,{"$f":"D81*F81","v":11.959999999999999},173.3,0,null,null,null,null,0]
[null,null,"Muro",1.55,null,2.6,null,null,null,4.03,173.3,0,null,null,null,null,0]
[null,null,"Muro",1.55,null,2.6,null,null,null,{"$f":"D83*F83","v":4.03},173.3,0,null,null,null,null,0]
[null,null,"Muro",0.94,null,2.6,null,null,null,2.444,173.3,0,null,null,null,null,0]
[null,null,"Muro",0.94,null,2.6,null,null,null,{"$f":"D85*F85","v":2.444},173.3,0,null,null,null,null,0]
[null,null,"Muro",1.79,null,2.6,null,null,null,4.6539999999999999,173.3,0,null,null,null,null,0]
[null,null,"Muro",1.79,null,2.6,null,null,null,{"$f":"D87*F87","v":4.6539999999999999},173.3,0,null,null,null,null,0]
[null,null,"Muro",2.19,null,2.6,null,null,null,5.694,173.3,0,null,null,null,null,0]
[null,null,"Muro",2.19,null,2.6,null,null,null,5.694,173.3,0,null,null,null,null,0]
[null,null,"Muro",3.05,null,2.6,null,null,null,7.93,173.3,0,null,null,null,null,0]
[null,null,"Muro",3.05,null,2.6,null,null,null,7.93,173.3,0,null,null,null,null,0]
[null,null,"Muro",3.05,null,2.6,null,null,null,7.93,173.3,0,null,null,null,null,0]
[null,null,"Muro",3.05,null,2.6,null,null,null,7.93,173.3,0,null,null,null,null,0]
[null,null,"Muro",1.35,null,2.6,null,null,null,3.5100000000000002,173.3,0,null,null,null,null,0]
[null,null,"Muro",1.35,null,2.6,null,null,null,3.5100000000000002,173.3,0,null,null,null,null,0]
[null,null,"Muro",0.7,null,2.6,null,null,null,1.8199999999999998,173.3,0,null,null,null,null,0]
[null,null,"Muro",0.7,null,2.6,null,null,null,1.8199999999999998,173.3,0,null,null,null,null,0]
[null,null,"Muro",0.4,null,2.6,null,null,null,1.04,173.3,0,null,null,null,null,0]
[null,null,"Muro",0.4,null,2.6,null,null,null,1.04,173.3,0,null,null,null,null,0]
[null,null,"Muro (divisor - común a ambas viviendas)",3.4,null,2.6,null,null,null,8.84,173.3,0,null,null,null,null,0]
[null,null,"Muro (divisor - común a ambas viviendas)",1.79,null,2.6,null,null,null,4.6539999999999999,173.3,0,null,null,null,null,0]
[null,null,"Muro (divisor - común a ambas viviendas)",5.08,null,2.6,null,null,null,13.208,173.3,0,null,null,null,null,0]
[null,null,"Planta alta",null,null,null,null,null,null,null,null,0,null,null,null,null,0]
[null,null,"Muro",6.78,null,2.6,null,null,null,{"$f":"D104*F104","v":17.628},173.3,0,null,null,null,null,0]
[null,null,"Muro",6.78,null,2.6,null,null,null,17.628,173.3,0,null,null,null,null,0]
[null,null,"Muro",3.04,null,2.6,null,null,null,7.9040000000000008,173.3,0,null,null,null,null,0]
[null,null,"Muro",3.04,null,2.6,null,null,null,7.9040000000000008,173.3,0,null,null,null,null,0]
[null,null,"Muro (divisor - común a ambas viviendas)",1.79,null,2.6,null,null,null,4.6539999999999999,173.3,0,null,null,null,null,0]
[null,null,"Muro (divisor - común a ambas viviendas)",1.35,null,2.6,null,null,null,3.5100000000000002,173.3,0,null,null,null,null,0]
[null,null,"Muro (divisor - común a ambas viviendas)",3.59,null,2.6,null,null,null,9.3339999999999996,173.3,0,null,null,null,null,0]
[null,null,"Muro",0.7,null,2.6,null,null,null,1.8199999999999998,173.3,0,null,null,null,null,0]
[null,null,"Muro",0.7,null,2.6,null,null,null,1.8199999999999998,173.3,0,null,null,null,null,0]
[null,null,"Muro",0.4,null,2.6,null,null,null,1.04,173.3,0,null,null,null,null,0]
[null,null,"Muro",0.4,null,2.6,null,null,null,1.04,173.3,0,null,null,null,null,0]
[null,null,"Muro",2.25,null,2.6,null,null,null,5.8500000000000005,173.3,0,null,null,null,null,0]
[null,null,"Muro",2.25,null,2.6,null,null,null,5.8500000000000005,173.3,0,null,null,null,null,0]
[null,null,null,null,null,null,null,null,null,{"$f":"SUM(J74:J116)","v":241.22799999999995},null,0,null,null,null,null,0]
[null,4.2,"DE LADRILLOS cerámicos huecos no portante (12x18x33)",null,null,null,null,null,null,null,null,0,null,null,null,null,0]
[null,null,"Planta alta",null,null,null,null,null,null,null,null,0,null,null,null,null,0]
[null,null,"Muro",0.64,null,2.6,null,null,null,{"$f":"D120*F120","v":1.6640000000000001},123.8,0,null,null,null,null,0]
[null,null,"Muro",0.64,null,2.6,null,null,null,{"$f":"D121*F121","v":1.6640000000000001},123.8,0,null,null,null,null,0]
[null,null,"Muro",2.15,null,2.6,null,null,null,{"$f":"D122*F122","v":5.59},123.8,0,null,null,null,null,0]
[null,null,"Muro",2.15,null,2.6,null,null,null,{"$f":"D123*F123","v":5.59},123.8,0,null,null,null,null,0]
[null,null,null,null,null,null,null,null,null,{"$f":"SUM(J120:J123)","v":14.507999999999999},null,0,null,null,null,null,0]
[null,4.3,"DE LADRILLOS cerámicos huecos no portante (8x18x33)",null,null,null,null,null,null,null,null,0,null,null,null,null,0]
[null,null,"Planta baja",null,null,null,null,null,null,null,null,0,null,null,null,null,0]
[null,null,"Muro",1.82,null,2.6,null,null,null,{"$f":"D127*F127","v":4.7320000000000002},166.52,0,null,null,null,null,0]
[null,null,"Muro",1.82,null,2.6,null,null,null,4.7320000000000002,166.52,0,null,null,null,null,0]
[null,null,"Muro",0.85,null,2.6,null,null,null,2.21,166.52,0,null,null,null,null,0]
[null,null,"Muro",0.85,null,2.6,null,null,null,2.21,166.52,0,null,null,null,null,0]
[null,null,"Muro",2.16,null,2.6,null,null,null,5.6160000000000005,166.52,0,null,null,null,null,0]
[null,null,"Muro",2.16,null,2.6,null,null,null,5.6160000000000005,166.52,0,null,null,null,null,0]
[null,null,"Planta alta",null,null,null,null,null,null,null,null,0,null,null,null,null,0]
[null,null,"Muro",0.84,null,2.6,null,null,null,{"$f":"D134*F134","v":2.1840000000000002},166.52,0,null,null,null,null,0]
[null,null,"Muro",0.84,null,2.6,null,null,null,2.1840000000000002,166.52,0,null,null,null,null,0]
[null,null,"Muro",1.35,null,2.6,null,null,null,3.5100000000000002,166.52,0,null,null,null,null,0]
[null,null,"Muro",1.35,null,2.6,null,null,null,3.5100000000000002,166.52,0,null,null,null,null,0]
[null,null,"Muro",0.26,null,2.6,null,null,null,0.67600000000000005,166.52,0,null,null,null,null,0]
[null,null,"Muro",0.26,null,2.6,null,null,null,0.67600000000000005,166.52,0,null,null,null,null,0]
[null,null,"Muro",0.6,null,2.6,null,null,null,1.56,166.52,0,null,null,null,null,0]
[null,null,"Muro",0.6,null,2.6,null,null,null,1.56,166.52,{"$f":"+K141*G141*$M$5","v":0},null,null,null,null,{"$f":"M141","v":0}]
[null,null,null,null,null,null,null,null,null,{"$f":"SUM(J127:J141)","v":40.976000000000006},null,0,null,null,null,null,0]
[null,5,"CAPAS AISLADORAS","Largo [m]","Ancho [m]","Alto [m]",null,null,null,"[m²]",null,0,null,null,null,null,0]
[null,5.0999999999999996,"Horizontal para muros y tabiques",null,null,null,null,null,null,null,null,0,{"$f":"+L175+L183","v":0},null,null,6,0]
[null,null,"Ancho 0,20 [m], Alto 0,2 [m]",null,null,null,null,null,null,null,null,0,null,null,null,null,0]
[null,null,"Muro",0.7,null,null,null,null,null,{"$f":"(0.2+2*0.2)*D146","v":0.42000000000000004},65.5,0,null,null,null,null,0]
[null,null,"Muro",0.7,null,null,null,null,null,{"$f":"(0.2+2*0.2)*D147","v":0.42000000000000004},65.5,0,null,null,null,null,0]
[null,null,"Muro",3.65,null,null,null,null,null,2.1900000000000004,65.5,0,null,null,null,null,0]
[null,null,"Muro",3.65,null,null,null,null,null,2.1900000000000004,65.5,0,null,null,null,null,0]
[null,null,"Muro",0.75,null,null,null,null,null,0.45000000000000007,65.5,0,null,null,null,null,0]
[null,null,"Muro",0.75,null,null,null,null,null,0.45000000000000007,65.5,0,null,null,null,null,0]
[null,null,"Muro",4.5999999999999996,null,null,null,null,null,2.7600000000000002,65.5,0,null,null,null,null,0]
[null,null,"Muro",4.5999999999999996,null,null,null,null,null,2.7600000000000002,65.5,0,null,null,null,null,0]
[null,null,"Muro",1.55,null,null,null,null,null,0.93000000000000016,65.5,0,null,null,null,null,0]
[null,null,"Muro",1.55,null,null,null,null,null,0.93000000000000016,65.5,0,null,null,null,null,0]
[null,null,"Muro",0.94,null,null,null,null,null,0.56400000000000006,65.5,0,null,null,null,null,0]
[null,null,"Muro",0.94,null,null,null,null,null,0.56400000000000006,65.5,0,null,null,null,null,0]
[null,null,"Muro",1.79,null,null,null,null,null,1.0740000000000003,65.5,0,null,null,null,null,0]
[null,null,"Muro",1.79,null,null,null,null,null,1.0740000000000003,65.5,0,null,null,null,null,0]
[null,null,"Muro",2.19,null,null,null,null,null,1.3140000000000001,65.5,0,null,null,null,null,0]
[null,null,"Muro",2.19,null,null,null,null,null,1.3140000000000001,65.5,0,null,null,null,null,0]
[null,null,"Muro",3.05,null,null,null,null,null,1.83,65.5,0,null,null,null,null,0]
[null,null,"Muro",3.05,null,null,null,null,null,1.83,65.5,0,null,null,null,null,0]
[null,null,"Muro",3.05,null,null,null,null,null,1.83,65.5,0,null,null,null,null,0]
[null,null,"Muro",3.05,null,null,null,null,null,1.83,65.5,0,null,null,null,null,0]
[null,null,"Muro",1.35,null,null,null,null,null,0.81000000000000016,65.5,0,null,null,null,null,0]
[null,null,"Muro",1.35,null,null,null,null,null,0.81000000000000016,65.5,0,null,null,null,null,0]
[null,null,"Muro",0.7,null,null,null,null,null,0.42000000000000004,65.5,0,null,null,null,null,0]
[null,null,"Muro",0.7,null,null,null,null,null,0.42000000000000004,65.5,0,null,null,null,null,0]
[null,null,"Muro",0.4,null,null,null,null,null,0.24000000000000005,65.5,0,null,null,null,null,0]
[null,null,"Muro",0.4,null,null,null,null,null,0.24000000000000005,65.5,0,null,null,null,null,0]
[null,null,"Muro (divisor - común a ambas viviendas)",3.4,null,null,null,null,null,2.04,65.5,0,null,null,null,null,0]
[null,null,"Muro (divisor - común a ambas viviendas)",1.79,null,null,null,null,null,1.0740000000000003,65.5,0,null,null,null,null,0]
[null,null,"Muro (divisor - común a ambas viviendas)",5.08,null,null,null,null,null,3.0480000000000005,65.5,0,null,null,null,null,0]
[null,null,null,null,null,null,null,null,null,{"$f":"SUM(J146:J174)","v":35.825999999999993},null,0,null,null,null,null,0]
[null,null,"Ancho 0,10 [m], Alto 0,2 [m]",null,null,null,null,null,null,null,null,0,null,null,null,null,0]
[null,null,"Muro",1.82,null,null,null,null,null,{"$f":"(0.1+2*0.2)*D177","v":0.91},65.5,0,null,null,null,null,0]
[null,null,"Muro",1.82,null,null,null,null,null,0.91,65.5,0,null,null,null,null,0]
[null,null,"Muro",0.85,null,null,null,null,null,0.42499999999999999,65.5,0,null,null,null,null,0]
[null,null,"Muro",0.85,null,null,null,null,null,0.42499999999999999,65.5,0,null,null,null,null,0]
[null,null,"Muro",2.16,null,null,null,null,null,1.08,65.5,0,null,null,null,null,0]
[null,null,"Muro",2.16,null,null,null,null,null,1.08,65.5,0,null,null,null,null,0]
[null,null,null,null,null,null,null,null,null,{"$f":"SUM(J177:J182)","v":4.83},null,0,null,null,null,null,0]
[null,6,"LOSAS","Largo [m]","Ancho [m]","Alto [m]",null,null,null,"[m²]",null,0,null,null,null,null,0]
[null,6.1,"Planas",null,null,null,null,null,null,null,null,0,{"$f":"+L188+L193+L200","v":0},null,null,7,0]
[null,null,"Losa de viguetas premoldeadas (ancho 25 [cm]; altura 11 [cm])",7.18,3.35,null,null,null,null,{"$f":"D186*E186","v":24.053000000000001},343.45,0,null,null,null,null,0]
[null,null,"Losa de viguetas premoldeadas (ancho 25 [cm]; altura 11 [cm])",7.18,3.35,null,null,null,null,{"$f":"D187*E187","v":24.053000000000001},343.45,0,null,null,null,null,0]
[null,null,null,null,null,null,null,null,null,{"$f":"SUM(J186:J187)","v":48.106000000000002},null,0,null,null,null,null,0]
[null,".","Losa de H° A°",5,1.65,0.1,null,null,null,{"$f":"D189*E189*F189","v":0.82500000000000007},2698.33,{"$f":"+K189*G189*$M$5","v":0},null,null,null,null,0]
[null,null,"Losa de H° A°",5,1.65,0.1,null,null,null,{"$f":"D190*E190*F190","v":0.82500000000000007},2698.33,{"$f":"+K190*G190*$M$5","v":0},null,null,null,null,0]
[null,null,"Losa de H° A°",10.78,3.35,0.1,null,null,null,{"$f":"D191*E191*F191","v":3.6113},2698.33,0,null,null,null,null,0]
[null,null,"Losa de H° A°",10.78,3.35,0.1,null,null,null,{"$f":"D192*E192*F192","v":3.6113},2698.33,0,null,null,null,null,0]
[null,null,null,null,null,null,null,null,null,{"$f":"SUM(J189:J192)","v":8.8726000000000003},null,0,null,null,null,null,0]
[null,null,null,null,null,null,null,null,null,null,null,0,null,null,null,null,0]
[null,6.2,"Capa de compresión (espesor 5 [cm])",null,null,null,null,null,null,6.84,2698.33,0,null,null,null,null,0]
[null,6.3,"Barrera de vapor (dos manos de pintura asfáltica)",null,null,null,null,null,null,{"$f":"J188+J189+J190","v":49.756000000000007},17.77,0,null,null,null,null,0]
[null,6.4,"Aislación poliestireno expandido alta densidad (2 [cm] de espesor)",null,null,null,null,null,null,{"$f":"J195","v":6.84},6.9,0,null,null,null,null,0]
[null,6.5,"Membrana asfáltica con cara de aluminio (espesor 4 [mm])",null,null,null,null,null,null,{"$f":"J196","v":49.756000000000007},191.57,0,null,null,null,null,0]
[null,6.6,"Contrapiso de pendiente sobre losa",null,null,null,null,null,null,{"$f":"J196","v":49.756000000000007},65.599999999999994,0,null,null,null,null,0]
[null,null,null,null,null,null,null,null,null,null,null,0,null,null,null,null,0]
[null,7,"REVOQUES","Largo [m]","Ancho [m]","Alto [m]",null,null,null,"[m²]",null,0,null,null,null,null,0]
[null,7.1,"INTERIOR (GRUESO Y FINO A LA CAL)",null,null,null,null,null,null,null,null,0,{"$f":"+L211+L220+L225","v":0},null,null,8,0]
[null,null,"Grueso",null,null,null,null,null,null,null,null,0,null,null,null,null,0]
[null,null,"Dormitorio 1",25.8,null,2.6,null,null,null,{"$f":"D204*F204","v":67.08},67.7,0,null,null,null,null,0]
[null,null,"Dormitorio 2",24.92,null,2.6,null,null,null,{"$f":"D205*F205","v":64.792000000000002},67.7,0,null,null,null,null,{"$f":"M205","v":0}]
[null,null,"Cocina - lavadero",24.6,null,2.6,null,null,null,63.960000000000008,67.7,0,null,null,null,null,0]
[null,null,"Comedor-Estar",33.32,null,2.6,null,null,null,86.632000000000005,67.7,0,null,null,null,null,0]
[null,null,"Baño (planta alta)",14.4,null,2.6,null,null,null,37.440000000000005,67.7,0,null,null,null,null,0]
[null,null,"Baño (planta baja)",8.84,null,2.6,null,null,null,22.984000000000002,67.7,0,null,null,null,null,0]
[null,null,"Caja de escalera",20.6,null,2.6,null,null,null,53.56,67.7,0,null,null,null,null,0]
[null,null,null,null,null,null,null,null,null,{"$f":"SUM(J204:J210)","v":396.44800000000004},null,0,null,null,null,null,0]
[null,null,"Fino",null,null,null,null,null,null,null,null,0,null,null,null,null,0]
[null,null,"Dormitorio 1",25.8,null,2.6,null,null,null,{"$f":"D213*F213","v":67.08},67.7,0,null,null,null,null,0]
[null,null,"Dormitorio 2",24.92,null,2.6,null,null,null,{"$f":"D214*F214","v":64.792000000000002},67.7,0,null,null,null,null,0]
[null,null,"Cocina - lavadero",24.6,null,2.6,null,null,null,63.960000000000008,67.7,0,null,null,null,null,0]
[null,null,"Comedor-Estar",33.32,null,2.6,null,null,null,86.632000000000005,67.7,0,null,null,null,null,0]
[null,null,"Baño (planta alta)",14.4,null,2.6,null,null,null,37.440000000000005,67.7,0,null,null,null,null,0]
[null,null,"Baño (planta baja)",8.84,null,2.6,null,null,null,22.984000000000002,67.7,0,null,null,null,null,0]
[null,null,"Caja de escalera",20.6,null,2.6,null,null,null,53.56,67.7,0,null,null,null,null,0]
[null,null,null,null,null,null,null,null,null,{"$f":"SUM(J213:J219)","v":396.44800000000004},null,0,null,null,null,null,0]
[null,7.2,"EXTERIOR ",null,null,null,null,null,null,null,null,0,null,null,null,null,0]
[null,null,"Grueso a la cal con hidrófugo",62.84,null,2.6,null,null,null,{"$f":"+D222*F222","v":163.38400000000001},107.91,0,null,null,null,null,0]
[null,null,"Fino a la cal",62.84,null,2.6,null,null,null,{"$f":"+D223*F223","v":163.38400000000001},67.7,0,null,null,null,null,0]
[null,7.3,"Cielorraso aplicado de yeso o la cal",null,null,null,null,null,null,53.69,109.4,0,null,null,null,null,0]
[null,null,null,null,null,null,null,null,null,null,null,0,null,null,null,null,0]
[null,8,"CONTRAPISOS","Largo [m]","Ancho [m]","Alto [m]",null,null,null,"[m²]",null,0,null,null,null,null,0]
[null,8.1,"Carpeta impermeable bajo piso (sobre platea)",null,null,null,null,null,null,null,null,0,{"$f":"+L233+L238","v":0},null,null,9,0]
[null,null,"Dormitorio 1",3.4,3.05,null,null,null,null,{"$f":"D228*E228","v":10.37},69.540000000000006,0,null,null,null,null,0]
[null,null,"Cocina - lavadero",4.5999999999999996,1.55,null,null,null,null,{"$f":"D229*E229","v":7.13},69.540000000000006,0,null,null,null,null,0]
[null,null,"Comedor-Estar",5.28,3.05,null,null,null,null,{"$f":"D230*E230","v":16.103999999999999},69.540000000000006,0,null,null,null,null,0]
[null,null,"Baño (planta baja)",1.36,0.85,null,null,null,null,{"$f":"D231*E231","v":1.1560000000000001},69.540000000000006,0,null,null,null,null,0]
[null,null,"Pasillo",1.99,0.9,null,null,null,null,{"$f":"D232*E232","v":1.7909999999999999},69.540000000000006,0,null,null,null,null,0]
[null,null,null,null,null,null,null,null,null,{"$f":"SUM(J228:J232)","v":36.550999999999995},null,0,null,null,null,null,0]
[null,8.1999999999999993,"Bajo piso de mosaicos sobre losa",null,null,null,null,null,null,null,null,0,null,null,null,null,0]
[null,null,"Dormitorio 2",3.09,3.05,null,null,null,null,{"$f":"D235*E235","v":9.4244999999999983},69.540000000000006,0,null,null,null,null,0]
[null,null,"Baño (planta alta)",2.15,1.45,null,null,null,null,{"$f":"D236*E236","v":3.1174999999999997},69.540000000000006,0,null,null,null,null,0]
[null,null,"Pasillo",3.34,0.8,null,null,null,null,{"$f":"D237*E237","v":2.6720000000000002},69.540000000000006,0,null,null,null,null,0]
[null,null,null,null,null,null,null,null,null,{"$f":"SUM(J235:J237)","v":15.213999999999999},null,0,null,null,null,null,0]
[null,9,"SOLADOS","Largo [m]","Ancho [m]","Alto [m]",null,null,null,"[m]",null,0,null,null,null,null,0]
[null,9.1,"DE CERAMICO COMÚN (20 x 20)",null,null,null,null,null,null,null,null,0,{"$f":"+L248","v":0},null,null,10,0]
[null,null,"Dormitorio 1",null,null,null,null,null,null,10.07,51.3,0,null,null,null,null,0]
[null,null,"Dormitorio 2",null,null,null,null,null,null,10.55,51.3,0,null,null,null,null,0]
[null,null,"Cocina y lavadero",null,null,null,null,null,null,6.58,51.3,0,null,null,null,null,0]
[null,null,"Comedor-Estar",null,null,null,null,null,null,18.899999999999999,51.3,0,null,null,null,null,0]
[null,null,"Baño",null,null,null,null,null,null,2.95,51.3,0,null,null,null,null,0]
[null,null,"Paso",null,null,null,null,null,null,3.09,51.3,0,null,null,null,null,0]
[null,null,"Toilet",null,null,null,null,null,null,1.75,51.3,0,null,null,null,null,0]
[null,null,null,null,null,null,null,null,null,{"$f":"SUM(J241:J247)","v":53.89},null,0,null,null,null,null,0]
[null,10,"ZÓCALOS","Largo [m]","Ancho [m]","Alto [m]","Ancho 1 [m]","Ancho 2 [m]","Ancho 3 [m]",null,null,null,null,null,null,null,0]
[null,10.1,"CERAMICOS INTERIOR",null,null,null,null,null,null,"ml",null,0,{"$f":"+L258","v":0},null,null,11,0]
[null,null,"Dormitorio 1",{"$f":"3.05+2.16","v":5.21},3.4,null,{"$f":"0.81+3.6","v":4.41},null,null,{"$f":"+D251+E251+G251+H251+I251","v":13.02},48,0,null,null,null,null,0]
[null,null,"Dormitorio 2",3.05,3,null,{"$f":"3.3+0.4","v":3.6999999999999997},{"$f":"2.25+0.6","v":2.85},null,{"$f":"+D252+E252+G252+H252+I252","v":12.6},48,0,null,null,null,null,0]
[null,null,"Cocina y lavadero",3.2,4.5999999999999996,null,{"$f":"0.55+1.2","v":1.75},0.46,null,10.010000000000002,48,0,null,null,null,null,0]
[null,null,"Comedor-Estar",5.38,0.7,null,2.35,{"$f":"0.65+2.36+2","v":5.01},null,13.44,48,{"$f":"+K254*G254*$M$5","v":0},null,null,null,null,0]
[null,null,"Baño",2.27,1.45,null,{"$f":"1.84+0.81","v":2.6500000000000004},0.74,null,7.11,48,0,null,null,null,null,0]
[null,null,"Paso",0.65,3.44,null,1.9,{"$f":"0.26*2","v":0.52},null,6.51,48,0,null,null,null,null,0]
[null,null,"Toilet",{"$f":"1.45*2","v":2.9},0.85,null,{"$f":"0.85+0.7","v":1.5499999999999998},null,null,5.3,48,0,null,null,null,null,0]
[null,null,null,null,null,null,null,null,null,{"$f":"+SUM(J251:J257)","v":67.989999999999995},null,0,null,null,null,null,0]
[null,11,"REVESTIMIENTOS CERÁMICOS",null,null,null,null,null,null,null,null,null,null,null,null,null,0]
[null,11.1,"CERÁMICOS DE PRIMERA CALIDAD (20x20)","Perímetro",null,"Altura",null,null,null,"[m2]",null,0,{"$f":"+L264","v":0},null,null,12,0]
[null,null,"Cocina y lavadero",{"$f":"4.62+0.86+0.46","v":5.94},null,1.9,null,null,null,{"$f":"D261*F261","v":11.286},153.30000000000001,0,null,null,null,null,0]
[null,null,"Toilet",2.15,null,1.9,null,null,null,{"$f":"D262*F262+3.85+2.5","v":10.435},153.30000000000001,0,null,null,null,null,0]
[null,null,"Baño",6.5,null,1.9,null,null,null,{"$f":"+D263*F263","v":12.35},153.30000000000001,0,null,null,null,null,0]
[null,null,null,null,null,null,null,null,null,{"$f":"SUM(J261:J263)","v":34.070999999999998},null,0,null,null,null,null,0]
[null,12,"PINTURA",null,null,null,null,null,null,null,null,null,null,null,null,null,0]
[null,12.1,"CIELORRASO",null,null,null,null,null,null,"[m2]",null,0,{"$f":"+L286","v":0},null,null,13,0]
[null,null,"Al latex",null,null,null,null,null,null,136.83000000000001,35.950000000000003,0,null,null,null,null,0]
[null,null,"Al latex antihongos (para sanitarios)",null,null,null,null,null,null,4.2699999999999996,35.950000000000003,0,null,null,null,null,0]
[null,null,null,null,null,null,null,null,null,null,null,0,null,null,null,null,{"$f":"M269","v":0}]
[null,12.2,"INTERIOR (al latex)",null,null,null,null,null,null,396.45,35.950000000000003,0,null,null,null,null,0]
[null,null,null,null,null,null,null,null,null,null,null,0,null,null,null,null,0]
[null,12.3,"EXTERIOR (revestimiento plástico texturado color)",null,null,null,null,null,null,163.38,26.98,0,null,null,null,null,0]
[null,null,null,null,null,null,null,null,null,null,null,0,null,null,null,null,0]
[null,12.4,"CARPINTERÍA DE MADERA (sellador y esmalte sintético)",null,null,null,null,null,null,null,null,0,null,null,null,null,0]
[null,null,"P2 (1 unidad)",0.77,null,2.0499999999999998,null,null,null,{"$f":"+D275*F275","v":1.5784999999999998},36.700000000000003,0,null,null,null,null,0]
[null,null,"P3 (1 unidad)",0.77,null,2.0499999999999998,null,null,null,{"$f":"+D276*F276","v":1.5784999999999998},36.700000000000003,0,null,null,null,null,0]
[null,null,null,null,null,null,null,null,null,{"$f":"SUM(J275:J276)","v":3.1569999999999996},null,0,null,null,null,null,0]
[null,12.5,"CARPINTERÍA METÁLICA (anticorrosivo y esmalte sintético brillante)",null,null,null,null,null,null,null,null,0,null,null,null,null,0]
[null,null,"P1 (1 unidad)",0.85,null,2.0499999999999998,null,null,null,{"$f":"+D279*F279","v":1.7424999999999997},37,0,null,null,null,null,0]
[null,null,"P4 (1 unidad)",0.8,null,2.0499999999999998,null,null,null,{"$f":"D280*F280","v":1.64},37,0,null,null,null,null,0]
[null,null,"V1 (1 unidad)",1.8,null,1.5,null,null,null,2.7,37,0,null,null,null,null,0]
[null,null,"V2 (1 unidad)",0.7,null,1.5,null,null,null,1.0499999999999998,37,0,null,null,null,null,0]
[null,null,"V3 (1 unidad)",1.2,null,1.3,null,null,null,1.56,37,0,null,null,null,null,0]
[null,null,"V5 (1 unidad)",0.6,null,1.2,null,null,null,0.72,37,0,null,null,null,null,0]
[null,null,"V6 (1 unidad)",0.6,null,0.6,null,null,null,0.36,37,0,null,null,null,null,0]
[null,null,null,null,null,null,null,null,null,{"$f":"SUM(J279:J285)","v":9.7724999999999991},null,0,null,null,null,null,0]
[null,null,null,null,null,null,null,null,null,null,null,0,null,null,null,null,0]
[null,13,"VIDRIOS","Ancho 1","Ancho 2","Alto 1","Alto 2","Cant.",null,null,null,null,null,null,null,null,0]
[null,null,"COMÚN (transparente y traslúcido, e=4mm)",null,null,null,null,null,null,"[m2]",null,0,{"$f":"+L296","v":0},null,null,14,0]
[null,null,"V1",1.04,0.26,1.38,1.28,1,null,{"$f":"+D290*F290+E290*G290+H290","v":2.7679999999999998},148.76,0,null,null,null,null,0]
[null,null,"V2",0.66,0.26,1.06,1.02,2,null,2.9648000000000003,148.76,0,null,null,null,null,0]
[null,null,"V3",0.46,0.46,1.1000000000000001,0.2,2,null,2.5979999999999999,148.76,0,null,null,null,null,0]
[null,null,"V4",0.46,0.46,0.8,0.2,1,null,1.46,148.76,0,null,null,null,null,0]
[null,null,"V5",0.74,0.25,1.08,0.96,1,null,2.0392000000000001,148.76,0,null,null,null,null,0]
[null,null,"P4",0.57999999999999996,0,0.25,0,3,null,3.145,148.76,0,null,null,null,null,0]
[null,null,null,null,null,null,null,null,null,{"$f":"SUM(J290:J295)","v":14.975000000000001},null,0,null,null,null,null,0]
[null,14,"INSTALACION SANITARIA",null,null,null,null,null,null,null,null,null,null,null,null,null,0]
[null,14.1,"BAÑO",null,null,null,null,null,null,null,null,0,{"$f":"SUM(L298:L329)","v":0},null,null,15,0]
[null,null,"Inodoro",null,null,"un",null,null,null,2,0,0,null,null,null,null,0]
[null,null,"Bidet",null,null,"un",null,null,null,2,0,0,null,null,null,null,0]
[null,null,"Lavatorio",null,null,"un",null,null,null,2,0,0,null,null,null,null,0]
[null,null,"Jabonera ",null,null,"un",null,null,null,2,0,0,null,null,null,null,0]
[null,null,"Portarrollo",null,null,"un",null,null,null,2,0,0,null,null,null,null,0]
[null,null,"Toallero",null,null,"un",null,null,null,2,0,0,null,null,null,null,0]
[null,null,"Percha Simple",null,null,"un",null,null,null,2,0,0,null,null,null,null,0]
[null,null,"Grifería p/Bidet",null,null,"un",null,null,null,2,0,0,null,null,null,null,0]
[null,null,"Grifería p/Lavatorio",null,null,"un",null,null,null,2,0,0,null,null,null,null,0]
[null,null,"Grifería p/Ducha",null,null,"un",null,null,null,2,0,0,null,null,null,null,0]
[null,null,null,null,null,null,null,null,null,null,0,0,null,null,null,null,0]
[null,14.2,"TOILET",null,null,"un",null,null,null,null,0,0,null,null,null,null,0]
[null,null,"Inodoro",null,null,"un",null,null,null,2,0,0,null,null,null,null,0]
[null,null,"Lavatorio",null,null,"un",null,null,null,2,0,0,null,null,null,null,0]
[null,null,"Jabonera ",null,null,"un",null,null,null,2,0,0,null,null,null,null,0]
[null,null,"Portarrollo",null,null,"un",null,null,null,2,0,0,null,null,null,null,0]
[null,null,"Toallero",null,null,"un",null,null,null,2,0,0,null,null,null,null,0]
[null,null,null,null,null,null,null,null,null,null,0,0,null,null,null,null,0]
[null,14.3,"COCINA",null,null,null,null,null,null,null,0,0,null,null,null,null,0]
[null,null,"Bacha de Acero Inoxidable Doble",null,null,"un",null,null,null,2,0,{"$f":"+K318*G318*$M$5","v":0},null,null,null,null,0]
[null,null,"Grifería p/Cocina",null,null,"un",null,null,null,2,0,0,null,null,null,null,0]
[null,null,null,null,null,null,null,null,null,null,null,0,null,null,null,null,0]
[null,null,"Cañeria de Agua Fría-Caliente",null,null,"m","por 4 metros",null,null,60,32.53,{"$f":"+K321*J321*$M$5","v":0},null,null,null,null,0]
[null,null,null,null,null,null,null,null,null,null,null,0,null,null,null,null,0]
[null,null,null,null,null,null,null,null,null,null,null,0,null,null,null,null,0]
[null,null,"Tanque de Agua de 850 Ltrs.",null,null,"un",null,null,null,2,{"$f":"2*501.49","v":1002.98},0,null,null,null,null,0]
[null,null,null,null,null,null,null,null,null,null,null,0,null,null,null,null,0]
[null,null,"Cañeria de Desagüe (PVC 110mm)",null,null,"m","por 4 metros",null,null,75,76.69,{"$f":"+K326*J326*$M$5","v":0},null,null,null,null,0]
[null,null,null,null,null,null,null,null,null,null,null,0,null,null,null,null,0]
[null,null,"Cañeria de Desagüe (PVC 63mm)",null,null,"m","por 4 metros",null,null,11,55.2,{"$f":"+K328*J328*$M$5","v":0},null,null,null,null,0]
[null,null,null,null,null,null,null,null,null,null,null,0,null,null,null,null,0]
[null,15,"INSTALACIÓN ELÉCTRICA",null,null,null,null,null,null,null,null,null,null,null,null,null,0]
[null,15.1,"Bocas de Iluminación",null,null,"un",null,null,null,30,45.4,0,{"$f":"SUM(L331:L334)","v":0},null,null,16,0]
[null,15.2,"Interruptores",null,null,"un",null,null,null,28,12.1,0,null,null,null,null,0]
[null,15.3,"Tomacorrientes",null,null,"un",null,null,null,30,12.1,0,null,null,null,null,{"$f":"M333","v":0}]
[null,null,null,null,null,null,null,null,null,null,null,0,null,null,null,null,0]
[null,16,"INSTALACIÓN DE GAS",null,null,null,null,null,null,null,null,null,null,null,null,null,0]
[null,"16.1","Cañería",null,null,"ml",null,null,null,29.65,0,0,{"$f":"SUM(L336:L341)","v":0},null,null,17,0]
[null,"16.2","Codos",null,null,"un",null,null,null,10,0,0,null,null,null,null,0]
[null,"16.3","T",null,null,"un",null,null,null,3,0,0,null,null,null,null,0]
[null,"16.4","Casilla de gas",null,null,"un",null,null,null,2,0,0,null,null,null,null,0]
[null,"16.5","Valvula de paso",null,null,"un",null,null,null,5,0,0,null,null,null,null,0]
[null,"16.6","Regulador de presion",null,null,"un",null,null,null,2,0,0,null,null,null,null,0]
[null,17,"CARPINTERÍA",null,null,null,null,null,null,null,null,null,null,null,null,null,0]
[null,null,"P1",null,null,"un",null,null,null,2,0,0,{"$f":"SUM(L343:L351)","v":0},null,null,18,0]
[null,null,"P2",null,null,"un",null,null,null,3,0,0,null,null,null,null,0]
[null,null,"P3",null,null,"un",null,null,null,4,0,0,null,null,null,null,0]
[null,null,"P4",null,null,"un",null,null,null,2,0,0,null,null,null,null,0]
[null,null,"V1",null,null,"un",null,null,null,2,0,0,null,null,null,null,0]
[null,null,"V2",null,null,"un",null,null,null,2,0,0,null,null,null,null,0]
[null,null,"V3",null,null,"un",null,null,null,4,0,0,null,null,null,null,0]
[null,null,"V4",null,null,"un",null,null,null,2,0,0,null,null,null,null,0]
[null,null,"V5",null,null,"un",null,null,null,2,0,0,null,null,null,null,0]
[]
[]
[null,null,null,null,null,null,null,"COSTOS DIRECTOS",null,null,{"$f":"M354","v":0},null,{"$f":"SUM(M12:M353)","v":0},"$/m2"]
[null,null,null,null,null,null,null,null,null,null,null,null,null,{"$f":"IF(M2=0,0,+K354/M2)","v":0}]

{"sheet":"Cómp. (obra1)","index":6,"n_rows":375,"n_cols":23,"rows_kept":375,"cut":false,"hidden":false,"merged":[[172,6,173,6],[172,7,173,7],[312,7,313,7],[1,2,1,4],[2,2,2,4],[3,2,3,4],[38,5,39,5],[64,5,65,5],[336,7,337,7],[38,6,39,6],[38,7,39,7],[312,5,313,5],[336,5,337,5],[64,6,65,6],[336,6,337,6],[106,5,107,5],[172,5,173,5],[205,5,206,5],[205,6,206,6],[205,7,206,7],[312,6,313,6],[64,7,65,7],[106,6,107,6],[106,7,107,7]]}
[]
[null,null,"OBRA: vivienda N1º PLANTA BAJA"]
[null,null,"PROPIETARIO:  Esteban Chaia"]
[null,null,"UBICACION: Córdoba"]
[]
[null,null,null,{"$f":"lista1!A1","v":"nro"},{"$f":"lista1!B1","v":"rubros o items"},{"$f":"lista1!C1","v":"Unid."},{"$f":"lista1!G1","v":"Cantid."},{"$f":"lista1!H1","v":"Parc."},"tot.rubro"]
[null,null,null,{"$f":"lista1!A2","v":0},{"$f":"lista1!B2","v":0},{"$f":"lista1!C2","v":0},{"$f":"lista1!G2","v":0},{"$f":"lista1!H2","v":0}]
[null,null,null,{"$f":"lista1!A3","v":1},{"$f":"lista1!B3","v":"Trabajos preliminares"},{"$f":"lista1!C3","v":0},{"$f":"lista1!G3","v":0},{"$f":"lista1!H3","v":0},{"$f":"SUM(H9:H11)","v":26768.468854225532},null,null,null,null,{"$f":"'Incidencia GG'!E5","v":"Impacto de GGO (%)"},null,{"$f":"'Incidencia GG'!F5","v":"Impacto GGE (%)"},"Imprev. %"]
[null,null,null,{"$f":"lista1!A4","v":0},{"$f":"lista1!B4","v":"Limpieza y nivelación del terreno"},{"$f":"lista1!C4","v":"m2"},{"$f":"lista1!G4","v":162.5},{"$f":"lista1!H4","v":9525.0835535573806},null,null,null,null,null,{"$f":"'Incidencia GG'!E6","v":0.10448790976551231},null,{"$f":"'Incidencia GG'!F6","v":8.782746619065443E-2},{"$f":"'Incidencia GG'!$B$13","v":5.0000000000000001E-3}]
[null,null,null,{"$f":"lista1!A5","v":0},{"$f":"lista1!B5","v":"Obrador, depósito y sanitarios"},{"$f":"lista1!C5","v":"m2"},{"$f":"lista1!G5","v":13},{"$f":"lista1!H5","v":17243.385300668153}]
[null,null,null,{"$f":"lista1!A6","v":0},{"$f":"lista1!B6","v":"desmonte en terreno comun (si en terr. C. roca disgregable con barreta se debera mult. Prec. X 2,3)"},{"$f":"lista1!C6","v":"m3"},{"$f":"lista1!G6","v":0},{"$f":"lista1!H6","v":0},{"$f":"SUM(G11:H11)","v":0}]
[null,null,null,{"$f":"lista1!A7","v":2},{"$f":"lista1!B7","v":"Procedimientos y cumplimientos"},{"$f":"lista1!C7","v":0},{"$f":"lista1!G7","v":0},{"$f":"lista1!H7","v":0},{"$f":"SUM(H13:H17)","v":2960.4647431896756},null,null,null,"RUBRO","CD obr1","CDobr2","CD TOTAL","GOT por rubro","GGER (por rubro)","CTOR","Imprevistos","C. Total (s/ben)","Beneficio","C. Total (C/ben)"]
[null,null,null,{"$f":"lista1!A8","v":0},{"$f":"lista1!B8","v":"Replanteo"},{"$f":"lista1!C8","v":"m2"},{"$f":"lista1!G8","v":104.05},{"$f":"lista1!H8","v":2960.4647431896756},null,null,null,1,{"$f":"VLOOKUP($L13:$L45,D$8:$I$380,2,FALSE)","v":"Trabajos preliminares"},{"$f":"VLOOKUP($L13:$L45,D$8:$I$380,6,FALSE)","v":26768.468854225532},null,{"$f":"N13+O13","v":26768.468854225532},{"$f":"($N$9)*P13","v":2796.9813582012439},{"$f":"(P13+Q13)*$P$9","v":2596.6585789433893},{"$f":"SUM(P13:R13)","v":32162.108791370163},{"$f":"'Incidencia GG'!$B$13*S13","v":160.81054395685081},{"$f":"S13+T13","v":32322.919335327013},{"$f":"'Incidencia GG'!$B$14*S13","v":6432.421758274033},{"$f":"V13+T13+S13","v":38755.341093601048}]
[null,null,null,{"$f":"lista1!A9","v":0},{"$f":"lista1!B9","v":"Cartel de obra"},{"$f":"lista1!C9","v":"m2"},{"$f":"lista1!G9","v":0},{"$f":"lista1!H9","v":0},null,null,null,2,{"$f":"VLOOKUP($L14:$L46,D$8:$I$380,2,FALSE)","v":"Procedimientos y cumplimientos"},{"$f":"VLOOKUP($L14:$L46,D$8:$I$380,6,FALSE)","v":2960.4647431896756},null,{"$f":"N14+O14","v":2960.4647431896756},{"$f":"($N$9)*P14","v":309.3327729503834},{"$f":"(P14+Q14)*$P$9","v":287.17803079907685},{"$f":"SUM(P14:R14)","v":3556.9755469391357},{"$f":"'Incidencia GG'!$B$13*S14","v":17.78487773469568},{"$f":"S14+T14","v":3574.7604246738315},{"$f":"'Incidencia GG'!$B$14*S14","v":711.39510938782723},4286.1555340616587]
[null,null,null,{"$f":"lista1!A10","v":0},{"$f":"lista1!B10","v":"Cerco de obra"},{"$f":"lista1!C10","v":"ml"},{"$f":"lista1!G10","v":0},{"$f":"lista1!H10","v":0},null,null,null,3,{"$f":"VLOOKUP($L15:$L47,D$8:$I$380,2,FALSE)","v":"Demoliciones"},{"$f":"VLOOKUP($L15:$L47,D$8:$I$380,6,FALSE)","v":43809.913225849225},null,43809.913225849225,4577.6062599774577,4249.7532316910756,52637.272717517757,{"$f":"'Incidencia GG'!$B$13*S15","v":263.1863635875888},52900.459081105342,{"$f":"'Incidencia GG'!$B$14*S15","v":10527.454543503552},63427.913624608896]
[null,null,null,{"$f":"lista1!A11","v":0},{"$f":"lista1!B11","v":"Defensa de protección para trabajo en obra"},{"$f":"lista1!C11","v":"ml"},{"$f":"lista1!G11","v":0},{"$f":"lista1!H11","v":0},null,null,null,4,{"$f":"VLOOKUP($L16:$L48,D$8:$I$380,2,FALSE)","v":"Movimientos de tierra"},{"$f":"VLOOKUP($L16:$L48,D$8:$I$380,6,FALSE)","v":15186.861054206209},null,15186.861054206209,1586.8433674532714,1473.1919579853288,18246.896379644808,{"$f":"'Incidencia GG'!$B$13*S16","v":91.234481898224047},18338.130861543032,{"$f":"'Incidencia GG'!$B$14*S16","v":3649.3792759289618},21987.510137471992]
[null,null,null,{"$f":"lista1!A12","v":0},{"$f":"lista1!B12","v":0},{"$f":"lista1!C12","v":0},{"$f":"lista1!G12","v":0},{"$f":"lista1!H12","v":0},null,null,null,5,{"$f":"VLOOKUP($L17:$L49,D$8:$I$380,2,FALSE)","v":"Estructuras de hormigón armado"},{"$f":"VLOOKUP($L17:$L49,D$8:$I$380,6,FALSE)","v":165321.81303711733},null,165321.81303711733,17274.130682893214,16036.939073619866,198632.88279363042,{"$f":"'Incidencia GG'!$B$13*S17","v":993.16441396815208},199626.04720759857,{"$f":"'Incidencia GG'!$B$14*S17","v":39726.576558726083},239352.62376632466]
[null,null,null,{"$f":"lista1!A13","v":3},{"$f":"lista1!B13","v":"Demoliciones"},{"$f":"lista1!C13","v":0},{"$f":"lista1!G13","v":0},{"$f":"lista1!H13","v":0},{"$f":"SUM(H19:H29)","v":43809.913225849225},null,null,6,{"$f":"VLOOKUP($L18:$L50,D$8:$I$380,2,FALSE)","v":"Estructuras metálicas"},{"$f":"VLOOKUP($L18:$L50,D$8:$I$380,6,FALSE)","v":0},null,0,0,0,0,{"$f":"'Incidencia GG'!$B$13*S18","v":0},0,{"$f":"'Incidencia GG'!$B$14*S18","v":0},0]
[null,null,null,{"$f":"lista1!A14","v":0},{"$f":"lista1!B14","v":"En los siguientes items, se incluye el retiro de los escombros de la obra hasta coloc.dentro del contenedor "},{"$f":"lista1!C14","v":0},{"$f":"lista1!G14","v":0},{"$f":"lista1!H14","v":0},null,null,null,7,{"$f":"VLOOKUP($L19:$L51,D$8:$I$380,2,FALSE)","v":"Mampostería"},{"$f":"VLOOKUP($L19:$L51,D$8:$I$380,6,FALSE)","v":104436.37509303412},null,104436.37509303412,10912.338536958147,10130.785246473626,125479.49887646589,{"$f":"'Incidencia GG'!$B$13*S19","v":627.39749438232946},126106.89637084822,{"$f":"'Incidencia GG'!$B$14*S19","v":25095.899775293179},151202.79614614139]
[null,null,null,{"$f":"lista1!A15","v":0},{"$f":"lista1!B15","v":"De estructura de hormigón, losas de HºAº, dados, camaras de HºAº (incluye cargarlo)"},{"$f":"lista1!C15","v":"m3"},{"$f":"lista1!G15","v":0},{"$f":"lista1!H15","v":0},null,null,null,8,{"$f":"VLOOKUP($L20:$L52,D$8:$I$380,2,FALSE)","v":"Construcción con placas de roca de yeso"},{"$f":"VLOOKUP($L20:$L52,D$8:$I$380,6,FALSE)","v":0},null,0,0,0,0,{"$f":"'Incidencia GG'!$B$13*S20","v":0},0,{"$f":"'Incidencia GG'!$B$14*S20","v":0},0]
[null,null,null,{"$f":"lista1!A16","v":0},{"$f":"lista1!B16","v":"De mamposteria (todos los items incluyen cargar escombros a un contenedor cercano, refiere a planta baja)"},{"$f":"lista1!C16","v":"m3"},{"$f":"lista1!G16","v":0},{"$f":"lista1!H16","v":0},null,null,null,9,{"$f":"VLOOKUP($L21:$L53,D$8:$I$380,2,FALSE)","v":"Aislaciones"},{"$f":"VLOOKUP($L21:$L53,D$8:$I$380,6,FALSE)","v":14211.242996751676},null,14211.242996751676,1484.9030759003579,1378.5527385194198,17074.698811171453,{"$f":"'Incidencia GG'!$B$13*S21","v":85.373494055857265},17160.07230522731,{"$f":"'Incidencia GG'!$B$14*S21","v":3414.9397622342908},20575.012067461601]
[null,null,null,{"$f":"lista1!A17","v":0},{"$f":"lista1!B17","v":"De pisos"},{"$f":"lista1!C17","v":"m2"},{"$f":"lista1!G17","v":0},{"$f":"lista1!H17","v":0},null,null,null,10,{"$f":"VLOOKUP($L22:$L54,D$8:$I$380,2,FALSE)","v":"Cubiertas "},{"$f":"VLOOKUP($L22:$L54,D$8:$I$380,6,FALSE)","v":107063.8974688196},null,107063.8974688196,11186.882857866085,10385.666411160491,128636.44673784618,{"$f":"'Incidencia GG'!$B$13*S22","v":643.18223368923088},129279.62897153542,{"$f":"'Incidencia GG'!$B$14*S22","v":25727.28934756924},155006.91831910465]
[null,null,null,{"$f":"lista1!A18","v":0},{"$f":"lista1!B18","v":"De contrapisos"},{"$f":"lista1!C18","v":"m2"},{"$f":"lista1!G18","v":0},{"$f":"lista1!H18","v":0},null,null,null,11,{"$f":"VLOOKUP($L23:$L55,D$8:$I$380,2,FALSE)","v":"Contrapiso"},{"$f":"VLOOKUP($L23:$L55,D$8:$I$380,6,FALSE)","v":47368.536649888651},null,47368.536649888651,4949.4393831979278,4594.95527120938,56912.931304295955,{"$f":"'Incidencia GG'!$B$13*S23","v":284.56465652147978},57197.495960817432,{"$f":"'Incidencia GG'!$B$14*S23","v":11382.586260859192},68580.082221676625]
[null,null,null,{"$f":"lista1!A19","v":0},{"$f":"lista1!B19","v":"Picado de revoques, cielorrasos suspendidos ó demolcic. de cubiert d tejas coloniales (sin recuper. de tejas)"},{"$f":"lista1!C19","v":"m2"},{"$f":"lista1!G19","v":0},{"$f":"lista1!H19","v":0},null,null,null,12,{"$f":"VLOOKUP($L24:$L56,D$8:$I$380,2,FALSE)","v":"Carpetas"},{"$f":"VLOOKUP($L24:$L56,D$8:$I$380,6,FALSE)","v":17572.481941202674},null,17572.481941202674,1836.1119074284795,1704.6076200487962,21113.201468679948,{"$f":"'Incidencia GG'!$B$13*S24","v":105.56600734339975},21218.767476023349,{"$f":"'Incidencia GG'!$B$14*S24","v":4222.6402937359899},25441.407769759338]
[null,null,null,{"$f":"lista1!A20","v":0},{"$f":"lista1!B20","v":"Picado de revestimientos"},{"$f":"lista1!C20","v":"m2"},{"$f":"lista1!G20","v":0},{"$f":"lista1!H20","v":0},null,null,null,13,{"$f":"VLOOKUP($L25:$L57,D$8:$I$380,2,FALSE)","v":"Revoques"},{"$f":"VLOOKUP($L25:$L57,D$8:$I$380,6,FALSE)","v":91992.34512171286},null,91992.34512171286,9612.0878561953996,8923.6599021878519,110528.09288009611,{"$f":"'Incidencia GG'!$B$13*S25","v":552.6404644004806},111080.73334449659,{"$f":"'Incidencia GG'!$B$14*S25","v":22105.618576019224},133186.35192051582]
[null,null,null,{"$f":"lista1!A21","v":0},{"$f":"lista1!B21","v":"De estructura de madera con tejas francesa (o colonial)"},{"$f":"lista1!C21","v":"m2"},{"$f":"lista1!G21","v":0},{"$f":"lista1!H21","v":0},null,null,null,14,{"$f":"VLOOKUP($L26:$L58,D$8:$I$380,2,FALSE)","v":"Revestimientos"},{"$f":"VLOOKUP($L26:$L58,D$8:$I$380,6,FALSE)","v":10199.483406904234},null,10199.483406904234,1065.7227018754497,989.39450864960133,12254.600617429283,{"$f":"'Incidencia GG'!$B$13*S26","v":61.273003087146421},12315.87362051643,{"$f":"'Incidencia GG'!$B$14*S26","v":2450.9201234858569},14766.793744002287]
[null,null,null,{"$f":"lista1!A22","v":0},{"$f":"lista1!B22","v":"Demolición de obra completa"},{"$f":"lista1!C22","v":"m2"},{"$f":"lista1!G22","v":28},{"$f":"lista1!H22","v":24400.051310481736},null,null,null,15,{"$f":"VLOOKUP($L27:$L59,D$8:$I$380,2,FALSE)","v":"Cielorrasos"},{"$f":"VLOOKUP($L27:$L59,D$8:$I$380,6,FALSE)","v":24382.367884187082},null,24382.367884187082,2547.6626553524652,2365.196346724701,29295.226886264249,{"$f":"'Incidencia GG'!$B$13*S27","v":146.47613443132124},29441.703020695571,{"$f":"'Incidencia GG'!$B$14*S27","v":5859.0453772528499},35300.748397948417]
[null,null,null,{"$f":"lista1!A23","v":0},{"$f":"lista1!B23","v":"Contenedor/Volquete, alquiler"},{"$f":"lista1!C23","v":"u"},{"$f":"lista1!G23","v":16},{"$f":"lista1!H23","v":9727.0378619153689},null,null,null,16,{"$f":"VLOOKUP($L28:$L60,D$8:$I$380,2,FALSE)","v":"Yeseria"},{"$f":"VLOOKUP($L28:$L60,D$8:$I$380,6,FALSE)","v":0},null,0,0,0,0,{"$f":"'Incidencia GG'!$B$13*S28","v":0},0,{"$f":"'Incidencia GG'!$B$14*S28","v":0},0]
[null,null,null,{"$f":"lista1!A24","v":0},{"$f":"lista1!B24","v":"Cargar Contenedor/Volquete"},{"$f":"lista1!C24","v":"u"},{"$f":"lista1!G24","v":16},{"$f":"lista1!H24","v":9682.8240534521174},null,null,null,17,{"$f":"VLOOKUP($L29:$L61,D$8:$I$380,2,FALSE)","v":"Solados"},{"$f":"VLOOKUP($L29:$L61,D$8:$I$380,6,FALSE)","v":53447.415525000004},null,53447.415525000004,5584.608730576042,5184.6331144724973,64216.657370048546,{"$f":"'Incidencia GG'!$B$13*S29","v":321.08328685024276},64537.740656898786,{"$f":"'Incidencia GG'!$B$14*S29","v":12843.33147400971},77381.072130908491]
[null,null,null,{"$f":"lista1!A25","v":4},{"$f":"lista1!B25","v":"Movimientos de tierra"},{"$f":"lista1!C25","v":0},{"$f":"lista1!G25","v":0},{"$f":"lista1!H25","v":0},{"$f":"SUM(H31:H38)","v":15186.861054206209},null,null,18,{"$f":"VLOOKUP($L30:$L62,D$8:$I$380,2,FALSE)","v":"Pisos especiales"},{"$f":"VLOOKUP($L30:$L62,D$8:$I$380,6,FALSE)","v":0},null,0,0,0,0,{"$f":"'Incidencia GG'!$B$13*S30","v":0},0,{"$f":"'Incidencia GG'!$B$14*S30","v":0},0]
[null,null,null,{"$f":"lista1!A26","v":0},{"$f":"lista1!B26","v":"Excavación manual p cimientos y bases column terreno común (si tosca mult.al prec.x 1,214 y x1,714 si es roca digregable)"},{"$f":"lista1!C26","v":"m3"},{"$f":"lista1!G26","v":6.001526717557252},{"$f":"lista1!H26","v":1939.9237750062412},null,null,null,19,{"$f":"VLOOKUP($L31:$L63,D$8:$I$380,2,FALSE)","v":"Escaleras"},{"$f":"VLOOKUP($L31:$L63,D$8:$I$380,6,FALSE)","v":0},null,{"$f":"N31+O31","v":0},0,0,{"$f":"SUM(P31:R31)","v":0},{"$f":"'Incidencia GG'!$B$13*S31","v":0},{"$f":"S31+T31","v":0},{"$f":"'Incidencia GG'!$B$14*S31","v":0},{"$f":"V31+T31+S31","v":0}]
[null,null,null,{"$f":"lista1!A27","v":0},{"$f":"lista1!B27","v":"Excavación manual de vigas de fundación hasta 1,20 m de prof."},{"$f":"lista1!C27","v":"m3"},{"$f":"lista1!G27","v":9.9022500000000004},{"$f":"lista1!H27","v":2422.706336207119},null,null,null,20,{"$f":"VLOOKUP($L32:$L64,D$8:$I$380,2,FALSE)","v":"Zócalos"},{"$f":"VLOOKUP($L32:$L64,D$8:$I$380,6,FALSE)","v":18167.599803118039},null,18167.599803118039,1898.2945288841368,1762.3366560291654,21828.230988031341,{"$f":"'Incidencia GG'!$B$13*S32","v":109.14115494015671},21937.372142971497,{"$f":"'Incidencia GG'!$B$14*S32","v":4365.6461976062683},26303.018340577764]
[null,null,null,{"$f":"lista1!A28","v":0},{"$f":"lista1!B28","v":"Excavación de pozos para pilotín (diám. 23 cm - prof. 1,6 m)"},{"$f":"lista1!C28","v":"u"},{"$f":"lista1!G28","v":24},{"$f":"lista1!H28","v":3713.9599109131404},null,null,null,21,{"$f":"VLOOKUP($L33:$L65,D$8:$I$380,2,FALSE)","v":"Marmoleria"},{"$f":"VLOOKUP($L33:$L65,D$8:$I$380,6,FALSE)","v":11917.633109131402},null,11917.633109131402,1245.2485729254038,1156.0625459024286,14318.944227959235,{"$f":"'Incidencia GG'!$B$13*S33","v":71.594721139796178},14390.538949099031,{"$f":"'Incidencia GG'!$B$14*S33","v":2863.7888455918473},17254.327794690878]
[null,null,null,{"$f":"lista1!A29","v":0},{"$f":"lista1!B29","v":"Excavación p/ cisternas, cámaras sépt.,de inspec., sótanos a mano terr. Comun hast4m (tosca x1,351 y si fuese roc disgr x 1,89)"},{"$f":"lista1!C29","v":"m3"},{"$f":"lista1!G29","v":12.076000000000001},{"$f":"lista1!H29","v":4050.5426358508903},null,null,null,22,{"$f":"VLOOKUP($L34:$L66,D$8:$I$380,2,FALSE)","v":"Pinturas"},{"$f":"VLOOKUP($L34:$L66,D$8:$I$380,6,FALSE)","v":69089.921364089096},null,69089.921364089096,7219.0614691972823,6702.0246098336893,83011.007443120077,{"$f":"'Incidencia GG'!$B$13*S34","v":415.05503721560041},83426.062480335677,{"$f":"'Incidencia GG'!$B$14*S34","v":16602.201488624018},100028.2639689597]
[null,null,null,{"$f":"lista1!A30","v":0},{"$f":"lista1!B30","v":"Excavación p/ pozo absorbt o Romano, a mano terr. Comun hast10mprof.(tosca x1,364 y si fuese roc disgr x 1,909)"},{"$f":"lista1!C30","v":"m3"},{"$f":"lista1!G30","v":6},{"$f":"lista1!H30","v":3059.7283962288166},null,null,null,23,{"$f":"VLOOKUP($L35:$L67,D$8:$I$380,2,FALSE)","v":"Artefactos Sanitarios - Accesorios Griferías"},{"$f":"VLOOKUP($L35:$L67,D$8:$I$380,6,FALSE)","v":2970.0625835189312},null,2970.0625835189312,310.33563122465046,288.1090632972751,3568.5072780408568,{"$f":"'Incidencia GG'!$B$13*S35","v":17.842536390204284},3586.3498144310611,{"$f":"'Incidencia GG'!$B$14*S35","v":713.70145560817139},4300.0512700392328]
[null,null,null,{"$f":"lista1!A31","v":0},{"$f":"lista1!B31","v":"Destape del terreno hasta 20/30 cm de profundidad con pala frontal o  Excavación de sótanos a maquina"},{"$f":"lista1!C31","v":"m3"},{"$f":"lista1!G31","v":0},{"$f":"lista1!H31","v":0},null,null,null,24,{"$f":"VLOOKUP($L36:$L68,D$8:$I$380,2,FALSE)","v":"Carpinterías Metálicas"},{"$f":"VLOOKUP($L36:$L68,D$8:$I$380,6,FALSE)","v":2930.0490868596885},null,2930.0490868596885,306.15470459631689,284.22757908017002,3520.4313705361756,{"$f":"'Incidencia GG'!$B$13*S36","v":17.602156852680878},3538.0335273888563,{"$f":"'Incidencia GG'!$B$14*S36","v":704.08627410723511},4242.1198014960919]
[null,null,null,{"$f":"lista1!A32","v":0},{"$f":"lista1!B32","v":"Carga y retiro de tierra con camión"},{"$f":"lista1!C32","v":"m3"},{"$f":"lista1!G32","v":0},{"$f":"lista1!H32","v":0},null,null,null,25,{"$f":"VLOOKUP($L37:$L69,D$8:$I$380,2,FALSE)","v":"Carpinterías de madera"},{"$f":"VLOOKUP($L37:$L69,D$8:$I$380,6,FALSE)","v":0},null,0,0,0,0,{"$f":"'Incidencia GG'!$B$13*S37","v":0},0,{"$f":"'Incidencia GG'!$B$14*S37","v":0},0]
[null,null,null,{"$f":"lista1!A33","v":0},{"$f":"lista1!B33","v":"terraplenamiento"},{"$f":"lista1!C33","v":"m3"},{"$f":"lista1!G33","v":0},{"$f":"lista1!H33","v":0},null,null,null,26,{"$f":"VLOOKUP($L38:$L70,D$8:$I$380,2,FALSE)","v":"Carpinterías de Aluminio y accesorios de fachadas"},{"$f":"VLOOKUP($L38:$L70,D$8:$I$380,6,FALSE)","v":14581.271893095767},null,14581.271893095767,1523.5666218321915,1414.4471601757846,17519.285675103743,{"$f":"'Incidencia GG'!$B$13*S38","v":87.596428375518713},17606.882103479264,{"$f":"'Incidencia GG'!$B$14*S38","v":3503.857135020749},21110.739238500013]
[null,null,null,{"$f":"lista1!A34","v":5},{"$f":"lista1!B34","v":"Estructuras de hormigón armado"},{"$f":"lista1!C34","v":"Unid."},{"$f":"lista1!G34","v":"Cant."},{"$f":"lista1!H34","v":"Parcial"},{"$f":"SUM(H41:H64)","v":165321.81303711733},null,null,27,{"$f":"VLOOKUP($L39:$L71,D$8:$I$380,2,FALSE)","v":"Cristales"},{"$f":"VLOOKUP($L39:$L71,D$8:$I$380,6,FALSE)","v":0},null,0,0,0,0,{"$f":"'Incidencia GG'!$B$13*S39","v":0},0,{"$f":"'Incidencia GG'!$B$14*S39","v":0},0]
[null,null,null,{"$f":"lista1!A35","v":0},{"$f":"lista1!B35","v":"Incluye el material, mano de obra, armado y desarme de encofrados de madera tradicionales y equipos"},null,null,null,null,null,null,28,{"$f":"VLOOKUP($L40:$L72,D$8:$I$380,2,FALSE)","v":"Limpieza y ayuda de gremios"},{"$f":"VLOOKUP($L40:$L72,D$8:$I$380,6,FALSE)","v":0},null,0,0,0,0,{"$f":"'Incidencia GG'!$B$13*S40","v":0},0,{"$f":"'Incidencia GG'!$B$14*S40","v":0},0]
[null,null,null,{"$f":"lista1!A36","v":0},{"$f":"lista1!B36","v":"hormigon sin armar para relleno de cimientos"},{"$f":"lista1!C36","v":"m3"},{"$f":"lista1!G36","v":0},{"$f":"lista1!H36","v":0},null,null,null,29,{"$f":"VLOOKUP($L41:$L73,D$8:$I$380,2,FALSE)","v":"Instalación sanitaria"},{"$f":"VLOOKUP($L41:$L73,D$8:$I$380,6,FALSE)","v":52723.573857461022},null,52723.573857461022,5508.9760277337109,5114.4173062375376,63346.967191432268,{"$f":"'Incidencia GG'!$B$13*S41","v":316.73483595716135},63663.70202738943,{"$f":"'Incidencia GG'!$B$14*S41","v":12669.393438286454},76333.095465675884]
[null,null,null,{"$f":"lista1!A37","v":0},{"$f":"lista1!B37","v":"Bases céntricas cuantía 60 kg, HºAº p/ cabezal de pozos romanos (p/fuste pz rom dividir precio en 1,124)"},{"$f":"lista1!C37","v":"m3"},{"$f":"lista1!G37","v":6.001526717557252},{"$f":"lista1!H37","v":16150.20516396836},null,null,null,30,{"$f":"VLOOKUP($L42:$L74,D$8:$I$380,2,FALSE)","v":"Instalación de Gas "},{"$f":"VLOOKUP($L42:$L74,D$8:$I$380,6,FALSE)","v":77086.111848552348},null,77086.111848552348,8054.5666990057271,7477.6900665850335,92618.36861414311,{"$f":"'Incidencia GG'!$B$13*S42","v":463.09184307071558},93081.46045721382,{"$f":"'Incidencia GG'!$B$14*S42","v":18523.673722828622},111605.13418004246]
[null,null,null,{"$f":"lista1!A38","v":0},{"$f":"lista1!B38","v":"Vigas de fundación 60 kg/m3, arriostramiento y de equilibrio"},{"$f":"lista1!C38","v":"m3"},{"$f":"lista1!G38","v":9.9022500000000004},{"$f":"lista1!H38","v":39460.834840334901},null,null,null,31,{"$f":"VLOOKUP($L43:$L75,D$8:$I$380,2,FALSE)","v":"Instalación termomecánica "},{"$f":"VLOOKUP($L43:$L75,D$8:$I$380,6,FALSE)","v":0},null,0,0,0,0,{"$f":"'Incidencia GG'!$B$13*S43","v":0},0,{"$f":"'Incidencia GG'!$B$14*S43","v":0},0]
[null,null,null,{"$f":"lista1!A39","v":0},{"$f":"lista1!B39","v":"Pilotín diametro 23 cm / profundidad 1,6 m"},{"$f":"lista1!C39","v":"ml"},{"$f":"lista1!G39","v":38.400000000000006},{"$f":"lista1!H39","v":9376.1570779510039},null,null,null,32,{"$f":"VLOOKUP($L44:$L76,D$8:$I$380,2,FALSE)","v":"Instalación eléctrica"},{"$f":"VLOOKUP($L44:$L76,D$8:$I$380,6,FALSE)","v":52183.347438752782},null,52183.347438752782,5452.5288984427789,5062.0129803737827,62697.889317569337,{"$f":"'Incidencia GG'!$B$13*S44","v":313.48944658784671},63011.378764157183,{"$f":"'Incidencia GG'!$B$14*S44","v":12539.577863513869},75550.956627671054]
[null,null,null,{"$f":"lista1!A40","v":0},{"$f":"lista1!B40","v":"Platea de fundación 35 kg/m3 de hierro o quiza con un poco mas de kg de cuantía, (bases de cañerías div./1,345)."},{"$f":"lista1!C40","v":"m3"},{"$f":"lista1!G40","v":0},{"$f":"lista1!H40","v":0},null,null,null,33,{"$f":"VLOOKUP($L45:$L77,D$8:$I$380,2,FALSE)","v":"Instalación contra incendio"},{"$f":"VLOOKUP($L45:$L77,D$8:$I$380,6,FALSE)","v":0},null,0,0,0,0,{"$f":"'Incidencia GG'!$B$13*S45","v":0},0,{"$f":"'Incidencia GG'!$B$14*S45","v":0},0]
[null,null,null,{"$f":"lista1!A41","v":0},{"$f":"lista1!B41","v":"Zapatas para tabique de hormigón para submuración 80 kg hierro, bases de columna y zapatas de columna"},{"$f":"lista1!C41","v":"m3"},{"$f":"lista1!G41","v":0},{"$f":"lista1!H41","v":0},null,null,null,null,null,null,null,null,{"$f":"SUM(Q13:Q30)","v":75724.652146825916},70301.172032485105,870747.49118139991,4353.7374559069995,875101.22863730707,174149.49823627999,1049250.7268735869]
[null,null,null,{"$f":"lista1!A42","v":0},{"$f":"lista1!B42","v":"Zapatas para muro de Mamposteria 30 cm de ladrillo común cuantía 35kg de hierro/m3"},{"$f":"lista1!C42","v":"m3"},{"$f":"lista1!G42","v":0},{"$f":"lista1!H42","v":0}]
[null,null,null,{"$f":"lista1!A43","v":0},{"$f":"lista1!B43","v":"Tabiques de sótanos una cara vista 80 kg de hierro/m3"},{"$f":"lista1!C43","v":"m3"},{"$f":"lista1!G43","v":0},{"$f":"lista1!H43","v":0}]
[null,null,null,{"$f":"lista1!A44","v":0},{"$f":"lista1!B44","v":"Losas espesor 10 cm"},{"$f":"lista1!C44","v":"m3"},{"$f":"lista1!G44","v":0},{"$f":"lista1!H44","v":0}]
[null,null,null,{"$f":"lista1!A45","v":0},{"$f":"lista1!B45","v":"Losas de hormigón a la vista con encofrado fenólico"},{"$f":"lista1!C45","v":"m3"},{"$f":"lista1!G45","v":0},{"$f":"lista1!H45","v":0}]
[null,null,null,{"$f":"lista1!A46","v":0},{"$f":"lista1!B46","v":"Losas casetonada 70 kg/m3 de hierro (es precio mínimo.. p/ prec max mult. X 1,216)"},{"$f":"lista1!C46","v":"m3"},{"$f":"lista1!G46","v":0},{"$f":"lista1!H46","v":0}]
[null,null,null,{"$f":"lista1!A47","v":0},{"$f":"lista1!B47","v":"Losa nervurada Aº en un sentid. bloqH 14*19*39 (o x 1,162 sii es Aºda en 2 sentid c bloq poliest exp. De 40*40*25)"},{"$f":"lista1!C47","v":"m2"},{"$f":"lista1!G47","v":0},{"$f":"lista1!H47","v":0}]
[null,null,null,{"$f":"lista1!A48","v":0},{"$f":"lista1!B48","v":"Losa hueca pretensada 12 cm de espesor con tomado de juntas"},{"$f":"lista1!C48","v":"m2"},{"$f":"lista1!G48","v":0},{"$f":"lista1!H48","v":0}]
[null,null,null,{"$f":"lista1!A49","v":0},{"$f":"lista1!B49","v":"Losa viguetas pretensadas de hormigón y ladrillos cerámicos espesor 17cm con capa de compresión."},{"$f":"lista1!C49","v":"m2"},{"$f":"lista1!G49","v":104.05},{"$f":"lista1!H49","v":61455.793977385467}]
[null,null,null,{"$f":"lista1!A50","v":0},{"$f":"lista1!B50","v":"columnas estructurales de aprox. 30x30 (Si son a la vista al precio mult. X 1,08)"},{"$f":"lista1!C50","v":"m3"},{"$f":"lista1!G50","v":0.32400000000000001},{"$f":"lista1!H50","v":2104.7245296295337}]
[null,null,null,{"$f":"lista1!A51","v":0},{"$f":"lista1!B51","v":"Encadenado verticales, horizontales, dinteles, dadosdapoyo, llaves,banquinas 7cm esp. de HºAº "},{"$f":"lista1!C51","v":"m3"},{"$f":"lista1!G51","v":5.2939208087112721},{"$f":"lista1!H51","v":27695.04238074911}]
[null,null,null,{"$f":"lista1!A52","v":0},{"$f":"lista1!B52","v":"Vigas cuantía 180 kg/m3, vigas aprox. De 20x40 (Si son a la vista al precio mult. X 1,08)"},{"$f":"lista1!C52","v":"m3"},{"$f":"lista1!G52","v":0.24},{"$f":"lista1!H52","v":2055.9319657749597}]
[null,null,null,{"$f":"lista1!A53","v":0},{"$f":"lista1!B53","v":"Tabiques vistos cuantía 80 kg"},{"$f":"lista1!C53","v":"m3"},{"$f":"lista1!G53","v":0},{"$f":"lista1!H53","v":0}]
[null,null,null,{"$f":"lista1!A54","v":0},{"$f":"lista1!B54","v":"Tabiques cuantía 80 kg/m3"},{"$f":"lista1!C54","v":"m3"},{"$f":"lista1!G54","v":0},{"$f":"lista1!H54","v":0}]
[null,null,null,{"$f":"lista1!A55","v":0},{"$f":"lista1!B55","v":"Escaleras cuantía 75 kg/m3 (sii es HºAº p/LOSAS macizas de escaleras a este prec. Dividir por 1,887) "},{"$f":"lista1!C55","v":"m3"},{"$f":"lista1!G55","v":0},{"$f":"lista1!H55","v":0}]
[null,null,null,{"$f":"lista1!A56","v":0},{"$f":"lista1!B56","v":"Tanque de bombeo cuantía 105 kg/m3"},{"$f":"lista1!C56","v":"m3"},{"$f":"lista1!G56","v":0},{"$f":"lista1!H56","v":0}]
[null,null,null,{"$f":"lista1!A57","v":0},{"$f":"lista1!B57","v":"Tanque de reserva cuantía 105 kg/m3 y cisternas de HAº"},{"$f":"lista1!C57","v":"m3"},{"$f":"lista1!G57","v":0.29899999999999999},{"$f":"lista1!H57","v":2652.3103941610379}]
[null,null,null,{"$f":"lista1!A58","v":0},{"$f":"lista1!B58","v":"Junta de PVC para hormigón"},{"$f":"lista1!C58","v":"ml"},{"$f":"lista1!G58","v":0},{"$f":"lista1!H58","v":0}]
[null,null,null,{"$f":"lista1!A59","v":0},{"$f":"lista1!B59","v":"Barrera de vapor (dos manos de pintura asfáltica + 10% nafta)"},{"$f":"lista1!C59","v":"m2"},{"$f":"lista1!G59","v":104.05},{"$f":"lista1!H59","v":4370.8127071629606}]
[null,null,null,{"$f":"lista1!A60","v":6},{"$f":"lista1!B60","v":"Estructuras metálicas"},{"$f":"lista1!C60","v":0},{"$f":"lista1!G60","v":0},{"$f":"lista1!H60","v":0},{"$f":"SUM(H67:H72)","v":0}]
[null,null,null,{"$f":"lista1!A61","v":0},{"$f":"lista1!B61","v":"En el caso de cubiertas no se consideran los cerramientos laterales ni superiores. Para los entrepisos no se incluye el solado. En ambos, tampoco la pintura. El armado es en taller. Incluye el montaje en obra y no se considera el flete"}]
[null,null,null,{"$f":"lista1!A62","v":0},{"$f":"lista1!B62","v":"Estructuras metálicas de perfiles normales"},{"$f":"lista1!C62","v":"kg"},{"$f":"lista1!G62","v":0},{"$f":"lista1!H62","v":0}]
[null,null,null,{"$f":"lista1!A63","v":0},{"$f":"lista1!B63","v":"Estructuras metálicas de perfiles ángulos"},{"$f":"lista1!C63","v":"kg"},{"$f":"lista1!G63","v":0},{"$f":"lista1!H63","v":0}]
[null,null,null,{"$f":"lista1!A64","v":0},{"$f":"lista1!B64","v":"Estructuras metálicas de hierro redondo"},{"$f":"lista1!C64","v":"kg"},{"$f":"lista1!G64","v":0},{"$f":"lista1!H64","v":0}]
[null,null,null,{"$f":"lista1!A65","v":0},{"$f":"lista1!B65","v":0},{"$f":"lista1!C65","v":0},{"$f":"lista1!G65","v":0},{"$f":"lista1!H65","v":0}]
[null,null,null,{"$f":"lista1!A66","v":0},{"$f":"lista1!B66","v":0},{"$f":"lista1!C66","v":0},{"$f":"lista1!G66","v":0},{"$f":"lista1!H66","v":0}]
[null,null,null,{"$f":"lista1!A67","v":0},{"$f":"lista1!B67","v":0},{"$f":"lista1!C67","v":0},{"$f":"lista1!G67","v":0},{"$f":"lista1!H67","v":0}]
[null,null,null,{"$f":"lista1!A68","v":7},{"$f":"lista1!B68","v":"Mampostería"},{"$f":"lista1!C68","v":"Unid."},{"$f":"lista1!G68","v":"Cantid."},{"$f":"lista1!H68","v":"Parcial"},{"$f":"SUM(H74:H106)","v":104436.37509303412}]
[null,null,null,{"$f":"lista1!A69","v":0},{"$f":"lista1!B69","v":"Bloques de hormigón estandar 19 x 19 x 39  ; idem cribada = D x 0,9365"},{"$f":"lista1!C69","v":"m2"},{"$f":"lista1!G69","v":0},{"$f":"lista1!H69","v":0}]
[null,null,null,{"$f":"lista1!A70","v":0},{"$f":"lista1!B70","v":"Bloques de hormigón estandar 9,2 x 19 x 39 ;  ladrillos comunes de pandere 30 ud/m2 = corregir D x 0,88"},{"$f":"lista1!C70","v":"m2"},{"$f":"lista1!G70","v":0},{"$f":"lista1!H70","v":0}]
[null,null,null,{"$f":"lista1!A71","v":0},{"$f":"lista1!B71","v":"Junta de dilatación bloque \"\"u\"\"de hormigón"},{"$f":"lista1!C71","v":"ml"},{"$f":"lista1!G71","v":0},{"$f":"lista1!H71","v":0}]
[null,null,null,{"$f":"lista1!A72","v":0},{"$f":"lista1!B72","v":"Encadenado pared bloques de hormigón"},{"$f":"lista1!C72","v":"ml"},{"$f":"lista1!G72","v":0},{"$f":"lista1!H72","v":0}]
[null,null,null,{"$f":"lista1!A73","v":0},{"$f":"lista1!B73","v":"Ladrillos comunes elevación espesor 30 cm (si es de cimiento =D/1,03) si es p/ 1er piso =D*1,08"},{"$f":"lista1!C73","v":"m3"},{"$f":"lista1!G73","v":0},{"$f":"lista1!H73","v":0}]
[null,null,null,{"$f":"lista1!A74","v":0},{"$f":"lista1!B74","v":"Ladrillos de máquina para vista espesor 30 cm sin tomado de juntas (con tomado junt =D x 1,094)"},{"$f":"lista1!C74","v":"m3"},{"$f":"lista1!G74","v":0},{"$f":"lista1!H74","v":0}]
[null,null,null,{"$f":"lista1!A75","v":0},{"$f":"lista1!B75","v":"Ladrillo común en elevación espesor 15 cm  (si es de cimiento =D/1,03) si es p/ 1er piso =D*1,08 , cribadas"},{"$f":"lista1!C75","v":"m3"},{"$f":"lista1!G75","v":0},{"$f":"lista1!H75","v":0}]
[null,null,null,{"$f":"lista1!A76","v":0},{"$f":"lista1!B76","v":"Ladrillo de máquina para vista espesor 15 cm con tomado de junta"},{"$f":"lista1!C76","v":"m3"},{"$f":"lista1!G76","v":0},{"$f":"lista1!H76","v":0}]
[null,null,null,{"$f":"lista1!A77","v":0},{"$f":"lista1!B77","v":"Refuerzos horizontales o encadenado para mampostería (vigas o dintel) en ladrillo común"},{"$f":"lista1!C77","v":"ml"},{"$f":"lista1!G77","v":0},{"$f":"lista1!H77","v":0}]
[null,null,null,{"$f":"lista1!A78","v":0},{"$f":"lista1!B78","v":"Ladrillo cerámico hueco de 8 x 18 x 33 pared de 8 cm de espesor"},{"$f":"lista1!C78","v":"m2"},{"$f":"lista1!G78","v":0},{"$f":"lista1!H78","v":0}]
[null,null,null,{"$f":"lista1!A79","v":0},{"$f":"lista1!B79","v":"Ladrillo cerámico hueco de 12 x 18 x 33 pared de 12 cm de espesor"},{"$f":"lista1!C79","v":"m2"},{"$f":"lista1!G79","v":0},{"$f":"lista1!H79","v":0}]
[null,null,null,{"$f":"lista1!A80","v":0},{"$f":"lista1!B80","v":"Ladrillo cerámico hueco de 18 x 18 x 33 pared de 18 cm de espesor"},{"$f":"lista1!C80","v":"m2"},{"$f":"lista1!G80","v":0},{"$f":"lista1!H80","v":0}]
[null,null,null,{"$f":"lista1!A81","v":0},{"$f":"lista1!B81","v":"Ladrillo cerámico portante de 13 x 19 x 33"},{"$f":"lista1!C81","v":"m2"},{"$f":"lista1!G81","v":360.43260000000009},{"$f":"lista1!H81","v":100794.37315539492}]
[null,null,null,{"$f":"lista1!A82","v":0},{"$f":"lista1!B82","v":"Ladrillo cerámico portante de 18 x 19 x 33"},{"$f":"lista1!C82","v":"m2"},{"$f":"lista1!G82","v":0},{"$f":"lista1!H82","v":0}]
[null,null,null,{"$f":"lista1!A83","v":0},{"$f":"lista1!B83","v":"Viga de encadenado superior con peine cerámico, armadura y hormigonado"},{"$f":"lista1!C83","v":"ml"},{"$f":"lista1!G83","v":0},{"$f":"lista1!H83","v":0}]
[null,null,null,{"$f":"lista1!A84","v":0},{"$f":"lista1!B84","v":"Columna con bloque cerámico armadura y hormigón"},{"$f":"lista1!C84","v":"ml"},{"$f":"lista1!G84","v":0},{"$f":"lista1!H84","v":0}]
[null,null,null,{"$f":"lista1!A85","v":0},{"$f":"lista1!B85","v":"Muro portante en elevación de HCCA tipo Retak"},{"$f":"lista1!C85","v":"m3"},{"$f":"lista1!G85","v":0},{"$f":"lista1!H85","v":0}]
[null,null,null,{"$f":"lista1!A86","v":0},{"$f":"lista1!B86","v":"Colocación de carpinterías (incluye amurado, marcos y premarcos)"},{"$f":"lista1!C86","v":"m2"},{"$f":"lista1!G86","v":0},{"$f":"lista1!H86","v":0}]
[null,null,null,{"$f":"lista1!A87","v":0},{"$f":"lista1!B87","v":"Colocación de barandas"},{"$f":"lista1!C87","v":"ml"},{"$f":"lista1!G87","v":0},{"$f":"lista1!H87","v":0}]
[null,null,null,{"$f":"lista1!A88","v":0},{"$f":"lista1!B88","v":"Muro portante en elevación de HCCA de 15x25x50 tipo Retak"},{"$f":"lista1!C88","v":"m2"},{"$f":"lista1!G88","v":0},{"$f":"lista1!H88","v":0}]
[null,null,null,{"$f":"lista1!A89","v":0},{"$f":"lista1!B89","v":"murete de mesada de cocina hasta 95 cm de alto (incl mat y m.o: muro 0,15+ revoq gr y fno ambas caras) sin revestim."},{"$f":"lista1!C89","v":"u"},{"$f":"lista1!G89","v":0},{"$f":"lista1!H89","v":0}]
[null,null,null,{"$f":"lista1!A90","v":0},{"$f":"lista1!B90","v":"murete de mesada de cocina hasta 95 cm de alto (incl mat y m.o: muro 0,15+ revoq gr y revest. ambas caras) sin fino"},{"$f":"lista1!C90","v":"u"},{"$f":"lista1!G90","v":0},{"$f":"lista1!H90","v":0}]
[null,null,null,{"$f":"lista1!A91","v":0},{"$f":"lista1!B91","v":"Conducto de ventilación"},{"$f":"lista1!C91","v":"ml"},{"$f":"lista1!G91","v":0},{"$f":"lista1!H91","v":0}]
[null,null,null,{"$f":"lista1!A92","v":0},{"$f":"lista1!B92","v":"Sombrete conducto ventilación"},{"$f":"lista1!C92","v":"u"},{"$f":"lista1!G92","v":0},{"$f":"lista1!H92","v":0}]
[null,null,null,{"$f":"lista1!A93","v":0},{"$f":"lista1!B93","v":"Rejilla para conducto"},{"$f":"lista1!C93","v":"ml"},{"$f":"lista1!G93","v":0},{"$f":"lista1!H93","v":0}]
[null,null,null,{"$f":"lista1!A94","v":0},{"$f":"lista1!B94","v":"Conducto de presurización"},{"$f":"lista1!C94","v":"ml"},{"$f":"lista1!G94","v":0},{"$f":"lista1!H94","v":0}]
[null,null,null,{"$f":"lista1!A95","v":0},{"$f":"lista1!B95","v":"Sombrete conducto presuriz."},{"$f":"lista1!C95","v":"u"},{"$f":"lista1!G95","v":0},{"$f":"lista1!H95","v":0}]
[null,null,null,{"$f":"lista1!A96","v":0},{"$f":"lista1!B96","v":"Reja conducto ventilación"},{"$f":"lista1!C96","v":"u"},{"$f":"lista1!G96","v":0},{"$f":"lista1!H96","v":0}]
[null,null,null,{"$f":"lista1!A97","v":0},{"$f":"lista1!B97","v":"banquinas de mesada (contrapiso + carpeta + revest. Ceramico)"},{"$f":"lista1!C97","v":"ml"},{"$f":"lista1!G97","v":6.3},{"$f":"lista1!H97","v":3642.0019376391979}]
[null,null,null,{"$f":"lista1!A98","v":0},{"$f":"lista1!B98","v":"tomado de juntas en ladrillos visto rehundidas (al ras es 0,841*D)"},{"$f":"lista1!C98","v":"m2"},{"$f":"lista1!G98","v":0},{"$f":"lista1!H98","v":0}]
[null,null,null,{"$f":"lista1!A99","v":0},{"$f":"lista1!B99","v":"Muros de ladrillo de vidrio 20x20x10 cm"},{"$f":"lista1!C99","v":"m2"},{"$f":"lista1!G99","v":0},{"$f":"lista1!H99","v":0}]
[null,null,null,{"$f":"lista1!A100","v":0},{"$f":"lista1!B100","v":"Tabique de placas de yeso, tipo durlock 12,5 mm esp."},{"$f":"lista1!C100","v":"m2"},{"$f":"lista1!G100","v":0},{"$f":"lista1!H100","v":0}]
[null,null,null,{"$f":"lista1!A101","v":0},{"$f":"lista1!B101","v":0},{"$f":"lista1!C101","v":0},{"$f":"lista1!G101","v":0},{"$f":"lista1!H101","v":0}]
[null,null,null,{"$f":"lista1!A102","v":8},{"$f":"lista1!B102","v":"Construcción con placas de roca de yeso"},{"$f":"lista1!C102","v":"Unid."},{"$f":"lista1!G102","v":"Cantid."},{"$f":"lista1!H102","v":"Parcial"},{"$f":"SUM(H109:H116)","v":0}]
[null,null,null,{"$f":"lista1!A103","v":0},{"$f":"lista1!B103","v":"En todos los casos las terminaciones quedan listas para pintar. Junta tomada con cinta tramada y mansilla"}]
[null,null,null,{"$f":"lista1!A104","v":0},{"$f":"lista1!B104","v":"Tabique simple espesor 9,5 cm. Estructura de chapa galvanizada con montantes cada 48 cm. Solera inferior y superior de 70mm. Placa normal 15mm"},{"$f":"lista1!C104","v":"m2"},{"$f":"lista1!G104","v":0},{"$f":"lista1!H104","v":0}]
[null,null,null,{"$f":"lista1!A105","v":0},{"$f":"lista1!B105","v":"Idem con aislación de lana de vidrio"},{"$f":"lista1!C105","v":"m2"},{"$f":"lista1!G105","v":0},{"$f":"lista1!H105","v":0}]
[null,null,null,{"$f":"lista1!A106","v":0},{"$f":"lista1!B106","v":"Medio tabique espesor total 8,5 cm"},{"$f":"lista1!C106","v":"m2"},{"$f":"lista1!G106","v":0},{"$f":"lista1!H106","v":0}]
[null,null,null,{"$f":"lista1!A107","v":0},{"$f":"lista1!B107","v":"Pared divisoria de unidades funcionales espesor total 12 cm. Doble placa de 15mm en ambas caras. Montantes cada 40cm. Solera 70mm interior y super."},{"$f":"lista1!C107","v":"m2"},{"$f":"lista1!G107","v":0},{"$f":"lista1!H107","v":0}]
[null,null,null,{"$f":"lista1!A108","v":0},{"$f":"lista1!B108","v":"Cielorraso suspendido, junta tomada con placas de 12,5mm, Estructura soleras y montantes de chapa galvanizada"},{"$f":"lista1!C108","v":"m2"},{"$f":"lista1!G108","v":0},{"$f":"lista1!H108","v":0}]
[null,null,null,{"$f":"lista1!A109","v":0},{"$f":"lista1!B109","v":"Idem con placa verde."},{"$f":"lista1!C109","v":"m2"},{"$f":"lista1!G109","v":0},{"$f":"lista1!H109","v":0}]
[null,null,null,{"$f":"lista1!A110","v":0},{"$f":"lista1!B110","v":"Cielorraso suspendido desmontable. Estructura con bastidor de aluminio. Placas texturadas 60 x 1,20"},{"$f":"lista1!C110","v":"m2"},{"$f":"lista1!G110","v":0},{"$f":"lista1!H110","v":0}]
[null,null,null,{"$f":"lista1!A111","v":0},{"$f":"lista1!B111","v":0},{"$f":"lista1!C111","v":0},{"$f":"lista1!G111","v":0},{"$f":"lista1!H111","v":0}]
[null,null,null,{"$f":"lista1!A112","v":9},{"$f":"lista1!B112","v":"Aislaciones"},{"$f":"lista1!C112","v":0},{"$f":"lista1!G112","v":0},{"$f":"lista1!H112","v":0},{"$f":"SUM(H118:H127)","v":14211.242996751676}]
[null,null,null,{"$f":"lista1!A113","v":0},{"$f":"lista1!B113","v":"De sótanos cementicia para cerramientos horizontal y vertical"},{"$f":"lista1!C113","v":"m2"},{"$f":"lista1!G113","v":0},{"$f":"lista1!H113","v":0}]
[null,null,null,{"$f":"lista1!A114","v":0},{"$f":"lista1!B114","v":"Capa aisladora con tabique panderete"},{"$f":"lista1!C114","v":"m2"},{"$f":"lista1!G114","v":0},{"$f":"lista1!H114","v":0}]
[null,null,null,{"$f":"lista1!A115","v":0},{"$f":"lista1!B115","v":"Horizontal espesor 2 cm sobre muro"},{"$f":"lista1!C115","v":"m2"},{"$f":"lista1!G115","v":14.36947058823529},{"$f":"lista1!H115","v":2609.5914052101907}]
[null,null,null,{"$f":"lista1!A116","v":0},{"$f":"lista1!B116","v":"Film de polietileno bajo plateas o contrapisos"},{"$f":"lista1!C116","v":"m2"},{"$f":"lista1!G116","v":0},{"$f":"lista1!H116","v":0}]
[null,null,null,{"$f":"lista1!A117","v":0},{"$f":"lista1!B117","v":"Horizontal cementicia en contrapiso sobre terreno natural"},{"$f":"lista1!C117","v":"m2"},{"$f":"lista1!G117","v":0},{"$f":"lista1!H117","v":0}]
[null,null,null,{"$f":"lista1!A118","v":0},{"$f":"lista1!B118","v":"Horizontal sobre losa para locales húmedos"},{"$f":"lista1!C118","v":"m2"},{"$f":"lista1!G118","v":0},{"$f":"lista1!H118","v":0}]
[null,null,null,{"$f":"lista1!A119","v":0},{"$f":"lista1!B119","v":"Azotado hidrófugo bajo revestimientos "},{"$f":"lista1!C119","v":"m2"},{"$f":"lista1!G119","v":0},{"$f":"lista1!H119","v":0}]
[null,null,null,{"$f":"lista1!A120","v":0},{"$f":"lista1!B120","v":"Vertical de 1,5 de esp. sobre muros"},{"$f":"lista1!C120","v":"m2"},{"$f":"lista1!G120","v":21.6},{"$f":"lista1!H120","v":1958.4524900977385}]
[null,null,null,{"$f":"lista1!A121","v":0},{"$f":"lista1!B121","v":"Horizontal y vertical cementicia para interior tanques de agua"},{"$f":"lista1!C121","v":"m2"},{"$f":"lista1!G121","v":0},{"$f":"lista1!H121","v":0}]
[null,null,null,{"$f":"lista1!A122","v":0},{"$f":"lista1!B122","v":"inyeccion de líquidos químicos SIKA inertol infiltración, c perf c/15 cm a tres bolillos, rev.,rev fino (220MO+300mat)"},{"$f":"lista1!C122","v":"ml"},{"$f":"lista1!G122","v":22},{"$f":"lista1!H122","v":9643.1991014437481}]
[null,null,null,{"$f":"lista1!A123","v":10},{"$f":"lista1!B123","v":"Cubiertas "},{"$f":"lista1!C123","v":0},{"$f":"lista1!G123","v":0},{"$f":"lista1!H123","v":0},{"$f":"SUM(H130:H133)","v":107063.8974688196}]
[null,null,null,{"$f":"lista1!A124","v":0},{"$f":"lista1!B124","v":"No se incluye la losa de hormigón"},{"$f":"lista1!C124","v":0},{"$f":"lista1!G124","v":0},{"$f":"lista1!H124","v":0}]
[null,null,null,{"$f":"lista1!A125","v":0},{"$f":"lista1!B125","v":"Planas"},{"$f":"lista1!C125","v":0},{"$f":"lista1!G125","v":0},{"$f":"lista1!H125","v":0}]
[null,null,null,{"$f":"lista1!A126","v":0},{"$f":"lista1!B126","v":"Sobre losa con barrera de vapor, contrapiso con pendiente. Carpeta para recibir, y proteger, aislación térmica e hidráulica con membrana con aluminio"},{"$f":"lista1!C126","v":"m2"},{"$f":"lista1!G126","v":104.05},{"$f":"lista1!H126","v":107063.8974688196}]
[null,null,null,{"$f":"lista1!A127","v":0},{"$f":"lista1!B127","v":"Idem anterior. Cubierta transitable terminación baldosas 20 x 20 para terraza"},{"$f":"lista1!C127","v":"m2"},{"$f":"lista1!G127","v":0},{"$f":"lista1!H127","v":0}]
[null,null,null,{"$f":"lista1!A128","v":0},{"$f":"lista1!B128","v":0},{"$f":"lista1!C128","v":0},{"$f":"lista1!G128","v":0},{"$f":"lista1!H128","v":0}]
[null,null,null,{"$f":"lista1!A129","v":0},{"$f":"lista1!B129","v":"Con pendiente"},{"$f":"lista1!C129","v":0},{"$f":"lista1!G129","v":0},{"$f":"lista1!H129","v":0},{"$f":"SUM(H136:H146)","v":0}]
[null,null,null,{"$f":"lista1!A130","v":0},{"$f":"lista1!B130","v":"No incluye la pintura. Para las de madera se consideró la aplicación de preservador. No incluye correas"},{"$f":"lista1!C130","v":0},{"$f":"lista1!G130","v":0},{"$f":"lista1!H130","v":0}]
[null,null,null,{"$f":"lista1!A131","v":0},{"$f":"lista1!B131","v":"Tejas francesa estructura de madera vista con aislación térmica  "},{"$f":"lista1!C131","v":"m2"},{"$f":"lista1!G131","v":0},{"$f":"lista1!H131","v":0}]
[null,null,null,{"$f":"lista1!A132","v":0},{"$f":"lista1!B132","v":"Idem, con madera sin cepillar"},{"$f":"lista1!C132","v":"m2"},{"$f":"lista1!G132","v":0},{"$f":"lista1!H132","v":0}]
[null,null,null,{"$f":"lista1!A133","v":0},{"$f":"lista1!B133","v":"Chapa ondulada N24 estructura de madera vista. No se considera con aislación térmica"},{"$f":"lista1!C133","v":"m2"},{"$f":"lista1!G133","v":0},{"$f":"lista1!H133","v":0}]
[null,null,null,{"$f":"lista1!A134","v":0},{"$f":"lista1!B134","v":"Idem, chapa prepintada"},{"$f":"lista1!C134","v":"m2"},{"$f":"lista1!G134","v":0},{"$f":"lista1!H134","v":0}]
[null,null,null,{"$f":"lista1!A135","v":0},{"$f":"lista1!B135","v":"Chapa ambas caras con aislación térmica"},{"$f":"lista1!C135","v":"m2"},{"$f":"lista1!G135","v":0},{"$f":"lista1!H135","v":0}]
[null,null,null,{"$f":"lista1!A136","v":0},{"$f":"lista1!B136","v":"Teja colonial madera vista"},{"$f":"lista1!C136","v":"m2"},{"$f":"lista1!G136","v":0},{"$f":"lista1!H136","v":0}]
[null,null,null,{"$f":"lista1!A137","v":0},{"$f":"lista1!B137","v":"Teja colonial madera sin cepillar"},{"$f":"lista1!C137","v":"m2"},{"$f":"lista1!G137","v":0},{"$f":"lista1!H137","v":0}]
[null,null,null,{"$f":"lista1!A138","v":0},{"$f":"lista1!B138","v":"Chapa imitación tejas"},{"$f":"lista1!C138","v":"m2"},{"$f":"lista1!G138","v":0},{"$f":"lista1!H138","v":0}]
[null,null,null,{"$f":"lista1!A139","v":0},{"$f":"lista1!B139","v":"Junta de dilatación membrana asfáltica"},{"$f":"lista1!C139","v":"m2"},{"$f":"lista1!G139","v":0},{"$f":"lista1!H139","v":0}]
[null,null,null,{"$f":"lista1!A140","v":0},{"$f":"lista1!B140","v":"Tinglado chapa galvanizada sobre vigaa spagueti"},{"$f":"lista1!C140","v":"m2"},{"$f":"lista1!G140","v":0},{"$f":"lista1!H140","v":0}]
[null,null,null,{"$f":"lista1!A141","v":0},{"$f":"lista1!B141","v":0},{"$f":"lista1!C141","v":0},{"$f":"lista1!G141","v":0},{"$f":"lista1!H141","v":0}]
[null,null,null,{"$f":"lista1!A142","v":11},{"$f":"lista1!B142","v":"Contrapiso"},{"$f":"lista1!C142","v":0},{"$f":"lista1!G142","v":0},{"$f":"lista1!H142","v":0},{"$f":"SUM(H148:H153)","v":47368.536649888651}]
[null,null,null,{"$f":"lista1!A143","v":0},{"$f":"lista1!B143","v":"Hormigón de cascotes armado de espesor 15 cm sobre terreno natural"},{"$f":"lista1!C143","v":"m2"},{"$f":"lista1!G143","v":158.66},{"$f":"lista1!H143","v":47368.536649888651}]
[null,null,null,{"$f":"lista1!A144","v":0},{"$f":"lista1!B144","v":"Hormigón de cascotes sobre losa espesor 7 cm"},{"$f":"lista1!C144","v":"m2"},{"$f":"lista1!G144","v":0},{"$f":"lista1!H144","v":0}]
[null,null,null,{"$f":"lista1!A145","v":0},{"$f":"lista1!B145","v":"Hormigón de cascotes sobre losa local sanitario espesor 25 cm"},{"$f":"lista1!C145","v":"m2"},{"$f":"lista1!G145","v":0},{"$f":"lista1!H145","v":0}]
[null,null,null,{"$f":"lista1!A146","v":0},{"$f":"lista1!B146","v":"Hormigón de arcilla expandida 10 cm de espesor"},{"$f":"lista1!C146","v":"m2"},{"$f":"lista1!G146","v":0},{"$f":"lista1!H146","v":0}]
[null,null,null,{"$f":"lista1!A147","v":0},{"$f":"lista1!B147","v":"Mortero celular de 7 cm espesor"},{"$f":"lista1!C147","v":"m2"},{"$f":"lista1!G147","v":0},{"$f":"lista1!H147","v":0}]
[null,null,null,{"$f":"lista1!A148","v":0},{"$f":"lista1!B148","v":0},{"$f":"lista1!C148","v":0},{"$f":"lista1!G148","v":0},{"$f":"lista1!H148","v":0}]
[null,null,null,{"$f":"lista1!A149","v":12},{"$f":"lista1!B149","v":"Carpetas"},{"$f":"lista1!C149","v":0},{"$f":"lista1!G149","v":0},{"$f":"lista1!H149","v":0},{"$f":"SUM(H155:H158)","v":17572.481941202674}]
[null,null,null,{"$f":"lista1!A150","v":0},{"$f":"lista1!B150","v":"De concreto bajo solado"},{"$f":"lista1!C150","v":"m2"},{"$f":"lista1!G150","v":158.66},{"$f":"lista1!H150","v":17572.481941202674}]
[null,null,null,{"$f":"lista1!A151","v":0},{"$f":"lista1!B151","v":"Carpeta de mortero celular 2 cm espesor"},{"$f":"lista1!C151","v":"m2"},{"$f":"lista1!G151","v":0},{"$f":"lista1!H151","v":0}]
[null,null,null,{"$f":"lista1!A152","v":0},{"$f":"lista1!B152","v":"Carpeta clavadora para parquet"},{"$f":"lista1!C152","v":"m2"},{"$f":"lista1!G152","v":0},{"$f":"lista1!H152","v":0}]
[null,null,null,{"$f":"lista1!A153","v":0},{"$f":"lista1!B153","v":0},{"$f":"lista1!C153","v":0},{"$f":"lista1!G153","v":0},{"$f":"lista1!H153","v":0}]
[null,null,null,{"$f":"lista1!A154","v":13},{"$f":"lista1!B154","v":"Revoques"},{"$f":"lista1!C154","v":0},{"$f":"lista1!G154","v":0},{"$f":"lista1!H154","v":0},{"$f":"SUM(H161:H172)","v":91992.34512171286}]
[null,null,null,{"$f":"lista1!A155","v":0},{"$f":"lista1!B155","v":"No se considera el trabajo de andamio"},{"$f":"lista1!C155","v":0},{"$f":"lista1!G155","v":0},{"$f":"lista1!H155","v":0}]
[null,null,null,{"$f":"lista1!A156","v":0},{"$f":"lista1!B156","v":"Grueso y fino a la cal al fieltro"},{"$f":"lista1!C156","v":"m2"},{"$f":"lista1!G156","v":342.03623999999996},{"$f":"lista1!H156","v":51290.611509468763}]
[null,null,null,{"$f":"lista1!A157","v":0},{"$f":"lista1!B157","v":"Grueso a la cal impermeable para exterior completo"},{"$f":"lista1!C157","v":"m2"},{"$f":"lista1!G157","v":146.58696},{"$f":"lista1!H157","v":40701.733612244097}]
[null,null,null,{"$f":"lista1!A158","v":0},{"$f":"lista1!B158","v":"Grueso bajo revestimientos"},{"$f":"lista1!C158","v":"m2"},{"$f":"lista1!G158","v":0},{"$f":"lista1!H158","v":0}]
[null,null,null,{"$f":"lista1!A159","v":0},{"$f":"lista1!B159","v":"Revoque proyectado exterior con hidrófugo"},{"$f":"lista1!C159","v":"m2"},{"$f":"lista1!G159","v":0},{"$f":"lista1!H159","v":0}]
[null,null,null,{"$f":"lista1!A160","v":0},{"$f":"lista1!B160","v":"Revoque proyectable grueso a la cal para interior"},{"$f":"lista1!C160","v":"m2"},{"$f":"lista1!G160","v":0},{"$f":"lista1!H160","v":0}]
[null,null,null,{"$f":"lista1!A161","v":0},{"$f":"lista1!B161","v":"Revoque proyectable fino a la cal para interior"},{"$f":"lista1!C161","v":"m2"},{"$f":"lista1!G161","v":0},{"$f":"lista1!H161","v":0}]
[null,null,null,{"$f":"lista1!A162","v":0},{"$f":"lista1!B162","v":"Revoque proyectable de yeso para interior, con engrosado"},{"$f":"lista1!C162","v":"m2"},{"$f":"lista1!G162","v":0},{"$f":"lista1!H162","v":0}]
[null,null,null,{"$f":"lista1!A163","v":0},{"$f":"lista1!B163","v":"Salpicado con molinete"},{"$f":"lista1!C163","v":"m2"},{"$f":"lista1!G163","v":0},{"$f":"lista1!H163","v":0}]
[null,null,null,{"$f":"lista1!A164","v":0},{"$f":"lista1!B164","v":"Salpicado con molinete exterior planchado"},{"$f":"lista1!C164","v":"m2"},{"$f":"lista1!G164","v":0},{"$f":"lista1!H164","v":0}]
[null,null,null,{"$f":"lista1!A165","v":0},{"$f":"lista1!B165","v":"Revoque especial super Iggam"},{"$f":"lista1!C165","v":"ml"},{"$f":"lista1!G165","v":0},{"$f":"lista1!H165","v":0}]
[null,null,null,{"$f":"lista1!A166","v":0},{"$f":"lista1!B166","v":"Buñas super Iggam"},{"$f":"lista1!C166","v":"ml"},{"$f":"lista1!G166","v":0},{"$f":"lista1!H166","v":0}]
[null,null,null,{"$f":"lista1!A167","v":0},{"$f":"lista1!B167","v":"http://www.construircordoba.com/precios-de-tareas/revoques/"},{"$f":"lista1!C167","v":0},{"$f":"lista1!G167","v":0},{"$f":"lista1!H167","v":0}]
[null,null,null,{"$f":"lista1!A168","v":14},{"$f":"lista1!B168","v":"Revestimientos"},{"$f":"lista1!C168","v":"Unid."},{"$f":"lista1!G168","v":"Cantid."},{"$f":"lista1!H168","v":"Parcial"},{"$f":"SUM(H175:H183)","v":10199.483406904234}]
[null,null,null,{"$f":"lista1!A169","v":0},{"$f":"lista1!B169","v":"Incluye la mano de obra completa, adhesivo y tomado de juntas"}]
[null,null,null,{"$f":"lista1!A170","v":0},{"$f":"lista1!B170","v":"Cerámico tipo San Lorenzo 20 x 20 "},{"$f":"lista1!C170","v":"m2"},{"$f":"lista1!G170","v":0},{"$f":"lista1!H170","v":0}]
[null,null,null,{"$f":"lista1!A171","v":0},{"$f":"lista1!B171","v":"De venecita"},{"$f":"lista1!C171","v":"m2"},{"$f":"lista1!G171","v":0},{"$f":"lista1!H171","v":0}]
[null,null,null,{"$f":"lista1!A172","v":0},{"$f":"lista1!B172","v":"Cerámico esmaltado 30 x 30 cm"},{"$f":"lista1!C172","v":"m2"},{"$f":"lista1!G172","v":29.93},{"$f":"lista1!H172","v":10199.483406904234}]
[null,null,null,{"$f":"lista1!A173","v":0},{"$f":"lista1!B173","v":"Revestimientos secos"},{"$f":"lista1!C173","v":0},{"$f":"lista1!G173","v":0},{"$f":"lista1!H173","v":0}]
[null,null,null,{"$f":"lista1!A174","v":0},{"$f":"lista1!B174","v":"De muros con machiembrado de pino 1/2\". Incluye la estructura sobre muro"},{"$f":"lista1!C174","v":"m2"},{"$f":"lista1!G174","v":0},{"$f":"lista1!H174","v":0}]
[null,null,null,{"$f":"lista1!A175","v":0},{"$f":"lista1!B175","v":"Cerámica esmaltada 30x30 con guardas"},{"$f":"lista1!C175","v":"m2"},{"$f":"lista1!G175","v":0},{"$f":"lista1!H175","v":0}]
[null,null,null,{"$f":"lista1!A176","v":0},{"$f":"lista1!B176","v":"Porcellanato 30x30 rústico"},{"$f":"lista1!C176","v":"m2"},{"$f":"lista1!G176","v":0},{"$f":"lista1!H176","v":0}]
[null,null,null,{"$f":"lista1!A177","v":0},{"$f":"lista1!B177","v":"Tejuelas de ladrillo"},{"$f":"lista1!C177","v":"m2"},{"$f":"lista1!G177","v":0},{"$f":"lista1!H177","v":0}]
[null,null,null,{"$f":"lista1!A178","v":0},{"$f":"lista1!B178","v":0},{"$f":"lista1!C178","v":0},{"$f":"lista1!G178","v":0},{"$f":"lista1!H178","v":0}]
[null,null,null,{"$f":"lista1!A179","v":15},{"$f":"lista1!B179","v":"Cielorrasos"},{"$f":"lista1!C179","v":0},{"$f":"lista1!G179","v":0},{"$f":"lista1!H179","v":0},{"$f":"SUM(H185:H193)","v":24382.367884187082}]
[null,null,null,{"$f":"lista1!A180","v":0},{"$f":"lista1!B180","v":"Aplicado a la cal fina fratasada"},{"$f":"lista1!C180","v":"m2"},{"$f":"lista1!G180","v":0},{"$f":"lista1!H180","v":0}]
[null,null,null,{"$f":"lista1!A181","v":0},{"$f":"lista1!B181","v":"Aplicado grueso y fino a la cal al fieltro"},{"$f":"lista1!C181","v":"m2"},{"$f":"lista1!G181","v":104.05},{"$f":"lista1!H181","v":24382.367884187082}]
[null,null,null,{"$f":"lista1!A182","v":0},{"$f":"lista1!B182","v":"Suspendido a la cal armado en madera "},{"$f":"lista1!C182","v":"m2"},{"$f":"lista1!G182","v":0},{"$f":"lista1!H182","v":0}]
[null,null,null,{"$f":"lista1!A183","v":0},{"$f":"lista1!B183","v":"Suspendido a la cal armado en hierro"},{"$f":"lista1!C183","v":"m2"},{"$f":"lista1!G183","v":0},{"$f":"lista1!H183","v":0}]
[null,null,null,{"$f":"lista1!A184","v":0},{"$f":"lista1!B184","v":"Taparrollo armado a la cal"},{"$f":"lista1!C184","v":"ml"},{"$f":"lista1!G184","v":0},{"$f":"lista1!H184","v":0}]
[null,null,null,{"$f":"lista1!A185","v":0},{"$f":"lista1!B185","v":"Suspendido termoacústico"},{"$f":"lista1!C185","v":"m2"},{"$f":"lista1!G185","v":0},{"$f":"lista1!H185","v":0}]
[null,null,null,{"$f":"lista1!A186","v":0},{"$f":"lista1!B186","v":"Suspendido con dorso de aluminio"},{"$f":"lista1!C186","v":"m2"},{"$f":"lista1!G186","v":0},{"$f":"lista1!H186","v":0}]
[null,null,null,{"$f":"lista1!A187","v":0},{"$f":"lista1!B187","v":"Paneles de aluminio microperforado"},{"$f":"lista1!C187","v":"m2"},{"$f":"lista1!G187","v":0},{"$f":"lista1!H187","v":0}]
[null,null,null,{"$f":"lista1!A188","v":0},{"$f":"lista1!B188","v":0},{"$f":"lista1!C188","v":0},{"$f":"lista1!G188","v":0},{"$f":"lista1!H188","v":0}]
[null,null,null,{"$f":"lista1!A189","v":16},{"$f":"lista1!B189","v":"Yeseria"},{"$f":"lista1!C189","v":0},{"$f":"lista1!G189","v":0},{"$f":"lista1!H189","v":0},{"$f":"SUM(H195:H205)","v":0}]
[null,null,null,{"$f":"lista1!A190","v":0},{"$f":"lista1!B190","v":"Enlucido de yeso"},{"$f":"lista1!C190","v":"m2"},{"$f":"lista1!G190","v":0},{"$f":"lista1!H190","v":0}]
[null,null,null,{"$f":"lista1!A191","v":0},{"$f":"lista1!B191","v":"Enlucido de yeso reforzado con cemento"},{"$f":"lista1!C191","v":"m2"},{"$f":"lista1!G191","v":0},{"$f":"lista1!H191","v":0}]
[null,null,null,{"$f":"lista1!A192","v":0},{"$f":"lista1!B192","v":"Enlucido de yeso y engrosado con yeso gris"},{"$f":"lista1!C192","v":"m2"},{"$f":"lista1!G192","v":0},{"$f":"lista1!H192","v":0}]
[null,null,null,{"$f":"lista1!A193","v":0},{"$f":"lista1!B193","v":"Guardacanto de yesero. Incluye el recubrimiento de yeso"},{"$f":"lista1!C193","v":"ml"},{"$f":"lista1!G193","v":0},{"$f":"lista1!H193","v":0}]
[null,null,null,{"$f":"lista1!A194","v":0},{"$f":"lista1!B194","v":"Fajas sobre revestimiento"},{"$f":"lista1!C194","v":"ml"},{"$f":"lista1!G194","v":0},{"$f":"lista1!H194","v":0}]
[null,null,null,{"$f":"lista1!A195","v":0},{"$f":"lista1!B195","v":"Agujeros circulares hasta 40 cm de diámetro"},{"$f":"lista1!C195","v":"u"},{"$f":"lista1!G195","v":0},{"$f":"lista1!H195","v":0}]
[null,null,null,{"$f":"lista1!A196","v":0},{"$f":"lista1!B196","v":"Cielorraso aplicado al yeso"},{"$f":"lista1!C196","v":"m2"},{"$f":"lista1!G196","v":0},{"$f":"lista1!H196","v":0}]
[null,null,null,{"$f":"lista1!A197","v":0},{"$f":"lista1!B197","v":"Cielorraso de yeso armado estructura de madera"},{"$f":"lista1!C197","v":"m2"},{"$f":"lista1!G197","v":0},{"$f":"lista1!H197","v":0}]
[null,null,null,{"$f":"lista1!A198","v":0},{"$f":"lista1!B198","v":"Cielorraso de yeso armado estructura de hierro"},{"$f":"lista1!C198","v":"m2"},{"$f":"lista1!G198","v":0},{"$f":"lista1!H198","v":0}]
[null,null,null,{"$f":"lista1!A199","v":0},{"$f":"lista1!B199","v":"Taparrollo de yeso armado"},{"$f":"lista1!C199","v":"ml"},{"$f":"lista1!G199","v":0},{"$f":"lista1!H199","v":0}]
[null,null,null,{"$f":"lista1!A200","v":0},{"$f":"lista1!B200","v":0},{"$f":"lista1!C200","v":0},{"$f":"lista1!G200","v":0},{"$f":"lista1!H200","v":0}]
[null,null,null,{"$f":"lista1!A201","v":17},{"$f":"lista1!B201","v":"Solados"},{"$f":"lista1!C201","v":"Unid."},{"$f":"lista1!G201","v":"Cantid."},{"$f":"lista1!H201","v":"Parcial"},{"$f":"SUM(H208:H221)","v":53447.415525000004}]
[null,null,null,{"$f":"lista1!A202","v":0},{"$f":"lista1!B202","v":"Incluye la mano de obra completa, adhesivos y/o mezcla de asiento y/o tomado de juntas. No incluye el pulido"}]
[null,null,null,{"$f":"lista1!A203","v":0},{"$f":"lista1!B203","v":"Alisado de cemento ferrocemento 6 cm"},{"$f":"lista1!C203","v":"m2"},{"$f":"lista1!G203","v":0},{"$f":"lista1!H203","v":0}]
[null,null,null,{"$f":"lista1!A204","v":0},{"$f":"lista1!B204","v":"Alisado de cemento ferrocemento 25 cm"},{"$f":"lista1!C204","v":"m2"},{"$f":"lista1!G204","v":0},{"$f":"lista1!H204","v":0}]
[null,null,null,{"$f":"lista1!A205","v":0},{"$f":"lista1!B205","v":"Cemento alisado rodillado"},{"$f":"lista1!C205","v":"m2"},{"$f":"lista1!G205","v":0},{"$f":"lista1!H205","v":0}]
[null,null,null,{"$f":"lista1!A206","v":0},{"$f":"lista1!B206","v":"Porcelanato opaco 30 x 30 cm"},{"$f":"lista1!C206","v":"m2"},{"$f":"lista1!G206","v":0},{"$f":"lista1!H206","v":0}]
[null,null,null,{"$f":"lista1!A207","v":0},{"$f":"lista1!B207","v":"Cerámico esmaltado 40 x 40 cm"},{"$f":"lista1!C207","v":"m2"},{"$f":"lista1!G207","v":104.05},{"$f":"lista1!H207","v":53447.415525000004}]
[null,null,null,{"$f":"lista1!A208","v":0},{"$f":"lista1!B208","v":"Baldosa de azotea 30 x 30 cm junta ancha"},{"$f":"lista1!C208","v":"m2"},{"$f":"lista1!G208","v":0},{"$f":"lista1!H208","v":0}]
[null,null,null,{"$f":"lista1!A209","v":0},{"$f":"lista1!B209","v":"Baldosón para vereda 60 x 40 cm"},{"$f":"lista1!C209","v":"m2"},{"$f":"lista1!G209","v":0},{"$f":"lista1!H209","v":0}]
[null,null,null,{"$f":"lista1!A210","v":0},{"$f":"lista1!B210","v":"Mosaico granitico 30 x 30 cm colocado a la cal (No incluye pulido)"},{"$f":"lista1!C210","v":"m2"},{"$f":"lista1!G210","v":0},{"$f":"lista1!H210","v":0}]
[null,null,null,{"$f":"lista1!A211","v":0},{"$f":"lista1!B211","v":"Pulido de mosaico granito"},{"$f":"lista1!C211","v":"m2"},{"$f":"lista1!G211","v":0},{"$f":"lista1!H211","v":0}]
[null,null,null,{"$f":"lista1!A212","v":0},{"$f":"lista1!B212","v":"Porcelanato 30 x 30 rústico"},{"$f":"lista1!C212","v":"m2"},{"$f":"lista1!G212","v":0},{"$f":"lista1!H212","v":0}]
[null,null,null,{"$f":"lista1!A213","v":0},{"$f":"lista1!B213","v":"Hormigón estampado"},{"$f":"lista1!C213","v":"m2"},{"$f":"lista1!G213","v":0},{"$f":"lista1!H213","v":0}]
[null,null,null,{"$f":"lista1!A214","v":0},{"$f":"lista1!B214","v":"Cerámico azotea 20x20"},{"$f":"lista1!C214","v":"m2"},{"$f":"lista1!G214","v":0},{"$f":"lista1!H214","v":0}]
[null,null,null,{"$f":"lista1!A215","v":0},{"$f":"lista1!B215","v":"Baldosón de cemento sobre discos plásticos"},{"$f":"lista1!C215","v":"m2"},{"$f":"lista1!G215","v":0},{"$f":"lista1!H215","v":0}]
[null,null,null,{"$f":"lista1!A216","v":0},{"$f":"lista1!B216","v":0},{"$f":"lista1!C216","v":0},{"$f":"lista1!G216","v":0},{"$f":"lista1!H216","v":0}]
[null,null,null,{"$f":"lista1!A217","v":18},{"$f":"lista1!B217","v":"Pisos especiales"},{"$f":"lista1!C217","v":0},{"$f":"lista1!G217","v":0},{"$f":"lista1!H217","v":0},{"$f":"SUM(H223:H225)","v":0}]
[null,null,null,{"$f":"lista1!A218","v":0},{"$f":"lista1!B218","v":"Parquet Eucaliptus con cola adhesiva"},{"$f":"lista1!C218","v":"m2"},{"$f":"lista1!G218","v":0},{"$f":"lista1!H218","v":0}]
[null,null,null,{"$f":"lista1!A219","v":0},{"$f":"lista1!B219","v":"Parquet con adhesivo epoxi bi-componentes"},{"$f":"lista1!C219","v":"m2"},{"$f":"lista1!G219","v":0},{"$f":"lista1!H219","v":0}]
[null,null,null,{"$f":"lista1!A220","v":0},{"$f":"lista1!B220","v":"Entablonado tarugado Viraró sobre alfajías"},{"$f":"lista1!C220","v":"m2"},{"$f":"lista1!G220","v":0},{"$f":"lista1!H220","v":0}]
[null,null,null,{"$f":"lista1!A221","v":0},{"$f":"lista1!B221","v":"Pulido y plastificado de pisos de madera"},{"$f":"lista1!C221","v":"m2"},{"$f":"lista1!G221","v":0},{"$f":"lista1!H221","v":0}]
[null,null,null,{"$f":"lista1!A222","v":0},{"$f":"lista1!B222","v":"Piso de goma con aplicación de masa niveladora y adhesivo"},{"$f":"lista1!C222","v":"m2"},{"$f":"lista1!G222","v":0},{"$f":"lista1!H222","v":0}]
[null,null,null,{"$f":"lista1!A223","v":0},{"$f":"lista1!B223","v":"Alfombra de Nylon pelo cortado aplicada con adhesivo"},{"$f":"lista1!C223","v":"m2"},{"$f":"lista1!G223","v":0},{"$f":"lista1!H223","v":0}]
[null,null,null,{"$f":"lista1!A224","v":0},{"$f":"lista1!B224","v":"Adoquines graniticos 9 x 9 x 9 sobre manto de arena"},{"$f":"lista1!C224","v":"m2"},{"$f":"lista1!G224","v":0},{"$f":"lista1!H224","v":0}]
[null,null,null,{"$f":"lista1!A225","v":0},{"$f":"lista1!B225","v":"Bloques intertrabados colocado sobre manto de arena"},{"$f":"lista1!C225","v":"m2"},{"$f":"lista1!G225","v":0},{"$f":"lista1!H225","v":0}]
[null,null,null,{"$f":"lista1!A226","v":0},{"$f":"lista1!B226","v":"Piso flotante de madera"},{"$f":"lista1!C226","v":"m2"},{"$f":"lista1!G226","v":0},{"$f":"lista1!H226","v":0}]
[null,null,null,{"$f":"lista1!A227","v":0},{"$f":"lista1!B227","v":"Piso térmico elevado (sin terminación)"},{"$f":"lista1!C227","v":"m2"},{"$f":"lista1!G227","v":0},{"$f":"lista1!H227","v":0}]
[null,null,null,{"$f":"lista1!A228","v":0},{"$f":"lista1!B228","v":"Alfombra modular para piso técnico"},{"$f":"lista1!C228","v":"m2"},{"$f":"lista1!G228","v":0},{"$f":"lista1!H228","v":0}]
[null,null,null,{"$f":"lista1!A229","v":0},{"$f":"lista1!B229","v":0},{"$f":"lista1!C229","v":0},{"$f":"lista1!G229","v":0},{"$f":"lista1!H229","v":0}]
[null,null,null,{"$f":"lista1!A230","v":19},{"$f":"lista1!B230","v":"Escaleras"},{"$f":"lista1!C230","v":0},{"$f":"lista1!G230","v":0},{"$f":"lista1!H230","v":0},{"$f":"SUM(H236:H242)","v":0}]
[null,null,null,{"$f":"lista1!A231","v":0},{"$f":"lista1!B231","v":"Carpeta de nivelación"},{"$f":"lista1!C231","v":"m2"},{"$f":"lista1!G231","v":0},{"$f":"lista1!H231","v":0}]
[null,null,null,{"$f":"lista1!A232","v":0},{"$f":"lista1!B232","v":"Alzada y pedada de cemento alisado "},{"$f":"lista1!C232","v":"m2"},{"$f":"lista1!G232","v":0},{"$f":"lista1!H232","v":0}]
[null,null,null,{"$f":"lista1!A233","v":0},{"$f":"lista1!B233","v":"Naríz metálica"},{"$f":"lista1!C233","v":"ml"},{"$f":"lista1!G233","v":0},{"$f":"lista1!H233","v":0}]
[null,null,null,{"$f":"lista1!A234","v":0},{"$f":"lista1!B234","v":"Zócalo de cemento alisado rampante"},{"$f":"lista1!C234","v":"ml"},{"$f":"lista1!G234","v":0},{"$f":"lista1!H234","v":0}]
[null,null,null,{"$f":"lista1!A235","v":0},{"$f":"lista1!B235","v":"Alzada y pedada de cerámica 20 x 20 ( Incluye cortes ) "},{"$f":"lista1!C235","v":"m2"},{"$f":"lista1!G235","v":0},{"$f":"lista1!H235","v":0}]
[null,null,null,{"$f":"lista1!A236","v":0},{"$f":"lista1!B236","v":"Alzada y pedada granítica reconstituida "},{"$f":"lista1!C236","v":"m2"},{"$f":"lista1!G236","v":0},{"$f":"lista1!H236","v":0}]
[null,null,null,{"$f":"lista1!A237","v":0},{"$f":"lista1!B237","v":0},{"$f":"lista1!C237","v":0},{"$f":"lista1!G237","v":0},{"$f":"lista1!H237","v":0}]
[null,null,null,{"$f":"lista1!A238","v":20},{"$f":"lista1!B238","v":"Zócalos"},{"$f":"lista1!C238","v":"Unid."},{"$f":"lista1!G238","v":"Cantid."},{"$f":"lista1!H238","v":"Parcial"},{"$f":"SUM(H244:H248)","v":18167.599803118039}]
[null,null,null,{"$f":"lista1!A239","v":0},{"$f":"lista1!B239","v":"Cemento alisado"},{"$f":"lista1!C239","v":"ml"},{"$f":"lista1!G239","v":0},{"$f":"lista1!H239","v":0}]
[null,null,null,{"$f":"lista1!A240","v":0},{"$f":"lista1!B240","v":"Zócalo de madera 1/2\" x 2\" liso"},{"$f":"lista1!C240","v":"ml"},{"$f":"lista1!G240","v":0},{"$f":"lista1!H240","v":0}]
[null,null,null,{"$f":"lista1!A241","v":0},{"$f":"lista1!B241","v":"Zócalo de cerámica"},{"$f":"lista1!C241","v":"ml"},{"$f":"lista1!G241","v":173.55999999999997},{"$f":"lista1!H241","v":18167.599803118039}]
[null,null,null,{"$f":"lista1!A242","v":0},{"$f":"lista1!B242","v":"Zócalo granítico"},{"$f":"lista1!C242","v":"ml"},{"$f":"lista1!G242","v":0},{"$f":"lista1!H242","v":0}]
[null,null,null,{"$f":"lista1!A243","v":0},{"$f":"lista1!B243","v":0},{"$f":"lista1!C243","v":0},{"$f":"lista1!G243","v":0},{"$f":"lista1!H243","v":0}]
[null,null,null,{"$f":"lista1!A244","v":21},{"$f":"lista1!B244","v":"Marmoleria"},{"$f":"lista1!C244","v":0},{"$f":"lista1!G244","v":0},{"$f":"lista1!H244","v":0},{"$f":"SUM(H250:H262)","v":11917.633109131402}]
[null,null,null,{"$f":"lista1!A245","v":0},{"$f":"lista1!B245","v":"Mesada de granito gris mara ancho 60 cm ( incluye trasforo, pileta y griferías )"},{"$f":"lista1!C245","v":"ml"},{"$f":"lista1!G245","v":6.3},{"$f":"lista1!H245","v":10745.646634743875}]
[null,null,null,{"$f":"lista1!A246","v":0},{"$f":"lista1!B246","v":"Frentín de mesada de granito gris 20 cm"},{"$f":"lista1!C246","v":"ml"},{"$f":"lista1!G246","v":0},{"$f":"lista1!H246","v":0}]
[null,null,null,{"$f":"lista1!A247","v":0},{"$f":"lista1!B247","v":"Respaldo de granito gris 60 cm"},{"$f":"lista1!C247","v":"ml"},{"$f":"lista1!G247","v":0},{"$f":"lista1!H247","v":0}]
[null,null,null,{"$f":"lista1!A248","v":0},{"$f":"lista1!B248","v":"Piso de marmetas de granito gris mara "},{"$f":"lista1!C248","v":"m2"},{"$f":"lista1!G248","v":0},{"$f":"lista1!H248","v":0}]
[null,null,null,{"$f":"lista1!A249","v":0},{"$f":"lista1!B249","v":"Revestimiento de marmetas de granito gris"},{"$f":"lista1!C249","v":"m2"},{"$f":"lista1!G249","v":0},{"$f":"lista1!H249","v":0}]
[null,null,null,{"$f":"lista1!A250","v":0},{"$f":"lista1!B250","v":0},{"$f":"lista1!C250","v":0},{"$f":"lista1!G250","v":0},{"$f":"lista1!H250","v":0}]
[null,null,null,{"$f":"lista1!A251","v":0},{"$f":"lista1!B251","v":"Colocaciones "},{"$f":"lista1!C251","v":0},{"$f":"lista1!G251","v":0},{"$f":"lista1!H251","v":0}]
[null,null,null,{"$f":"lista1!A252","v":0},{"$f":"lista1!B252","v":"zocalos de Mesadas (corte transv hasta 10cm/m longitudinal, fijar con claucol o silicona, tomar juntas)"},{"$f":"lista1!C252","v":"ml"},{"$f":"lista1!G252","v":6.3},{"$f":"lista1!H252","v":1171.986474387528}]
[null,null,null,{"$f":"lista1!A253","v":0},{"$f":"lista1!B253","v":"Revestimiento de mármol o grantio sobre pared"},{"$f":"lista1!C253","v":"m2"},{"$f":"lista1!G253","v":0},{"$f":"lista1!H253","v":0}]
[null,null,null,{"$f":"lista1!A254","v":0},{"$f":"lista1!B254","v":"Piso de mármol o granito"},{"$f":"lista1!C254","v":"m2"},{"$f":"lista1!G254","v":0},{"$f":"lista1!H254","v":0}]
[null,null,null,{"$f":"lista1!A255","v":0},{"$f":"lista1!B255","v":"Marmetas piso"},{"$f":"lista1!C255","v":"m2"},{"$f":"lista1!G255","v":0},{"$f":"lista1!H255","v":0}]
[null,null,null,{"$f":"lista1!A256","v":0},{"$f":"lista1!B256","v":"Marmetas revestimiento"},{"$f":"lista1!C256","v":"m2"},{"$f":"lista1!G256","v":0},{"$f":"lista1!H256","v":0}]
[null,null,null,{"$f":"lista1!A257","v":0},{"$f":"lista1!B257","v":0},{"$f":"lista1!C257","v":0},{"$f":"lista1!G257","v":0},{"$f":"lista1!H257","v":0}]
[null,null,null,{"$f":"lista1!A258","v":22},{"$f":"lista1!B258","v":"Pinturas"},{"$f":"lista1!C258","v":0},{"$f":"lista1!G258","v":0},{"$f":"lista1!H258","v":0},{"$f":"SUM(H265:H275)","v":69089.921364089096}]
[null,null,null,{"$f":"lista1!A259","v":0},{"$f":"lista1!B259","v":"Se consideran en todos los casos el enduído parcial. Aplicación de fijador y 3 manos de pintura"},{"$f":"lista1!C259","v":0},{"$f":"lista1!G259","v":0},{"$f":"lista1!H259","v":0}]
[null,null,null,{"$f":"lista1!A260","v":0},{"$f":"lista1!B260","v":"Latex sobre muros interiores"},{"$f":"lista1!C260","v":"m2"},{"$f":"lista1!G260","v":342.03623999999996},{"$f":"lista1!H260","v":28657.563501402226}]
[null,null,null,{"$f":"lista1!A261","v":0},{"$f":"lista1!B261","v":"Latex sobre cielo rasos"},{"$f":"lista1!C261","v":"m2"},{"$f":"lista1!G261","v":104.05},{"$f":"lista1!H261","v":7981.7751469933191}]
[null,null,null,{"$f":"lista1!A262","v":0},{"$f":"lista1!B262","v":"Latex acrílico sobre muros exteriores"},{"$f":"lista1!C262","v":"m2"},{"$f":"lista1!G262","v":146.58696},{"$f":"lista1!H262","v":30672.12648406771}]
[null,null,null,{"$f":"lista1!A263","v":0},{"$f":"lista1!B263","v":"Silicona s/ladrillo visto (m2)"},{"$f":"lista1!C263","v":"m2"},{"$f":"lista1!G263","v":0},{"$f":"lista1!H263","v":0}]
[null,null,null,{"$f":"lista1!A264","v":0},{"$f":"lista1!B264","v":"Esmalte sintético s/carpinterías"},{"$f":"lista1!C264","v":"m2"},{"$f":"lista1!G264","v":0},{"$f":"lista1!H264","v":0}]
[null,null,null,{"$f":"lista1!A265","v":0},{"$f":"lista1!B265","v":"Esmalte sintético s/carp metál"},{"$f":"lista1!C265","v":"m2"},{"$f":"lista1!G265","v":0},{"$f":"lista1!H265","v":0}]
[null,null,null,{"$f":"lista1!A266","v":0},{"$f":"lista1!B266","v":"Esmalte sintético sobre estructuras metáilcas"},{"$f":"lista1!C266","v":"tn"},{"$f":"lista1!G266","v":0},{"$f":"lista1!H266","v":0}]
[null,null,null,{"$f":"lista1!A267","v":0},{"$f":"lista1!B267","v":"Barniz marino. 1º mano con barniceta y 2º de barniz (este item tmb sirve para impregnantes)"},{"$f":"lista1!C267","v":"m2"},{"$f":"lista1!G267","v":12.8},{"$f":"lista1!H267","v":1778.4562316258355}]
[null,null,null,{"$f":"lista1!A268","v":0},{"$f":"lista1!B268","v":"Impermeabilizante fibrado para techos ( 2 manos )"},{"$f":"lista1!C268","v":"m2"},{"$f":"lista1!G268","v":0},{"$f":"lista1!H268","v":0}]
[null,null,null,{"$f":"lista1!A269","v":0},{"$f":"lista1!B269","v":"Empapelado de paredes con papel base"},{"$f":"lista1!C269","v":"m2"},{"$f":"lista1!G269","v":0},{"$f":"lista1!H269","v":0}]
[null,null,null,{"$f":"lista1!A270","v":0},{"$f":"lista1!B270","v":0},{"$f":"lista1!C270","v":0},{"$f":"lista1!G270","v":0},{"$f":"lista1!H270","v":0}]
[null,null,null,{"$f":"lista1!A271","v":23},{"$f":"lista1!B271","v":"Artefactos Sanitarios - Accesorios Griferías"},{"$f":"lista1!C271","v":"Unid."},{"$f":"lista1!G271","v":"Cantid."},{"$f":"lista1!H271","v":"Parcial"},{"$f":"SUM(H277:H280)","v":2970.0625835189312}]
[null,null,null,{"$f":"lista1!A272","v":0},{"$f":"lista1!B272","v":"Colocación de artefactos sanitarios"},{"$f":"lista1!C272","v":"u"},{"$f":"lista1!G272","v":2},{"$f":"lista1!H272","v":1286.4007572383075}]
[null,null,null,{"$f":"lista1!A273","v":0},{"$f":"lista1!B273","v":"Colocación de accesorios sanitarios"},{"$f":"lista1!C273","v":"u"},{"$f":"lista1!G273","v":4},{"$f":"lista1!H273","v":297.11679287305128}]
[null,null,null,{"$f":"lista1!A274","v":0},{"$f":"lista1!B274","v":"Colocación de griferías"},{"$f":"lista1!C274","v":"u"},{"$f":"lista1!G274","v":2},{"$f":"lista1!H274","v":1386.5450334075726}]
[null,null,null,{"$f":"lista1!A275","v":0},{"$f":"lista1!B275","v":0},{"$f":"lista1!C275","v":0},{"$f":"lista1!G275","v":0},{"$f":"lista1!H275","v":0}]
[null,null,null,{"$f":"lista1!A276","v":24},{"$f":"lista1!B276","v":"Carpinterías Metálicas"},{"$f":"lista1!C276","v":0},{"$f":"lista1!G276","v":0},{"$f":"lista1!H276","v":0},{"$f":"SUM(H283:H297)","v":2930.0490868596885}]
[null,null,null,{"$f":"lista1!A277","v":0},{"$f":"lista1!B277","v":"No incluyen los vidrios"},{"$f":"lista1!C277","v":0},{"$f":"lista1!G277","v":0},{"$f":"lista1!H277","v":0}]
[null,null,null,{"$f":"lista1!A278","v":0},{"$f":"lista1!B278","v":"Marco de chapa y puerta doble chapa muro 15cm de espesor. Incluye herraje"},{"$f":"lista1!C278","v":"u"},{"$f":"lista1!G278","v":1},{"$f":"lista1!H278","v":2930.0490868596885}]
[null,null,null,{"$f":"lista1!A279","v":0},{"$f":"lista1!B279","v":"Marco de chapa muro 15cm espesor. Incluye juego de pomelas"},{"$f":"lista1!C279","v":"u"},{"$f":"lista1!G279","v":0},{"$f":"lista1!H279","v":0}]
[null,null,null,{"$f":"lista1!A280","v":0},{"$f":"lista1!B280","v":"Marco chapa y puerta simple chapa muro 15cm de espesor. Incluye herrajes"},{"$f":"lista1!C280","v":"u"},{"$f":"lista1!G280","v":0},{"$f":"lista1!H280","v":0}]
[null,null,null,{"$f":"lista1!A281","v":0},{"$f":"lista1!B281","v":"Marco placard con baulera 2x2 m p/muro 10cm espesor hojas corredizas o de abrir. Incluye herrajes."},{"$f":"lista1!C281","v":"u"},{"$f":"lista1!G281","v":0},{"$f":"lista1!H281","v":0}]
[null,null,null,{"$f":"lista1!A282","v":0},{"$f":"lista1!B282","v":"Baranda pasamanos, dos travesaños, parantes planchuela"},{"$f":"lista1!C282","v":"ml"},{"$f":"lista1!G282","v":0},{"$f":"lista1!H282","v":0}]
[null,null,null,{"$f":"lista1!A283","v":0},{"$f":"lista1!B283","v":"Baranda pasamanos, travesaños y malla artística"},{"$f":"lista1!C283","v":"ml"},{"$f":"lista1!G283","v":0},{"$f":"lista1!H283","v":0}]
[null,null,null,{"$f":"lista1!A284","v":0},{"$f":"lista1!B284","v":"Baranda pasamanos, travesaños y vidrio laminado"},{"$f":"lista1!C284","v":"ml"},{"$f":"lista1!G284","v":0},{"$f":"lista1!H284","v":0}]
[null,null,null,{"$f":"lista1!A285","v":0},{"$f":"lista1!B285","v":"Reja de hierro redondo y planchuela"},{"$f":"lista1!C285","v":"m2"},{"$f":"lista1!G285","v":0},{"$f":"lista1!H285","v":0}]
[null,null,null,{"$f":"lista1!A286","v":0},{"$f":"lista1!B286","v":"Puerta doble chapa F60 DDN 16"},{"$f":"lista1!C286","v":"u"},{"$f":"lista1!G286","v":0},{"$f":"lista1!H286","v":0}]
[null,null,null,{"$f":"lista1!A287","v":0},{"$f":"lista1!B287","v":"Puerta doble chapa DDN 16"},{"$f":"lista1!C287","v":"u"},{"$f":"lista1!G287","v":0},{"$f":"lista1!H287","v":0}]
[null,null,null,{"$f":"lista1!A288","v":0},{"$f":"lista1!B288","v":"Escalera caracol diámetro 1,4 (por piso)"},{"$f":"lista1!C288","v":"u"},{"$f":"lista1!G288","v":0},{"$f":"lista1!H288","v":0}]
[null,null,null,{"$f":"lista1!A289","v":0},{"$f":"lista1!B289","v":"Escalera gato sin guarda hombre"},{"$f":"lista1!C289","v":"ml"},{"$f":"lista1!G289","v":0},{"$f":"lista1!H289","v":0}]
[null,null,null,{"$f":"lista1!A290","v":0},{"$f":"lista1!B290","v":"Escalera metálica con peldaños de madera"},{"$f":"lista1!C290","v":"ml"},{"$f":"lista1!G290","v":0},{"$f":"lista1!H290","v":0}]
[null,null,null,{"$f":"lista1!A291","v":0},{"$f":"lista1!B291","v":"Pasamanos de hierro"},{"$f":"lista1!C291","v":"ml"},{"$f":"lista1!G291","v":0},{"$f":"lista1!H291","v":0}]
[null,null,null,{"$f":"lista1!A292","v":0},{"$f":"lista1!B292","v":0},{"$f":"lista1!C292","v":0},{"$f":"lista1!G292","v":0},{"$f":"lista1!H292","v":0}]
[null,null,null,{"$f":"lista1!A293","v":25},{"$f":"lista1!B293","v":"Carpinterías de madera"},{"$f":"lista1!C293","v":0},{"$f":"lista1!G293","v":0},{"$f":"lista1!H293","v":0},{"$f":"SUM(H300:H312)","v":0}]
[null,null,null,{"$f":"lista1!A294","v":0},{"$f":"lista1!B294","v":"No incluyen los vidrios"},{"$f":"lista1!C294","v":0},{"$f":"lista1!G294","v":0},{"$f":"lista1!H294","v":0}]
[null,null,null,{"$f":"lista1!A295","v":0},{"$f":"lista1!B295","v":"Ventana 1.50x1.50 incluyen herrajes. No incluye vidrios ni pintura"},{"$f":"lista1!C295","v":"m2"},{"$f":"lista1!G295","v":0},{"$f":"lista1!H295","v":0}]
[null,null,null,{"$f":"lista1!A296","v":0},{"$f":"lista1!B296","v":"Ventana vidrio repartido 1.50x1.50 incluye herrajes. No incluye vidrios ni pintura"},{"$f":"lista1!C296","v":"m2"},{"$f":"lista1!G296","v":0},{"$f":"lista1!H296","v":0}]
[null,null,null,{"$f":"lista1!A297","v":0},{"$f":"lista1!B297","v":"Mueble de cocina bajomesada. Incluye herrajes"},{"$f":"lista1!C297","v":"ml"},{"$f":"lista1!G297","v":0},{"$f":"lista1!H297","v":0}]
[null,null,null,{"$f":"lista1!A298","v":0},{"$f":"lista1!B298","v":"Alacena. Incluye herrajes"},{"$f":"lista1!C298","v":"ml"},{"$f":"lista1!G298","v":0},{"$f":"lista1!H298","v":0}]
[null,null,null,{"$f":"lista1!A299","v":0},{"$f":"lista1!B299","v":"Escobero (ml de alzada) Incluye herrajes"},{"$f":"lista1!C299","v":"ml"},{"$f":"lista1!G299","v":0},{"$f":"lista1!H299","v":0}]
[null,null,null,{"$f":"lista1!A300","v":0},{"$f":"lista1!B300","v":"Colocación muebles de cocina"},{"$f":"lista1!C300","v":"ml"},{"$f":"lista1!G300","v":0},{"$f":"lista1!H300","v":0}]
[null,null,null,{"$f":"lista1!A301","v":0},{"$f":"lista1!B301","v":"Puerta de acceso (entablonado ambas caras) en cedro nacional. Incluye herrajes"},{"$f":"lista1!C301","v":"m2"},{"$f":"lista1!G301","v":0},{"$f":"lista1!H301","v":0}]
[null,null,null,{"$f":"lista1!A302","v":0},{"$f":"lista1!B302","v":"Baranda pasamanos y malla artística"},{"$f":"lista1!C302","v":"ml"},{"$f":"lista1!G302","v":0},{"$f":"lista1!H302","v":0}]
[null,null,null,{"$f":"lista1!A303","v":0},{"$f":"lista1!B303","v":"Baranda pasamanos y travesaños"},{"$f":"lista1!C303","v":"ml"},{"$f":"lista1!G303","v":0},{"$f":"lista1!H303","v":0}]
[null,null,null,{"$f":"lista1!A304","v":0},{"$f":"lista1!B304","v":"Pasamanos"},{"$f":"lista1!C304","v":"ml"},{"$f":"lista1!G304","v":0},{"$f":"lista1!H304","v":0}]
[null,null,null,{"$f":"lista1!A305","v":0},{"$f":"lista1!B305","v":"Escalera de madera con baranda"},{"$f":"lista1!C305","v":"u"},{"$f":"lista1!G305","v":0},{"$f":"lista1!H305","v":0}]
[null,null,null,{"$f":"lista1!A306","v":0},{"$f":"lista1!B306","v":"Puerta placa"},{"$f":"lista1!C306","v":"u"},{"$f":"lista1!G306","v":0},{"$f":"lista1!H306","v":0}]
[null,null,null,{"$f":"lista1!A307","v":0},{"$f":"lista1!B307","v":0},{"$f":"lista1!C307","v":0},{"$f":"lista1!G307","v":0},{"$f":"lista1!H307","v":0}]
[null,null,null,{"$f":"lista1!A308","v":26},{"$f":"lista1!B308","v":"Carpinterías de Aluminio y accesorios de fachadas"},{"$f":"lista1!C308","v":"Unid."},{"$f":"lista1!G308","v":"Cantid."},{"$f":"lista1!H308","v":"Parcial"},{"$f":"SUM(H315:H319)","v":14581.271893095767}]
[null,null,null,{"$f":"lista1!A309","v":0},{"$f":"lista1!B309","v":"Incluyen los vidrios"}]
[null,null,null,{"$f":"lista1!A310","v":0},{"$f":"lista1!B310","v":"Premarco"},{"$f":"lista1!C310","v":"m2"},{"$f":"lista1!G310","v":4},{"$f":"lista1!H310","v":2968.0729621380847}]
[null,null,null,{"$f":"lista1!A311","v":0},{"$f":"lista1!B311","v":"Aluminio 1.50x1.50m hojas de abrir. Incluye herrajes"},{"$f":"lista1!C311","v":"m2"},{"$f":"lista1!G311","v":4},{"$f":"lista1!H311","v":7191.8180846325167}]
[null,null,null,{"$f":"lista1!A312","v":0},{"$f":"lista1!B312","v":"Baranda"},{"$f":"lista1!C312","v":"ml"},{"$f":"lista1!G312","v":0},{"$f":"lista1!H312","v":0}]
[null,null,null,{"$f":"lista1!A313","v":0},{"$f":"lista1!B313","v":"Baranda vidrio laminado"},{"$f":"lista1!C313","v":"ml"},{"$f":"lista1!G313","v":0},{"$f":"lista1!H313","v":0}]
[null,null,null,{"$f":"lista1!A314","v":0},{"$f":"lista1!B314","v":"puerta de aluminio de 0,80*2,00 de abrir comun, izquierdo, con marco y herrajes"},{"$f":"lista1!C314","v":"u"},{"$f":"lista1!G314","v":2},{"$f":"lista1!H314","v":4421.3808463251671}]
[null,null,null,{"$f":"lista1!A315","v":27},{"$f":"lista1!B315","v":"Cristales"},{"$f":"lista1!C315","v":0},{"$f":"lista1!G315","v":0},{"$f":"lista1!H315","v":0},{"$f":"SUM(H322:H326)","v":0}]
[null,null,null,{"$f":"lista1!A316","v":0},{"$f":"lista1!B316","v":"Se considera la mano de obra y materiales"},{"$f":"lista1!C316","v":0},{"$f":"lista1!G316","v":0},{"$f":"lista1!H316","v":0}]
[null,null,null,{"$f":"lista1!A317","v":0},{"$f":"lista1!B317","v":"Espejo float 6 mm"},{"$f":"lista1!C317","v":"m2"},{"$f":"lista1!G317","v":0},{"$f":"lista1!H317","v":0}]
[null,null,null,{"$f":"lista1!A318","v":0},{"$f":"lista1!B318","v":"Vidrio de 4 mm"},{"$f":"lista1!C318","v":"m2"},{"$f":"lista1!G318","v":0},{"$f":"lista1!H318","v":0}]
[null,null,null,{"$f":"lista1!A319","v":0},{"$f":"lista1!B319","v":"Vidrio de 6 mm"},{"$f":"lista1!C319","v":"m2"},{"$f":"lista1!G319","v":0},{"$f":"lista1!H319","v":0}]
[null,null,null,{"$f":"lista1!A320","v":0},{"$f":"lista1!B320","v":"Laminado de seguridad 3 + 3 mm"},{"$f":"lista1!C320","v":"m2"},{"$f":"lista1!G320","v":0},{"$f":"lista1!H320","v":0}]
[null,null,null,{"$f":"lista1!A321","v":0},{"$f":"lista1!B321","v":0},{"$f":"lista1!C321","v":0},{"$f":"lista1!G321","v":0},{"$f":"lista1!H321","v":0}]
[null,null,null,{"$f":"lista1!A322","v":28},{"$f":"lista1!B322","v":"Limpieza y ayuda de gremios"},{"$f":"lista1!C322","v":0},{"$f":"lista1!G322","v":0},{"$f":"lista1!H322","v":0},{"$f":"SUM(H328:H331)","v":0}]
[null,null,null,{"$f":"lista1!A323","v":0},{"$f":"lista1!B323","v":"Limpieza periódica"},{"$f":"lista1!C323","v":"mes"},{"$f":"lista1!G323","v":0},{"$f":"lista1!H323","v":0}]
[null,null,null,{"$f":"lista1!A324","v":0},{"$f":"lista1!B324","v":"Limpieza final"},{"$f":"lista1!C324","v":"m2"},{"$f":"lista1!G324","v":0},{"$f":"lista1!H324","v":0}]
[null,null,null,{"$f":"lista1!A325","v":0},{"$f":"lista1!B325","v":"Ayuda de gremios"},{"$f":"lista1!C325","v":"m2"},{"$f":"lista1!G325","v":0},{"$f":"lista1!H325","v":0}]
[null,null,null,{"$f":"lista1!A326","v":0},{"$f":"lista1!B326","v":0},{"$f":"lista1!C326","v":0},{"$f":"lista1!G326","v":0},{"$f":"lista1!H326","v":0}]
[null,null,null,{"$f":"lista1!A327","v":29},{"$f":"lista1!B327","v":"Instalación sanitaria"},{"$f":"lista1!C327","v":0},{"$f":"lista1!G327","v":0},{"$f":"lista1!H327","v":0},{"$f":"SUM(H334:H336)","v":52723.573857461022}]
[null,null,null,{"$f":"lista1!A328","v":0},{"$f":"lista1!B328","v":"Distribución de agua fría y caliente de polipropileno, desagües en PVC aprobado cloacal. Núcleo baño/cocina/lavadero propiedad horizontal incluye la parte proporcional de la montante, bajada, tanque e instalación general"},{"$f":"lista1!C328","v":0},{"$f":"lista1!G328","v":0},{"$f":"lista1!H328","v":0}]
[null,null,null,{"$f":"lista1!A329","v":0},{"$f":"lista1!B329","v":"Baño principal (bañera-bidet-lavaratorio-inodoro) cloaca agua fría y caliente, ventilaciones, colocación de artefactos y griferías"},{"$f":"lista1!C329","v":"gl"},{"$f":"lista1!G329","v":0.7},{"$f":"lista1!H329","v":39458.502828507793}]
[null,null,null,{"$f":"lista1!A330","v":0},{"$f":"lista1!B330","v":"Cocina y lavadero (pileta de cocina y de lavar) Cloaca. Incluye la instalación de artefactos y broncería. Artefactos no incluídos"},{"$f":"lista1!C330","v":"gl"},{"$f":"lista1!G330","v":0.7},{"$f":"lista1!H330","v":11607.053211581291}]
[null,null,null,{"$f":"lista1!A331","v":0},{"$f":"lista1!B331","v":"Construcción de cámara de inspección 60*60 con tapas y marcos prefabricados"},{"$f":"lista1!C331","v":"gl"},{"$f":"lista1!G331","v":1},{"$f":"lista1!H331","v":1658.0178173719378}]
[null,null,null,{"$f":"lista1!A332","v":30},{"$f":"lista1!B332","v":"Instalación de Gas "},{"$f":"lista1!C332","v":"Unid."},{"$f":"lista1!G332","v":"Cantid."},{"$f":"lista1!H332","v":"Parcial"},{"$f":"SUM(H339:H345)","v":77086.111848552348}]
[null,null,null,{"$f":"lista1!A333","v":0},{"$f":"lista1!B333","v":0}]
[null,null,null,{"$f":"lista1!A334","v":0},{"$f":"lista1!B334","v":"Cocina y calefon completa (cañería conexiones llaves medidor) (artefactos no incluidos)"},{"$f":"lista1!C334","v":"gl"},{"$f":"lista1!G334","v":1},{"$f":"lista1!H334","v":29556.267750556795}]
[null,null,null,{"$f":"lista1!A335","v":0},{"$f":"lista1!B335","v":"calefactores (precios aprox. Que incluya: artefacto,3 m cañ de gas y total cañ ventil. Sombrer., llav paso,gramp, etc. )"},{"$f":"lista1!C335","v":"ud"},{"$f":"lista1!G335","v":2},{"$f":"lista1!H335","v":17685.523385300668}]
[null,null,null,{"$f":"lista1!A336","v":0},{"$f":"lista1!B336","v":"cocina (precios aprox. Que incluya artefacto, total cañ ventil., Sombrer., sell., grampas, etc.)"},{"$f":"lista1!C336","v":"ud"},{"$f":"lista1!G336","v":1},{"$f":"lista1!H336","v":6632.0712694877511}]
[null,null,null,{"$f":"lista1!A337","v":0},{"$f":"lista1!B337","v":"calefon (precios aprox. Que incluya artefacto, total cañ ventil., Sombrer., sell., grampas, etc.)"},{"$f":"lista1!C337","v":"ud"},{"$f":"lista1!G337","v":1},{"$f":"lista1!H337","v":6632.0712694877511}]
[null,null,null,{"$f":"lista1!A338","v":0},{"$f":"lista1!B338","v":"planos de gas y cálculos varios todo referido a consumo de gas viv. Unifamiliar"},{"$f":"lista1!C338","v":"gl"},{"$f":"lista1!G338","v":1},{"$f":"lista1!H338","v":4974.0534521158133}]
[null,null,null,{"$f":"lista1!A339","v":0},{"$f":"lista1!B339","v":"tramit(etap parc. cañ.$2700 + aranceles por soldadura de servicio $1700 + etap fnal tasa mun3500 + apro final 2600"},{"$f":"lista1!C339","v":"gl"},{"$f":"lista1!G339","v":1},{"$f":"lista1!H339","v":11606.124721603564}]
[null,null,null,{"$f":"lista1!A340","v":0},{"$f":"lista1!B340","v":0},{"$f":"lista1!C340","v":0},{"$f":"lista1!G340","v":0},{"$f":"lista1!H340","v":0}]
[null,null,null,{"$f":"lista1!A341","v":31},{"$f":"lista1!B341","v":"Instalación termomecánica "},{"$f":"lista1!C341","v":0},{"$f":"lista1!G341","v":0},{"$f":"lista1!H341","v":0},{"$f":"SUM(H348:H350)","v":0}]
[null,null,null,{"$f":"lista1!A342","v":0},{"$f":"lista1!B342","v":"Materiales: caño de polietileno reticulado. Recordar aislación térmica y tapado de caños con concreto"},{"$f":"lista1!C342","v":0},{"$f":"lista1!G342","v":0},{"$f":"lista1!H342","v":0}]
[null,null,null,{"$f":"lista1!A343","v":0},{"$f":"lista1!B343","v":"Piso radiante conexiones a provisión de calor"},{"$f":"lista1!C343","v":"m2"},{"$f":"lista1!G343","v":0},{"$f":"lista1!H343","v":0}]
[null,null,null,{"$f":"lista1!A344","v":0},{"$f":"lista1!B344","v":"Cañería y radiadores con conexiones a provisión de calor. No incluye caldera"},{"$f":"lista1!C344","v":"m2"},{"$f":"lista1!G344","v":0},{"$f":"lista1!H344","v":0}]
[null,null,null,{"$f":"lista1!A345","v":0},{"$f":"lista1!B345","v":0},{"$f":"lista1!C345","v":0},{"$f":"lista1!G345","v":0},{"$f":"lista1!H345","v":0}]
[null,null,null,{"$f":"lista1!A346","v":32},{"$f":"lista1!B346","v":"Instalación eléctrica"},{"$f":"lista1!C346","v":0},{"$f":"lista1!G346","v":0},{"$f":"lista1!H346","v":0},{"$f":"SUM(H352:H362)","v":52183.347438752782}]
[null,null,null,{"$f":"lista1!A347","v":0},{"$f":"lista1!B347","v":"Boca de aluminio y toma - Nota: se considera boca a cada centro y brazo, y a caja de toma. Para una cantidad aproximada de 40 bocas. Incluye incidencia de tablero general y tablero seccional"},{"$f":"lista1!C347","v":"u"},{"$f":"lista1!G347","v":50},{"$f":"lista1!H347","v":44843.855233853006}]
[null,null,null,{"$f":"lista1!A348","v":0},{"$f":"lista1!B348","v":"Pilar completo (caja de medición, toma Jabalina, cruceta y pipeta"},{"$f":"lista1!C348","v":"gl"},{"$f":"lista1!G348","v":1},{"$f":"lista1!H348","v":2780.1642761692651}]
[null,null,null,{"$f":"lista1!A349","v":0},{"$f":"lista1!B349","v":"Boca timbre. Campanillas, caja, cables y 2 pulsadores"},{"$f":"lista1!C349","v":"u"},{"$f":"lista1!G349","v":1},{"$f":"lista1!H349","v":1728.6493763919825}]
[null,null,null,{"$f":"lista1!A350","v":0},{"$f":"lista1!B350","v":"Boca TE"},{"$f":"lista1!C350","v":"u"},{"$f":"lista1!G350","v":2},{"$f":"lista1!H350","v":1359.3535412026727}]
[null,null,null,{"$f":"lista1!A351","v":0},{"$f":"lista1!B351","v":"Boca TV o cable TV (vacía) Cañería de 1\""},{"$f":"lista1!C351","v":"u"},{"$f":"lista1!G351","v":3},{"$f":"lista1!H351","v":1471.3250111358575}]
[null,null,null,{"$f":"lista1!A352","v":0},{"$f":"lista1!B352","v":"Boca de teléfono. Considera la insidencia de la caja de pase, sin bornera ni cables de montante"},{"$f":"lista1!C352","v":"u"},{"$f":"lista1!G352","v":0},{"$f":"lista1!H352","v":0}]
[null,null,null,{"$f":"lista1!A353","v":0},{"$f":"lista1!B353","v":"Tablero fuerza motriz ascensor"},{"$f":"lista1!C353","v":"u"},{"$f":"lista1!G353","v":0},{"$f":"lista1!H353","v":0}]
[null,null,null,{"$f":"lista1!A354","v":0},{"$f":"lista1!B354","v":"Tablero de bombas"},{"$f":"lista1!C354","v":"u"},{"$f":"lista1!G354","v":0},{"$f":"lista1!H354","v":0}]
[null,null,null,{"$f":"lista1!A355","v":0},{"$f":"lista1!B355","v":"Instalación de pararrayos altura 40 mts."},{"$f":"lista1!C355","v":"u"},{"$f":"lista1!G355","v":0},{"$f":"lista1!H355","v":0}]
[null,null,null,{"$f":"lista1!A356","v":0},{"$f":"lista1!B356","v":"Colocación de artefactos"},{"$f":"lista1!C356","v":"u"},{"$f":"lista1!G356","v":0},{"$f":"lista1!H356","v":0}]
[null,null,null,{"$f":"lista1!A357","v":0},{"$f":"lista1!B357","v":0},{"$f":"lista1!C357","v":0},{"$f":"lista1!G357","v":0},{"$f":"lista1!H357","v":0}]
[null,null,null,{"$f":"lista1!A358","v":33},{"$f":"lista1!B358","v":"Instalación contra incendio"},{"$f":"lista1!C358","v":0},{"$f":"lista1!G358","v":0},{"$f":"lista1!H358","v":0},{"$f":"SUM(H364:H365)","v":0}]
[null,null,null,{"$f":"lista1!A359","v":0},{"$f":"lista1!B359","v":"Boca de incendio completa. Incluye nicho, válvula, manguera, lanza, llave de ajuste y cañería"},{"$f":"lista1!C359","v":"u"},{"$f":"lista1!G359","v":0},{"$f":"lista1!H359","v":0}]
[null,null,null,{"$f":"lista1!A360","v":0},{"$f":"lista1!B360","v":0},{"$f":"lista1!C360","v":0},{"$f":"lista1!G360","v":0},{"$f":"lista1!H360","v":0}]
[null,null,null,{"$f":"lista1!A361","v":0},{"$f":"lista1!B361","v":0},{"$f":"lista1!C361","v":"Total"},{"$f":"lista1!G361","v":3115.8489448320615},{"$f":"lista1!H361","v":1026371.2379866684}]
[null,null,null,{"$f":"lista1!A362","v":0},{"$f":"lista1!B362","v":0},{"$f":"lista1!C362","v":0},{"$f":"lista1!G362","v":0},{"$f":"lista1!H362","v":0}]
[null,null,null,{"$f":"lista1!A363","v":0},{"$f":"lista1!B363","v":0},{"$f":"lista1!C363","v":0},{"$f":"lista1!G363","v":0},{"$f":"lista1!H363","v":0}]
[null,null,null,{"$f":"lista1!A364","v":0},{"$f":"lista1!B364","v":0},{"$f":"lista1!C364","v":0},{"$f":"lista1!G364","v":0},{"$f":"lista1!H364","v":0}]
[null,null,null,{"$f":"lista1!A365","v":0},{"$f":"lista1!B365","v":0},{"$f":"lista1!C365","v":0},{"$f":"lista1!G365","v":0},{"$f":"lista1!H365","v":0}]
[null,null,null,{"$f":"lista1!A366","v":0},{"$f":"lista1!B366","v":0},{"$f":"lista1!C366","v":0},{"$f":"lista1!G366","v":0},{"$f":"lista1!H366","v":0}]
[null,null,null,{"$f":"lista1!A367","v":0},{"$f":"lista1!B367","v":0},{"$f":"lista1!C367","v":0},{"$f":"lista1!G367","v":0},{"$f":"lista1!H367","v":0}]
[null,null,null,{"$f":"lista1!A368","v":0},{"$f":"lista1!B368","v":0},{"$f":"lista1!C368","v":0},{"$f":"lista1!G368","v":0},{"$f":"lista1!H368","v":0}]
[null,null,null,null,null,{"$f":"lista1!C369","v":0},{"$f":"lista1!G369","v":0},{"$f":"lista1!H369","v":0}]
[null,null,null,null,null,{"$f":"lista1!C370","v":0},{"$f":"lista1!G370","v":0},{"$f":"lista1!H370","v":0}]

{"sheet":"Costos grales.","index":7,"n_rows":53,"n_cols":21,"rows_kept":53,"cut":false,"hidden":false,"merged":[[51,14,51,17],[49,1,49,5],[2,1,3,3],[50,1,50,4],[51,1,51,4],[20,1,20,5],[47,1,47,5],[3,5,3,7],[20,14,20,18],[2,14,3,16],[47,14,47,18],[49,14,49,18],[50,14,50,17],[2,17,2,18],[3,18,3,20]]}
[null,null,null,null,null,null,null,null,null,null,null,null,null,null,"¿SE INCLUIRÁ ESTA TABLA EN CÁLC. DE ESTE LIBRO EXCEL?"]
[null,null,null,null,null,null,null,null,null,null,null,null,null,null,{"$f":"'Cómp.(obra2)'!K5","v":"NO"},"elija SI o NO en Cómp.(obra2)",{"$f":"'Cómp.(obra2)'!M5","v":0}]
[null,"PRESUPUESTO - COSTOS GENERALES",null,null,"obra1 ",null,null,"MES 1 ",null,null,null,null,null,null,"PRESUPUESTO - COSTOS GENERALES",null,null,"obra2",null,null,"MES 1 "]
[null,null,null,null,null,"Costos generales de obra y de empresa",null,null,null,"Referencias:",null,null,null,null,null,null,null,null,"Costos generales de obra y de empresa"]
[null,"N°","DESIGNACIÓN","UNIDAD","CANT.","COST UNIT. [$/un]","TOTAL","% de INCIDENCIA",null,null,"Datos vinculados, vienen de otra celda",null,null,null,"N°","DESIGNACIÓN","UNIDAD","CANT.","COST UNIT. [$/un]","TOTAL","% de INCIDENCIA"]
[null,1,"Gastos Generales de Obra","tiemp. total que dura la obra [meses]",5,null,null,null,null,null,"ingrese datos",null,null,null,1,"Gastos Generales de Obra","tiemp. total que dura la obra [meses]",3]
[null,"1.1","Trabajos preliminares",null,null,null,null,null,null,null,null,null,null,null,"1.1","Trabajos preliminares"]
[null,null,"Postes y alambrados","m",0,250,{"$f":"E8*F8","v":0},{"$f":"G8/$G$50","v":0},null,null,"celda con Fórmula",null,null,null,null,"Postes y alambrados","m",1,250,{"$f":"R8*S8*$Q$2","v":0},{"$f":"T8/$G$50","v":0}]
[null,null,"Obrador","GL",{"$f":"lista1!G5/E6","v":2.6},{"$f":"lista1!F5","v":1326.4142538975502},{"$f":"E9*F9","v":3448.6770601336307},{"$f":"G9/$G$50","v":8.3379567634637539E-2},null,null,null,null,null,null,null,"Obrador","GL",1,{"$f":"lista1!F5","v":1326.4142538975502},{"$f":"R9*S9*$Q$2","v":0},{"$f":"T9/$G$50","v":0}]
[null,"1.2","Personal",null,null,null,0,null,null,null,null,null,null,null,"1.2","Personal",null,null,null,0]
[null,null,"Sereno","$/mes",1,7000,7000,{"$f":"G11/$G$50","v":0.16924083156102965},null,null,null,null,null,null,null,"Sereno","$/mes",{"$f":"1*(2)","v":2},7000,0,{"$f":"T11/$G$50","v":0}]
[null,null,"Capataz","$/mes",1,8500,8500,{"$f":"G12/$G$50","v":0.20550672403839315},null,null,null,null,null,null,null,"Capataz","$/mes",{"$f":"1*(2)","v":2},8500,0,{"$f":"T12/$G$50","v":0}]
[null,"1.3","Servicios",null,null,null,0,null,null,null,null,null,null,null,"1.3","Servicios",null,{"$f":"0*(2)","v":0},null,0]
[null,null,"Agua potable","$/mes",1,200,200,{"$f":"G14/$G$50","v":4.8354523303151334E-3},null,null,null,null,null,null,null,"Agua potable","$/mes",{"$f":"1*(2)","v":2},350,0,{"$f":"T14/$G$50","v":0}]
[null,null,"Electricidad","$/mes",1,400,400,9.6709046606302668E-3,null,null,null,null,null,null,null,"Electricidad","$/mes",{"$f":"1*(2)","v":2},500,0,0]
[null,"1.4","Muebles, útiles, instrumental","GL",0,0,0,0,null,null,null,null,null,null,"1.4","Muebles, útiles, instrumental","GL",{"$f":"0*(2)","v":0},0,0,0]
[null,"1.5","Seguro contra terceros","$/mes",0,0,0,0,null,null,null,null,null,null,"1.5","Seguro contra terceros","$/mes",{"$f":"0*(2)","v":0},0,0,0]
[null,"1.6","Baño químico","$/mes",1,500,500,1.2088630825787833E-2,null,null,null,null,null,null,"1.6","Baño químico","$/mes",{"$f":"1*(2)","v":2},500,0,0]
[null,"1.7","Flete baño químico",null,1,200,200,4.8354523303151334E-3,null,null,null,null,null,null,"1.7","Flete baño químico",null,{"$f":"1*(2)","v":2},200,0,0]
[null,"1.8","Mantenimiento baño químico","$/mes",4,300,1200,2.90127139818908E-2,null,null,null,null,null,null,"1.8","Mantenimiento baño químico","$/mes",{"$f":"4*(2)","v":8},300,0,0]
[null,"TOTAL Gastos Generales de Obra",null,null,null,null,{"$f":"SUM(G7:G20)","v":21448.677060133632},0.51857027736299954,null,null,null,null,null,null,"TOTAL Gastos Generales de Obra",null,null,null,null,{"$f":"SUM(T7:T20)","v":0},0]
[]
[null,"N°","DESIGNACIÓN","UNIDAD","cant.","COST UN. [$/un]","TOTAL","% de INCIDENCIA",null,null,null,null,null,null,"N°","DESIGNACIÓN","UNIDAD","cant.","COST UN. [$/un]","TOTAL","% de INCIDENCIA"]
[null,2,"Gastos Generales de Empresa","CONSIDERAR LOS  GGE?","SI","SI",1,{"$f":"MAX((F24:F25=E24)*(G24:G25))","v":1},null,null,null,null,null,null,2,"Gastos Generales de Empresa","CONSIDERAR LOS  GGE?","SI","SI",1,{"$f":"MAX((S24:S25=R24)*(T24:T25))","v":1}]
[null,"2.1","Personal",null,null,"NO",0,null,null,null,null,null,null,null,"2.1","Personal",null,null,"NO",0]
[null,null,"Director","$/mes",0,10000,{"$f":"E26*F26","v":0},{"$f":"G26/$G$50","v":0},null,null,null,null,null,null,null,"Director","$/mes",1,15000,{"$f":"R26*S26*$Q$2","v":0},{"$f":"T26/$G$50","v":0}]
[null,null,"Ingeniero de obra","$/mes",1,12000,{"$f":"E27*F27","v":12000},{"$f":"G27/$G$50","v":0.29012713981890798},null,null,null,null,null,null,null,"Ingeniero de obra","$/mes",1,20000,{"$f":"R27*S27*$Q$2","v":0},{"$f":"T27/$G$50","v":0}]
[null,null,"Secretaria administrativa","$/mes",0,7500,0,{"$f":"G28/$G$50","v":0},null,null,null,null,null,null,null,"Secretaria administrativa","$/mes",1,7500,0,{"$f":"T28/$G$50","v":0}]
[null,"2.2","Edificio (Oficina)",null,null,null,0,null,null,null,null,null,null,null,"2.2","Edificio (Oficina)",null,null,null,0]
[null,null,"Alquiler ","$/mes",1,2700,2700,{"$f":"G30/$G$50","v":6.5278606459254304E-2},null,null,null,null,null,null,null,"Alquiler ","$/mes",1,8000,0,{"$f":"T30/$G$50","v":0}]
[null,null,"Impuestos","$/mes",1,150,150,{"$f":"G31/$G$50","v":3.62658924773635E-3},null,null,null,null,null,null,null,"Impuestos","$/mes",1,400,0,{"$f":"T31/$G$50","v":0}]
[null,null,"Seguro","$/mes",0,300,0,{"$f":"G32/$G$50","v":0},null,null,null,null,null,null,null,"Seguro","$/mes",1,300,0,{"$f":"T32/$G$50","v":0}]
[null,"2.3","Equipamiento",null,null,null,0,null,null,null,null,null,null,null,"2.3","Equipamiento",null,null,null,0]
[null,null,"muebles","$/mes",{"$f":"SUM(E26:E28)*3","v":3},{"$f":"500/24","v":20.833333333333332},62.5,{"$f":"G34/$G$50","v":1.5110788532234792E-3},null,null,null,null,null,null,null,"muebles","$/mes",{"$f":"SUM(R26:R28)*3","v":9},{"$f":"500/24","v":20.833333333333332},0,{"$f":"T34/$G$50","v":0}]
[null,null,"manten. Computadoras","$/mes",{"$f":"SUM(E26:E28)","v":1},200,200,{"$f":"G35/$G$50","v":4.8354523303151334E-3},null,null,null,null,null,null,null,"manten. Computadoras","$/mes",{"$f":"SUM(R26:R28)","v":3},200,0,{"$f":"T35/$G$50","v":0}]
[null,"2.4","Movilidad",null,null,null,0,null,null,null,null,null,null,null,"2.4","Movilidad",null,null,null,0]
[null,null,"Amortización de auto","$/mes",1,200,200,{"$f":"G37/$G$50","v":4.8354523303151334E-3},null,null,null,null,null,null,null,"Amortización de auto","$/mes",1,250,0,{"$f":"T37/$G$50","v":0}]
[null,null,"Impuestos y seguro","$/mes",1,1300,1300,{"$f":"G38/$G$50","v":3.1430440147048364E-2},null,null,null,null,null,null,null,"Impuestos y seguro","$/mes",1,945,0,{"$f":"T38/$G$50","v":0}]
[null,null,"Gastos de uso","$/mes",1,300,300,{"$f":"G39/$G$50","v":7.2531784954727001E-3},null,null,null,null,null,null,null,"Gastos de uso","$/mes",1,300,0,{"$f":"T39/$G$50","v":0}]
[null,null,"Combustible y aceite","$/mes",1,1600,1600,{"$f":"G40/$G$50","v":3.8683618642521067E-2},null,null,null,null,null,null,null,"Combustible y aceite","$/mes",1,1600,0,{"$f":"T40/$G$50","v":0}]
[null,"2.5","Consumos administrativos",null,null,null,0,null,null,null,null,null,null,null,"2.5","Consumos administrativos",null,null,null,0]
[null,null,"Servicio eléctrico","$/mes",1,350,350,{"$f":"G42/$G$50","v":8.4620415780514834E-3},null,null,null,null,null,null,null,"Servicio eléctrico","$/mes",1,350,{"$f":"R42*S42*$Q$2","v":0},{"$f":"T42/$G$50","v":0}]
[null,null,"Servicio de gas","$/mes",1,350,350,{"$f":"G43/$G$50","v":8.4620415780514834E-3},null,null,null,null,null,null,null,"Servicio de gas","$/mes",1,350,0,{"$f":"T43/$G$50","v":0}]
[null,null,"Servicio de agua potable","$/mes",1,150,150,{"$f":"G44/$G$50","v":3.62658924773635E-3},null,null,null,null,null,null,null,"Servicio de agua potable","$/mes",1,350,0,{"$f":"T44/$G$50","v":0}]
[null,null,"Servicio de teléfono e Internet","$/mes",1,350,350,{"$f":"G45/$G$50","v":8.4620415780514834E-3},null,null,null,null,null,null,null,"Servicio de teléfono e Internet","$/mes",1,350,0,{"$f":"T45/$G$50","v":0}]
[null,null,"Papelería y útiles (20días/mes)","$/mes",{"$f":"20*SUM(E26:E28)","v":20},10,200,{"$f":"G46/$G$50","v":4.8354523303151334E-3},null,null,null,null,null,null,null,"Papelería y útiles (20días/mes)","$/mes",{"$f":"20*SUM(R26:R28)","v":60},10,0,{"$f":"T46/$G$50","v":0}]
[null,null,null,null,null,null,null,null,null,null,null,null,null,null,null,null,null,null,null,0]
[null,"TOTAL Gastos Generales de Empresa",null,null,null,null,{"$f":"H24*SUM(G26:G47)","v":19912.5},{"$f":"G48/$G$50","v":0.48142972263700046},null,null,null,null,null,null,"TOTAL Gastos Generales de Empresa",null,null,null,null,{"$f":"U24*SUM(T26:T47)","v":0},{"$f":"T48/$G$50","v":0}]
[null,null,null,null,null,null,null,{"$f":"H48+H21","v":1},null,null,null,null,null,null,null,null,null,null,null,null,{"$f":"U48+U21","v":0}]
[null,"TOTAL Gastos Generales",null,null,null,null,{"$f":"G21+G48","v":41361.177060133632},",---> por mes",null,null,null,null,null,null,"TOTAL Gastos Generales",null,null,null,null,{"$f":"T21+T48","v":0},",---> por mes"]
[null,"Total de gastos generales de obra (para el plazo de ejecución de la obra)",null,null,null,{"$f":"G21*E6","v":107243.38530066816},null,null,null,null,null,null,null,null,"Total de gastos generales de obra (para el plazo de ejecución de la obra)",null,null,null,{"$f":"T21*R6","v":0}]
[null,"Total de gastos generales de empresa (para el plazo de ejecución de la obra)",null,null,null,{"$f":"G48*E6","v":99562.5},null,null,null,null,null,null,null,null,"Total de gastos generales de empresa (para el plazo de ejecución de la obra)",null,null,null,{"$f":"T48*R6","v":0}]
[null,"TOTAL DE GASTOS GRALES * PLAZO DE OBRA = Tot. De Cost. Indir.",null,null,null,{"$f":"SUM(F51:F52)","v":206805.88530066816},{"$f":"G50*E6","v":206805.88530066816},"suma de todos los meses",null,null,null,null,null,null,"TOTAL DE GASTOS GRALES * PLAZO DE OBRA = Tot. De Cost. Indir.",null,null,null,{"$f":"SUM(S51:S52)","v":0},{"$f":"T50*R6","v":0},"suma de todos los meses"]

{"sheet":"Incidencia GG","index":8,"n_rows":58,"n_cols":19,"rows_kept":58,"cut":false,"hidden":false,"merged":[[4,1,6,1],[7,1,10,1],[3,11,3,16],[3,9,3,10],[3,7,3,8]]}
[]
[]
[]
[null,null,null,null,null,null,null,null,null,"CD ",null,"PRECIO DE OBRA SIN COSTO FINANCIERO"]
[null,"Costos directos:","de cómp.(obra1): ",{"$f":"lista1!H361","v":1026371.2379866684},"Impacto de GGO (%)","Impacto GGE (%)",null,"Item","RUBRO",{"$f":"'Costos grales.'!E3","v":"obra1 "},{"$f":"'Costos grales.'!R3","v":"obra2"},"CDTR","%","GGOR","GGER","CTOR","Imprevisto (I)","Beneficio (B)","CUTO con I y B"]
[null,null,"de cómp.(obra2):",{"$f":"'Cómp.(obra2)'!M354","v":0},{"$f":"(D8/D7)","v":0.10448790976551231},{"$f":"(D10/D9)","v":8.782746619065443E-2},null,{"$f":"'Cómp. (obra1)'!L13","v":1},{"$f":"'Cómp. (obra1)'!M13","v":"Trabajos preliminares"},{"$f":"'Cómp. (obra1)'!N13","v":26768.468854225532},{"$f":"'Cómp. (obra1)'!O13","v":0},{"$f":"'Cómp. (obra1)'!P13","v":26768.468854225532},{"$f":"IF(L6=0,0,L6/$L$58)","v":2.6080688802946797E-2},{"$f":"L6*$E$6","v":2796.9813582012439},{"$f":"(L6+N6)*$F$6","v":2596.6585789433893},{"$f":"O6+N6+L6","v":32162.108791370163},{"$f":"P6*$B$13","v":160.81054395685081},{"$f":"(P6+Q6)*$B$14","v":6464.583867065403},{"$f":"P6+Q6+R6","v":38787.503202392414}]
[null,null,"costos directos",{"$f":"SUM(D5:D6)","v":1026371.2379866684},null,null,null,{"$f":"'Cómp. (obra1)'!L14","v":2},{"$f":"'Cómp. (obra1)'!M14","v":"Procedimientos y cumplimientos"},{"$f":"'Cómp. (obra1)'!N14","v":2960.4647431896756},{"$f":"'Cómp. (obra1)'!O14","v":0},{"$f":"'Cómp. (obra1)'!P14","v":2960.4647431896756},2.8843995560484817E-3,{"$f":"L7*$E$6","v":309.3327729503834},287.17803079907685,{"$f":"O7+N7+L7","v":3556.9755469391357},{"$f":"P7*$B$13","v":17.78487773469568},{"$f":"(P7+Q7)*$B$14","v":714.95208493476639},{"$f":"P7+Q7+R7","v":4289.7125096085983}]
[null,"Costos Indirectos","Gastos generales de obra",{"$f":"'Costos grales.'!F51+'Costos grales.'!S51","v":107243.38530066816},null,null,null,{"$f":"'Cómp. (obra1)'!L15","v":3},{"$f":"'Cómp. (obra1)'!M15","v":"Demoliciones"},{"$f":"'Cómp. (obra1)'!N15","v":43809.913225849225},{"$f":"'Cómp. (obra1)'!O15","v":0},{"$f":"'Cómp. (obra1)'!P15","v":43809.913225849225},4.2684276024518034E-2,4577.6062599774577,4249.7532316910756,52637.272717517757,263.1863635875888,10580.091816221069,63480.550897326408]
[null,null,"Gasto total de obra (CD + GGO)",{"$f":"D8+D7","v":1133614.6232873364},null,null,null,{"$f":"'Cómp. (obra1)'!L16","v":4},{"$f":"'Cómp. (obra1)'!M16","v":"Movimientos de tierra"},{"$f":"'Cómp. (obra1)'!N16","v":15186.861054206209},{"$f":"'Cómp. (obra1)'!O16","v":0},{"$f":"'Cómp. (obra1)'!P16","v":15186.861054206209},1.4796654945238713E-2,1586.8433674532714,1473.1919579853288,18246.896379644808,91.234481898224047,3667.6261723086063,22005.757033851638]
[null,null,"Gastos generales de empresa",{"$f":"('Costos grales.'!F52)+'Costos grales.'!S52","v":99562.5},null,null,null,{"$f":"'Cómp. (obra1)'!L17","v":5},{"$f":"'Cómp. (obra1)'!M17","v":"Estructuras de hormigón armado"},{"$f":"'Cómp. (obra1)'!N17","v":165321.81303711733},{"$f":"'Cómp. (obra1)'!O17","v":0},{"$f":"'Cómp. (obra1)'!P17","v":165321.81303711733},0.16107408987942118,17274.130682893214,16036.939073619866,198632.88279363042,993.16441396815208,39925.209441519721,239551.2566491183]
[null,null,"Total costos indirectos",{"$f":"D10+D8","v":206805.88530066816},null,null,null,{"$f":"'Cómp. (obra1)'!L18","v":6},{"$f":"'Cómp. (obra1)'!M18","v":"Estructuras metálicas"},{"$f":"'Cómp. (obra1)'!N18","v":0},{"$f":"'Cómp. (obra1)'!O18","v":0},{"$f":"'Cómp. (obra1)'!P18","v":0},0,0,0,0,0,0,0]
[null,null,"Costo total de Obra",{"$f":"D11+D7","v":1233177.1232873364},null,null,null,{"$f":"'Cómp. (obra1)'!L19","v":7},{"$f":"'Cómp. (obra1)'!M19","v":"Mampostería"},{"$f":"'Cómp. (obra1)'!N19","v":104436.37509303412},{"$f":"'Cómp. (obra1)'!O19","v":0},{"$f":"'Cómp. (obra1)'!P19","v":104436.37509303412},0.101753021935705,10912.338536958147,10130.785246473626,125479.49887646589,627.39749438232946,25221.379274169645,151328.27564501786]
[null,{"$f":"MAX((E19:E27=C13)*(F19:F27))","v":5.0000000000000001E-3},"Imprevisto (0,5%)",{"$f":"D12*B13","v":6165.8856164366825},null,null,null,{"$f":"'Cómp. (obra1)'!L20","v":8},{"$f":"'Cómp. (obra1)'!M20","v":"Construcción con placas de roca de yeso"},{"$f":"'Cómp. (obra1)'!N20","v":0},{"$f":"'Cómp. (obra1)'!O20","v":0},{"$f":"'Cómp. (obra1)'!P20","v":0},0,0,0,0,0,0,0]
[null,{"$f":"MAX((B19:B27=C14)*(C19:C27))","v":0.2},"Beneficio (20%)",{"$f":"B14*(D13+D12)","v":247868.60178075463},null,null,null,{"$f":"'Cómp. (obra1)'!L21","v":9},{"$f":"'Cómp. (obra1)'!M21","v":"Aislaciones"},{"$f":"'Cómp. (obra1)'!N21","v":14211.242996751676},{"$f":"'Cómp. (obra1)'!O21","v":0},{"$f":"'Cómp. (obra1)'!P21","v":14211.242996751676},1.3846104090590538E-2,1484.9030759003579,1378.5527385194198,17074.698811171453,85.373494055857265,3432.0144610454622,20592.086766272772]
[null,null,"Precio Total de obra",{"$f":"D14+D13+D12","v":1487211.6106845278},null,null,null,{"$f":"'Cómp. (obra1)'!L22","v":10},{"$f":"'Cómp. (obra1)'!M22","v":"Cubiertas "},{"$f":"'Cómp. (obra1)'!N22","v":107063.8974688196},{"$f":"'Cómp. (obra1)'!O22","v":0},{"$f":"'Cómp. (obra1)'!P22","v":107063.8974688196},0.10431303363375262,11186.882857866085,10385.666411160491,128636.44673784618,643.18223368923088,25855.925794307084,155135.55476584251]
[null,null,null,null,null,null,null,{"$f":"'Cómp. (obra1)'!L23","v":11},{"$f":"'Cómp. (obra1)'!M23","v":"Contrapiso"},{"$f":"'Cómp. (obra1)'!N23","v":47368.536649888651},{"$f":"'Cómp. (obra1)'!O23","v":0},{"$f":"'Cómp. (obra1)'!P23","v":47368.536649888651},4.6151465373101136E-2,4949.4393831979278,4594.95527120938,56912.931304295955,284.56465652147978,11439.499192163486,68636.995152980919]
[null,"Nota: el % de beneficios que elija, Incidirá sobre mater., mano de obra e imprevistos.",null,null,null,null,null,{"$f":"'Cómp. (obra1)'!L24","v":12},{"$f":"'Cómp. (obra1)'!M24","v":"Carpetas"},{"$f":"'Cómp. (obra1)'!N24","v":17572.481941202674},{"$f":"'Cómp. (obra1)'!O24","v":0},{"$f":"'Cómp. (obra1)'!P24","v":17572.481941202674},1.7120980490132297E-2,1836.1119074284795,1704.6076200487962,21113.201468679948,105.56600734339975,4243.7534952046699,25462.520971228019]
[null,null,null,null,null,null,null,{"$f":"'Cómp. (obra1)'!L25","v":13},{"$f":"'Cómp. (obra1)'!M25","v":"Revoques"},{"$f":"'Cómp. (obra1)'!N25","v":91992.34512171286},{"$f":"'Cómp. (obra1)'!O25","v":0},{"$f":"'Cómp. (obra1)'!P25","v":91992.34512171286},8.9628724692407832E-2,9612.0878561953996,8923.6599021878519,110528.09288009611,552.6404644004806,22216.146668899321,133296.88001339592]
[null,"Beneficio (0%)",0,null,"Imprevisto (0,0%)",0,null,{"$f":"'Cómp. (obra1)'!L26","v":14},{"$f":"'Cómp. (obra1)'!M26","v":"Revestimientos"},{"$f":"'Cómp. (obra1)'!N26","v":10199.483406904234},{"$f":"'Cómp. (obra1)'!O26","v":0},{"$f":"'Cómp. (obra1)'!P26","v":10199.483406904234},9.9374213047040989E-3,1065.7227018754497,989.39450864960133,12254.600617429285,61.273003087146428,2463.1747241032863,14779.048344619718]
[null,"Beneficio (5%)",0.05,null,"Imprevisto (0,5%)",5.0000000000000001E-3,null,{"$f":"'Cómp. (obra1)'!L27","v":15},{"$f":"'Cómp. (obra1)'!M27","v":"Cielorrasos"},{"$f":"'Cómp. (obra1)'!N27","v":24382.367884187082},{"$f":"'Cómp. (obra1)'!O27","v":0},{"$f":"'Cómp. (obra1)'!P27","v":24382.367884187082},2.3755895510103722E-2,2547.6626553524652,2365.196346724701,29295.226886264249,146.47613443132124,5888.3406041391145,35330.043624834689]
[null,"Beneficio (10%)",0.1,null,"Imprevisto (1,0%)",0.01,null,{"$f":"'Cómp. (obra1)'!L28","v":16},{"$f":"'Cómp. (obra1)'!M28","v":"Yeseria"},{"$f":"'Cómp. (obra1)'!N28","v":0},{"$f":"'Cómp. (obra1)'!O28","v":0},{"$f":"'Cómp. (obra1)'!P28","v":0},0,0,0,0,0,0,0]
[null,"Beneficio (15%)",0.15,null,"Imprevisto (1,5%)",1.4999999999999999E-2,null,{"$f":"'Cómp. (obra1)'!L29","v":17},{"$f":"'Cómp. (obra1)'!M29","v":"Solados"},{"$f":"'Cómp. (obra1)'!N29","v":53447.415525000004},{"$f":"'Cómp. (obra1)'!O29","v":0},{"$f":"'Cómp. (obra1)'!P29","v":53447.415525000004},5.2074155575367223E-2,5584.608730576042,5184.6331144724973,64216.657370048546,321.08328685024276,12907.548131379757,77445.288788278544]
[null,"Beneficio (20%)",0.2,null,"Imprevisto (2,0%)",0.02,null,{"$f":"'Cómp. (obra1)'!L30","v":18},{"$f":"'Cómp. (obra1)'!M30","v":"Pisos especiales"},{"$f":"'Cómp. (obra1)'!N30","v":0},{"$f":"'Cómp. (obra1)'!O30","v":0},{"$f":"'Cómp. (obra1)'!P30","v":0},0,0,0,0,0,0,0]
[null,"Beneficio (25%)",0.25,null,"Imprevisto (2,5%)",2.5000000000000001E-2,null,{"$f":"'Cómp. (obra1)'!L31","v":19},{"$f":"'Cómp. (obra1)'!M31","v":"Escaleras"},{"$f":"'Cómp. (obra1)'!N31","v":0},{"$f":"'Cómp. (obra1)'!O31","v":0},{"$f":"'Cómp. (obra1)'!P31","v":0},0,0,0,0,0,0,0]
[null,"Beneficio (30%)",0.3,null,"Imprevisto (3,0%)",0.03,null,{"$f":"'Cómp. (obra1)'!L32","v":20},{"$f":"'Cómp. (obra1)'!M32","v":"Zócalos"},{"$f":"'Cómp. (obra1)'!N32","v":18167.599803118039},{"$f":"'Cómp. (obra1)'!O32","v":0},{"$f":"'Cómp. (obra1)'!P32","v":18167.599803118039},1.7700807593513283E-2,1898.2945288841368,1762.3366560291654,21828.230988031341,109.14115494015671,4387.4744285942998,26324.846571565795]
[null,"Beneficio (35%)",0.35,null,"Imprevisto (4,0%)",0.04,null,{"$f":"'Cómp. (obra1)'!L33","v":21},{"$f":"'Cómp. (obra1)'!M33","v":"Marmoleria"},{"$f":"'Cómp. (obra1)'!N33","v":11917.633109131402},{"$f":"'Cómp. (obra1)'!O33","v":0},{"$f":"'Cómp. (obra1)'!P33","v":11917.633109131402},1.1611425445347687E-2,1245.2485729254038,1156.0625459024286,14318.944227959235,71.594721139796178,2878.1077898198064,17268.646738918836]
[null,"Beneficio (40%)",0.4,null,"Imprevisto (5,0%)",0.05,null,{"$f":"'Cómp. (obra1)'!L34","v":22},{"$f":"'Cómp. (obra1)'!M34","v":"Pinturas"},{"$f":"'Cómp. (obra1)'!N34","v":69089.921364089096},{"$f":"'Cómp. (obra1)'!O34","v":0},{"$f":"'Cómp. (obra1)'!P34","v":69089.921364089096},6.7314748121367896E-2,7219.0614691972823,6702.0246098336893,83011.007443120063,415.05503721560035,16685.212496067132,100111.2749764028]
[null,null,null,null,null,null,null,{"$f":"'Cómp. (obra1)'!L35","v":23},{"$f":"'Cómp. (obra1)'!M35","v":"Artefactos Sanitarios - Accesorios Griferías"},{"$f":"'Cómp. (obra1)'!N35","v":2970.0625835189312},{"$f":"'Cómp. (obra1)'!O35","v":0},{"$f":"'Cómp. (obra1)'!P35","v":2970.0625835189312},2.8937507926907738E-3,310.33563122465046,288.1090632972751,3568.5072780408568,17.842536390204284,717.26996288621228,4303.6197773172735]
[null,null,null,null,null,null,null,{"$f":"'Cómp. (obra1)'!L36","v":24},{"$f":"'Cómp. (obra1)'!M36","v":"Carpinterías Metálicas"},{"$f":"'Cómp. (obra1)'!N36","v":2930.0490868596885},{"$f":"'Cómp. (obra1)'!O36","v":0},{"$f":"'Cómp. (obra1)'!P36","v":2930.0490868596885},2.8547653893802394E-3,306.15470459631689,284.22757908017002,3520.4313705361756,17.602156852680878,707.60670547777136,4245.6402328666281]
[null,null,null,null,null,null,null,{"$f":"'Cómp. (obra1)'!L37","v":25},{"$f":"'Cómp. (obra1)'!M37","v":"Carpinterías de madera"},{"$f":"'Cómp. (obra1)'!N37","v":0},{"$f":"'Cómp. (obra1)'!O37","v":0},{"$f":"'Cómp. (obra1)'!P37","v":0},0,0,0,0,0,0,0]
[null,null,null,null,null,null,null,{"$f":"'Cómp. (obra1)'!L38","v":26},{"$f":"'Cómp. (obra1)'!M38","v":"Carpinterías de Aluminio y accesorios de fachadas"},{"$f":"'Cómp. (obra1)'!N38","v":14581.271893095767},{"$f":"'Cómp. (obra1)'!O38","v":0},{"$f":"'Cómp. (obra1)'!P38","v":14581.271893095767},1.4206625588708451E-2,1523.5666218321915,1414.4471601757846,17519.285675103743,87.596428375518713,3521.3764206958531,21128.258524175115]
[null,null,null,null,null,null,null,{"$f":"'Cómp. (obra1)'!L39","v":27},{"$f":"'Cómp. (obra1)'!M39","v":"Cristales"},{"$f":"'Cómp. (obra1)'!N39","v":0},{"$f":"'Cómp. (obra1)'!O39","v":0},{"$f":"'Cómp. (obra1)'!P39","v":0},0,0,0,0,0,0,0]
[null,null,null,null,null,null,null,{"$f":"'Cómp. (obra1)'!L40","v":28},{"$f":"'Cómp. (obra1)'!M40","v":"Limpieza y ayuda de gremios"},{"$f":"'Cómp. (obra1)'!N40","v":0},{"$f":"'Cómp. (obra1)'!O40","v":0},{"$f":"'Cómp. (obra1)'!P40","v":0},0,0,0,0,0,0,0]
[null,null,null,null,null,null,null,{"$f":"'Cómp. (obra1)'!L41","v":29},{"$f":"'Cómp. (obra1)'!M41","v":"Instalación sanitaria"},{"$f":"'Cómp. (obra1)'!N41","v":52723.573857461022},{"$f":"'Cómp. (obra1)'!O41","v":0},{"$f":"'Cómp. (obra1)'!P41","v":52723.573857461022},5.1368912052605548E-2,5508.9760277337109,5114.4173062375376,63346.967191432268,316.73483595716135,12732.740405477887,76396.442432867319]
[null,null,null,null,null,null,null,{"$f":"'Cómp. (obra1)'!L42","v":30},{"$f":"'Cómp. (obra1)'!M42","v":"Instalación de Gas "},{"$f":"'Cómp. (obra1)'!N42","v":77086.111848552348},{"$f":"'Cómp. (obra1)'!O42","v":0},{"$f":"'Cómp. (obra1)'!P42","v":77086.111848552348},7.5105487172228869E-2,8054.5666990057271,7477.6900665850335,92618.36861414311,463.09184307071558,18616.292091442763,111697.75254865659]
[null,null,null,null,null,null,null,{"$f":"'Cómp. (obra1)'!L43","v":31},{"$f":"'Cómp. (obra1)'!M43","v":"Instalación termomecánica "},{"$f":"'Cómp. (obra1)'!N43","v":0},{"$f":"'Cómp. (obra1)'!O43","v":0},{"$f":"'Cómp. (obra1)'!P43","v":0},0,0,0,0,0,0,0]
[null,null,null,null,null,null,null,{"$f":"'Cómp. (obra1)'!L44","v":32},{"$f":"'Cómp. (obra1)'!M44","v":"Instalación eléctrica"},{"$f":"'Cómp. (obra1)'!N44","v":52183.347438752782},{"$f":"'Cómp. (obra1)'!O44","v":0},{"$f":"'Cómp. (obra1)'!P44","v":52183.347438752782},5.0842566030119621E-2,5452.5288984427789,5062.0129803737827,62697.889317569345,313.48944658784671,12602.27575283144,75613.654516988638]
[null,null,null,null,null,null,null,{"$f":"'Cómp. (obra1)'!L45","v":33},{"$f":"'Cómp. (obra1)'!M45","v":"Instalación contra incendio"},{"$f":"'Cómp. (obra1)'!N45","v":0},{"$f":"'Cómp. (obra1)'!O45","v":0},{"$f":"'Cómp. (obra1)'!P45","v":0},{"$f":"IF(L38=0,0,L38/$L$58)","v":0},{"$f":"L38*$E$6","v":0},{"$f":"(L38+N38)*$F$6","v":0},{"$f":"O38+N38+L38","v":0},0,{"$f":"(P38+Q38)*$B$14","v":0},{"$f":"P38+Q38+R38","v":0}]
[null,null,null,null,null,null,null,{"$f":"'Cómp. (obra1)'!L46","v":0},{"$f":"'Cómp. (obra1)'!M46","v":0},{"$f":"'Cómp. (obra1)'!N46","v":0},{"$f":"'Cómp. (obra1)'!O46","v":0},{"$f":"'Cómp. (obra1)'!P46","v":0},0,0,0,0,0,0,0]
[null,null,null,null,null,null,null,{"$f":"'Cómp. (obra1)'!L47","v":0},{"$f":"'Cómp. (obra1)'!M47","v":0},{"$f":"'Cómp. (obra1)'!N47","v":0},{"$f":"'Cómp. (obra1)'!O47","v":0},{"$f":"'Cómp. (obra1)'!P47","v":0},0,0,0,0,0,0,0]
[null,null,null,null,null,null,null,{"$f":"'Cómp. (obra1)'!L48","v":0},{"$f":"'Cómp. (obra1)'!M48","v":0},{"$f":"'Cómp. (obra1)'!N48","v":0},{"$f":"'Cómp. (obra1)'!O48","v":0},{"$f":"'Cómp. (obra1)'!P48","v":0},0,0,0,0,0,0,0]
[null,null,null,null,null,null,null,{"$f":"'Cómp. (obra1)'!L49","v":0},{"$f":"'Cómp. (obra1)'!M49","v":0},{"$f":"'Cómp. (obra1)'!N49","v":0},{"$f":"'Cómp. (obra1)'!O49","v":0},{"$f":"'Cómp. (obra1)'!P49","v":0},0,0,0,0,0,0,0]
[null,null,null,null,null,null,null,{"$f":"'Cómp. (obra1)'!L50","v":0},{"$f":"'Cómp. (obra1)'!M50","v":0},{"$f":"'Cómp. (obra1)'!N50","v":0},{"$f":"'Cómp. (obra1)'!O50","v":0},{"$f":"'Cómp. (obra1)'!P50","v":0},0,0,0,0,0,0,0]
[null,null,null,null,null,null,null,{"$f":"'Cómp. (obra1)'!L51","v":0},{"$f":"'Cómp. (obra1)'!M51","v":0},{"$f":"'Cómp. (obra1)'!N51","v":0},{"$f":"'Cómp. (obra1)'!O51","v":0},{"$f":"'Cómp. (obra1)'!P51","v":0},0,0,0,0,0,0,0]
[null,null,null,null,null,null,null,{"$f":"'Cómp. (obra1)'!L52","v":0},{"$f":"'Cómp. (obra1)'!M52","v":0},{"$f":"'Cómp. (obra1)'!N52","v":0},{"$f":"'Cómp. (obra1)'!O52","v":0},{"$f":"'Cómp. (obra1)'!P52","v":0},0,0,0,0,0,0,0]
[null,null,null,null,null,null,null,{"$f":"'Cómp. (obra1)'!L53","v":0},{"$f":"'Cómp. (obra1)'!M53","v":0},{"$f":"'Cómp. (obra1)'!N53","v":0},{"$f":"'Cómp. (obra1)'!O53","v":0},{"$f":"'Cómp. (obra1)'!P53","v":0},0,0,0,0,0,0,0]
[null,null,null,null,null,null,null,{"$f":"'Cómp. (obra1)'!L54","v":0},{"$f":"'Cómp. (obra1)'!M54","v":0},{"$f":"'Cómp. (obra1)'!N54","v":0},{"$f":"'Cómp. (obra1)'!O54","v":0},{"$f":"'Cómp. (obra1)'!P54","v":0},0,0,0,0,0,0,0]
[null,null,null,null,null,null,null,{"$f":"'Cómp. (obra1)'!L55","v":0},{"$f":"'Cómp. (obra1)'!M55","v":0},{"$f":"'Cómp. (obra1)'!N55","v":0},{"$f":"'Cómp. (obra1)'!O55","v":0},{"$f":"'Cómp. (obra1)'!P55","v":0},0,0,0,0,0,0,0]
[null,null,null,null,null,null,null,{"$f":"'Cómp. (obra1)'!L56","v":0},{"$f":"'Cómp. (obra1)'!M56","v":0},{"$f":"'Cómp. (obra1)'!N56","v":0},{"$f":"'Cómp. (obra1)'!O56","v":0},{"$f":"'Cómp. (obra1)'!P56","v":0},0,0,0,0,0,0,0]
[null,null,null,null,null,null,null,{"$f":"'Cómp. (obra1)'!L57","v":0},{"$f":"'Cómp. (obra1)'!M57","v":0},{"$f":"'Cómp. (obra1)'!N57","v":0},{"$f":"'Cómp. (obra1)'!O57","v":0},{"$f":"'Cómp. (obra1)'!P57","v":0},0,0,0,0,0,0,0]
[null,null,null,null,null,null,null,{"$f":"'Cómp. (obra1)'!L58","v":0},{"$f":"'Cómp. (obra1)'!M58","v":0},{"$f":"'Cómp. (obra1)'!N58","v":0},{"$f":"'Cómp. (obra1)'!O58","v":0},{"$f":"'Cómp. (obra1)'!P58","v":0},0,0,0,0,0,0,0]
[null,null,null,null,null,null,null,{"$f":"'Cómp. (obra1)'!L59","v":0},{"$f":"'Cómp. (obra1)'!M59","v":0},{"$f":"'Cómp. (obra1)'!N59","v":0},{"$f":"'Cómp. (obra1)'!O59","v":0},{"$f":"'Cómp. (obra1)'!P59","v":0},0,0,0,0,0,0,0]
[null,null,null,null,null,null,null,{"$f":"'Cómp. (obra1)'!L60","v":0},{"$f":"'Cómp. (obra1)'!M60","v":0},{"$f":"'Cómp. (obra1)'!N60","v":0},{"$f":"'Cómp. (obra1)'!O60","v":0},{"$f":"'Cómp. (obra1)'!P60","v":0},0,0,0,0,0,0,0]
[null,null,null,null,null,null,null,{"$f":"'Cómp. (obra1)'!L61","v":0},{"$f":"'Cómp. (obra1)'!M61","v":0},{"$f":"'Cómp. (obra1)'!N61","v":0},{"$f":"'Cómp. (obra1)'!O61","v":0},{"$f":"'Cómp. (obra1)'!P61","v":0},0,0,0,0,0,0,0]
[null,null,null,null,null,null,null,{"$f":"'Cómp. (obra1)'!L62","v":0},{"$f":"'Cómp. (obra1)'!M62","v":0},{"$f":"'Cómp. (obra1)'!N62","v":0},{"$f":"'Cómp. (obra1)'!O62","v":0},{"$f":"'Cómp. (obra1)'!P62","v":0},0,0,0,0,0,0,0]
[null,null,null,null,null,null,null,{"$f":"'Cómp. (obra1)'!L63","v":0},{"$f":"'Cómp. (obra1)'!M63","v":0},{"$f":"'Cómp. (obra1)'!N63","v":0},{"$f":"'Cómp. (obra1)'!O63","v":0},{"$f":"'Cómp. (obra1)'!P63","v":0},0,0,0,0,0,0,0]
[null,null,null,null,null,null,null,{"$f":"'Cómp. (obra1)'!L64","v":0},{"$f":"'Cómp. (obra1)'!M64","v":0},{"$f":"'Cómp. (obra1)'!N64","v":0},{"$f":"'Cómp. (obra1)'!O64","v":0},{"$f":"'Cómp. (obra1)'!P64","v":0},0,0,0,0,0,0,0]
[null,null,null,null,null,null,null,null,null,null,null,{"$f":"SUM(L6:L57)","v":1026371.2379866679},{"$f":"SUM(M6:M57)","v":0.99999999999999989},107243.3853006681,99562.499999999971,1233177.1232873364,6165.8856164366798,247868.60178075451,1487211.6106845271]

{"sheet":"Diagrama de GANTT","index":9,"n_rows":60,"n_cols":16,"rows_kept":60,"cut":false,"hidden":false,"merged":[[3,15,4,15],[2,4,2,15],[3,2,4,2],[3,1,4,1],[3,14,4,14],[3,10,4,11],[3,12,4,13]]}
[null,null,null,{"$f":"MAX((G1:G2=D5)*(H1:H2))","v":3},null,null,"obra1",3]
[null,null,null,null,null,null,"obra2",4]
[null,"Grafico de Gantt",null,null,"Mes"]
[null,"Item","Tarea",null,1,null,2,null,3,null,4,null,5,null,"TOTALES","%TOTALES"]
[null,null,null,"obra1"]
[null,{"$f":"'Incidencia GG'!H6","v":1},{"$f":"'Incidencia GG'!I6","v":"Trabajos preliminares"},{"$f":"VLOOKUP(B4:B57,'Incidencia GG'!H5:K57,$D$1,FALSE)","v":26768.468854225532},1,{"$f":"D6*E6","v":26768.468854225532},null,{"$f":"G6*D6","v":0},null,{"$f":"I6*D6","v":0},null,{"$f":"K6*D6","v":0},null,{"$f":"M6*D6","v":0},{"$f":"F6+H6+J6+L6+N6","v":26768.468854225532},{"$f":"E6+G6+I6+K6+M6","v":1}]
[null,{"$f":"'Incidencia GG'!H7","v":2},{"$f":"'Incidencia GG'!I7","v":"Procedimientos y cumplimientos"},{"$f":"VLOOKUP(B5:B58,'Incidencia GG'!H6:K58,$D$1,FALSE)","v":2960.4647431896756},1,{"$f":"D7*E7","v":2960.4647431896756},null,0,null,0,null,0,null,0,{"$f":"F7+H7+J7+L7+N7","v":2960.4647431896756},{"$f":"E7+G7+I7+K7+M7","v":1}]
[null,{"$f":"'Incidencia GG'!H8","v":3},{"$f":"'Incidencia GG'!I8","v":"Demoliciones"},{"$f":"VLOOKUP(B6:B59,'Incidencia GG'!H7:K59,$D$1,FALSE)","v":43809.913225849225},1,43809.913225849225,null,0,null,0,null,0,null,0,43809.913225849225,{"$f":"E8+G8+I8+K8+M8","v":1}]
[null,{"$f":"'Incidencia GG'!H9","v":4},{"$f":"'Incidencia GG'!I9","v":"Movimientos de tierra"},{"$f":"VLOOKUP(B7:B60,'Incidencia GG'!H8:K60,$D$1,FALSE)","v":15186.861054206209},0.36599999999999999,5558.3911458394723,0,0,0,0,0.63400000000000001,9628.4699083667365,null,0,15186.861054206209,1]
[null,{"$f":"'Incidencia GG'!H10","v":5},{"$f":"'Incidencia GG'!I10","v":"Estructuras de hormigón armado"},{"$f":"VLOOKUP(B8:B61,'Incidencia GG'!H9:K61,$D$1,FALSE)","v":165321.81303711733},null,0,{"$f":"1-I10","v":0.6122223486797036},101213.70866557081,{"$f":"lista1!K59","v":0.38777765132029635},64108.104371546506,0,0,null,0,165321.8130371173,1]
[null,{"$f":"'Incidencia GG'!H11","v":6},{"$f":"'Incidencia GG'!I11","v":"Estructuras metálicas"},{"$f":"VLOOKUP(B9:B62,'Incidencia GG'!H10:K62,$D$1,FALSE)","v":0},null,0,0,0,null,0,null,0,null,0,0,0]
[null,{"$f":"'Incidencia GG'!H12","v":7},{"$f":"'Incidencia GG'!I12","v":"Mampostería"},{"$f":"VLOOKUP(B10:B63,'Incidencia GG'!H11:K63,$D$1,FALSE)","v":104436.37509303412},0.15,15665.456263955117,0.7,73105.462565123875,0.15,15665.456263955117,null,0,null,0,104436.3750930341,1]
[null,{"$f":"'Incidencia GG'!H13","v":8},{"$f":"'Incidencia GG'!I13","v":"Construcción con placas de roca de yeso"},{"$f":"VLOOKUP(B11:B64,'Incidencia GG'!H12:K64,$D$1,FALSE)","v":0},null,0,null,0,0,0,0,0,null,0,0,0]
[null,{"$f":"'Incidencia GG'!H14","v":9},{"$f":"'Incidencia GG'!I14","v":"Aislaciones"},{"$f":"VLOOKUP(B12:B65,'Incidencia GG'!H13:K65,$D$1,FALSE)","v":14211.242996751676},0.8,11368.994397401342,0.2,2842.2485993503356,0,0,null,0,null,0,14211.242996751678,1]
[null,{"$f":"'Incidencia GG'!H15","v":10},{"$f":"'Incidencia GG'!I15","v":"Cubiertas "},{"$f":"VLOOKUP(B13:B66,'Incidencia GG'!H14:K66,$D$1,FALSE)","v":107063.8974688196},null,0,null,0,0.5,53531.948734409802,0.5,53531.948734409802,null,0,107063.8974688196,1]
[null,{"$f":"'Incidencia GG'!H16","v":11},{"$f":"'Incidencia GG'!I16","v":"Contrapiso"},{"$f":"VLOOKUP(B14:B67,'Incidencia GG'!H15:K67,$D$1,FALSE)","v":47368.536649888651},null,0,null,0,0.1,4736.8536649888656,0.6,28421.121989933188,0.3,14210.560994966594,47368.536649888651,1]
[null,{"$f":"'Incidencia GG'!H17","v":12},{"$f":"'Incidencia GG'!I17","v":"Carpetas"},{"$f":"VLOOKUP(B15:B68,'Incidencia GG'!H16:K68,$D$1,FALSE)","v":17572.481941202674},0,0,null,0,0,0,0.6,10543.489164721605,0.4,7028.99277648107,{"$f":"F17+H17+J17+L17+N17","v":17572.481941202674},1]
[null,{"$f":"'Incidencia GG'!H18","v":13},{"$f":"'Incidencia GG'!I18","v":"Revoques"},{"$f":"VLOOKUP(B16:B69,'Incidencia GG'!H17:K69,$D$1,FALSE)","v":91992.34512171286},null,0,null,0,0.6,55195.407073027716,0.3,27597.703536513858,0.1,9199.234512171286,91992.34512171286,0.99999999999999989]
[null,{"$f":"'Incidencia GG'!H19","v":14},{"$f":"'Incidencia GG'!I19","v":"Revestimientos"},{"$f":"VLOOKUP(B17:B70,'Incidencia GG'!H18:K70,$D$1,FALSE)","v":10199.483406904234},0,0,null,0,null,0,null,0,1,10199.483406904234,10199.483406904234,1]
[null,{"$f":"'Incidencia GG'!H20","v":15},{"$f":"'Incidencia GG'!I20","v":"Cielorrasos"},{"$f":"VLOOKUP(B18:B71,'Incidencia GG'!H19:K71,$D$1,FALSE)","v":24382.367884187082},null,0,null,0,0.7,17067.657518930955,0.3,7314.7103652561245,null,0,24382.367884187079,1]
[null,{"$f":"'Incidencia GG'!H21","v":16},{"$f":"'Incidencia GG'!I21","v":"Yeseria"},{"$f":"VLOOKUP(B19:B72,'Incidencia GG'!H20:K72,$D$1,FALSE)","v":0},null,0,null,0,null,0,null,0,null,0,0,0]
[null,{"$f":"'Incidencia GG'!H22","v":17},{"$f":"'Incidencia GG'!I22","v":"Solados"},{"$f":"VLOOKUP(B20:B73,'Incidencia GG'!H21:K73,$D$1,FALSE)","v":53447.415525000004},null,0,null,0,null,0,null,0,1,53447.415525000004,53447.415525000004,1]
[null,{"$f":"'Incidencia GG'!H23","v":18},{"$f":"'Incidencia GG'!I23","v":"Pisos especiales"},{"$f":"VLOOKUP(B21:B74,'Incidencia GG'!H22:K74,$D$1,FALSE)","v":0},null,0,null,0,null,0,null,0,null,0,0,0]
[null,{"$f":"'Incidencia GG'!H24","v":19},{"$f":"'Incidencia GG'!I24","v":"Escaleras"},{"$f":"VLOOKUP(B22:B75,'Incidencia GG'!H23:K75,$D$1,FALSE)","v":0},null,0,null,0,null,0,null,0,null,0,{"$f":"F24+H24+J24+L24+N24","v":0},0]
[null,{"$f":"'Incidencia GG'!H25","v":20},{"$f":"'Incidencia GG'!I25","v":"Zócalos"},{"$f":"VLOOKUP(B23:B76,'Incidencia GG'!H24:K76,$D$1,FALSE)","v":18167.599803118039},null,0,null,0,null,0,null,0,1,18167.599803118039,18167.599803118039,1]
[null,{"$f":"'Incidencia GG'!H26","v":21},{"$f":"'Incidencia GG'!I26","v":"Marmoleria"},{"$f":"VLOOKUP(B24:B77,'Incidencia GG'!H25:K77,$D$1,FALSE)","v":11917.633109131402},null,0,null,0,null,0,null,0,null,0,0,0]
[null,{"$f":"'Incidencia GG'!H27","v":22},{"$f":"'Incidencia GG'!I27","v":"Pinturas"},{"$f":"VLOOKUP(B25:B78,'Incidencia GG'!H26:K78,$D$1,FALSE)","v":69089.921364089096},null,0,null,0,null,0,null,0,1,69089.921364089096,69089.921364089096,1]
[null,{"$f":"'Incidencia GG'!H28","v":23},{"$f":"'Incidencia GG'!I28","v":"Artefactos Sanitarios - Accesorios Griferías"},{"$f":"VLOOKUP(B26:B79,'Incidencia GG'!H27:K79,$D$1,FALSE)","v":2970.0625835189312},null,0,null,0,null,0,null,0,1,2970.0625835189312,2970.0625835189312,1]
[null,{"$f":"'Incidencia GG'!H29","v":24},{"$f":"'Incidencia GG'!I29","v":"Carpinterías Metálicas"},{"$f":"VLOOKUP(B27:B80,'Incidencia GG'!H28:K80,$D$1,FALSE)","v":2930.0490868596885},null,0,null,0,null,0,null,0,1,2930.0490868596885,2930.0490868596885,1]
[null,{"$f":"'Incidencia GG'!H30","v":25},{"$f":"'Incidencia GG'!I30","v":"Carpinterías de madera"},{"$f":"VLOOKUP(B28:B81,'Incidencia GG'!H29:K81,$D$1,FALSE)","v":0},null,0,null,0,null,0,null,0,null,0,0,0]
[null,{"$f":"'Incidencia GG'!H31","v":26},{"$f":"'Incidencia GG'!I31","v":"Carpinterías de Aluminio y accesorios de fachadas"},{"$f":"VLOOKUP(B29:B82,'Incidencia GG'!H30:K82,$D$1,FALSE)","v":14581.271893095767},null,0,null,0,null,0,0.25,3645.3179732739418,0.75,10935.953919821826,14581.271893095767,1]
[null,{"$f":"'Incidencia GG'!H32","v":27},{"$f":"'Incidencia GG'!I32","v":"Cristales"},{"$f":"VLOOKUP(B30:B83,'Incidencia GG'!H31:K83,$D$1,FALSE)","v":0},null,0,null,0,null,0,null,0,null,0,0,0]
[null,{"$f":"'Incidencia GG'!H33","v":28},{"$f":"'Incidencia GG'!I33","v":"Limpieza y ayuda de gremios"},{"$f":"VLOOKUP(B31:B84,'Incidencia GG'!H32:K84,$D$1,FALSE)","v":0},null,0,null,0,null,0,null,0,null,0,0,0]
[null,{"$f":"'Incidencia GG'!H34","v":29},{"$f":"'Incidencia GG'!I34","v":"Instalación sanitaria"},{"$f":"VLOOKUP(B32:B85,'Incidencia GG'!H33:K85,$D$1,FALSE)","v":52723.573857461022},null,0,0.5,26361.786928730511,0.4,21089.42954298441,0.1,5272.3573857461024,null,0,52723.573857461022,1]
[null,{"$f":"'Incidencia GG'!H35","v":30},{"$f":"'Incidencia GG'!I35","v":"Instalación de Gas "},{"$f":"VLOOKUP(B33:B86,'Incidencia GG'!H34:K86,$D$1,FALSE)","v":77086.111848552348},null,0,null,0,0.75,57814.583886414257,0.1,7708.6111848552355,0.15,11562.916777282851,77086.111848552348,1]
[null,{"$f":"'Incidencia GG'!H36","v":31},{"$f":"'Incidencia GG'!I36","v":"Instalación termomecánica "},{"$f":"VLOOKUP(B34:B87,'Incidencia GG'!H35:K87,$D$1,FALSE)","v":0},null,0,null,0,null,0,null,0,null,0,0,0]
[null,{"$f":"'Incidencia GG'!H37","v":32},{"$f":"'Incidencia GG'!I37","v":"Instalación eléctrica"},{"$f":"VLOOKUP(B35:B88,'Incidencia GG'!H36:K88,$D$1,FALSE)","v":52183.347438752782},null,0,0.05,2609.1673719376395,0.6,31310.008463251666,0.3,15655.004231625833,0.05,2609.1673719376395,52183.347438752782,1]
[null,{"$f":"'Incidencia GG'!H38","v":33},{"$f":"'Incidencia GG'!I38","v":"Instalación contra incendio"},{"$f":"VLOOKUP(B36:B89,'Incidencia GG'!H37:K89,$D$1,FALSE)","v":0},null,0,null,0,null,0,null,0,null,0,0,0]
[null,{"$f":"'Incidencia GG'!H39","v":0},{"$f":"'Incidencia GG'!I39","v":0},{"$f":"VLOOKUP(B37:B90,'Incidencia GG'!H38:K90,$D$1,FALSE)","v":0},null,0,0,0,null,0,null,0,null,0,0,0]
[null,{"$f":"'Incidencia GG'!H40","v":0},{"$f":"'Incidencia GG'!I40","v":0},{"$f":"VLOOKUP(B38:B91,'Incidencia GG'!H39:K91,$D$1,FALSE)","v":0},null,0,0,0,null,0,null,0,null,0,0,0]
[null,{"$f":"'Incidencia GG'!H41","v":0},{"$f":"'Incidencia GG'!I41","v":0},{"$f":"VLOOKUP(B39:B92,'Incidencia GG'!H40:K92,$D$1,FALSE)","v":0},null,0,0,0,null,0,null,0,null,0,{"$f":"F41+H41+J41+L41+N41","v":0},0]
[null,{"$f":"'Incidencia GG'!H42","v":0},{"$f":"'Incidencia GG'!I42","v":0},{"$f":"VLOOKUP(B40:B93,'Incidencia GG'!H41:K93,$D$1,FALSE)","v":0},null,0,0,0,null,0,null,0,null,0,0,0]
[null,{"$f":"'Incidencia GG'!H43","v":0},{"$f":"'Incidencia GG'!I43","v":0},{"$f":"VLOOKUP(B41:B94,'Incidencia GG'!H42:K94,$D$1,FALSE)","v":0},null,0,0,0,null,0,null,0,null,0,0,0]
[null,{"$f":"'Incidencia GG'!H44","v":0},{"$f":"'Incidencia GG'!I44","v":0},{"$f":"VLOOKUP(B42:B95,'Incidencia GG'!H43:K95,$D$1,FALSE)","v":0},null,0,0,0,null,0,null,0,null,0,0,0]
[null,{"$f":"'Incidencia GG'!H45","v":0},{"$f":"'Incidencia GG'!I45","v":0},{"$f":"VLOOKUP(B43:B96,'Incidencia GG'!H44:K96,$D$1,FALSE)","v":0},null,0,0,0,null,0,null,0,null,0,0,0]
[null,{"$f":"'Incidencia GG'!H46","v":0},{"$f":"'Incidencia GG'!I46","v":0},{"$f":"VLOOKUP(B44:B97,'Incidencia GG'!H45:K97,$D$1,FALSE)","v":0},null,0,0,0,null,0,null,0,null,0,0,0]
[null,{"$f":"'Incidencia GG'!H47","v":0},{"$f":"'Incidencia GG'!I47","v":0},{"$f":"VLOOKUP(B45:B98,'Incidencia GG'!H46:K98,$D$1,FALSE)","v":0},null,0,0,0,null,0,null,0,null,0,0,0]
[null,{"$f":"'Incidencia GG'!H48","v":0},{"$f":"'Incidencia GG'!I48","v":0},{"$f":"VLOOKUP(B46:B99,'Incidencia GG'!H47:K99,$D$1,FALSE)","v":0},null,0,0,0,null,0,null,0,null,0,0,0]
[null,{"$f":"'Incidencia GG'!H49","v":0},{"$f":"'Incidencia GG'!I49","v":0},{"$f":"VLOOKUP(B47:B100,'Incidencia GG'!H48:K100,$D$1,FALSE)","v":0},null,0,0,0,null,0,null,0,null,0,0,0]
[null,{"$f":"'Incidencia GG'!H50","v":0},{"$f":"'Incidencia GG'!I50","v":0},{"$f":"VLOOKUP(B48:B101,'Incidencia GG'!H49:K101,$D$1,FALSE)","v":0},null,0,0,0,null,0,null,0,null,0,0,0]
[null,{"$f":"'Incidencia GG'!H51","v":0},{"$f":"'Incidencia GG'!I51","v":0},{"$f":"VLOOKUP(B49:B102,'Incidencia GG'!H50:K102,$D$1,FALSE)","v":0},null,0,0,0,null,0,null,0,null,0,0,0]
[null,{"$f":"'Incidencia GG'!H52","v":0},{"$f":"'Incidencia GG'!I52","v":0},{"$f":"VLOOKUP(B50:B103,'Incidencia GG'!H51:K103,$D$1,FALSE)","v":0},null,0,0,0,null,0,null,0,null,0,0,0]
[null,{"$f":"'Incidencia GG'!H53","v":0},{"$f":"'Incidencia GG'!I53","v":0},{"$f":"VLOOKUP(B51:B104,'Incidencia GG'!H52:K104,$D$1,FALSE)","v":0},null,0,0,0,null,0,null,0,null,0,0,0]
[null,{"$f":"'Incidencia GG'!H54","v":0},{"$f":"'Incidencia GG'!I54","v":0},{"$f":"VLOOKUP(B52:B105,'Incidencia GG'!H53:K105,$D$1,FALSE)","v":0},null,0,0,0,null,0,null,0,null,0,0,0]
[null,{"$f":"'Incidencia GG'!H55","v":0},{"$f":"'Incidencia GG'!I55","v":0},{"$f":"VLOOKUP(B53:B106,'Incidencia GG'!H54:K106,$D$1,FALSE)","v":0},null,0,0,0,null,0,null,0,null,0,0,0]
[null,{"$f":"'Incidencia GG'!H56","v":0},{"$f":"'Incidencia GG'!I56","v":0},{"$f":"VLOOKUP(B54:B107,'Incidencia GG'!H55:K107,$D$1,FALSE)","v":0},null,0,0,0,null,0,null,0,null,0,0,0]
[null,{"$f":"'Incidencia GG'!H57","v":0},{"$f":"'Incidencia GG'!I57","v":0},{"$f":"VLOOKUP(B55:B108,'Incidencia GG'!H56:K108,$D$1,FALSE)","v":0},null,0,0,0,null,0,null,0,null,0,0,0]
[null,"Egresos",null,null,null,{"$f":"SUM(F6:F57)","v":106131.68863046037},null,{"$f":"SUM(H6:H57)","v":206132.37413071317},null,{"$f":"SUM(J6:J57)","v":320519.44951950933},null,{"$f":"SUM(L6:L57)","v":169318.73447470245},null,{"$f":"SUM(N6:N57)","v":212351.35812215126},{"$f":"SUM(O6:O57)","v":1014453.6048775364}]
[null,"Acumulado",null,null,null,{"$f":"F58","v":106131.68863046037},null,{"$f":"H58+F59","v":312264.06276117353},null,{"$f":"J58+H59","v":632783.5122806828},null,{"$f":"L58+J59","v":802102.24675538531},null,{"$f":"N58+L59","v":1014453.6048775365}]
[null,"%",null,null,null,{"$f":"IF($O$58=0,0,(F58/$O$58))","v":0.10461955886417541},null,{"$f":"IF($O$58=0,0,(H58/$O$58))","v":0.20319546713582551},null,{"$f":"IF($O$58=0,0,(J58/$O$58))","v":0.31595279269395671},null,{"$f":"IF($O$58=0,0,(L58/$O$58))","v":0.16690633623914461},null,{"$f":"IF($O$58=0,0,(N58/$O$58))","v":0.20932584506689791},{"$f":"SUM(F60:N60)","v":1.0000000000000002}]

{"sheet":"Flujo de caja","index":10,"n_rows":52,"n_cols":16,"rows_kept":52,"cut":false,"hidden":false,"merged":[[9,10,9,12],[50,12,50,13],[5,3,5,13],[10,3,10,13],[19,3,19,13],[29,3,29,13],[9,3,9,7],[51,12,51,13],[50,10,50,11],[51,10,51,11],[49,3,50,3],[44,14,48,14]]}
[]
[]
[null,null,null,null,{"$f":"IF($C$13=1,0,IF($C$13=2,0,IF($C$13=3,0,VLOOKUP(B18,B18:K18,4-$C$13,FALSE))))","v":0},{"$f":"IF($C$13=2,0,IF($C$13=3,0,VLOOKUP(C18,C18:L18,4-$C$13,FALSE)))","v":148230.33001904699},{"$f":"IF($C$13=3,0,VLOOKUP(D18,D18:M18,4-$C$13,FALSE))","v":248731.01894680105},{"$f":"VLOOKUP(E18,E18:N18,4-$C$13,FALSE)","v":363690.0297125412},211733.31109251027,254981.09785819633,{"$f":"VLOOKUP(H18,H18:Q18,4-$C$13,FALSE)","v":0},{"$f":"VLOOKUP(I18,I18:R18,4-$C$13,FALSE)","v":0},0,0,0,0]
[]
[]
[null,null,null,"PRÁCTICA SUPERVISADA - PROYECTO, DIRECCION DE OBRAS - VALUACIONES"]
[]
[]
[]
[null,"certifican cada 1 mes",1,"Flujo de caja",null,null,null,null,"de",{"$f":"'Diagrama de GANTT'!D5","v":"obra1"},"Es desde mes nº: 1 al mes nº:",null,null,{"$f":"M12","v":9}]
[null,"certifican cada 2 meses",2,"Egresos"]
[null,"certifican cada 3 meses",3,"ITEM",1,2,3,4,5,6,7,8,9,"Totales"]
[null,null,{"$f":"MAX((B10:B12=D23)*(C10:C12))","v":1},"Avance de obra",{"$f":"'Diagrama de GANTT'!F60","v":0.10461955886417541},{"$f":"'Diagrama de GANTT'!H60","v":0.20319546713582551},{"$f":"'Diagrama de GANTT'!J60","v":0.31595279269395671},{"$f":"'Diagrama de GANTT'!L60","v":0.16690633623914461},{"$f":"'Diagrama de GANTT'!N60","v":0.20932584506689791},null,null,null,null,{"$f":"SUM(E13:M13)","v":1.0000000000000002}]
[null,null,null,"Costos directos",{"$f":"'Diagrama de GANTT'!F58","v":106131.68863046037},{"$f":"'Diagrama de GANTT'!H58","v":206132.37413071317},{"$f":"'Diagrama de GANTT'!J58","v":320519.44951950933},{"$f":"'Diagrama de GANTT'!L58","v":169318.73447470245},{"$f":"'Diagrama de GANTT'!N58","v":212351.35812215126},0,0,null,null,1014453.6048775365]
[null,null,null,"Gastos Generales de Obra",{"$f":"'Costos grales.'!$G$21","v":21448.677060133632},{"$f":"'Costos grales.'!$G$21","v":21448.677060133632},{"$f":"'Costos grales.'!$G$21","v":21448.677060133632},{"$f":"'Costos grales.'!$G$21","v":21448.677060133632},{"$f":"'Costos grales.'!$G$21","v":21448.677060133632},null,null,null,null,107243.38530066816]
[null,"Anticipo 0%",0,"Gastos Generales de Empresa",{"$f":"'Costos grales.'!$G$48","v":19912.5},{"$f":"'Costos grales.'!$G$48","v":19912.5},{"$f":"'Costos grales.'!$G$48","v":19912.5},{"$f":"'Costos grales.'!$G$48","v":19912.5},{"$f":"'Costos grales.'!$G$48","v":19912.5},null,null,null,null,99562.5]
[null,"Anticipo  5%",0.05,"Imprevistos",{"$f":"'Incidencia GG'!$B$13*(SUM(E14:E16))","v":737.46432845297011},{"$f":"'Incidencia GG'!$B$13*(SUM(F14:F16))","v":1237.467755954234},{"$f":"'Incidencia GG'!$B$13*(SUM(G14:G16))","v":1809.4031328982151},{"$f":"'Incidencia GG'!$B$13*(SUM(H14:H16))","v":1053.3995576741804},{"$f":"'Incidencia GG'!$B$13*(SUM(I14:I16))","v":1268.5626759114245},null,null,null,null,6106.2974508910238]
[null,"Anticipo 10%",0.1,"Total Egresos",{"$f":"SUM(E14:E17)","v":148230.33001904699},{"$f":"SUM(F14:F17)","v":248731.01894680105},363690.0297125412,211733.31109251027,254981.09785819633,0,0,{"$f":"SUM(L14:L14)","v":0},{"$f":"SUM(M14:M14)","v":0},1227365.7876290958]
[null,"Anticipo 20%",0.2,"Acumulados",{"$f":"E18","v":148230.33001904699},{"$f":"F18+E19","v":396961.34896584804},760651.37867838924,972384.68977089948,1227365.7876290958,1227365.7876290958,1227365.7876290958,1227365.7876290958,1227365.7876290958]
[null,"Anticipo 30%",0.3,"INGRESOS"]
[null,"Anticipo 40%",0.4,"ITEM",{"$f":"+E12","v":1},{"$f":"+F12","v":2},3,4,5,6,7,8,9,"Totales"]
[null,null,{"$f":"MAX((B16:B21=D22)*(C16:C21))","v":0.1},"Anticipo 10%",{"$f":"$C$22*M51","v":148721.16106845278},null,null,null,null,null,null,null,null,{"$f":"SUM(E22:M22)","v":148721.16106845278}]
[null,"fondo reparo 0%",0,"certifican cada 1 mes",{"$f":"IF(E3=0,0,(E3*('Incidencia GG'!$B$14+1)*(1-$A$24)-$E$22/'Costos grales.'!$E$6))","v":0},{"$f":"IF(F3=0,0,(F3*('Incidencia GG'!$B$14+1)*(1-$A$24)-$E$22/'Costos grales.'!$E$6))","v":139238.34400802301},{"$f":"IF(G3=0,0,(G3*('Incidencia GG'!$B$14+1)*(1-$A$24)-$E$22/'Costos grales.'!$E$6))","v":253809.12938566264},{"$f":"IF(H3=0,0,(H3*('Incidencia GG'!$B$14+1)*(1-$A$24)-$E$22/'Costos grales.'!$E$6))","v":384862.40165860637},{"$f":"IF(I3=0,0,(I3*('Incidencia GG'!$B$14+1)*(1-$A$24)-$E$22/'Costos grales.'!$E$6))","v":211631.74243177113},{"$f":"IF(J3=0,0,(J3*('Incidencia GG'!$B$14+1)*(1-$A$24)-$E$22/'Costos grales.'!$E$6))","v":260934.21934465322},{"$f":"IF(K3=0,0,(K3*('Incidencia GG'!$B$14+1)*(1-$A$24)-$E$22/'Costos grales.'!$E$6))","v":0},{"$f":"IF(L3=0,0,(L3*('Incidencia GG'!$B$14+1)*(1-$A$24)-$E$22/'Costos grales.'!$E$6))","v":0},{"$f":"IF(M3=0,0,(M3*('Incidencia GG'!$B$14+1)*(1-$A$24)-$E$22/'Costos grales.'!$E$6))","v":0},{"$f":"SUM(E23:M23)","v":1250475.8368287163}]
[{"$f":"MAX((B23:B27=D24)*(C23:C27))","v":0.05},"fondo reparo 3%",0.03,"fondo reparo 5%",null,0,0,0,0,0,{"$f":"$A$24*M51","v":74360.580534226392},0,0,{"$f":"SUM(E24:M24)","v":74360.580534226392}]
[null,"fondo reparo 5%",0.05,"Total Ingresos",{"$f":"SUM(E22:E24)","v":148721.16106845278},139238.34400802301,253809.12938566264,384862.40165860637,211631.74243177113,260934.21934465322,74360.580534226392,{"$f":"SUM(L22:L24)","v":0},{"$f":"SUM(M22:M24)","v":0},{"$f":"SUM(E25:M25)","v":1473557.5784313956}]
[null,"fondo reparo 10%",0.1,"Acumulado",{"$f":"E25","v":148721.16106845278},{"$f":"F25+E26","v":287959.50507647579},541768.63446213841,926631.03612074477,1138262.7785525159,1399196.9978971691,1473557.5784313956,1473557.5784313956,1473557.5784313956]
[null,"fondo reparo 15%",0.15]
[null,null,null,"Neto",{"$f":"-E18+E25","v":490.83104940579506},-109492.67493877804,-109880.90032687856,173129.0905660961,-43349.355426425202,260934.21934465322,74360.580534226392,0,0,{"$f":"SUM(E28:L28)","v":246191.79080229969}]
[null,null,null,"Acumulado",{"$f":"E28","v":490.83104940579506},{"$f":"F28+E29","v":-109001.84388937225},-218882.74421625081,-45753.653650154709,-89103.00907657991,171831.21026807331,246191.79080229969,{"$f":"L28+K29","v":246191.79080229969},{"$f":"M28+L29","v":246191.79080229969}]
[null,null,null,"FINANCIAMIENTO"]
[null,null,null,"Financiación: Préstamo i",8000,100000,112000,null,null,null,null,null,null,{"$f":"SUM(E31:M31)","v":220000}]
[null,null,null,"interes del préstamo i  en [%]",30,24,24,24,24,24,24,24,24]
[null,null,null,null,{"$f":"E32/1200","v":2.5000000000000001E-2},{"$f":"F32/1200","v":0.02},{"$f":"G32/1200","v":0.02},{"$f":"H32/1200","v":0.02},0.02,0.02,0.02,0.02,0.02]
[null,null,null,"cant. total de cuotas del prést. i",8,7,6,5,4]
[null,null,null,"pagos x Prestamo del mes Nº1",{"$f":"IF($E$33=0,IF($E$34+1>D12,$E$31/$E$34,0),IF($E$34+1>D12,($E$31*$E$33)/(1-(1+$E$33)^(-$E$34)),0))","v":0},1115.7387666567838,{"$f":"IF($E$33=0,IF($E$34+1>F12,$E$31/$E$34,0),IF($E$34+1>F12,($E$31*$E$33)/(1-(1+$E$33)^(-$E$34)),0))","v":1115.7387666567838},{"$f":"IF($E$33=0,IF($E$34+1>G12,$E$31/$E$34,0),IF($E$34+1>G12,($E$31*$E$33)/(1-(1+$E$33)^(-$E$34)),0))","v":1115.7387666567838},1115.7387666567838,1115.7387666567838,1115.7387666567838,1115.7387666567838,1115.7387666567838]
[null,null,null,"pagos x Prestamo del mes Nº2",null,null,{"$f":"IF($F$32=0,IF($F$34+$F$12>F12,$F$31/$F$34,0),IF($F$34+$F$12>F12,($F$31*$F$33)/(1-(1+$F$33)^(-$F$34)),0))","v":15451.195610309967},15451.195610309967,15451.195610309967,15451.195610309967,15451.195610309967,15451.195610309967,{"$f":"IF($F$32=0,IF($F$34+$F$12>L12,$F$31/$F$34,0),IF($F$34+$F$12>L12,($F$31*$F$33)/(1-(1+$F$33)^(-$F$34)),0))","v":15451.195610309967}]
[null,null,null,"pagos x Prestamo del mes Nº3",null,null,null,{"$f":"IF($G$32=0,IF($G$34+$G$12>G12,$G$31/$G$34,0),IF($G$34+$G$12>G12,($G$31*$G$33)/(1-(1+$G$33)^(-$G$34)),0))","v":19994.890981542667},19994.890981542667,19994.890981542667,19994.890981542667,19994.890981542667,{"$f":"IF($G$32=0,IF($G$34+$G$12>L12,$G$31/$G$34,0),IF($G$34+$G$12>L12,($G$31*$G$33)/(1-(1+$G$33)^(-$G$34)),0))","v":19994.890981542667}]
[null,null,null,"pagos x Prestamo del mes Nº4",null,null,null,null,{"$f":"IF($H$32=0,IF($H$34+$H$12>H12,$H$31/$H$34,0),IF($H$34+$H$12>H12,($H$31*$H$33)/(1-(1+$H$33)^(-$H$34)),0))","v":0},{"$f":"IF($H$32=0,IF($H$34+$H$12>I12,$H$31/$H$34,0),IF($H$34+$H$12>I12,($H$31*$H$33)/(1-(1+$H$33)^(-$H$34)),0))","v":0},0,0,0]
[null,null,null,"pagos x Prestamo del mes Nº5",null,null,null,null,null,{"$f":"IF($I$32=0,IF($I$34+$I$12>I12,$I$31/$I$34,0),IF($I$34+$I$12>I12,($I$31*$I$33)/(1-(1+$I$33)^(-$I$34)),0))","v":0},{"$f":"IF($I$32=0,IF($I$34+$I$12>J12,$I$31/$I$34,0),IF($I$34+$I$12>J12,($I$31*$I$33)/(1-(1+$I$33)^(-$I$34)),0))","v":0},{"$f":"IF($I$32=0,IF($I$34+$I$12>K12,$I$31/$I$34,0),IF($I$34+$I$12>K12,($I$31*$I$33)/(1-(1+$I$33)^(-$I$34)),0))","v":0},{"$f":"IF($I$32=0,IF($I$34+$I$12>L12,$I$31/$I$34,0),IF($I$34+$I$12>L12,($I$31*$I$33)/(1-(1+$I$33)^(-$I$34)),0))","v":0}]
[null,null,null,"pagos x Prestamo del mes Nº6",null,null,null,null,null,null,{"$f":"IF($J$32=0,IF($J$34+$J$12>J12,$J$31/$J$34,0),IF($J$34+$J$12>J12,($J$31*$J$33)/(1-(1+$J$33)^(-$J$34)),0))","v":0},0,{"$f":"IF($J$32=0,IF($J$34+$J$12>L12,$J$31/$J$34,0),IF($J$34+$J$12>L12,($J$31*$J$33)/(1-(1+$J$33)^(-$J$34)),0))","v":0}]
[null,null,null,"pagos x Prestamo del mes Nº7",null,null,null,null,null,null,null,{"$f":"IF($K$32=0,IF($K$34+$K$12>K12,$K$31/$K$34,0),IF($K$34+$K$12>K12,($K$31*$K$33)/(1-(1+$K$33)^(-$K$34)),0))","v":0},{"$f":"IF($K$32=0,IF($K$34+$K$12>L12,$K$31/$K$34,0),IF($K$34+$K$12>L12,($K$31*$K$33)/(1-(1+$K$33)^(-$K$34)),0))","v":0}]
[null,null,null,"pagos x Prestamo del mes Nº8",null,null,null,null,null,null,null,null,{"$f":"IF($L$32=0,IF($L$34+$L$12>L12,$L$31/$L$34,0),IF($L$34+$L$12>L12,($L$31*$L$33)/(1-(1+$L$33)^(-$L$34)),0))","v":0},null,"en  int. Se  pierde:"]
[null,null,null," pagos mensual x préstamos",{"$f":"SUM(E35:E42)","v":0},{"$f":"SUM(F35:F42)","v":1115.7387666567838},16566.93437696675,36561.825358509421,36561.825358509421,36561.825358509421,36561.825358509421,36561.825358509421,36561.825358509421,{"$f":"SUM(E43:M43)","v":237053.62529468007},{"$f":"$N$43-$N$31","v":17053.625294680067}]
[null,null,null,"Total Ingresos corregido",{"$f":"E25+E31","v":156721.16106845278},239238.34400802301,365809.12938566261,384862.40165860637,211631.74243177113,260934.21934465322,74360.580534226392,0,0,1693557.5784313956,"COSTO FINANCIERO"]
[null,null,null,"Ingreso acumulado",{"$f":"E44","v":156721.16106845278},{"$f":"F44+E45","v":395959.50507647579},{"$f":"G44+F45","v":761768.63446213841},1146631.0361207449,1358262.7785525159,1619196.9978971691,1693557.5784313956,1693557.5784313956,1693557.5784313956,null,{"$f":"O43/N31","v":7.7516478612182124E-2}]
[null,null,null,"Total Egresos corregido",{"$f":"+E18+E43","v":148230.33001904699},{"$f":"F18+F43","v":249846.75771345783},{"$f":"G18+G43","v":380256.96408950794},{"$f":"H18+H43","v":248295.13645101967},{"$f":"I18+I43","v":291542.92321670573},{"$f":"J18+J40","v":0},{"$f":"K18+K40","v":0},{"$f":"L18+L40","v":0},{"$f":"M18+M40","v":0},1318172.1114897381]
[null,null,null,"Egreso Acumulado",{"$f":"E46","v":148230.33001904699},{"$f":"F46+E47","v":398077.08773250482},778334.05182201276,1026629.1882730324,1318172.1114897381,1318172.1114897381,1318172.1114897381,1318172.1114897381,1318172.1114897381]
[null,null,null,"Neto",{"$f":"E44-E46","v":8490.8310494057951},-10608.413705434825,-14447.834703845321,136567.26520758669,-79911.180784934608,260934.21934465322,{"$f":"K44-K46","v":74360.580534226392},{"$f":"L44-L46","v":0},{"$f":"M44-M46","v":0},375385.46694165736]
[null,null,null,"Acumulado",{"$f":"E48","v":8490.8310494057951},{"$f":"F48+E49","v":-2117.5826560290297},{"$f":"G48+F49","v":-16565.417359874351},120001.84784771234,40090.667062777735,301024.88640743098,375385.46694165736,375385.46694165736,375385.46694165736]
[null,null,null,null,null,null,"Beneficios",{"$f":"M45-M47-N43","v":138331.84164697741}]
[null,null,null,null,null,null,null,null,null,null,{"$f":"'Incidencia GG'!C15","v":"Precio Total de obra"},null,{"$f":"'Incidencia GG'!D15","v":1487211.6106845278}]
[null,null,null,null,null,null,"Ganancia esperada:",{"$f":"H50-N17","v":132225.54419608638},null,null,{"$f":"O44","v":"COSTO FINANCIERO"},null,{"$f":"N43","v":237053.62529468007},null,{"$f":"M52/M51","v":0.15939468438225141}]

{"sheet":"Impuestos y presupuesto","index":11,"n_rows":63,"n_cols":32,"rows_kept":63,"cut":false,"hidden":false,"merged":[[8,25,8,31],[30,11,30,14],[29,11,29,14],[17,11,17,14],[23,11,23,14],[9,25,9,26],[14,11,14,14],[15,11,15,14],[13,11,13,14],[12,11,12,14],[11,11,11,14],[10,11,10,14],[8,11,8,14],[9,11,9,14],[27,11,27,13],[19,11,19,14],[32,11,32,12],[16,11,16,14],[28,11,28,14],[21,11,21,14],[25,11,25,14],[24,11,24,14]]}
[]
[]
[]
[]
[]
[]
[]
[]
[null,null,null,null,null,null,null,null,null,null,null,"Gastos Directos",null,null,null,{"$f":"'Incidencia GG'!D7","v":1026371.2379866684},null,"Presupuesto Detallado sin iva",null,null,null,"Presupuesto Detallado con iva",null,null,null,"Calculo de Presupuesto mediente coeficiente de impacto. (con IVA)"]
[null,null,null,null,null,null,null,null,null,null,null,{"$f":"'Incidencia GG'!C8","v":"Gastos generales de obra"},null,null,null,{"$f":"'Incidencia GG'!D8","v":107243.38530066816},null,null,{"$f":"X4","v":0},"Precio total",null,null,{"$f":"Z10","v":"RUBRO"},"Precio total",null,{"$f":"'Incidencia GG'!I5","v":"RUBRO"},null,{"$f":"'Incidencia GG'!J5","v":"obra1 "},{"$f":"'Incidencia GG'!K5","v":"obra2"},{"$f":"'Incidencia GG'!L5","v":"CDTR"},"%","Precio Total"]
[null,null,null,null,null,null,null,null,null,null,null,{"$f":"'Incidencia GG'!C9","v":"Gasto total de obra (CD + GGO)"},null,null,null,{"$f":"'Incidencia GG'!D9","v":1133614.6232873364},null,{"$f":"V11","v":1},{"$f":"W11","v":"Trabajos preliminares"},{"$f":"$P$25*AD11","v":40454.751138821106},null,{"$f":"Z11","v":1},{"$f":"AA11","v":"Trabajos preliminares"},{"$f":"AF11","v":48950.248877973536},null,{"$f":"'Incidencia GG'!H6","v":1},{"$f":"'Incidencia GG'!I6","v":"Trabajos preliminares"},{"$f":"'Incidencia GG'!J6","v":26768.468854225532},{"$f":"'Incidencia GG'!K6","v":0},{"$f":"'Incidencia GG'!L6","v":26768.468854225532},{"$f":"AD11/$AD$63","v":2.6080688802946797E-2},{"$f":"AD11*$P$29","v":48950.248877973536}]
[null,null,null,null,null,null,null,null,null,null,null,{"$f":"'Incidencia GG'!C10","v":"Gastos generales de empresa"},null,null,null,{"$f":"'Incidencia GG'!D10","v":99562.5},null,2,"Procedimientos y cumplimientos",4474.1021644981683,null,2,"Procedimientos y cumplimientos",5413.6636190427835,null,{"$f":"'Incidencia GG'!H7","v":2},{"$f":"'Incidencia GG'!I7","v":"Procedimientos y cumplimientos"},{"$f":"'Incidencia GG'!J7","v":2960.4647431896756},{"$f":"'Incidencia GG'!K7","v":0},{"$f":"'Incidencia GG'!L7","v":2960.4647431896756},2.8843995560484817E-3,{"$f":"AD12*$P$29","v":5413.6636190427835}]
[null,null,null,null,null,null,null,null,null,null,null,{"$f":"'Incidencia GG'!C12","v":"Costo total de Obra"},null,null,null,{"$f":"'Incidencia GG'!D12","v":1233177.1232873364},null,3,"Demoliciones",66209.208551176009,null,3,"Demoliciones",80113.142346922963,null,{"$f":"'Incidencia GG'!H8","v":3},{"$f":"'Incidencia GG'!I8","v":"Demoliciones"},{"$f":"'Incidencia GG'!J8","v":43809.913225849225},{"$f":"'Incidencia GG'!K8","v":0},{"$f":"'Incidencia GG'!L8","v":43809.913225849225},4.2684276024518034E-2,80113.142346922963]
[null,null,null,null,null,null,null,null,null,null,null,{"$f":"'Incidencia GG'!C13","v":"Imprevisto (0,5%)"},null,null,null,{"$f":"'Incidencia GG'!D13","v":6165.8856164366825},null,4,"Movimientos de tierra",22951.655840815249,null,4,"Movimientos de tierra",27771.503567386451,null,{"$f":"'Incidencia GG'!H9","v":4},{"$f":"'Incidencia GG'!I9","v":"Movimientos de tierra"},{"$f":"'Incidencia GG'!J9","v":15186.861054206209},{"$f":"'Incidencia GG'!K9","v":0},{"$f":"'Incidencia GG'!L9","v":15186.861054206209},1.4796654945238713E-2,27771.503567386451]
[null,null,null,null,null,null,null,null,null,null,null,{"$f":"'Incidencia GG'!C14","v":"Beneficio (20%)"},null,null,null,{"$f":"'Incidencia GG'!D14","v":247868.60178075463},null,5,"Estructuras de hormigón armado",249848.16429571583,null,5,"Estructuras de hormigón armado",302316.27879781614,null,{"$f":"'Incidencia GG'!H10","v":5},{"$f":"'Incidencia GG'!I10","v":"Estructuras de hormigón armado"},{"$f":"'Incidencia GG'!J10","v":165321.81303711733},{"$f":"'Incidencia GG'!K10","v":0},{"$f":"'Incidencia GG'!L10","v":165321.81303711733},0.16107408987942118,302316.27879781614]
[null,null,null,null,null,null,null,null,null,null,null,{"$f":"'Incidencia GG'!$C$15","v":"Precio Total de obra"},null,null,null,{"$f":"'Incidencia GG'!D15","v":1487211.6106845278},null,6,"Estructuras metálicas",0,null,6,"Estructuras metálicas",0,null,{"$f":"'Incidencia GG'!H11","v":6},{"$f":"'Incidencia GG'!I11","v":"Estructuras metálicas"},{"$f":"'Incidencia GG'!J11","v":0},{"$f":"'Incidencia GG'!K11","v":0},{"$f":"'Incidencia GG'!L11","v":0},0,0]
[null,null,null,null,null,null,null,null,null,null,null,{"$f":"'Flujo de caja'!K52","v":"COSTO FINANCIERO"},null,null,{"$f":"'Incidencia GG'!C16","v":0},{"$f":"'Flujo de caja'!$O$43","v":17053.625294680067},null,7,"Mampostería",157832.99325924434,null,7,"Mampostería",190977.92184368565,null,{"$f":"'Incidencia GG'!H12","v":7},{"$f":"'Incidencia GG'!I12","v":"Mampostería"},{"$f":"'Incidencia GG'!J12","v":104436.37509303412},{"$f":"'Incidencia GG'!K12","v":0},{"$f":"'Incidencia GG'!L12","v":104436.37509303412},0.101753021935705,190977.92184368565]
[null,null,null,null,null,null,null,null,null,null,null,"PRECIO SUBTOTAL",null,null,null,{"$f":"P17+P16","v":1504265.2359792078},null,8,"Construcción con placas de roca de yeso",0,null,8,"Construcción con placas de roca de yeso",0,null,{"$f":"'Incidencia GG'!H13","v":8},{"$f":"'Incidencia GG'!I13","v":"Construcción con placas de roca de yeso"},{"$f":"'Incidencia GG'!J13","v":0},{"$f":"'Incidencia GG'!K13","v":0},{"$f":"'Incidencia GG'!L13","v":0},0,0]
[null,null,null,null,null,null,null,null,null,null,null,null,null,null,null,null,null,9,"Aislaciones",21477.220155464765,null,9,"Aislaciones",25987.436388112365,null,{"$f":"'Incidencia GG'!H14","v":9},{"$f":"'Incidencia GG'!I14","v":"Aislaciones"},{"$f":"'Incidencia GG'!J14","v":14211.242996751676},{"$f":"'Incidencia GG'!K14","v":0},{"$f":"'Incidencia GG'!L14","v":14211.242996751676},1.3846104090590538E-2,25987.436388112365]
[null,null,null,null,null,null,null,null,null,null,null,"Ingresos Brutos",null,null,null,{"$f":"0.025*P18","v":37606.630899480195},null,10,"Cubiertas ",161803.92504480691,null,10,"Cubiertas ",195782.74930421636,null,{"$f":"'Incidencia GG'!H15","v":10},{"$f":"'Incidencia GG'!I15","v":"Cubiertas "},{"$f":"'Incidencia GG'!J15","v":107063.8974688196},{"$f":"'Incidencia GG'!K15","v":0},{"$f":"'Incidencia GG'!L15","v":107063.8974688196},0.10431303363375262,195782.74930421636]
[null,null,null,null,null,null,null,null,null,null,null,null,null,null,null,null,null,11,"Contrapiso",71587.298190904097,null,11,"Contrapiso",86620.630810993956,null,{"$f":"'Incidencia GG'!H16","v":11},{"$f":"'Incidencia GG'!I16","v":"Contrapiso"},{"$f":"'Incidencia GG'!J16","v":47368.536649888651},{"$f":"'Incidencia GG'!K16","v":0},{"$f":"'Incidencia GG'!L16","v":47368.536649888651},4.6151465373101136E-2,86620.630810993956]
[null,null,null,null,null,null,null,null,null,null,null,"Imp. Industria y Comercio",null,null,null,{"$f":"0.00616*P18","v":9266.2738536319193},null,12,"Carpetas",26557.005844978121,null,12,"Carpetas",32133.977072423524,null,{"$f":"'Incidencia GG'!H17","v":12},{"$f":"'Incidencia GG'!I17","v":"Carpetas"},{"$f":"'Incidencia GG'!J17","v":17572.481941202674},{"$f":"'Incidencia GG'!K17","v":0},{"$f":"'Incidencia GG'!L17","v":17572.481941202674},1.7120980490132297E-2,32133.977072423524]
[null,null,null,null,null,null,null,null,null,null,null,null,null,null,null,null,null,13,"Revoques",139026.5333755904,null,13,"Revoques",168222.10538446435,null,{"$f":"'Incidencia GG'!H18","v":13},{"$f":"'Incidencia GG'!I18","v":"Revoques"},{"$f":"'Incidencia GG'!J18","v":91992.34512171286},{"$f":"'Incidencia GG'!K18","v":0},{"$f":"'Incidencia GG'!L18","v":91992.34512171286},8.9628724692407832E-2,168222.10538446435]
[null,null,null,null,null,null,null,null,null,null,null,"PRECIO FINAL TOTAL SIN IVA",null,null,null,{"$f":"P18+P20+P22","v":1551138.1407323198},null,14,"Revestimientos",15414.313206252451,null,14,"Revestimientos",18651.318979565465,null,{"$f":"'Incidencia GG'!H19","v":14},{"$f":"'Incidencia GG'!I19","v":"Revestimientos"},{"$f":"'Incidencia GG'!J19","v":10199.483406904234},{"$f":"'Incidencia GG'!K19","v":0},{"$f":"'Incidencia GG'!L19","v":10199.483406904234},9.9374213047040989E-3,18651.318979565465]
[null,null,null,null,null,null,null,null,null,null,null,"Coeficiente de Impacto (sin iva)",null,null,null,{"$f":"P24/P9","v":1.5112837181359788},null,15,"Cielorrasos",36848.67559297353,null,15,"Cielorrasos",44586.897467497976,null,{"$f":"'Incidencia GG'!H20","v":15},{"$f":"'Incidencia GG'!I20","v":"Cielorrasos"},{"$f":"'Incidencia GG'!J20","v":24382.367884187082},{"$f":"'Incidencia GG'!K20","v":0},{"$f":"'Incidencia GG'!L20","v":24382.367884187082},2.3755895510103722E-2,44586.897467497976]
[null,null,null,null,null,null,null,null,null,null,null,"Impuestos 21%",null,null,null,{"$f":"0.21*P24","v":325739.00955378712},null,16,"Yeseria",0,null,16,"Yeseria",0,null,{"$f":"'Incidencia GG'!H21","v":16},{"$f":"'Incidencia GG'!I21","v":"Yeseria"},{"$f":"'Incidencia GG'!J21","v":0},{"$f":"'Incidencia GG'!K21","v":0},{"$f":"'Incidencia GG'!L21","v":0},0,0]
[null,null,null,null,null,null,null,null,null,null,null,null,null,null,null,null,null,17,"Solados",80774.20885938064,null,17,"Solados",97736.792719850579,null,{"$f":"'Incidencia GG'!H22","v":17},{"$f":"'Incidencia GG'!I22","v":"Solados"},{"$f":"'Incidencia GG'!J22","v":53447.415525000004},{"$f":"'Incidencia GG'!K22","v":0},{"$f":"'Incidencia GG'!L22","v":53447.415525000004},5.2074155575367223E-2,97736.792719850579]
[null,null,null,null,null,null,null,null,null,null,null,"PRECIO FINAL TOTAL",null,null,null,{"$f":"P24+P26","v":1876877.1502861069},null,18,"Pisos especiales",0,null,18,"Pisos especiales",0,null,{"$f":"'Incidencia GG'!H23","v":18},{"$f":"'Incidencia GG'!I23","v":"Pisos especiales"},{"$f":"'Incidencia GG'!J23","v":0},{"$f":"'Incidencia GG'!K23","v":0},{"$f":"'Incidencia GG'!L23","v":0},0,0]
[null,null,null,null,null,null,null,null,null,null,null,"Coeficiente de Impacto (con iva)",null,null,null,{"$f":"P28/P9","v":1.8286532989445343},null,19,"Escaleras",0,null,19,"Escaleras",{"$f":"AF29","v":0},null,{"$f":"'Incidencia GG'!H24","v":19},{"$f":"'Incidencia GG'!I24","v":"Escaleras"},{"$f":"'Incidencia GG'!J24","v":0},{"$f":"'Incidencia GG'!K24","v":0},{"$f":"'Incidencia GG'!L24","v":0},0,{"$f":"AD29*$P$29","v":0}]
[null,null,null,null,null,null,null,null,null,null,null,"m2",null,null,null,{"$f":"(M34+M35)","v":104.05},null,20,"Zócalos",27456.397780062707,null,20,"Zócalos",33222.241313875871,null,{"$f":"'Incidencia GG'!H25","v":20},{"$f":"'Incidencia GG'!I25","v":"Zócalos"},{"$f":"'Incidencia GG'!J25","v":18167.599803118039},{"$f":"'Incidencia GG'!K25","v":0},{"$f":"'Incidencia GG'!L25","v":18167.599803118039},1.7700807593513283E-2,33222.241313875871]
[null,null,null,null,null,null,null,null,null,null,null,"PRECIO POR m2",null,null,null,{"$f":"P28/P30","v":18038.223453014001},null,21,"Marmoleria",18010.92487654855,null,21,"Marmoleria",21793.219100623744,null,{"$f":"'Incidencia GG'!H26","v":21},{"$f":"'Incidencia GG'!I26","v":"Marmoleria"},{"$f":"'Incidencia GG'!J26","v":11917.633109131402},{"$f":"'Incidencia GG'!K26","v":0},{"$f":"'Incidencia GG'!L26","v":11917.633109131402},1.1611425445347687E-2,21793.219100623744]
[null,null,null,null,null,null,null,null,null,null,null,null,null,null,null,null,null,22,"Pinturas",104414.47324484297,null,22,"Pinturas",126341.51262625998,null,{"$f":"'Incidencia GG'!H27","v":22},{"$f":"'Incidencia GG'!I27","v":"Pinturas"},{"$f":"'Incidencia GG'!J27","v":69089.921364089096},{"$f":"'Incidencia GG'!K27","v":0},{"$f":"'Incidencia GG'!L27","v":69089.921364089096},6.7314748121367896E-2,126341.51262625998]
[null,null,null,null,null,null,null,null,null,null,null,"Áreas [m2]",null,null,null,null,null,23,"Artefactos Sanitarios - Accesorios Griferías",4488.607224317042,null,23,"Artefactos Sanitarios - Accesorios Griferías",5431.2147414236197,null,{"$f":"'Incidencia GG'!H28","v":23},{"$f":"'Incidencia GG'!I28","v":"Artefactos Sanitarios - Accesorios Griferías"},{"$f":"'Incidencia GG'!J28","v":2970.0625835189312},{"$f":"'Incidencia GG'!K28","v":0},{"$f":"'Incidencia GG'!L28","v":2970.0625835189312},2.8937507926907738E-3,5431.2147414236197]
[null,null,null,null,null,null,null,null,null,null,null,{"$f":"'Costos grales.'!E3","v":"obra1 "},{"$f":"lista1!W3","v":104.05},null,null,null,null,24,"Carpinterías Metálicas",4428.1354783102397,null,24,"Carpinterías Metálicas",5358.04392875539,null,{"$f":"'Incidencia GG'!H29","v":24},{"$f":"'Incidencia GG'!I29","v":"Carpinterías Metálicas"},{"$f":"'Incidencia GG'!J29","v":2930.0490868596885},{"$f":"'Incidencia GG'!K29","v":0},{"$f":"'Incidencia GG'!L29","v":2930.0490868596885},2.8547653893802394E-3,5358.04392875539]
[null,null,null,null,null,null,null,null,null,null,null,{"$f":"'Costos grales.'!R3","v":"obra2"},{"$f":"'Cómp.(obra2)'!M3","v":0},null,null,null,null,25,"Carpinterías de madera",0,null,25,"Carpinterías de madera",0,null,{"$f":"'Incidencia GG'!H30","v":25},{"$f":"'Incidencia GG'!I30","v":"Carpinterías de madera"},{"$f":"'Incidencia GG'!J30","v":0},{"$f":"'Incidencia GG'!K30","v":0},{"$f":"'Incidencia GG'!L30","v":0},0,0]
[null,null,null,null,null,null,null,null,null,null,null,null,null,null,null,null,null,26,"Carpinterías de Aluminio y accesorios de fachadas",22036.438801749413,null,26,"Carpinterías de Aluminio y accesorios de fachadas",26664.090950116788,null,{"$f":"'Incidencia GG'!H31","v":26},{"$f":"'Incidencia GG'!I31","v":"Carpinterías de Aluminio y accesorios de fachadas"},{"$f":"'Incidencia GG'!J31","v":14581.271893095767},{"$f":"'Incidencia GG'!K31","v":0},{"$f":"'Incidencia GG'!L31","v":14581.271893095767},1.4206625588708451E-2,26664.090950116788]
[null,null,null,null,null,null,null,null,null,null,null,null,null,null,null,null,null,27,"Cristales",0,null,27,"Cristales",0,null,{"$f":"'Incidencia GG'!H32","v":27},{"$f":"'Incidencia GG'!I32","v":"Cristales"},{"$f":"'Incidencia GG'!J32","v":0},{"$f":"'Incidencia GG'!K32","v":0},{"$f":"'Incidencia GG'!L32","v":0},0,0]
[null,null,null,null,null,null,null,null,null,null,null,null,null,null,null,null,null,28,"Limpieza y ayuda de gremios",0,null,28,"Limpieza y ayuda de gremios",0,null,{"$f":"'Incidencia GG'!H33","v":28},{"$f":"'Incidencia GG'!I33","v":"Limpieza y ayuda de gremios"},{"$f":"'Incidencia GG'!J33","v":0},{"$f":"'Incidencia GG'!K33","v":0},{"$f":"'Incidencia GG'!L33","v":0},0,0]
[null,null,null,null,null,null,null,null,null,null,null,null,null,null,null,null,null,29,"Instalación sanitaria",79680.278732720588,null,29,"Instalación sanitaria",96413.137266591904,null,{"$f":"'Incidencia GG'!H34","v":29},{"$f":"'Incidencia GG'!I34","v":"Instalación sanitaria"},{"$f":"'Incidencia GG'!J34","v":52723.573857461022},{"$f":"'Incidencia GG'!K34","v":0},{"$f":"'Incidencia GG'!L34","v":52723.573857461022},5.1368912052605548E-2,96413.137266591904]
[null,null,null,null,null,null,null,null,null,null,null,null,null,null,null,null,null,30,"Instalación de Gas ",116498.98573112613,null,30,"Instalación de Gas ",140963.77273466261,null,{"$f":"'Incidencia GG'!H35","v":30},{"$f":"'Incidencia GG'!I35","v":"Instalación de Gas "},{"$f":"'Incidencia GG'!J35","v":77086.111848552348},{"$f":"'Incidencia GG'!K35","v":0},{"$f":"'Incidencia GG'!L35","v":77086.111848552348},7.5105487172228869E-2,140963.77273466261]
[null,null,null,null,null,null,null,null,null,null,null,null,null,null,null,null,null,31,"Instalación termomecánica ",0,null,31,"Instalación termomecánica ",0,null,{"$f":"'Incidencia GG'!H36","v":31},{"$f":"'Incidencia GG'!I36","v":"Instalación termomecánica "},{"$f":"'Incidencia GG'!J36","v":0},{"$f":"'Incidencia GG'!K36","v":0},{"$f":"'Incidencia GG'!L36","v":0},0,0]
[null,null,null,null,null,null,null,null,null,null,null,null,null,null,null,null,null,32,"Instalación eléctrica",78863.843342019914,null,32,"Instalación eléctrica",95425.250443844096,null,{"$f":"'Incidencia GG'!H37","v":32},{"$f":"'Incidencia GG'!I37","v":"Instalación eléctrica"},{"$f":"'Incidencia GG'!J37","v":52183.347438752782},{"$f":"'Incidencia GG'!K37","v":0},{"$f":"'Incidencia GG'!L37","v":52183.347438752782},5.0842566030119621E-2,95425.250443844096]
[null,null,null,null,null,null,null,null,null,null,null,null,null,null,null,null,null,{"$f":"V43","v":33},{"$f":"W43","v":"Instalación contra incendio"},{"$f":"$P$25*AD43","v":0},null,{"$f":"Z43","v":33},{"$f":"AA43","v":"Instalación contra incendio"},0,null,{"$f":"'Incidencia GG'!H38","v":33},{"$f":"'Incidencia GG'!I38","v":"Instalación contra incendio"},{"$f":"'Incidencia GG'!J38","v":0},{"$f":"'Incidencia GG'!K38","v":0},{"$f":"'Incidencia GG'!L38","v":0},{"$f":"AD43/$AD$63","v":0},0]
[null,null,null,null,null,null,null,null,null,null,null,null,null,null,null,null,null,0,0,0,null,0,0,0,null,{"$f":"'Incidencia GG'!H39","v":0},{"$f":"'Incidencia GG'!I39","v":0},{"$f":"'Incidencia GG'!J39","v":0},{"$f":"'Incidencia GG'!K39","v":0},{"$f":"'Incidencia GG'!L39","v":0},0,0]
[null,null,null,null,null,null,null,null,null,null,null,null,null,null,null,null,null,0,0,0,null,0,0,0,null,{"$f":"'Incidencia GG'!H40","v":0},{"$f":"'Incidencia GG'!I40","v":0},{"$f":"'Incidencia GG'!J40","v":0},{"$f":"'Incidencia GG'!K40","v":0},{"$f":"'Incidencia GG'!L40","v":0},0,0]
[null,null,null,null,null,null,null,null,null,null,null,null,null,null,null,null,null,0,0,0,null,0,0,0,null,{"$f":"'Incidencia GG'!H41","v":0},{"$f":"'Incidencia GG'!I41","v":0},{"$f":"'Incidencia GG'!J41","v":0},{"$f":"'Incidencia GG'!K41","v":0},{"$f":"'Incidencia GG'!L41","v":0},0,0]
[null,null,null,null,null,null,null,null,null,null,null,null,null,null,null,null,null,0,0,0,null,0,0,0,null,{"$f":"'Incidencia GG'!H42","v":0},{"$f":"'Incidencia GG'!I42","v":0},{"$f":"'Incidencia GG'!J42","v":0},{"$f":"'Incidencia GG'!K42","v":0},{"$f":"'Incidencia GG'!L42","v":0},0,0]
[null,null,null,null,null,null,null,null,null,null,null,null,null,null,null,null,null,0,0,0,null,0,0,0,null,{"$f":"'Incidencia GG'!H43","v":0},{"$f":"'Incidencia GG'!I43","v":0},{"$f":"'Incidencia GG'!J43","v":0},{"$f":"'Incidencia GG'!K43","v":0},{"$f":"'Incidencia GG'!L43","v":0},0,0]
[null,null,null,null,null,null,null,null,null,null,null,null,null,null,null,null,null,0,0,0,null,0,0,0,null,{"$f":"'Incidencia GG'!H44","v":0},{"$f":"'Incidencia GG'!I44","v":0},{"$f":"'Incidencia GG'!J44","v":0},{"$f":"'Incidencia GG'!K44","v":0},{"$f":"'Incidencia GG'!L44","v":0},0,0]
[null,null,null,null,null,null,null,null,null,null,null,null,null,null,null,null,null,0,0,0,null,0,0,0,null,{"$f":"'Incidencia GG'!H45","v":0},{"$f":"'Incidencia GG'!I45","v":0},{"$f":"'Incidencia GG'!J45","v":0},{"$f":"'Incidencia GG'!K45","v":0},{"$f":"'Incidencia GG'!L45","v":0},0,0]
[null,null,null,null,null,null,null,null,null,null,null,null,null,null,null,null,null,0,0,0,null,0,0,0,null,{"$f":"'Incidencia GG'!H46","v":0},{"$f":"'Incidencia GG'!I46","v":0},{"$f":"'Incidencia GG'!J46","v":0},{"$f":"'Incidencia GG'!K46","v":0},{"$f":"'Incidencia GG'!L46","v":0},0,0]
[null,null,null,null,null,null,null,null,null,null,null,null,null,null,null,null,null,0,0,0,null,0,0,0,null,{"$f":"'Incidencia GG'!H47","v":0},{"$f":"'Incidencia GG'!I47","v":0},{"$f":"'Incidencia GG'!J47","v":0},{"$f":"'Incidencia GG'!K47","v":0},{"$f":"'Incidencia GG'!L47","v":0},0,0]
[null,null,null,null,null,null,null,null,null,null,null,null,null,null,null,null,null,0,0,0,null,0,0,0,null,{"$f":"'Incidencia GG'!H48","v":0},{"$f":"'Incidencia GG'!I48","v":0},{"$f":"'Incidencia GG'!J48","v":0},{"$f":"'Incidencia GG'!K48","v":0},{"$f":"'Incidencia GG'!L48","v":0},0,0]
[null,null,null,null,null,null,null,null,null,null,null,null,null,null,null,null,null,0,0,0,null,0,0,0,null,{"$f":"'Incidencia GG'!H49","v":0},{"$f":"'Incidencia GG'!I49","v":0},{"$f":"'Incidencia GG'!J49","v":0},{"$f":"'Incidencia GG'!K49","v":0},{"$f":"'Incidencia GG'!L49","v":0},0,0]
[null,null,null,null,null,null,null,null,null,null,null,null,null,null,null,null,null,0,0,0,null,0,0,0,null,{"$f":"'Incidencia GG'!H50","v":0},{"$f":"'Incidencia GG'!I50","v":0},{"$f":"'Incidencia GG'!J50","v":0},{"$f":"'Incidencia GG'!K50","v":0},{"$f":"'Incidencia GG'!L50","v":0},0,0]
[null,null,null,null,null,null,null,null,null,null,null,null,null,null,null,null,null,0,0,0,null,0,0,0,null,{"$f":"'Incidencia GG'!H51","v":0},{"$f":"'Incidencia GG'!I51","v":0},{"$f":"'Incidencia GG'!J51","v":0},{"$f":"'Incidencia GG'!K51","v":0},{"$f":"'Incidencia GG'!L51","v":0},0,0]
[null,null,null,null,null,null,null,null,null,null,null,null,null,null,null,null,null,0,0,0,null,0,0,0,null,{"$f":"'Incidencia GG'!H52","v":0},{"$f":"'Incidencia GG'!I52","v":0},{"$f":"'Incidencia GG'!J52","v":0},{"$f":"'Incidencia GG'!K52","v":0},{"$f":"'Incidencia GG'!L52","v":0},0,0]
[null,null,null,null,null,null,null,null,null,null,null,null,null,null,null,null,null,0,0,0,null,0,0,0,null,{"$f":"'Incidencia GG'!H53","v":0},{"$f":"'Incidencia GG'!I53","v":0},{"$f":"'Incidencia GG'!J53","v":0},{"$f":"'Incidencia GG'!K53","v":0},{"$f":"'Incidencia GG'!L53","v":0},0,0]
[null,null,null,null,null,null,null,null,null,null,null,null,null,null,null,null,null,0,0,0,null,0,0,0,null,{"$f":"'Incidencia GG'!H54","v":0},{"$f":"'Incidencia GG'!I54","v":0},{"$f":"'Incidencia GG'!J54","v":0},{"$f":"'Incidencia GG'!K54","v":0},{"$f":"'Incidencia GG'!L54","v":0},0,0]
[null,null,null,null,null,null,null,null,null,null,null,null,null,null,null,null,null,0,0,0,null,0,0,0,null,{"$f":"'Incidencia GG'!H55","v":0},{"$f":"'Incidencia GG'!I55","v":0},{"$f":"'Incidencia GG'!J55","v":0},{"$f":"'Incidencia GG'!K55","v":0},{"$f":"'Incidencia GG'!L55","v":0},0,0]
[null,null,null,null,null,null,null,null,null,null,null,null,null,null,null,null,null,0,0,0,null,0,0,0,null,{"$f":"'Incidencia GG'!H56","v":0},{"$f":"'Incidencia GG'!I56","v":0},{"$f":"'Incidencia GG'!J56","v":0},{"$f":"'Incidencia GG'!K56","v":0},{"$f":"'Incidencia GG'!L56","v":0},0,0]
[null,null,null,null,null,null,null,null,null,null,null,null,null,null,null,null,null,0,0,0,null,0,0,0,null,{"$f":"'Incidencia GG'!H57","v":0},{"$f":"'Incidencia GG'!I57","v":0},{"$f":"'Incidencia GG'!J57","v":0},{"$f":"'Incidencia GG'!K57","v":0},{"$f":"'Incidencia GG'!L57","v":0},0,0]
[null,null,null,null,null,null,null,null,null,null,null,null,null,null,null,null,null,null,"TOTAL",{"$f":"SUM(T11:T62)","v":1551138.1407323191},null,null,"TOTAL",{"$f":"SUM(X11:X62)","v":1876877.1502861064},null,null,null,null,null,{"$f":"SUM(AD11:AD62)","v":1026371.2379866679},{"$f":"SUM(AE11:AE62)","v":0.99999999999999989},{"$f":"SUM(AF11:AF62)","v":1876877.1502861064}]

{"sheet":"Certficado","index":12,"n_rows":87,"n_cols":16,"rows_kept":87,"cut":false,"hidden":false,"merged":[[79,3,79,5],[80,3,81,5],[14,3,15,3],[14,4,15,4],[14,5,15,5],[81,6,81,8],[82,6,82,9],[77,6,77,8],[78,6,78,8],[79,6,79,8],[70,15,72,18],[74,6,74,8],[8,8,8,9],[70,3,70,4],[70,6,72,9],[14,6,14,8],[14,9,15,9],[10,4,10,5],[12,7,12,8],[13,7,13,8],[9,8,9,9],[10,8,10,9]]}
[]
[]
[]
[null,{"$f":"B5-1","v":0}]
["CERTIFICADO  DE OBRA       Nº ",1]
["FECHA:",{"$f":"TODAY()","v":"2015-11-12"}]
["CONTRATISTA: …Invernizziconstrucciones......"]
[]
[null,null,null,null,"CERTIFICADO  DE OBRA                            Nº ",{"$f":"B5","v":1},null,{"$f":"'Diagrama de GANTT'!D5","v":"obra1"},"..vivienda sr. Chaia...."]
[null,{"$f":"MAX((A11:A12=H9)*(B11:B12))","v":5},"meses",null,"FECHA:",{"$f":"TODAY()","v":"2015-11-12"},null,"Ciudad:......","....Córdoba..........",null,null,"corregir Obra, Ciudad y Provincia escritos"]
[{"$f":"'Diagrama de GANTT'!G1","v":"obra1"},{"$f":"'Costos grales.'!E6","v":5},null,null,"CONTRATISTA: …Invernizziconstrucciones......",null,null,"Provincia:.....",".......Córdoba............"]
[{"$f":"'Diagrama de GANTT'!G2","v":"obra2"},{"$f":"'Costos grales.'!R6","v":3},null,null,"PRESUPUESTO:",{"$f":"'Impuestos y presupuesto'!P28","v":1876877.1502861069}]
[null,null,null,null,"ANTICIPO FINANCIERO:",{"$f":"'Flujo de caja'!E22","v":148721.16106845278},0.1,"FECHA DE INICIO: ",null,"2014-12-17"]
[null,null,null,null,"PLAZO DE OBRA: ",{"$f":"B10","v":5},{"$f":"C10","v":"meses"},"FECHA TERMINAC:",null,{"$f":"DATE(YEAR(J13),MONTH(J13)+F14,DAY(J13))","v":"2015-05-17"},null,"corregir fechas inicio  y verifique terminacion"]
[null,null,null,"ITEM","DESCRIPCION  ITEM","VALOR ITEM","PORCENTAJE EJECUTADO   %",null,null,"IMPORTE A PAGAR"]
[null,null,null,null,null,null,"% ANTERIOR","% PRESENTE","% TOTAL"]
[null,null,null,{"$f":"'Impuestos y presupuesto'!R11","v":1},{"$f":"'Impuestos y presupuesto'!S11","v":"Trabajos preliminares"},{"$f":"'Impuestos y presupuesto'!T11","v":40454.751138821106},{"$f":"IF($B$4+1>1,VLOOKUP(D17,'Diagrama de GANTT'!$B$6:$N$57,4,FALSE),0)+IF($B$4+1>2,VLOOKUP(D17,'Diagrama de GANTT'!$B$6:$N$57,6,FALSE),0)+IF($B$4+1>3,VLOOKUP(D17,'Diagrama de GANTT'!$B$6:$N$57,8,FALSE),0)+IF($B$4+1>4,VLOOKUP(D17,'Diagrama de GANTT'!$B$6:$N$57,10,FALSE),0)+IF($B$4+1>5,VLOOKUP(D17,'Diagrama de GANTT'!$B$6:$N$57,12,FALSE),0)","v":0},{"$f":"IF($F$9=1,VLOOKUP(D17,'Diagrama de GANTT'!$B$6:$N$57,4,FALSE),0)+IF($F$9=2,VLOOKUP(D17,'Diagrama de GANTT'!$B$6:$N$57,6,FALSE),0)+IF($F$9=3,VLOOKUP(D17,'Diagrama de GANTT'!$B$6:$N$57,8,FALSE),0)+IF($F$9=4,VLOOKUP(D17,'Diagrama de GANTT'!$B$6:$N$57,10,FALSE),0)+IF($F$9=5,VLOOKUP(D17,'Diagrama de GANTT'!$B$6:$N$57,12,FALSE),0)","v":1},{"$f":"G17+H17","v":1},{"$f":"F17*H17","v":40454.751138821106}]
[null,null,null,{"$f":"'Impuestos y presupuesto'!R12","v":2},{"$f":"'Impuestos y presupuesto'!S12","v":"Procedimientos y cumplimientos"},{"$f":"'Impuestos y presupuesto'!T12","v":4474.1021644981683},{"$f":"IF($B$4+1>1,VLOOKUP(D18,'Diagrama de GANTT'!$B$6:$N$57,4,FALSE),0)+IF($B$4+1>2,VLOOKUP(D18,'Diagrama de GANTT'!$B$6:$N$57,6,FALSE),0)+IF($B$4+1>3,VLOOKUP(D18,'Diagrama de GANTT'!$B$6:$N$57,8,FALSE),0)+IF($B$4+1>4,VLOOKUP(D18,'Diagrama de GANTT'!$B$6:$N$57,10,FALSE),0)+IF($B$4+1>5,VLOOKUP(D18,'Diagrama de GANTT'!$B$6:$N$57,12,FALSE),0)","v":0},{"$f":"IF($F$9=1,VLOOKUP(D18,'Diagrama de GANTT'!$B$6:$N$57,4,FALSE),0)+IF($F$9=2,VLOOKUP(D18,'Diagrama de GANTT'!$B$6:$N$57,6,FALSE),0)+IF($F$9=3,VLOOKUP(D18,'Diagrama de GANTT'!$B$6:$N$57,8,FALSE),0)+IF($F$9=4,VLOOKUP(D18,'Diagrama de GANTT'!$B$6:$N$57,10,FALSE),0)+IF($F$9=5,VLOOKUP(D18,'Diagrama de GANTT'!$B$6:$N$57,12,FALSE),0)","v":1},{"$f":"G18+H18","v":1},{"$f":"F18*H18","v":4474.1021644981683}]
[null,null,null,{"$f":"'Impuestos y presupuesto'!R13","v":3},{"$f":"'Impuestos y presupuesto'!S13","v":"Demoliciones"},{"$f":"'Impuestos y presupuesto'!T13","v":66209.208551176009},{"$f":"IF($B$4+1>1,VLOOKUP(D19,'Diagrama de GANTT'!$B$6:$N$57,4,FALSE),0)+IF($B$4+1>2,VLOOKUP(D19,'Diagrama de GANTT'!$B$6:$N$57,6,FALSE),0)+IF($B$4+1>3,VLOOKUP(D19,'Diagrama de GANTT'!$B$6:$N$57,8,FALSE),0)+IF($B$4+1>4,VLOOKUP(D19,'Diagrama de GANTT'!$B$6:$N$57,10,FALSE),0)+IF($B$4+1>5,VLOOKUP(D19,'Diagrama de GANTT'!$B$6:$N$57,12,FALSE),0)","v":0},{"$f":"IF($F$9=1,VLOOKUP(D19,'Diagrama de GANTT'!$B$6:$N$57,4,FALSE),0)+IF($F$9=2,VLOOKUP(D19,'Diagrama de GANTT'!$B$6:$N$57,6,FALSE),0)+IF($F$9=3,VLOOKUP(D19,'Diagrama de GANTT'!$B$6:$N$57,8,FALSE),0)+IF($F$9=4,VLOOKUP(D19,'Diagrama de GANTT'!$B$6:$N$57,10,FALSE),0)+IF($F$9=5,VLOOKUP(D19,'Diagrama de GANTT'!$B$6:$N$57,12,FALSE),0)","v":1},1,66209.208551176009]
[null,null,null,{"$f":"'Impuestos y presupuesto'!R14","v":4},{"$f":"'Impuestos y presupuesto'!S14","v":"Movimientos de tierra"},{"$f":"'Impuestos y presupuesto'!T14","v":22951.655840815249},{"$f":"IF($B$4+1>1,VLOOKUP(D20,'Diagrama de GANTT'!$B$6:$N$57,4,FALSE),0)+IF($B$4+1>2,VLOOKUP(D20,'Diagrama de GANTT'!$B$6:$N$57,6,FALSE),0)+IF($B$4+1>3,VLOOKUP(D20,'Diagrama de GANTT'!$B$6:$N$57,8,FALSE),0)+IF($B$4+1>4,VLOOKUP(D20,'Diagrama de GANTT'!$B$6:$N$57,10,FALSE),0)+IF($B$4+1>5,VLOOKUP(D20,'Diagrama de GANTT'!$B$6:$N$57,12,FALSE),0)","v":0},{"$f":"IF($F$9=1,VLOOKUP(D20,'Diagrama de GANTT'!$B$6:$N$57,4,FALSE),0)+IF($F$9=2,VLOOKUP(D20,'Diagrama de GANTT'!$B$6:$N$57,6,FALSE),0)+IF($F$9=3,VLOOKUP(D20,'Diagrama de GANTT'!$B$6:$N$57,8,FALSE),0)+IF($F$9=4,VLOOKUP(D20,'Diagrama de GANTT'!$B$6:$N$57,10,FALSE),0)+IF($F$9=5,VLOOKUP(D20,'Diagrama de GANTT'!$B$6:$N$57,12,FALSE),0)","v":0.36599999999999999},0.36599999999999999,8400.3060377383808]
[null,null,null,{"$f":"'Impuestos y presupuesto'!R15","v":5},{"$f":"'Impuestos y presupuesto'!S15","v":"Estructuras de hormigón armado"},{"$f":"'Impuestos y presupuesto'!T15","v":249848.16429571583},{"$f":"IF($B$4+1>1,VLOOKUP(D21,'Diagrama de GANTT'!$B$6:$N$57,4,FALSE),0)+IF($B$4+1>2,VLOOKUP(D21,'Diagrama de GANTT'!$B$6:$N$57,6,FALSE),0)+IF($B$4+1>3,VLOOKUP(D21,'Diagrama de GANTT'!$B$6:$N$57,8,FALSE),0)+IF($B$4+1>4,VLOOKUP(D21,'Diagrama de GANTT'!$B$6:$N$57,10,FALSE),0)+IF($B$4+1>5,VLOOKUP(D21,'Diagrama de GANTT'!$B$6:$N$57,12,FALSE),0)","v":0},{"$f":"IF($F$9=1,VLOOKUP(D21,'Diagrama de GANTT'!$B$6:$N$57,4,FALSE),0)+IF($F$9=2,VLOOKUP(D21,'Diagrama de GANTT'!$B$6:$N$57,6,FALSE),0)+IF($F$9=3,VLOOKUP(D21,'Diagrama de GANTT'!$B$6:$N$57,8,FALSE),0)+IF($F$9=4,VLOOKUP(D21,'Diagrama de GANTT'!$B$6:$N$57,10,FALSE),0)+IF($F$9=5,VLOOKUP(D21,'Diagrama de GANTT'!$B$6:$N$57,12,FALSE),0)","v":0},0,0]
[null,null,null,{"$f":"'Impuestos y presupuesto'!R16","v":6},{"$f":"'Impuestos y presupuesto'!S16","v":"Estructuras metálicas"},{"$f":"'Impuestos y presupuesto'!T16","v":0},{"$f":"IF($B$4+1>1,VLOOKUP(D22,'Diagrama de GANTT'!$B$6:$N$57,4,FALSE),0)+IF($B$4+1>2,VLOOKUP(D22,'Diagrama de GANTT'!$B$6:$N$57,6,FALSE),0)+IF($B$4+1>3,VLOOKUP(D22,'Diagrama de GANTT'!$B$6:$N$57,8,FALSE),0)+IF($B$4+1>4,VLOOKUP(D22,'Diagrama de GANTT'!$B$6:$N$57,10,FALSE),0)+IF($B$4+1>5,VLOOKUP(D22,'Diagrama de GANTT'!$B$6:$N$57,12,FALSE),0)","v":0},{"$f":"IF($F$9=1,VLOOKUP(D22,'Diagrama de GANTT'!$B$6:$N$57,4,FALSE),0)+IF($F$9=2,VLOOKUP(D22,'Diagrama de GANTT'!$B$6:$N$57,6,FALSE),0)+IF($F$9=3,VLOOKUP(D22,'Diagrama de GANTT'!$B$6:$N$57,8,FALSE),0)+IF($F$9=4,VLOOKUP(D22,'Diagrama de GANTT'!$B$6:$N$57,10,FALSE),0)+IF($F$9=5,VLOOKUP(D22,'Diagrama de GANTT'!$B$6:$N$57,12,FALSE),0)","v":0},0,0]
[null,null,null,{"$f":"'Impuestos y presupuesto'!R17","v":7},{"$f":"'Impuestos y presupuesto'!S17","v":"Mampostería"},{"$f":"'Impuestos y presupuesto'!T17","v":157832.99325924434},{"$f":"IF($B$4+1>1,VLOOKUP(D23,'Diagrama de GANTT'!$B$6:$N$57,4,FALSE),0)+IF($B$4+1>2,VLOOKUP(D23,'Diagrama de GANTT'!$B$6:$N$57,6,FALSE),0)+IF($B$4+1>3,VLOOKUP(D23,'Diagrama de GANTT'!$B$6:$N$57,8,FALSE),0)+IF($B$4+1>4,VLOOKUP(D23,'Diagrama de GANTT'!$B$6:$N$57,10,FALSE),0)+IF($B$4+1>5,VLOOKUP(D23,'Diagrama de GANTT'!$B$6:$N$57,12,FALSE),0)","v":0},{"$f":"IF($F$9=1,VLOOKUP(D23,'Diagrama de GANTT'!$B$6:$N$57,4,FALSE),0)+IF($F$9=2,VLOOKUP(D23,'Diagrama de GANTT'!$B$6:$N$57,6,FALSE),0)+IF($F$9=3,VLOOKUP(D23,'Diagrama de GANTT'!$B$6:$N$57,8,FALSE),0)+IF($F$9=4,VLOOKUP(D23,'Diagrama de GANTT'!$B$6:$N$57,10,FALSE),0)+IF($F$9=5,VLOOKUP(D23,'Diagrama de GANTT'!$B$6:$N$57,12,FALSE),0)","v":0.15},0.15,23674.948988886648]
[null,null,null,{"$f":"'Impuestos y presupuesto'!R18","v":8},{"$f":"'Impuestos y presupuesto'!S18","v":"Construcción con placas de roca de yeso"},{"$f":"'Impuestos y presupuesto'!T18","v":0},{"$f":"IF($B$4+1>1,VLOOKUP(D24,'Diagrama de GANTT'!$B$6:$N$57,4,FALSE),0)+IF($B$4+1>2,VLOOKUP(D24,'Diagrama de GANTT'!$B$6:$N$57,6,FALSE),0)+IF($B$4+1>3,VLOOKUP(D24,'Diagrama de GANTT'!$B$6:$N$57,8,FALSE),0)+IF($B$4+1>4,VLOOKUP(D24,'Diagrama de GANTT'!$B$6:$N$57,10,FALSE),0)+IF($B$4+1>5,VLOOKUP(D24,'Diagrama de GANTT'!$B$6:$N$57,12,FALSE),0)","v":0},{"$f":"IF($F$9=1,VLOOKUP(D24,'Diagrama de GANTT'!$B$6:$N$57,4,FALSE),0)+IF($F$9=2,VLOOKUP(D24,'Diagrama de GANTT'!$B$6:$N$57,6,FALSE),0)+IF($F$9=3,VLOOKUP(D24,'Diagrama de GANTT'!$B$6:$N$57,8,FALSE),0)+IF($F$9=4,VLOOKUP(D24,'Diagrama de GANTT'!$B$6:$N$57,10,FALSE),0)+IF($F$9=5,VLOOKUP(D24,'Diagrama de GANTT'!$B$6:$N$57,12,FALSE),0)","v":0},0,0]
[null,null,null,{"$f":"'Impuestos y presupuesto'!R19","v":9},{"$f":"'Impuestos y presupuesto'!S19","v":"Aislaciones"},{"$f":"'Impuestos y presupuesto'!T19","v":21477.220155464765},{"$f":"IF($B$4+1>1,VLOOKUP(D25,'Diagrama de GANTT'!$B$6:$N$57,4,FALSE),0)+IF($B$4+1>2,VLOOKUP(D25,'Diagrama de GANTT'!$B$6:$N$57,6,FALSE),0)+IF($B$4+1>3,VLOOKUP(D25,'Diagrama de GANTT'!$B$6:$N$57,8,FALSE),0)+IF($B$4+1>4,VLOOKUP(D25,'Diagrama de GANTT'!$B$6:$N$57,10,FALSE),0)+IF($B$4+1>5,VLOOKUP(D25,'Diagrama de GANTT'!$B$6:$N$57,12,FALSE),0)","v":0},{"$f":"IF($F$9=1,VLOOKUP(D25,'Diagrama de GANTT'!$B$6:$N$57,4,FALSE),0)+IF($F$9=2,VLOOKUP(D25,'Diagrama de GANTT'!$B$6:$N$57,6,FALSE),0)+IF($F$9=3,VLOOKUP(D25,'Diagrama de GANTT'!$B$6:$N$57,8,FALSE),0)+IF($F$9=4,VLOOKUP(D25,'Diagrama de GANTT'!$B$6:$N$57,10,FALSE),0)+IF($F$9=5,VLOOKUP(D25,'Diagrama de GANTT'!$B$6:$N$57,12,FALSE),0)","v":0.8},0.8,17181.776124371812]
[null,null,null,{"$f":"'Impuestos y presupuesto'!R20","v":10},{"$f":"'Impuestos y presupuesto'!S20","v":"Cubiertas "},{"$f":"'Impuestos y presupuesto'!T20","v":161803.92504480691},{"$f":"IF($B$4+1>1,VLOOKUP(D26,'Diagrama de GANTT'!$B$6:$N$57,4,FALSE),0)+IF($B$4+1>2,VLOOKUP(D26,'Diagrama de GANTT'!$B$6:$N$57,6,FALSE),0)+IF($B$4+1>3,VLOOKUP(D26,'Diagrama de GANTT'!$B$6:$N$57,8,FALSE),0)+IF($B$4+1>4,VLOOKUP(D26,'Diagrama de GANTT'!$B$6:$N$57,10,FALSE),0)+IF($B$4+1>5,VLOOKUP(D26,'Diagrama de GANTT'!$B$6:$N$57,12,FALSE),0)","v":0},{"$f":"IF($F$9=1,VLOOKUP(D26,'Diagrama de GANTT'!$B$6:$N$57,4,FALSE),0)+IF($F$9=2,VLOOKUP(D26,'Diagrama de GANTT'!$B$6:$N$57,6,FALSE),0)+IF($F$9=3,VLOOKUP(D26,'Diagrama de GANTT'!$B$6:$N$57,8,FALSE),0)+IF($F$9=4,VLOOKUP(D26,'Diagrama de GANTT'!$B$6:$N$57,10,FALSE),0)+IF($F$9=5,VLOOKUP(D26,'Diagrama de GANTT'!$B$6:$N$57,12,FALSE),0)","v":0},0,0]
[null,null,null,{"$f":"'Impuestos y presupuesto'!R21","v":11},{"$f":"'Impuestos y presupuesto'!S21","v":"Contrapiso"},{"$f":"'Impuestos y presupuesto'!T21","v":71587.298190904097},{"$f":"IF($B$4+1>1,VLOOKUP(D27,'Diagrama de GANTT'!$B$6:$N$57,4,FALSE),0)+IF($B$4+1>2,VLOOKUP(D27,'Diagrama de GANTT'!$B$6:$N$57,6,FALSE),0)+IF($B$4+1>3,VLOOKUP(D27,'Diagrama de GANTT'!$B$6:$N$57,8,FALSE),0)+IF($B$4+1>4,VLOOKUP(D27,'Diagrama de GANTT'!$B$6:$N$57,10,FALSE),0)+IF($B$4+1>5,VLOOKUP(D27,'Diagrama de GANTT'!$B$6:$N$57,12,FALSE),0)","v":0},{"$f":"IF($F$9=1,VLOOKUP(D27,'Diagrama de GANTT'!$B$6:$N$57,4,FALSE),0)+IF($F$9=2,VLOOKUP(D27,'Diagrama de GANTT'!$B$6:$N$57,6,FALSE),0)+IF($F$9=3,VLOOKUP(D27,'Diagrama de GANTT'!$B$6:$N$57,8,FALSE),0)+IF($F$9=4,VLOOKUP(D27,'Diagrama de GANTT'!$B$6:$N$57,10,FALSE),0)+IF($F$9=5,VLOOKUP(D27,'Diagrama de GANTT'!$B$6:$N$57,12,FALSE),0)","v":0},0,0]
[null,null,null,{"$f":"'Impuestos y presupuesto'!R22","v":12},{"$f":"'Impuestos y presupuesto'!S22","v":"Carpetas"},{"$f":"'Impuestos y presupuesto'!T22","v":26557.005844978121},{"$f":"IF($B$4+1>1,VLOOKUP(D28,'Diagrama de GANTT'!$B$6:$N$57,4,FALSE),0)+IF($B$4+1>2,VLOOKUP(D28,'Diagrama de GANTT'!$B$6:$N$57,6,FALSE),0)+IF($B$4+1>3,VLOOKUP(D28,'Diagrama de GANTT'!$B$6:$N$57,8,FALSE),0)+IF($B$4+1>4,VLOOKUP(D28,'Diagrama de GANTT'!$B$6:$N$57,10,FALSE),0)+IF($B$4+1>5,VLOOKUP(D28,'Diagrama de GANTT'!$B$6:$N$57,12,FALSE),0)","v":0},{"$f":"IF($F$9=1,VLOOKUP(D28,'Diagrama de GANTT'!$B$6:$N$57,4,FALSE),0)+IF($F$9=2,VLOOKUP(D28,'Diagrama de GANTT'!$B$6:$N$57,6,FALSE),0)+IF($F$9=3,VLOOKUP(D28,'Diagrama de GANTT'!$B$6:$N$57,8,FALSE),0)+IF($F$9=4,VLOOKUP(D28,'Diagrama de GANTT'!$B$6:$N$57,10,FALSE),0)+IF($F$9=5,VLOOKUP(D28,'Diagrama de GANTT'!$B$6:$N$57,12,FALSE),0)","v":0},0,0]
[null,null,null,{"$f":"'Impuestos y presupuesto'!R23","v":13},{"$f":"'Impuestos y presupuesto'!S23","v":"Revoques"},{"$f":"'Impuestos y presupuesto'!T23","v":139026.5333755904},{"$f":"IF($B$4+1>1,VLOOKUP(D29,'Diagrama de GANTT'!$B$6:$N$57,4,FALSE),0)+IF($B$4+1>2,VLOOKUP(D29,'Diagrama de GANTT'!$B$6:$N$57,6,FALSE),0)+IF($B$4+1>3,VLOOKUP(D29,'Diagrama de GANTT'!$B$6:$N$57,8,FALSE),0)+IF($B$4+1>4,VLOOKUP(D29,'Diagrama de GANTT'!$B$6:$N$57,10,FALSE),0)+IF($B$4+1>5,VLOOKUP(D29,'Diagrama de GANTT'!$B$6:$N$57,12,FALSE),0)","v":0},{"$f":"IF($F$9=1,VLOOKUP(D29,'Diagrama de GANTT'!$B$6:$N$57,4,FALSE),0)+IF($F$9=2,VLOOKUP(D29,'Diagrama de GANTT'!$B$6:$N$57,6,FALSE),0)+IF($F$9=3,VLOOKUP(D29,'Diagrama de GANTT'!$B$6:$N$57,8,FALSE),0)+IF($F$9=4,VLOOKUP(D29,'Diagrama de GANTT'!$B$6:$N$57,10,FALSE),0)+IF($F$9=5,VLOOKUP(D29,'Diagrama de GANTT'!$B$6:$N$57,12,FALSE),0)","v":0},0,0]
[null,null,null,{"$f":"'Impuestos y presupuesto'!R24","v":14},{"$f":"'Impuestos y presupuesto'!S24","v":"Revestimientos"},{"$f":"'Impuestos y presupuesto'!T24","v":15414.313206252451},{"$f":"IF($B$4+1>1,VLOOKUP(D30,'Diagrama de GANTT'!$B$6:$N$57,4,FALSE),0)+IF($B$4+1>2,VLOOKUP(D30,'Diagrama de GANTT'!$B$6:$N$57,6,FALSE),0)+IF($B$4+1>3,VLOOKUP(D30,'Diagrama de GANTT'!$B$6:$N$57,8,FALSE),0)+IF($B$4+1>4,VLOOKUP(D30,'Diagrama de GANTT'!$B$6:$N$57,10,FALSE),0)+IF($B$4+1>5,VLOOKUP(D30,'Diagrama de GANTT'!$B$6:$N$57,12,FALSE),0)","v":0},{"$f":"IF($F$9=1,VLOOKUP(D30,'Diagrama de GANTT'!$B$6:$N$57,4,FALSE),0)+IF($F$9=2,VLOOKUP(D30,'Diagrama de GANTT'!$B$6:$N$57,6,FALSE),0)+IF($F$9=3,VLOOKUP(D30,'Diagrama de GANTT'!$B$6:$N$57,8,FALSE),0)+IF($F$9=4,VLOOKUP(D30,'Diagrama de GANTT'!$B$6:$N$57,10,FALSE),0)+IF($F$9=5,VLOOKUP(D30,'Diagrama de GANTT'!$B$6:$N$57,12,FALSE),0)","v":0},0,0]
[null,null,null,{"$f":"'Impuestos y presupuesto'!R25","v":15},{"$f":"'Impuestos y presupuesto'!S25","v":"Cielorrasos"},{"$f":"'Impuestos y presupuesto'!T25","v":36848.67559297353},{"$f":"IF($B$4+1>1,VLOOKUP(D31,'Diagrama de GANTT'!$B$6:$N$57,4,FALSE),0)+IF($B$4+1>2,VLOOKUP(D31,'Diagrama de GANTT'!$B$6:$N$57,6,FALSE),0)+IF($B$4+1>3,VLOOKUP(D31,'Diagrama de GANTT'!$B$6:$N$57,8,FALSE),0)+IF($B$4+1>4,VLOOKUP(D31,'Diagrama de GANTT'!$B$6:$N$57,10,FALSE),0)+IF($B$4+1>5,VLOOKUP(D31,'Diagrama de GANTT'!$B$6:$N$57,12,FALSE),0)","v":0},{"$f":"IF($F$9=1,VLOOKUP(D31,'Diagrama de GANTT'!$B$6:$N$57,4,FALSE),0)+IF($F$9=2,VLOOKUP(D31,'Diagrama de GANTT'!$B$6:$N$57,6,FALSE),0)+IF($F$9=3,VLOOKUP(D31,'Diagrama de GANTT'!$B$6:$N$57,8,FALSE),0)+IF($F$9=4,VLOOKUP(D31,'Diagrama de GANTT'!$B$6:$N$57,10,FALSE),0)+IF($F$9=5,VLOOKUP(D31,'Diagrama de GANTT'!$B$6:$N$57,12,FALSE),0)","v":0},0,0]
[null,null,null,{"$f":"'Impuestos y presupuesto'!R26","v":16},{"$f":"'Impuestos y presupuesto'!S26","v":"Yeseria"},{"$f":"'Impuestos y presupuesto'!T26","v":0},{"$f":"IF($B$4+1>1,VLOOKUP(D32,'Diagrama de GANTT'!$B$6:$N$57,4,FALSE),0)+IF($B$4+1>2,VLOOKUP(D32,'Diagrama de GANTT'!$B$6:$N$57,6,FALSE),0)+IF($B$4+1>3,VLOOKUP(D32,'Diagrama de GANTT'!$B$6:$N$57,8,FALSE),0)+IF($B$4+1>4,VLOOKUP(D32,'Diagrama de GANTT'!$B$6:$N$57,10,FALSE),0)+IF($B$4+1>5,VLOOKUP(D32,'Diagrama de GANTT'!$B$6:$N$57,12,FALSE),0)","v":0},{"$f":"IF($F$9=1,VLOOKUP(D32,'Diagrama de GANTT'!$B$6:$N$57,4,FALSE),0)+IF($F$9=2,VLOOKUP(D32,'Diagrama de GANTT'!$B$6:$N$57,6,FALSE),0)+IF($F$9=3,VLOOKUP(D32,'Diagrama de GANTT'!$B$6:$N$57,8,FALSE),0)+IF($F$9=4,VLOOKUP(D32,'Diagrama de GANTT'!$B$6:$N$57,10,FALSE),0)+IF($F$9=5,VLOOKUP(D32,'Diagrama de GANTT'!$B$6:$N$57,12,FALSE),0)","v":0},0,0]
[null,null,null,{"$f":"'Impuestos y presupuesto'!R27","v":17},{"$f":"'Impuestos y presupuesto'!S27","v":"Solados"},{"$f":"'Impuestos y presupuesto'!T27","v":80774.20885938064},{"$f":"IF($B$4+1>1,VLOOKUP(D33,'Diagrama de GANTT'!$B$6:$N$57,4,FALSE),0)+IF($B$4+1>2,VLOOKUP(D33,'Diagrama de GANTT'!$B$6:$N$57,6,FALSE),0)+IF($B$4+1>3,VLOOKUP(D33,'Diagrama de GANTT'!$B$6:$N$57,8,FALSE),0)+IF($B$4+1>4,VLOOKUP(D33,'Diagrama de GANTT'!$B$6:$N$57,10,FALSE),0)+IF($B$4+1>5,VLOOKUP(D33,'Diagrama de GANTT'!$B$6:$N$57,12,FALSE),0)","v":0},{"$f":"IF($F$9=1,VLOOKUP(D33,'Diagrama de GANTT'!$B$6:$N$57,4,FALSE),0)+IF($F$9=2,VLOOKUP(D33,'Diagrama de GANTT'!$B$6:$N$57,6,FALSE),0)+IF($F$9=3,VLOOKUP(D33,'Diagrama de GANTT'!$B$6:$N$57,8,FALSE),0)+IF($F$9=4,VLOOKUP(D33,'Diagrama de GANTT'!$B$6:$N$57,10,FALSE),0)+IF($F$9=5,VLOOKUP(D33,'Diagrama de GANTT'!$B$6:$N$57,12,FALSE),0)","v":0},0,0]
[null,null,null,{"$f":"'Impuestos y presupuesto'!R28","v":18},{"$f":"'Impuestos y presupuesto'!S28","v":"Pisos especiales"},{"$f":"'Impuestos y presupuesto'!T28","v":0},{"$f":"IF($B$4+1>1,VLOOKUP(D34,'Diagrama de GANTT'!$B$6:$N$57,4,FALSE),0)+IF($B$4+1>2,VLOOKUP(D34,'Diagrama de GANTT'!$B$6:$N$57,6,FALSE),0)+IF($B$4+1>3,VLOOKUP(D34,'Diagrama de GANTT'!$B$6:$N$57,8,FALSE),0)+IF($B$4+1>4,VLOOKUP(D34,'Diagrama de GANTT'!$B$6:$N$57,10,FALSE),0)+IF($B$4+1>5,VLOOKUP(D34,'Diagrama de GANTT'!$B$6:$N$57,12,FALSE),0)","v":0},{"$f":"IF($F$9=1,VLOOKUP(D34,'Diagrama de GANTT'!$B$6:$N$57,4,FALSE),0)+IF($F$9=2,VLOOKUP(D34,'Diagrama de GANTT'!$B$6:$N$57,6,FALSE),0)+IF($F$9=3,VLOOKUP(D34,'Diagrama de GANTT'!$B$6:$N$57,8,FALSE),0)+IF($F$9=4,VLOOKUP(D34,'Diagrama de GANTT'!$B$6:$N$57,10,FALSE),0)+IF($F$9=5,VLOOKUP(D34,'Diagrama de GANTT'!$B$6:$N$57,12,FALSE),0)","v":0},0,0]
[null,null,null,{"$f":"'Impuestos y presupuesto'!R29","v":19},{"$f":"'Impuestos y presupuesto'!S29","v":"Escaleras"},{"$f":"'Impuestos y presupuesto'!T29","v":0},{"$f":"IF($B$4+1>1,VLOOKUP(D35,'Diagrama de GANTT'!$B$6:$N$57,4,FALSE),0)+IF($B$4+1>2,VLOOKUP(D35,'Diagrama de GANTT'!$B$6:$N$57,6,FALSE),0)+IF($B$4+1>3,VLOOKUP(D35,'Diagrama de GANTT'!$B$6:$N$57,8,FALSE),0)+IF($B$4+1>4,VLOOKUP(D35,'Diagrama de GANTT'!$B$6:$N$57,10,FALSE),0)+IF($B$4+1>5,VLOOKUP(D35,'Diagrama de GANTT'!$B$6:$N$57,12,FALSE),0)","v":0},{"$f":"IF($F$9=1,VLOOKUP(D35,'Diagrama de GANTT'!$B$6:$N$57,4,FALSE),0)+IF($F$9=2,VLOOKUP(D35,'Diagrama de GANTT'!$B$6:$N$57,6,FALSE),0)+IF($F$9=3,VLOOKUP(D35,'Diagrama de GANTT'!$B$6:$N$57,8,FALSE),0)+IF($F$9=4,VLOOKUP(D35,'Diagrama de GANTT'!$B$6:$N$57,10,FALSE),0)+IF($F$9=5,VLOOKUP(D35,'Diagrama de GANTT'!$B$6:$N$57,12,FALSE),0)","v":0},0,0]
[null,null,null,{"$f":"'Impuestos y presupuesto'!R30","v":20},{"$f":"'Impuestos y presupuesto'!S30","v":"Zócalos"},{"$f":"'Impuestos y presupuesto'!T30","v":27456.397780062707},{"$f":"IF($B$4+1>1,VLOOKUP(D36,'Diagrama de GANTT'!$B$6:$N$57,4,FALSE),0)+IF($B$4+1>2,VLOOKUP(D36,'Diagrama de GANTT'!$B$6:$N$57,6,FALSE),0)+IF($B$4+1>3,VLOOKUP(D36,'Diagrama de GANTT'!$B$6:$N$57,8,FALSE),0)+IF($B$4+1>4,VLOOKUP(D36,'Diagrama de GANTT'!$B$6:$N$57,10,FALSE),0)+IF($B$4+1>5,VLOOKUP(D36,'Diagrama de GANTT'!$B$6:$N$57,12,FALSE),0)","v":0},{"$f":"IF($F$9=1,VLOOKUP(D36,'Diagrama de GANTT'!$B$6:$N$57,4,FALSE),0)+IF($F$9=2,VLOOKUP(D36,'Diagrama de GANTT'!$B$6:$N$57,6,FALSE),0)+IF($F$9=3,VLOOKUP(D36,'Diagrama de GANTT'!$B$6:$N$57,8,FALSE),0)+IF($F$9=4,VLOOKUP(D36,'Diagrama de GANTT'!$B$6:$N$57,10,FALSE),0)+IF($F$9=5,VLOOKUP(D36,'Diagrama de GANTT'!$B$6:$N$57,12,FALSE),0)","v":0},0,0]
[null,null,null,{"$f":"'Impuestos y presupuesto'!R31","v":21},{"$f":"'Impuestos y presupuesto'!S31","v":"Marmoleria"},{"$f":"'Impuestos y presupuesto'!T31","v":18010.92487654855},{"$f":"IF($B$4+1>1,VLOOKUP(D37,'Diagrama de GANTT'!$B$6:$N$57,4,FALSE),0)+IF($B$4+1>2,VLOOKUP(D37,'Diagrama de GANTT'!$B$6:$N$57,6,FALSE),0)+IF($B$4+1>3,VLOOKUP(D37,'Diagrama de GANTT'!$B$6:$N$57,8,FALSE),0)+IF($B$4+1>4,VLOOKUP(D37,'Diagrama de GANTT'!$B$6:$N$57,10,FALSE),0)+IF($B$4+1>5,VLOOKUP(D37,'Diagrama de GANTT'!$B$6:$N$57,12,FALSE),0)","v":0},{"$f":"IF($F$9=1,VLOOKUP(D37,'Diagrama de GANTT'!$B$6:$N$57,4,FALSE),0)+IF($F$9=2,VLOOKUP(D37,'Diagrama de GANTT'!$B$6:$N$57,6,FALSE),0)+IF($F$9=3,VLOOKUP(D37,'Diagrama de GANTT'!$B$6:$N$57,8,FALSE),0)+IF($F$9=4,VLOOKUP(D37,'Diagrama de GANTT'!$B$6:$N$57,10,FALSE),0)+IF($F$9=5,VLOOKUP(D37,'Diagrama de GANTT'!$B$6:$N$57,12,FALSE),0)","v":0},0,0]
[null,null,null,{"$f":"'Impuestos y presupuesto'!R32","v":22},{"$f":"'Impuestos y presupuesto'!S32","v":"Pinturas"},{"$f":"'Impuestos y presupuesto'!T32","v":104414.47324484297},{"$f":"IF($B$4+1>1,VLOOKUP(D38,'Diagrama de GANTT'!$B$6:$N$57,4,FALSE),0)+IF($B$4+1>2,VLOOKUP(D38,'Diagrama de GANTT'!$B$6:$N$57,6,FALSE),0)+IF($B$4+1>3,VLOOKUP(D38,'Diagrama de GANTT'!$B$6:$N$57,8,FALSE),0)+IF($B$4+1>4,VLOOKUP(D38,'Diagrama de GANTT'!$B$6:$N$57,10,FALSE),0)+IF($B$4+1>5,VLOOKUP(D38,'Diagrama de GANTT'!$B$6:$N$57,12,FALSE),0)","v":0},{"$f":"IF($F$9=1,VLOOKUP(D38,'Diagrama de GANTT'!$B$6:$N$57,4,FALSE),0)+IF($F$9=2,VLOOKUP(D38,'Diagrama de GANTT'!$B$6:$N$57,6,FALSE),0)+IF($F$9=3,VLOOKUP(D38,'Diagrama de GANTT'!$B$6:$N$57,8,FALSE),0)+IF($F$9=4,VLOOKUP(D38,'Diagrama de GANTT'!$B$6:$N$57,10,FALSE),0)+IF($F$9=5,VLOOKUP(D38,'Diagrama de GANTT'!$B$6:$N$57,12,FALSE),0)","v":0},0,0]
[null,null,null,{"$f":"'Impuestos y presupuesto'!R33","v":23},{"$f":"'Impuestos y presupuesto'!S33","v":"Artefactos Sanitarios - Accesorios Griferías"},{"$f":"'Impuestos y presupuesto'!T33","v":4488.607224317042},{"$f":"IF($B$4+1>1,VLOOKUP(D39,'Diagrama de GANTT'!$B$6:$N$57,4,FALSE),0)+IF($B$4+1>2,VLOOKUP(D39,'Diagrama de GANTT'!$B$6:$N$57,6,FALSE),0)+IF($B$4+1>3,VLOOKUP(D39,'Diagrama de GANTT'!$B$6:$N$57,8,FALSE),0)+IF($B$4+1>4,VLOOKUP(D39,'Diagrama de GANTT'!$B$6:$N$57,10,FALSE),0)+IF($B$4+1>5,VLOOKUP(D39,'Diagrama de GANTT'!$B$6:$N$57,12,FALSE),0)","v":0},{"$f":"IF($F$9=1,VLOOKUP(D39,'Diagrama de GANTT'!$B$6:$N$57,4,FALSE),0)+IF($F$9=2,VLOOKUP(D39,'Diagrama de GANTT'!$B$6:$N$57,6,FALSE),0)+IF($F$9=3,VLOOKUP(D39,'Diagrama de GANTT'!$B$6:$N$57,8,FALSE),0)+IF($F$9=4,VLOOKUP(D39,'Diagrama de GANTT'!$B$6:$N$57,10,FALSE),0)+IF($F$9=5,VLOOKUP(D39,'Diagrama de GANTT'!$B$6:$N$57,12,FALSE),0)","v":0},0,0]
[null,null,null,{"$f":"'Impuestos y presupuesto'!R34","v":24},{"$f":"'Impuestos y presupuesto'!S34","v":"Carpinterías Metálicas"},{"$f":"'Impuestos y presupuesto'!T34","v":4428.1354783102397},{"$f":"IF($B$4+1>1,VLOOKUP(D40,'Diagrama de GANTT'!$B$6:$N$57,4,FALSE),0)+IF($B$4+1>2,VLOOKUP(D40,'Diagrama de GANTT'!$B$6:$N$57,6,FALSE),0)+IF($B$4+1>3,VLOOKUP(D40,'Diagrama de GANTT'!$B$6:$N$57,8,FALSE),0)+IF($B$4+1>4,VLOOKUP(D40,'Diagrama de GANTT'!$B$6:$N$57,10,FALSE),0)+IF($B$4+1>5,VLOOKUP(D40,'Diagrama de GANTT'!$B$6:$N$57,12,FALSE),0)","v":0},{"$f":"IF($F$9=1,VLOOKUP(D40,'Diagrama de GANTT'!$B$6:$N$57,4,FALSE),0)+IF($F$9=2,VLOOKUP(D40,'Diagrama de GANTT'!$B$6:$N$57,6,FALSE),0)+IF($F$9=3,VLOOKUP(D40,'Diagrama de GANTT'!$B$6:$N$57,8,FALSE),0)+IF($F$9=4,VLOOKUP(D40,'Diagrama de GANTT'!$B$6:$N$57,10,FALSE),0)+IF($F$9=5,VLOOKUP(D40,'Diagrama de GANTT'!$B$6:$N$57,12,FALSE),0)","v":0},0,0]
[null,null,null,{"$f":"'Impuestos y presupuesto'!R35","v":25},{"$f":"'Impuestos y presupuesto'!S35","v":"Carpinterías de madera"},{"$f":"'Impuestos y presupuesto'!T35","v":0},{"$f":"IF($B$4+1>1,VLOOKUP(D41,'Diagrama de GANTT'!$B$6:$N$57,4,FALSE),0)+IF($B$4+1>2,VLOOKUP(D41,'Diagrama de GANTT'!$B$6:$N$57,6,FALSE),0)+IF($B$4+1>3,VLOOKUP(D41,'Diagrama de GANTT'!$B$6:$N$57,8,FALSE),0)+IF($B$4+1>4,VLOOKUP(D41,'Diagrama de GANTT'!$B$6:$N$57,10,FALSE),0)+IF($B$4+1>5,VLOOKUP(D41,'Diagrama de GANTT'!$B$6:$N$57,12,FALSE),0)","v":0},{"$f":"IF($F$9=1,VLOOKUP(D41,'Diagrama de GANTT'!$B$6:$N$57,4,FALSE),0)+IF($F$9=2,VLOOKUP(D41,'Diagrama de GANTT'!$B$6:$N$57,6,FALSE),0)+IF($F$9=3,VLOOKUP(D41,'Diagrama de GANTT'!$B$6:$N$57,8,FALSE),0)+IF($F$9=4,VLOOKUP(D41,'Diagrama de GANTT'!$B$6:$N$57,10,FALSE),0)+IF($F$9=5,VLOOKUP(D41,'Diagrama de GANTT'!$B$6:$N$57,12,FALSE),0)","v":0},0,0]
[null,null,null,{"$f":"'Impuestos y presupuesto'!R36","v":26},{"$f":"'Impuestos y presupuesto'!S36","v":"Carpinterías de Aluminio y accesorios de fachadas"},{"$f":"'Impuestos y presupuesto'!T36","v":22036.438801749413},{"$f":"IF($B$4+1>1,VLOOKUP(D42,'Diagrama de GANTT'!$B$6:$N$57,4,FALSE),0)+IF($B$4+1>2,VLOOKUP(D42,'Diagrama de GANTT'!$B$6:$N$57,6,FALSE),0)+IF($B$4+1>3,VLOOKUP(D42,'Diagrama de GANTT'!$B$6:$N$57,8,FALSE),0)+IF($B$4+1>4,VLOOKUP(D42,'Diagrama de GANTT'!$B$6:$N$57,10,FALSE),0)+IF($B$4+1>5,VLOOKUP(D42,'Diagrama de GANTT'!$B$6:$N$57,12,FALSE),0)","v":0},{"$f":"IF($F$9=1,VLOOKUP(D42,'Diagrama de GANTT'!$B$6:$N$57,4,FALSE),0)+IF($F$9=2,VLOOKUP(D42,'Diagrama de GANTT'!$B$6:$N$57,6,FALSE),0)+IF($F$9=3,VLOOKUP(D42,'Diagrama de GANTT'!$B$6:$N$57,8,FALSE),0)+IF($F$9=4,VLOOKUP(D42,'Diagrama de GANTT'!$B$6:$N$57,10,FALSE),0)+IF($F$9=5,VLOOKUP(D42,'Diagrama de GANTT'!$B$6:$N$57,12,FALSE),0)","v":0},0,0]
[null,null,null,{"$f":"'Impuestos y presupuesto'!R37","v":27},{"$f":"'Impuestos y presupuesto'!S37","v":"Cristales"},{"$f":"'Impuestos y presupuesto'!T37","v":0},{"$f":"IF($B$4+1>1,VLOOKUP(D43,'Diagrama de GANTT'!$B$6:$N$57,4,FALSE),0)+IF($B$4+1>2,VLOOKUP(D43,'Diagrama de GANTT'!$B$6:$N$57,6,FALSE),0)+IF($B$4+1>3,VLOOKUP(D43,'Diagrama de GANTT'!$B$6:$N$57,8,FALSE),0)+IF($B$4+1>4,VLOOKUP(D43,'Diagrama de GANTT'!$B$6:$N$57,10,FALSE),0)+IF($B$4+1>5,VLOOKUP(D43,'Diagrama de GANTT'!$B$6:$N$57,12,FALSE),0)","v":0},{"$f":"IF($F$9=1,VLOOKUP(D43,'Diagrama de GANTT'!$B$6:$N$57,4,FALSE),0)+IF($F$9=2,VLOOKUP(D43,'Diagrama de GANTT'!$B$6:$N$57,6,FALSE),0)+IF($F$9=3,VLOOKUP(D43,'Diagrama de GANTT'!$B$6:$N$57,8,FALSE),0)+IF($F$9=4,VLOOKUP(D43,'Diagrama de GANTT'!$B$6:$N$57,10,FALSE),0)+IF($F$9=5,VLOOKUP(D43,'Diagrama de GANTT'!$B$6:$N$57,12,FALSE),0)","v":0},0,0]
[null,null,null,{"$f":"'Impuestos y presupuesto'!R38","v":28},{"$f":"'Impuestos y presupuesto'!S38","v":"Limpieza y ayuda de gremios"},{"$f":"'Impuestos y presupuesto'!T38","v":0},{"$f":"IF($B$4+1>1,VLOOKUP(D44,'Diagrama de GANTT'!$B$6:$N$57,4,FALSE),0)+IF($B$4+1>2,VLOOKUP(D44,'Diagrama de GANTT'!$B$6:$N$57,6,FALSE),0)+IF($B$4+1>3,VLOOKUP(D44,'Diagrama de GANTT'!$B$6:$N$57,8,FALSE),0)+IF($B$4+1>4,VLOOKUP(D44,'Diagrama de GANTT'!$B$6:$N$57,10,FALSE),0)+IF($B$4+1>5,VLOOKUP(D44,'Diagrama de GANTT'!$B$6:$N$57,12,FALSE),0)","v":0},{"$f":"IF($F$9=1,VLOOKUP(D44,'Diagrama de GANTT'!$B$6:$N$57,4,FALSE),0)+IF($F$9=2,VLOOKUP(D44,'Diagrama de GANTT'!$B$6:$N$57,6,FALSE),0)+IF($F$9=3,VLOOKUP(D44,'Diagrama de GANTT'!$B$6:$N$57,8,FALSE),0)+IF($F$9=4,VLOOKUP(D44,'Diagrama de GANTT'!$B$6:$N$57,10,FALSE),0)+IF($F$9=5,VLOOKUP(D44,'Diagrama de GANTT'!$B$6:$N$57,12,FALSE),0)","v":0},0,0]
[null,null,null,{"$f":"'Impuestos y presupuesto'!R39","v":29},{"$f":"'Impuestos y presupuesto'!S39","v":"Instalación sanitaria"},{"$f":"'Impuestos y presupuesto'!T39","v":79680.278732720588},{"$f":"IF($B$4+1>1,VLOOKUP(D45,'Diagrama de GANTT'!$B$6:$N$57,4,FALSE),0)+IF($B$4+1>2,VLOOKUP(D45,'Diagrama de GANTT'!$B$6:$N$57,6,FALSE),0)+IF($B$4+1>3,VLOOKUP(D45,'Diagrama de GANTT'!$B$6:$N$57,8,FALSE),0)+IF($B$4+1>4,VLOOKUP(D45,'Diagrama de GANTT'!$B$6:$N$57,10,FALSE),0)+IF($B$4+1>5,VLOOKUP(D45,'Diagrama de GANTT'!$B$6:$N$57,12,FALSE),0)","v":0},{"$f":"IF($F$9=1,VLOOKUP(D45,'Diagrama de GANTT'!$B$6:$N$57,4,FALSE),0)+IF($F$9=2,VLOOKUP(D45,'Diagrama de GANTT'!$B$6:$N$57,6,FALSE),0)+IF($F$9=3,VLOOKUP(D45,'Diagrama de GANTT'!$B$6:$N$57,8,FALSE),0)+IF($F$9=4,VLOOKUP(D45,'Diagrama de GANTT'!$B$6:$N$57,10,FALSE),0)+IF($F$9=5,VLOOKUP(D45,'Diagrama de GANTT'!$B$6:$N$57,12,FALSE),0)","v":0},0,0]
[null,null,null,{"$f":"'Impuestos y presupuesto'!R40","v":30},{"$f":"'Impuestos y presupuesto'!S40","v":"Instalación de Gas "},{"$f":"'Impuestos y presupuesto'!T40","v":116498.98573112613},{"$f":"IF($B$4+1>1,VLOOKUP(D46,'Diagrama de GANTT'!$B$6:$N$57,4,FALSE),0)+IF($B$4+1>2,VLOOKUP(D46,'Diagrama de GANTT'!$B$6:$N$57,6,FALSE),0)+IF($B$4+1>3,VLOOKUP(D46,'Diagrama de GANTT'!$B$6:$N$57,8,FALSE),0)+IF($B$4+1>4,VLOOKUP(D46,'Diagrama de GANTT'!$B$6:$N$57,10,FALSE),0)+IF($B$4+1>5,VLOOKUP(D46,'Diagrama de GANTT'!$B$6:$N$57,12,FALSE),0)","v":0},{"$f":"IF($F$9=1,VLOOKUP(D46,'Diagrama de GANTT'!$B$6:$N$57,4,FALSE),0)+IF($F$9=2,VLOOKUP(D46,'Diagrama de GANTT'!$B$6:$N$57,6,FALSE),0)+IF($F$9=3,VLOOKUP(D46,'Diagrama de GANTT'!$B$6:$N$57,8,FALSE),0)+IF($F$9=4,VLOOKUP(D46,'Diagrama de GANTT'!$B$6:$N$57,10,FALSE),0)+IF($F$9=5,VLOOKUP(D46,'Diagrama de GANTT'!$B$6:$N$57,12,FALSE),0)","v":0},0,0]
[null,null,null,{"$f":"'Impuestos y presupuesto'!R41","v":31},{"$f":"'Impuestos y presupuesto'!S41","v":"Instalación termomecánica "},{"$f":"'Impuestos y presupuesto'!T41","v":0},{"$f":"IF($B$4+1>1,VLOOKUP(D47,'Diagrama de GANTT'!$B$6:$N$57,4,FALSE),0)+IF($B$4+1>2,VLOOKUP(D47,'Diagrama de GANTT'!$B$6:$N$57,6,FALSE),0)+IF($B$4+1>3,VLOOKUP(D47,'Diagrama de GANTT'!$B$6:$N$57,8,FALSE),0)+IF($B$4+1>4,VLOOKUP(D47,'Diagrama de GANTT'!$B$6:$N$57,10,FALSE),0)+IF($B$4+1>5,VLOOKUP(D47,'Diagrama de GANTT'!$B$6:$N$57,12,FALSE),0)","v":0},{"$f":"IF($F$9=1,VLOOKUP(D47,'Diagrama de GANTT'!$B$6:$N$57,4,FALSE),0)+IF($F$9=2,VLOOKUP(D47,'Diagrama de GANTT'!$B$6:$N$57,6,FALSE),0)+IF($F$9=3,VLOOKUP(D47,'Diagrama de GANTT'!$B$6:$N$57,8,FALSE),0)+IF($F$9=4,VLOOKUP(D47,'Diagrama de GANTT'!$B$6:$N$57,10,FALSE),0)+IF($F$9=5,VLOOKUP(D47,'Diagrama de GANTT'!$B$6:$N$57,12,FALSE),0)","v":0},0,0]
[null,null,null,{"$f":"'Impuestos y presupuesto'!R42","v":32},{"$f":"'Impuestos y presupuesto'!S42","v":"Instalación eléctrica"},{"$f":"'Impuestos y presupuesto'!T42","v":78863.843342019914},{"$f":"IF($B$4+1>1,VLOOKUP(D48,'Diagrama de GANTT'!$B$6:$N$57,4,FALSE),0)+IF($B$4+1>2,VLOOKUP(D48,'Diagrama de GANTT'!$B$6:$N$57,6,FALSE),0)+IF($B$4+1>3,VLOOKUP(D48,'Diagrama de GANTT'!$B$6:$N$57,8,FALSE),0)+IF($B$4+1>4,VLOOKUP(D48,'Diagrama de GANTT'!$B$6:$N$57,10,FALSE),0)+IF($B$4+1>5,VLOOKUP(D48,'Diagrama de GANTT'!$B$6:$N$57,12,FALSE),0)","v":0},{"$f":"IF($F$9=1,VLOOKUP(D48,'Diagrama de GANTT'!$B$6:$N$57,4,FALSE),0)+IF($F$9=2,VLOOKUP(D48,'Diagrama de GANTT'!$B$6:$N$57,6,FALSE),0)+IF($F$9=3,VLOOKUP(D48,'Diagrama de GANTT'!$B$6:$N$57,8,FALSE),0)+IF($F$9=4,VLOOKUP(D48,'Diagrama de GANTT'!$B$6:$N$57,10,FALSE),0)+IF($F$9=5,VLOOKUP(D48,'Diagrama de GANTT'!$B$6:$N$57,12,FALSE),0)","v":0},0,0]
[null,null,null,{"$f":"'Impuestos y presupuesto'!R43","v":33},{"$f":"'Impuestos y presupuesto'!S43","v":"Instalación contra incendio"},{"$f":"'Impuestos y presupuesto'!T43","v":0},{"$f":"IF($B$4+1>1,VLOOKUP(D49,'Diagrama de GANTT'!$B$6:$N$57,4,FALSE),0)+IF($B$4+1>2,VLOOKUP(D49,'Diagrama de GANTT'!$B$6:$N$57,6,FALSE),0)+IF($B$4+1>3,VLOOKUP(D49,'Diagrama de GANTT'!$B$6:$N$57,8,FALSE),0)+IF($B$4+1>4,VLOOKUP(D49,'Diagrama de GANTT'!$B$6:$N$57,10,FALSE),0)+IF($B$4+1>5,VLOOKUP(D49,'Diagrama de GANTT'!$B$6:$N$57,12,FALSE),0)","v":0},{"$f":"IF($F$9=1,VLOOKUP(D49,'Diagrama de GANTT'!$B$6:$N$57,4,FALSE),0)+IF($F$9=2,VLOOKUP(D49,'Diagrama de GANTT'!$B$6:$N$57,6,FALSE),0)+IF($F$9=3,VLOOKUP(D49,'Diagrama de GANTT'!$B$6:$N$57,8,FALSE),0)+IF($F$9=4,VLOOKUP(D49,'Diagrama de GANTT'!$B$6:$N$57,10,FALSE),0)+IF($F$9=5,VLOOKUP(D49,'Diagrama de GANTT'!$B$6:$N$57,12,FALSE),0)","v":0},0,0]
[null,null,null,{"$f":"'Impuestos y presupuesto'!R44","v":0},{"$f":"'Impuestos y presupuesto'!S44","v":0},{"$f":"'Impuestos y presupuesto'!T44","v":0},{"$f":"IF($B$4+1>1,VLOOKUP(D50,'Diagrama de GANTT'!$B$6:$N$57,4,FALSE),0)+IF($B$4+1>2,VLOOKUP(D50,'Diagrama de GANTT'!$B$6:$N$57,6,FALSE),0)+IF($B$4+1>3,VLOOKUP(D50,'Diagrama de GANTT'!$B$6:$N$57,8,FALSE),0)+IF($B$4+1>4,VLOOKUP(D50,'Diagrama de GANTT'!$B$6:$N$57,10,FALSE),0)+IF($B$4+1>5,VLOOKUP(D50,'Diagrama de GANTT'!$B$6:$N$57,12,FALSE),0)","v":0},{"$f":"IF($F$9=1,VLOOKUP(D50,'Diagrama de GANTT'!$B$6:$N$57,4,FALSE),0)+IF($F$9=2,VLOOKUP(D50,'Diagrama de GANTT'!$B$6:$N$57,6,FALSE),0)+IF($F$9=3,VLOOKUP(D50,'Diagrama de GANTT'!$B$6:$N$57,8,FALSE),0)+IF($F$9=4,VLOOKUP(D50,'Diagrama de GANTT'!$B$6:$N$57,10,FALSE),0)+IF($F$9=5,VLOOKUP(D50,'Diagrama de GANTT'!$B$6:$N$57,12,FALSE),0)","v":0},{"$f":"G50+H50","v":0},{"$f":"F50*H50","v":0}]
[null,null,null,{"$f":"'Impuestos y presupuesto'!R45","v":0},{"$f":"'Impuestos y presupuesto'!S45","v":0},{"$f":"'Impuestos y presupuesto'!T45","v":0},{"$f":"IF($B$4+1>1,VLOOKUP(D51,'Diagrama de GANTT'!$B$6:$N$57,4,FALSE),0)+IF($B$4+1>2,VLOOKUP(D51,'Diagrama de GANTT'!$B$6:$N$57,6,FALSE),0)+IF($B$4+1>3,VLOOKUP(D51,'Diagrama de GANTT'!$B$6:$N$57,8,FALSE),0)+IF($B$4+1>4,VLOOKUP(D51,'Diagrama de GANTT'!$B$6:$N$57,10,FALSE),0)+IF($B$4+1>5,VLOOKUP(D51,'Diagrama de GANTT'!$B$6:$N$57,12,FALSE),0)","v":0},{"$f":"IF($F$9=1,VLOOKUP(D51,'Diagrama de GANTT'!$B$6:$N$57,4,FALSE),0)+IF($F$9=2,VLOOKUP(D51,'Diagrama de GANTT'!$B$6:$N$57,6,FALSE),0)+IF($F$9=3,VLOOKUP(D51,'Diagrama de GANTT'!$B$6:$N$57,8,FALSE),0)+IF($F$9=4,VLOOKUP(D51,'Diagrama de GANTT'!$B$6:$N$57,10,FALSE),0)+IF($F$9=5,VLOOKUP(D51,'Diagrama de GANTT'!$B$6:$N$57,12,FALSE),0)","v":0},0,0]
[null,null,null,{"$f":"'Impuestos y presupuesto'!R46","v":0},{"$f":"'Impuestos y presupuesto'!S46","v":0},{"$f":"'Impuestos y presupuesto'!T46","v":0},{"$f":"IF($B$4+1>1,VLOOKUP(D52,'Diagrama de GANTT'!$B$6:$N$57,4,FALSE),0)+IF($B$4+1>2,VLOOKUP(D52,'Diagrama de GANTT'!$B$6:$N$57,6,FALSE),0)+IF($B$4+1>3,VLOOKUP(D52,'Diagrama de GANTT'!$B$6:$N$57,8,FALSE),0)+IF($B$4+1>4,VLOOKUP(D52,'Diagrama de GANTT'!$B$6:$N$57,10,FALSE),0)+IF($B$4+1>5,VLOOKUP(D52,'Diagrama de GANTT'!$B$6:$N$57,12,FALSE),0)","v":0},{"$f":"IF($F$9=1,VLOOKUP(D52,'Diagrama de GANTT'!$B$6:$N$57,4,FALSE),0)+IF($F$9=2,VLOOKUP(D52,'Diagrama de GANTT'!$B$6:$N$57,6,FALSE),0)+IF($F$9=3,VLOOKUP(D52,'Diagrama de GANTT'!$B$6:$N$57,8,FALSE),0)+IF($F$9=4,VLOOKUP(D52,'Diagrama de GANTT'!$B$6:$N$57,10,FALSE),0)+IF($F$9=5,VLOOKUP(D52,'Diagrama de GANTT'!$B$6:$N$57,12,FALSE),0)","v":0},0,0]
[null,null,null,{"$f":"'Impuestos y presupuesto'!R47","v":0},{"$f":"'Impuestos y presupuesto'!S47","v":0},{"$f":"'Impuestos y presupuesto'!T47","v":0},{"$f":"IF($B$4+1>1,VLOOKUP(D53,'Diagrama de GANTT'!$B$6:$N$57,4,FALSE),0)+IF($B$4+1>2,VLOOKUP(D53,'Diagrama de GANTT'!$B$6:$N$57,6,FALSE),0)+IF($B$4+1>3,VLOOKUP(D53,'Diagrama de GANTT'!$B$6:$N$57,8,FALSE),0)+IF($B$4+1>4,VLOOKUP(D53,'Diagrama de GANTT'!$B$6:$N$57,10,FALSE),0)+IF($B$4+1>5,VLOOKUP(D53,'Diagrama de GANTT'!$B$6:$N$57,12,FALSE),0)","v":0},{"$f":"IF($F$9=1,VLOOKUP(D53,'Diagrama de GANTT'!$B$6:$N$57,4,FALSE),0)+IF($F$9=2,VLOOKUP(D53,'Diagrama de GANTT'!$B$6:$N$57,6,FALSE),0)+IF($F$9=3,VLOOKUP(D53,'Diagrama de GANTT'!$B$6:$N$57,8,FALSE),0)+IF($F$9=4,VLOOKUP(D53,'Diagrama de GANTT'!$B$6:$N$57,10,FALSE),0)+IF($F$9=5,VLOOKUP(D53,'Diagrama de GANTT'!$B$6:$N$57,12,FALSE),0)","v":0},0,0]
[null,null,null,{"$f":"'Impuestos y presupuesto'!R48","v":0},{"$f":"'Impuestos y presupuesto'!S48","v":0},{"$f":"'Impuestos y presupuesto'!T48","v":0},{"$f":"IF($B$4+1>1,VLOOKUP(D54,'Diagrama de GANTT'!$B$6:$N$57,4,FALSE),0)+IF($B$4+1>2,VLOOKUP(D54,'Diagrama de GANTT'!$B$6:$N$57,6,FALSE),0)+IF($B$4+1>3,VLOOKUP(D54,'Diagrama de GANTT'!$B$6:$N$57,8,FALSE),0)+IF($B$4+1>4,VLOOKUP(D54,'Diagrama de GANTT'!$B$6:$N$57,10,FALSE),0)+IF($B$4+1>5,VLOOKUP(D54,'Diagrama de GANTT'!$B$6:$N$57,12,FALSE),0)","v":0},{"$f":"IF($F$9=1,VLOOKUP(D54,'Diagrama de GANTT'!$B$6:$N$57,4,FALSE),0)+IF($F$9=2,VLOOKUP(D54,'Diagrama de GANTT'!$B$6:$N$57,6,FALSE),0)+IF($F$9=3,VLOOKUP(D54,'Diagrama de GANTT'!$B$6:$N$57,8,FALSE),0)+IF($F$9=4,VLOOKUP(D54,'Diagrama de GANTT'!$B$6:$N$57,10,FALSE),0)+IF($F$9=5,VLOOKUP(D54,'Diagrama de GANTT'!$B$6:$N$57,12,FALSE),0)","v":0},0,0]
[null,null,null,{"$f":"'Impuestos y presupuesto'!R49","v":0},{"$f":"'Impuestos y presupuesto'!S49","v":0},{"$f":"'Impuestos y presupuesto'!T49","v":0},{"$f":"IF($B$4+1>1,VLOOKUP(D55,'Diagrama de GANTT'!$B$6:$N$57,4,FALSE),0)+IF($B$4+1>2,VLOOKUP(D55,'Diagrama de GANTT'!$B$6:$N$57,6,FALSE),0)+IF($B$4+1>3,VLOOKUP(D55,'Diagrama de GANTT'!$B$6:$N$57,8,FALSE),0)+IF($B$4+1>4,VLOOKUP(D55,'Diagrama de GANTT'!$B$6:$N$57,10,FALSE),0)+IF($B$4+1>5,VLOOKUP(D55,'Diagrama de GANTT'!$B$6:$N$57,12,FALSE),0)","v":0},{"$f":"IF($F$9=1,VLOOKUP(D55,'Diagrama de GANTT'!$B$6:$N$57,4,FALSE),0)+IF($F$9=2,VLOOKUP(D55,'Diagrama de GANTT'!$B$6:$N$57,6,FALSE),0)+IF($F$9=3,VLOOKUP(D55,'Diagrama de GANTT'!$B$6:$N$57,8,FALSE),0)+IF($F$9=4,VLOOKUP(D55,'Diagrama de GANTT'!$B$6:$N$57,10,FALSE),0)+IF($F$9=5,VLOOKUP(D55,'Diagrama de GANTT'!$B$6:$N$57,12,FALSE),0)","v":0},0,0]
[null,null,null,{"$f":"'Impuestos y presupuesto'!R50","v":0},{"$f":"'Impuestos y presupuesto'!S50","v":0},{"$f":"'Impuestos y presupuesto'!T50","v":0},{"$f":"IF($B$4+1>1,VLOOKUP(D56,'Diagrama de GANTT'!$B$6:$N$57,4,FALSE),0)+IF($B$4+1>2,VLOOKUP(D56,'Diagrama de GANTT'!$B$6:$N$57,6,FALSE),0)+IF($B$4+1>3,VLOOKUP(D56,'Diagrama de GANTT'!$B$6:$N$57,8,FALSE),0)+IF($B$4+1>4,VLOOKUP(D56,'Diagrama de GANTT'!$B$6:$N$57,10,FALSE),0)+IF($B$4+1>5,VLOOKUP(D56,'Diagrama de GANTT'!$B$6:$N$57,12,FALSE),0)","v":0},{"$f":"IF($F$9=1,VLOOKUP(D56,'Diagrama de GANTT'!$B$6:$N$57,4,FALSE),0)+IF($F$9=2,VLOOKUP(D56,'Diagrama de GANTT'!$B$6:$N$57,6,FALSE),0)+IF($F$9=3,VLOOKUP(D56,'Diagrama de GANTT'!$B$6:$N$57,8,FALSE),0)+IF($F$9=4,VLOOKUP(D56,'Diagrama de GANTT'!$B$6:$N$57,10,FALSE),0)+IF($F$9=5,VLOOKUP(D56,'Diagrama de GANTT'!$B$6:$N$57,12,FALSE),0)","v":0},0,0]
[null,null,null,{"$f":"'Impuestos y presupuesto'!R51","v":0},{"$f":"'Impuestos y presupuesto'!S51","v":0},{"$f":"'Impuestos y presupuesto'!T51","v":0},{"$f":"IF($B$4+1>1,VLOOKUP(D57,'Diagrama de GANTT'!$B$6:$N$57,4,FALSE),0)+IF($B$4+1>2,VLOOKUP(D57,'Diagrama de GANTT'!$B$6:$N$57,6,FALSE),0)+IF($B$4+1>3,VLOOKUP(D57,'Diagrama de GANTT'!$B$6:$N$57,8,FALSE),0)+IF($B$4+1>4,VLOOKUP(D57,'Diagrama de GANTT'!$B$6:$N$57,10,FALSE),0)+IF($B$4+1>5,VLOOKUP(D57,'Diagrama de GANTT'!$B$6:$N$57,12,FALSE),0)","v":0},{"$f":"IF($F$9=1,VLOOKUP(D57,'Diagrama de GANTT'!$B$6:$N$57,4,FALSE),0)+IF($F$9=2,VLOOKUP(D57,'Diagrama de GANTT'!$B$6:$N$57,6,FALSE),0)+IF($F$9=3,VLOOKUP(D57,'Diagrama de GANTT'!$B$6:$N$57,8,FALSE),0)+IF($F$9=4,VLOOKUP(D57,'Diagrama de GANTT'!$B$6:$N$57,10,FALSE),0)+IF($F$9=5,VLOOKUP(D57,'Diagrama de GANTT'!$B$6:$N$57,12,FALSE),0)","v":0},0,0]
[null,null,null,{"$f":"'Impuestos y presupuesto'!R52","v":0},{"$f":"'Impuestos y presupuesto'!S52","v":0},{"$f":"'Impuestos y presupuesto'!T52","v":0},{"$f":"IF($B$4+1>1,VLOOKUP(D58,'Diagrama de GANTT'!$B$6:$N$57,4,FALSE),0)+IF($B$4+1>2,VLOOKUP(D58,'Diagrama de GANTT'!$B$6:$N$57,6,FALSE),0)+IF($B$4+1>3,VLOOKUP(D58,'Diagrama de GANTT'!$B$6:$N$57,8,FALSE),0)+IF($B$4+1>4,VLOOKUP(D58,'Diagrama de GANTT'!$B$6:$N$57,10,FALSE),0)+IF($B$4+1>5,VLOOKUP(D58,'Diagrama de GANTT'!$B$6:$N$57,12,FALSE),0)","v":0},{"$f":"IF($F$9=1,VLOOKUP(D58,'Diagrama de GANTT'!$B$6:$N$57,4,FALSE),0)+IF($F$9=2,VLOOKUP(D58,'Diagrama de GANTT'!$B$6:$N$57,6,FALSE),0)+IF($F$9=3,VLOOKUP(D58,'Diagrama de GANTT'!$B$6:$N$57,8,FALSE),0)+IF($F$9=4,VLOOKUP(D58,'Diagrama de GANTT'!$B$6:$N$57,10,FALSE),0)+IF($F$9=5,VLOOKUP(D58,'Diagrama de GANTT'!$B$6:$N$57,12,FALSE),0)","v":0},0,0]
[null,null,null,{"$f":"'Impuestos y presupuesto'!R53","v":0},{"$f":"'Impuestos y presupuesto'!S53","v":0},{"$f":"'Impuestos y presupuesto'!T53","v":0},{"$f":"IF($B$4+1>1,VLOOKUP(D59,'Diagrama de GANTT'!$B$6:$N$57,4,FALSE),0)+IF($B$4+1>2,VLOOKUP(D59,'Diagrama de GANTT'!$B$6:$N$57,6,FALSE),0)+IF($B$4+1>3,VLOOKUP(D59,'Diagrama de GANTT'!$B$6:$N$57,8,FALSE),0)+IF($B$4+1>4,VLOOKUP(D59,'Diagrama de GANTT'!$B$6:$N$57,10,FALSE),0)+IF($B$4+1>5,VLOOKUP(D59,'Diagrama de GANTT'!$B$6:$N$57,12,FALSE),0)","v":0},{"$f":"IF($F$9=1,VLOOKUP(D59,'Diagrama de GANTT'!$B$6:$N$57,4,FALSE),0)+IF($F$9=2,VLOOKUP(D59,'Diagrama de GANTT'!$B$6:$N$57,6,FALSE),0)+IF($F$9=3,VLOOKUP(D59,'Diagrama de GANTT'!$B$6:$N$57,8,FALSE),0)+IF($F$9=4,VLOOKUP(D59,'Diagrama de GANTT'!$B$6:$N$57,10,FALSE),0)+IF($F$9=5,VLOOKUP(D59,'Diagrama de GANTT'!$B$6:$N$57,12,FALSE),0)","v":0},0,0]
[null,null,null,{"$f":"'Impuestos y presupuesto'!R54","v":0},{"$f":"'Impuestos y presupuesto'!S54","v":0},{"$f":"'Impuestos y presupuesto'!T54","v":0},{"$f":"IF($B$4+1>1,VLOOKUP(D60,'Diagrama de GANTT'!$B$6:$N$57,4,FALSE),0)+IF($B$4+1>2,VLOOKUP(D60,'Diagrama de GANTT'!$B$6:$N$57,6,FALSE),0)+IF($B$4+1>3,VLOOKUP(D60,'Diagrama de GANTT'!$B$6:$N$57,8,FALSE),0)+IF($B$4+1>4,VLOOKUP(D60,'Diagrama de GANTT'!$B$6:$N$57,10,FALSE),0)+IF($B$4+1>5,VLOOKUP(D60,'Diagrama de GANTT'!$B$6:$N$57,12,FALSE),0)","v":0},{"$f":"IF($F$9=1,VLOOKUP(D60,'Diagrama de GANTT'!$B$6:$N$57,4,FALSE),0)+IF($F$9=2,VLOOKUP(D60,'Diagrama de GANTT'!$B$6:$N$57,6,FALSE),0)+IF($F$9=3,VLOOKUP(D60,'Diagrama de GANTT'!$B$6:$N$57,8,FALSE),0)+IF($F$9=4,VLOOKUP(D60,'Diagrama de GANTT'!$B$6:$N$57,10,FALSE),0)+IF($F$9=5,VLOOKUP(D60,'Diagrama de GANTT'!$B$6:$N$57,12,FALSE),0)","v":0},0,0]
[null,null,null,{"$f":"'Impuestos y presupuesto'!R55","v":0},{"$f":"'Impuestos y presupuesto'!S55","v":0},{"$f":"'Impuestos y presupuesto'!T55","v":0},{"$f":"IF($B$4+1>1,VLOOKUP(D61,'Diagrama de GANTT'!$B$6:$N$57,4,FALSE),0)+IF($B$4+1>2,VLOOKUP(D61,'Diagrama de GANTT'!$B$6:$N$57,6,FALSE),0)+IF($B$4+1>3,VLOOKUP(D61,'Diagrama de GANTT'!$B$6:$N$57,8,FALSE),0)+IF($B$4+1>4,VLOOKUP(D61,'Diagrama de GANTT'!$B$6:$N$57,10,FALSE),0)+IF($B$4+1>5,VLOOKUP(D61,'Diagrama de GANTT'!$B$6:$N$57,12,FALSE),0)","v":0},{"$f":"IF($F$9=1,VLOOKUP(D61,'Diagrama de GANTT'!$B$6:$N$57,4,FALSE),0)+IF($F$9=2,VLOOKUP(D61,'Diagrama de GANTT'!$B$6:$N$57,6,FALSE),0)+IF($F$9=3,VLOOKUP(D61,'Diagrama de GANTT'!$B$6:$N$57,8,FALSE),0)+IF($F$9=4,VLOOKUP(D61,'Diagrama de GANTT'!$B$6:$N$57,10,FALSE),0)+IF($F$9=5,VLOOKUP(D61,'Diagrama de GANTT'!$B$6:$N$57,12,FALSE),0)","v":0},0,0]
[null,null,null,{"$f":"'Impuestos y presupuesto'!R56","v":0},{"$f":"'Impuestos y presupuesto'!S56","v":0},{"$f":"'Impuestos y presupuesto'!T56","v":0},{"$f":"IF($B$4+1>1,VLOOKUP(D62,'Diagrama de GANTT'!$B$6:$N$57,4,FALSE),0)+IF($B$4+1>2,VLOOKUP(D62,'Diagrama de GANTT'!$B$6:$N$57,6,FALSE),0)+IF($B$4+1>3,VLOOKUP(D62,'Diagrama de GANTT'!$B$6:$N$57,8,FALSE),0)+IF($B$4+1>4,VLOOKUP(D62,'Diagrama de GANTT'!$B$6:$N$57,10,FALSE),0)+IF($B$4+1>5,VLOOKUP(D62,'Diagrama de GANTT'!$B$6:$N$57,12,FALSE),0)","v":0},{"$f":"IF($F$9=1,VLOOKUP(D62,'Diagrama de GANTT'!$B$6:$N$57,4,FALSE),0)+IF($F$9=2,VLOOKUP(D62,'Diagrama de GANTT'!$B$6:$N$57,6,FALSE),0)+IF($F$9=3,VLOOKUP(D62,'Diagrama de GANTT'!$B$6:$N$57,8,FALSE),0)+IF($F$9=4,VLOOKUP(D62,'Diagrama de GANTT'!$B$6:$N$57,10,FALSE),0)+IF($F$9=5,VLOOKUP(D62,'Diagrama de GANTT'!$B$6:$N$57,12,FALSE),0)","v":0},0,0]
[null,null,null,{"$f":"'Impuestos y presupuesto'!R57","v":0},{"$f":"'Impuestos y presupuesto'!S57","v":0},{"$f":"'Impuestos y presupuesto'!T57","v":0},{"$f":"IF($B$4+1>1,VLOOKUP(D63,'Diagrama de GANTT'!$B$6:$N$57,4,FALSE),0)+IF($B$4+1>2,VLOOKUP(D63,'Diagrama de GANTT'!$B$6:$N$57,6,FALSE),0)+IF($B$4+1>3,VLOOKUP(D63,'Diagrama de GANTT'!$B$6:$N$57,8,FALSE),0)+IF($B$4+1>4,VLOOKUP(D63,'Diagrama de GANTT'!$B$6:$N$57,10,FALSE),0)+IF($B$4+1>5,VLOOKUP(D63,'Diagrama de GANTT'!$B$6:$N$57,12,FALSE),0)","v":0},{"$f":"IF($F$9=1,VLOOKUP(D63,'Diagrama de GANTT'!$B$6:$N$57,4,FALSE),0)+IF($F$9=2,VLOOKUP(D63,'Diagrama de GANTT'!$B$6:$N$57,6,FALSE),0)+IF($F$9=3,VLOOKUP(D63,'Diagrama de GANTT'!$B$6:$N$57,8,FALSE),0)+IF($F$9=4,VLOOKUP(D63,'Diagrama de GANTT'!$B$6:$N$57,10,FALSE),0)+IF($F$9=5,VLOOKUP(D63,'Diagrama de GANTT'!$B$6:$N$57,12,FALSE),0)","v":0},0,0]
[null,null,null,{"$f":"'Impuestos y presupuesto'!R58","v":0},{"$f":"'Impuestos y presupuesto'!S58","v":0},{"$f":"'Impuestos y presupuesto'!T58","v":0},{"$f":"IF($B$4+1>1,VLOOKUP(D64,'Diagrama de GANTT'!$B$6:$N$57,4,FALSE),0)+IF($B$4+1>2,VLOOKUP(D64,'Diagrama de GANTT'!$B$6:$N$57,6,FALSE),0)+IF($B$4+1>3,VLOOKUP(D64,'Diagrama de GANTT'!$B$6:$N$57,8,FALSE),0)+IF($B$4+1>4,VLOOKUP(D64,'Diagrama de GANTT'!$B$6:$N$57,10,FALSE),0)+IF($B$4+1>5,VLOOKUP(D64,'Diagrama de GANTT'!$B$6:$N$57,12,FALSE),0)","v":0},{"$f":"IF($F$9=1,VLOOKUP(D64,'Diagrama de GANTT'!$B$6:$N$57,4,FALSE),0)+IF($F$9=2,VLOOKUP(D64,'Diagrama de GANTT'!$B$6:$N$57,6,FALSE),0)+IF($F$9=3,VLOOKUP(D64,'Diagrama de GANTT'!$B$6:$N$57,8,FALSE),0)+IF($F$9=4,VLOOKUP(D64,'Diagrama de GANTT'!$B$6:$N$57,10,FALSE),0)+IF($F$9=5,VLOOKUP(D64,'Diagrama de GANTT'!$B$6:$N$57,12,FALSE),0)","v":0},0,0]
[null,null,null,{"$f":"'Impuestos y presupuesto'!R59","v":0},{"$f":"'Impuestos y presupuesto'!S59","v":0},{"$f":"'Impuestos y presupuesto'!T59","v":0},{"$f":"IF($B$4+1>1,VLOOKUP(D65,'Diagrama de GANTT'!$B$6:$N$57,4,FALSE),0)+IF($B$4+1>2,VLOOKUP(D65,'Diagrama de GANTT'!$B$6:$N$57,6,FALSE),0)+IF($B$4+1>3,VLOOKUP(D65,'Diagrama de GANTT'!$B$6:$N$57,8,FALSE),0)+IF($B$4+1>4,VLOOKUP(D65,'Diagrama de GANTT'!$B$6:$N$57,10,FALSE),0)+IF($B$4+1>5,VLOOKUP(D65,'Diagrama de GANTT'!$B$6:$N$57,12,FALSE),0)","v":0},{"$f":"IF($F$9=1,VLOOKUP(D65,'Diagrama de GANTT'!$B$6:$N$57,4,FALSE),0)+IF($F$9=2,VLOOKUP(D65,'Diagrama de GANTT'!$B$6:$N$57,6,FALSE),0)+IF($F$9=3,VLOOKUP(D65,'Diagrama de GANTT'!$B$6:$N$57,8,FALSE),0)+IF($F$9=4,VLOOKUP(D65,'Diagrama de GANTT'!$B$6:$N$57,10,FALSE),0)+IF($F$9=5,VLOOKUP(D65,'Diagrama de GANTT'!$B$6:$N$57,12,FALSE),0)","v":0},0,0]
[null,null,null,{"$f":"'Impuestos y presupuesto'!R60","v":0},{"$f":"'Impuestos y presupuesto'!S60","v":0},{"$f":"'Impuestos y presupuesto'!T60","v":0},{"$f":"IF($B$4+1>1,VLOOKUP(D66,'Diagrama de GANTT'!$B$6:$N$57,4,FALSE),0)+IF($B$4+1>2,VLOOKUP(D66,'Diagrama de GANTT'!$B$6:$N$57,6,FALSE),0)+IF($B$4+1>3,VLOOKUP(D66,'Diagrama de GANTT'!$B$6:$N$57,8,FALSE),0)+IF($B$4+1>4,VLOOKUP(D66,'Diagrama de GANTT'!$B$6:$N$57,10,FALSE),0)+IF($B$4+1>5,VLOOKUP(D66,'Diagrama de GANTT'!$B$6:$N$57,12,FALSE),0)","v":0},{"$f":"IF($F$9=1,VLOOKUP(D66,'Diagrama de GANTT'!$B$6:$N$57,4,FALSE),0)+IF($F$9=2,VLOOKUP(D66,'Diagrama de GANTT'!$B$6:$N$57,6,FALSE),0)+IF($F$9=3,VLOOKUP(D66,'Diagrama de GANTT'!$B$6:$N$57,8,FALSE),0)+IF($F$9=4,VLOOKUP(D66,'Diagrama de GANTT'!$B$6:$N$57,10,FALSE),0)+IF($F$9=5,VLOOKUP(D66,'Diagrama de GANTT'!$B$6:$N$57,12,FALSE),0)","v":0},0,0]
[null,null,null,{"$f":"'Impuestos y presupuesto'!R61","v":0},{"$f":"'Impuestos y presupuesto'!S61","v":0},{"$f":"'Impuestos y presupuesto'!T61","v":0},{"$f":"IF($B$4+1>1,VLOOKUP(D67,'Diagrama de GANTT'!$B$6:$N$57,4,FALSE),0)+IF($B$4+1>2,VLOOKUP(D67,'Diagrama de GANTT'!$B$6:$N$57,6,FALSE),0)+IF($B$4+1>3,VLOOKUP(D67,'Diagrama de GANTT'!$B$6:$N$57,8,FALSE),0)+IF($B$4+1>4,VLOOKUP(D67,'Diagrama de GANTT'!$B$6:$N$57,10,FALSE),0)+IF($B$4+1>5,VLOOKUP(D67,'Diagrama de GANTT'!$B$6:$N$57,12,FALSE),0)","v":0},{"$f":"IF($F$9=1,VLOOKUP(D67,'Diagrama de GANTT'!$B$6:$N$57,4,FALSE),0)+IF($F$9=2,VLOOKUP(D67,'Diagrama de GANTT'!$B$6:$N$57,6,FALSE),0)+IF($F$9=3,VLOOKUP(D67,'Diagrama de GANTT'!$B$6:$N$57,8,FALSE),0)+IF($F$9=4,VLOOKUP(D67,'Diagrama de GANTT'!$B$6:$N$57,10,FALSE),0)+IF($F$9=5,VLOOKUP(D67,'Diagrama de GANTT'!$B$6:$N$57,12,FALSE),0)","v":0},0,0]
[null,null,null,{"$f":"'Impuestos y presupuesto'!R62","v":0},{"$f":"'Impuestos y presupuesto'!S62","v":0},{"$f":"'Impuestos y presupuesto'!T62","v":0},{"$f":"IF($B$4+1>1,VLOOKUP(D68,'Diagrama de GANTT'!$B$6:$N$57,4,FALSE),0)+IF($B$4+1>2,VLOOKUP(D68,'Diagrama de GANTT'!$B$6:$N$57,6,FALSE),0)+IF($B$4+1>3,VLOOKUP(D68,'Diagrama de GANTT'!$B$6:$N$57,8,FALSE),0)+IF($B$4+1>4,VLOOKUP(D68,'Diagrama de GANTT'!$B$6:$N$57,10,FALSE),0)+IF($B$4+1>5,VLOOKUP(D68,'Diagrama de GANTT'!$B$6:$N$57,12,FALSE),0)","v":0},{"$f":"IF($F$9=1,VLOOKUP(D68,'Diagrama de GANTT'!$B$6:$N$57,4,FALSE),0)+IF($F$9=2,VLOOKUP(D68,'Diagrama de GANTT'!$B$6:$N$57,6,FALSE),0)+IF($F$9=3,VLOOKUP(D68,'Diagrama de GANTT'!$B$6:$N$57,8,FALSE),0)+IF($F$9=4,VLOOKUP(D68,'Diagrama de GANTT'!$B$6:$N$57,10,FALSE),0)+IF($F$9=5,VLOOKUP(D68,'Diagrama de GANTT'!$B$6:$N$57,12,FALSE),0)","v":0},0,0]
[null,null,null,"%","MONTO TOTAL",{"$f":"SUM(F17:F68)","v":1551138.1407323191},{"$f":"IF($B$4+1>1,'Diagrama de GANTT'!F60,0)+IF($B$4+1>2,'Diagrama de GANTT'!H60,0)+IF($B$4+1>3,'Diagrama de GANTT'!J60,0)+IF($B$4+1>4,'Diagrama de GANTT'!L60,0)+IF($B$4+1>5,'Diagrama de GANTT'!N60,0)","v":0},{"$f":"J69/F69","v":0.10340477665629885},{"$f":"G69+H69","v":0.10340477665629885},{"$f":"+SUM(J17:J68)","v":160395.09300549212}]
[]
[null,null,null,"IVA contenido en el certificado:",null,0.21,"(*) El importe de $ .............., correspondiente al 5 % de garantía, se integra con Póliza de Caución de Compañía.............., nº..............",null,null,null,null,null,"corregir  % DE REPARO",null,null,"(*) El importe de $ .............., correspondiente al 5 % de garantía, se integra con Póliza de Caución de Compañía.............., nº.............."]
[null,null,null,null,null,null,null,null,null,null,null,null,"dede ser:",{"$f":"'Flujo de caja'!$D$24","v":"fondo reparo 5%"}]
[]
[]
[null,null,null,null,"CERTIFICACION ANTERIOR :",{"$f":"G69*F69","v":0},"MONTO TOTAL CERTIFICADO :",null,null,{"$f":"F77-F75","v":160395.09300549212}]
[null,null,null,null,"PRESENTE CERTIFICADO :",{"$f":"J69","v":160395.09300549212},"ANTICIPO FINANCIERO:                          ",null,{"$f":"'Flujo de caja'!C22","v":0.1},{"$f":"-F13/MAX('Costos grales.'!$E$6,'Costos grales.'!$R$6)","v":-29744.232213690557},null,"     al anticipo , se divide por los meses q dura la obra?? "]
[null,null,null,null,"CERTIFICACION ACUMULADA :",{"$f":"F76+F75","v":160395.09300549212},"RETEN.FONDO GARANTIA:        ",null,{"$f":"'Flujo de caja'!C25","v":0.05},{"$f":"0.05*J75*(-1)","v":-8019.7546502746063},null,"SI , así es en el certificado figura el monto/nºmeses  "]
[null,null,null,null,"SALDO DE OBRA : ",{"$f":"F69-F77","v":1390743.047726827},"RETENCIÓN IVA :                                              ",null,null,{"$f":"+J75*F71","v":33682.969531153343},null,"de ser asi hay corr el flujo de caja? NO, PQ en fljo cja "]
[null,null,null,null,null,null,null,null,null,null,null,"el anticipo total va unicamente en el primer mes"]
[null,null,null,"IMPORTA EL PRESENTE CERTIFICADO LA SUMA DE PESOS:                             ",null,null,"OTROS:",null,null,0]
[null,null,null,{"$f":"ALETRAS(J82,TRUE)","v":"Ciento Cincuenta y Seis Mil Trescientos Catorce Pesos Con Ocho Centavos"},null,null,null,null,null,{"$f":"+SUM(J75:J77)","v":122631.10614152695}]
[null,null,null,null,null,null,"IMPORTE NETO A PAGAR :      ",null,null,{"$f":"+J81+J78","v":156314.07567268028}]
[]
[]
[null,null,null,null,"……………………                           ……………………."]
[null,null,null,null,"INSPECTOR                                         INSPECTOR",null,"………………………..",null," ……………………………...……………………….."]
[null,null,null,null,null,null,"REPRES. TECNICO",null," ( EMPRESA )"]